{"text_format":"1","workbook":"xlsx","n_sheets":41,"sheets":["Accueil","Récap des saisies","GestionErreurs","D1a","D1b","D2a","D2b","D3a","D3b","D3c","D4a","D4b","I1a","I1b","I1c","I1d","I2","I3","IE1","IE2","Resid","Depl","Biens de conso","Alim","Serv","Tra","FE1","FE2","FE3","FE4","FE5","R1","R2","R3","R4","R5","R6_GES_directs","R7_GES_indirects","R8_polluants","R9_UTCF","R10_Cadre_dépôt_PCAET"],"not_rendered":{"charts":47,"images":24,"macros":1,"external_links":0,"defined_names":92,"comments":5,"pivot_tables":0},"unopened":[],"bounds":{"document_bytes":16777216,"sheet_cells":100000,"rows_first":2000,"rows_last":500,"rows_between":2000,"halvings":0,"cell_chars":16384,"cell_head_chars":4096},"cells_cut":0,"cells_raw":0,"read":"whole","date_system":"1900"}

{"sheet":"Accueil","index":0,"n_rows":76,"n_cols":23,"rows_kept":76,"cut":false,"hidden":false,"merged":[[49,2,50,2],[51,2,56,2],[34,2,42,2],[57,2,66,2],[33,13,33,14],[43,2,48,2],[36,4,36,5],[35,4,35,5],[34,4,34,5],[33,4,33,5],[43,4,43,5],[41,4,41,5],[40,4,40,5],[39,4,39,5],[38,4,38,5],[37,4,37,5],[66,4,66,5],[65,4,65,5],[64,4,64,5],[63,4,63,5],[62,4,62,5],[61,4,61,5],[60,4,60,5],[59,4,59,5],[58,4,58,5],[57,4,57,5],[56,4,56,5],[55,4,55,5],[54,4,54,5],[53,4,53,5],[52,4,52,5],[51,4,51,5],[49,4,49,5],[48,4,48,5],[50,4,50,5],[47,4,47,5],[46,4,46,5],[45,4,45,5],[44,4,44,5],[42,4,42,5],[18,6,18,9],[16,13,18,17],[4,1,4,18],[37,15,37,16],[32,15,32,16],[25,6,25,9],[21,6,21,9],[33,15,33,16],[34,15,34,16],[35,15,35,16],[36,15,36,16],[32,4,32,5],[22,6,22,9],[9,3,9,9]]}
[null,null,null,"Dans le cadre de la Dynamique Climat Nord-Pas de Calais"]
[null,null,"Outil créé par l'ADEME et le Conseil Régional Nord-Pas de Calais",null,null,null,null,null,null,null,null,null,null,"Hébergement, diffusion, évolutions de l'outil et accompagnement à son utilisation : ",null,"Version 5 mise à jour le 18 novembre 2019"]
[]
[]
[null,"ESPASS - Bilan Territorial des Emissions de GES, Polluants Atmosphériques et Carbone des Sols ",null,null,null,null,null,null,null,null,null,null,null,null,null,null,null,null,null,null,null,"SCOT","Vider les champs"]
[null,null,null,null,null,null,null,null,null,null,null,null,null,null,null,null,null,null,null,null,null,1,"SCOT Flandre - Dunkerque"]
[null,null,null,null,null,null,null,null,null,null,null,null,null,null,null,null,null,null,null,null,null,2,"SCOT du Calaisis"]
[null,null,"Présaisie des données :",null,null,null,null,null,null,null,null,null,null,null,null,"Exporter les résultats dans une fiche word:",null,null,null,null,null,1,"CA du Boulonnais-CC de Desvres-Samer-CC de la Terre des Deux Caps"]
[null,null,null,null,null,null,null,null,null,null,null,null,null,null,null,null,null,null,null,null,null,2,"CA du Pays de Saint-Omer-CC du pays de Lumbres"]
[null,null,"Sélectionnez un territoire:","Vider les champs",null,null,null,null,null,null,null,null,null,null,null,null,null,null,null,null,null,1,"Pays du Montreuillois"]
[null,null,null,null,null,null,null,null,null,null,null,null,null,null,null,null,null,null,null,null,null,2,"CC des 7 Vallées-CC du Ternois"]
[null,null,null,null,null,null,null,null,null,null,null,null,null,null,null,null,null,null,null,null,null,1,"CA de Béthune-Bruay, Artois-Lys Romane-CA d'hénin-Carvin-CA de Lens - Liévin"]
[null,null,null,null,null,null,null,null,null,null,null,null,null,null,null,null,null,null,null,null,null,2,"SCOT de Flandre intérieure"]
[null,null,"Données générales du territoire d'étude :",null,null,null,null,null,null,null,null,null,null,"Guide et versions :",null,null,null,null,null,null,null,1,"SCOT de Lille Métropole"]
[null,null,null,null,null,null,null,null,null,null,null,null,null,null,null,null,null,null,null,null,null,2,"SCOT du Valenciennois"]
[null,null,"Année du bilan",null,null,null,null,null,null,null,null,null,null,null,null,null,null,null,null,null,null,1,"SCOT du Grand Douaisis"]
[null,null,"Région","Hauts-de-France",null,null,null,null,null,null,null,null,null,"Consultez la rubrique \"Grandes Questions\" du site de l'Observatoire Climat Hauts-de-France",null,null,null,null,null,null,null,2,"SCOT de Sambre-Avesnois"]
[null,null,"Ex-région",null,null,null,null,null,null,null,null,null,null,null,null,null,null,null,null,null,null,1,"SCOT du Cambrésis"]
[null,null,"Nombre d'habitants en région HdF",6006107,null,"Source et année: ","Pop. Légale 2014, INSEE",null,null,null,null,null,null,null,null,null,null,null,null,null,null,2,"SCOT de la région d'Arras"]
[null,null,"Type de territoire",null,null,null,null,null,null,null,null,null,null,null,null,null,null,null,null,null,null,1,"SCOT Baie de Somme 3 vallées"]
[null,null,"Nom du territoire",null,null,null,null,null,null,null,null,null,null,null,"Vous y trouverez : ","- les versions de l'outil",null,null,null,null,null,2,"SCOT du Grand Amiénois"]
[null,null,"Nombre d'habitants du territoire",null,null,"Source et année: ","Pop. Légale 2014, INSEE",null,null,null,null,null,null,null,null,"- les guides d'utilisation",null,null,null,null,null,1,"SCOT du Pays du Santerre Haute-Somme"]
[null,null,"Superficie (ha)",null,null,"Source et année: ","CORINE Land Cover, UE-SDES, 2012",null,null,null,null,null,null,null,null,null,null,null,null,null,null,2,"SCOT du Pays du Saint Quentinois"]
[null,null,"Part de la population régionale",{"$f":"D22/D19","v":0},null,null,null,null,null,null,null,null,null,null,null,"- des données régionales et territoriales",null,null,null,null,null,1,"CC de la Thiérache du Centre-CC des Portes de la Thiérache-Communauté de communes des Trois Rivières-CC Thiérache Sambre et Oise"]
[null,null,"Caractéristiques du territoire",null,null,null,null,null,null,null,null,null,null,null,null,"- des ressources",null,null,null,null,null,2,"CA du Pays de Laon-CC de la Champagne Picarde-CC du chemin des dames-CC du Pays de la Serre"]
[null,null,"Nombre d'habitants en France",64129660,null,"Source et année: ","Pop. Légale 2014, INSEE 2017",null,null,null,null,null,null,null,null,null,null,null,null,null,null,1,"CC du Pays des Sources-CC des Deux Vallées-CC du Pays Noyonnais"]
[null,null,"EPCI composant le territoire",null,null,null,null,null,null,null,null,null,null,null,null,null,null,null,null,null,null,2,"CA Chauny Tergnier la Fère-CC Picardie des Châteaux"]
[null,null,null,null,null,null,null,null,null,null,null,null,null,null,null,null,null,null,null,null,null,1,"Grand Beauvaisis"]
[null,null,null,null,null,null,null,null,null,null,null,null,null,null,null,null,null,null,null,null,null,2,"SCOT UCCSA"]
[null,null,null,null,null,null,null,null,null,null,null,null,null,null,null,null,null,null,null,null,null,1,"CA de la Région de Compiègne et de la Basse Automne-CC de la Plaine d'Estrées-CC des Lisières de l'Oise"]
[null,null,"Navigation dans le tableur :",null,null,null,null,null,null,null,null,null,null,"Code couleur des cellules :",null,null,null,null,null,null,null,2,"CC des Sablons-CC Thelloise-CC du Vexin-Thelle"]
[null,null,null,null,null,null,null,null,null,null,null,null,null,null,null,null,null,null,null,null,null,1,"CA Creil Sud Oise-CC de l'aire Cantilienne-CC des Pays d'Oise et d'Halatte-CC du Liancourtois-CC du Pays de Valois-CC Senlis Sud Oise"]
[null,null,"Thème / couleur de l'onglet","Description de l'onglet","Navigation",null,"Données primaires à saisir par le territoire","Données primaires à saisir au niveau régional","Données semi-spécifiques (améliorables)","Données optionnelles",null,null,null,"Types de données",null,"Qui ?",null,null,null,null,null,2,"CA du Soissonnais-CC du Val de l'Aisne-CC du Canton d'Oulchy le Château-CC Retz en Valois"]
[null,null,"Accueil","Accueil","Accueil",null,"X",null,"X","X",null,null,null,"Données primaires à saisir tout le temps",null,"Usager, Observatoire Climat",null,null,null,null,null,1,"Pays Interrégional Bresle - Yères"]
[null,null,"Données concernant les émissions directes \nde GES / polluants","Emissions directes MyEmiss'Air - territoire","D1a",null,"X",null,"X",null,null,null,null,"Données semi-spécifiques à remplacer si données primaires disponibles",null,"Usager",null,null,null,null,null,2,"Aisne"]
[null,null,null,"Emissions directes MyEmiss'Air - Hauts de France","D1b",null,null,"X",null,null,null,null,null,"Données optionnelles qui améliorent les résultats",null,"Usager",null,null,null,null,null,1,"Nord"]
[null,null,null,"Production d'électricité","D2a",null,null,null,null,"X",null,null,null,"Données calculées, non primaire et non semi-spécifiques",null,"Auto",null,null,null,null,null,2,"Oise"]
[null,null,null,"Production de chaleur et froid par réseaux","D2b",null,"X",null,"X","X",null,null,null,"Données mises en avant pour plus de visibilité",null,"Auto",null,null,null,null,null,1,"Pas-de-Calais"]
[null,null,null,"Données nécessaires - correspondance MyEmiss'Air","D3a",null,null,null,"X",null,null,null,null,null,null,null,null,null,null,null,null,2,"Somme"]
[null,null,null,"Correspondance MyEmiss'Air- postes ESPASS","D3b",null,null,null,null,null,null,null,null,null,null,null,null,null,null,null,null,null,"Hauts-de-France"]
[null,null,null,"Correspondance MyEmiss'Air- postes PCAET","D3c"]
[null,null,null,"Sol & biomasse - stock de carbone","D4a",null,"X",null,"X",null,null,null,null,"Arborescence de l'outil :"]
[null,null,null,"Sol & biomasse - flux de carbone","D4b",null,"X",null,"X","X"]
[null,null,"Données concernant les émissions indirectes liées à l'énergie","Consommation d'électricité du territoire","I1a",null,null,null,"X","X"]
[null,null,null,"Bilan des émissions de GES liées à la consommation d'électricité - par poste ESPASS","I1b"]
[null,null,null,"Bilan des émissions de GES liées à la production / consommation d'électricité (scope 2 )- par poste ESPASS","I1c"]
[null,null,null,"Bilan des émissions de GES liées à la production/consommation d'électricité et de combustibles du territoire- par poste PCAET","I1d"]
[null,null,null,"Consommation de chaleur et de froid du territoire par réseaux","I2",null,null,null,"X","X"]
[null,null,null,"Bilan des autres émissions indirectes liées à l'énergie - Amont des combustibles …","I3"]
[null,null,"Données concernant les émissions indirectes liées à l'échange de biens et de services","Données douanes","IE1",null,null,"X","X"]
[null,null,null,"Données SitraM","IE2",null,null,"X","X"]
[null,null,"Emissions  indirectes","Résidentiel","Resid",null,"X",null,"X"]
[null,null,null,"Déplacements","Depl",null,null,null,"X"]
[null,null,null,"Biens de consommation","Biens de conso",null,null,null,"X"]
[null,null,null,"Alimentation","Alim",null,null,null,"X","X"]
[null,null,null,"Services","Serv",null,null,null,"X"]
[null,null,null,"Travaux","Tra",null,"X",null,"X","X"]
[null,null,"Résultats","Tableau - émissions directes de GES","R1"]
[null,null,null,"Tableau - émissions liées à la consommation de GES / polluants","R2"]
[null,null,null,"Tableau - émissions liées à la consommation de GES détaillées (par habitant)","R3"]
[null,null,null,"Tableau - Emissions directes (format PCAET)","R4"]
[null,null,null,"Tableau - PCAET- Emissions directes et indirectes liées à l'énergie de GES et polluant et consommation énergétique ","R5"]
[null,null,null,"Graphes - émissions directes de GES","R6_GES_directs"]
[null,null,null,"Graphes - émissions de GES liées à la consommation","R7_GES_indirects"]
[null,null,null,"Graphes - émissions de polluants (directes et indirectes)","R8_polluants"]
[null,null,null,"Graphes - émissions liées au sol et la biomasse","R9_UTCF"]
[null,null,null,"Tableau- Rendu final PCAET","R10_Cadre_dépôt_PCAET"]
[]
[]
[]
[null,null,"Conversion unités :"]
[]
[null,null,1,"ktep",null,{"$f":"C73*41868000","v":41868000},"MJ"]
[null,null,1,"ktep",null,{"$f":"11628*C74","v":11628},"MWh"]
[null,null,1,"MJ",null,{"$f":"C75/3.6","v":0.27777777777777779},"kWh"]
[null,null,1,"m²",null,{"$f":"C76/10000","v":1E-4},"ha"]

{"sheet":"Récap des saisies","index":1,"n_rows":52,"n_cols":106,"rows_kept":52,"cut":false,"hidden":true,"merged":[]}
[null,"Accueil",null,null,"D1a",null,null,null,null,null,null,null,null,null,null,null,null,null,null,null,"D1b",null,"D2a",null,null,"D2b",null,null,null,null,null,null,null,null,null,null,"D3a",null,null,null,"D3b",null,"D3c",null,"I1a",null,null,"I1b",null,"I1c",null,"I1d",null,"I2",null,null,null,null,null,null,null,null,null,"I3",null,"D4a",null,null,null,null,null,null,null,null,null,"D4b",null,null,null,null,null,null,null,"I1a",null,null,null,null,null,null,null,null,null,null,null,"Resid",null,null,"Alim",null,null,null,"Travaux"]
[]
[null,"Accueil",null,null,{"$f":"D1a!B2","v":"MyEmiss'Air"},null,null,null,null,null,null,null,null,null,null,null,null,null,null,null,null,null,"Production d'électricité du territoire",null,null,{"$f":"D2b!B2","v":"Répartition des émissions liées à la production de chaleur et de froid du territoire"},null,null,null,null,null,null,null,null,null,null,{"$f":"D3a!B2","v":"Données nécessaires pour établir la correspondance des secteurs MyEmiss'Air"},null,null,null,null,null,null,null,{"$f":"I1a!B2","v":"Consommation d'électricité du territoire"},null,null,null,null,null,null,null,null,{"$f":"'I2'!B2","v":"Consommation de chaleur et de froid du territoire par réseaux"},null,null,null,null,null,null,null,null,null,null,null,{"$f":"D4a!B2","v":"STOCK DE CARBONE"},null,null,null,null,null,null,null,null,null,{"$f":"D4b!B2","v":"FLUX DE CARBONE"},null,null,null,null,null,null,null,{"$f":"I1a!B2","v":"Consommation d'électricité du territoire"},null,null,null,null,null,null,null,null,null,null,null,"Mix énergétique",null,null,"Facteur repas",null,null,null,"Surfaces construites"]
[null,{"$f":"Accueil!C16","v":"Année du bilan"},{"$f":"Accueil!D16","v":0},null,{"$f":"D1a!D13","v":"SECTEN 2 M2012"},{"$f":"D1a!E13","v":"CH4 kg/an"},{"$f":"D1a!F13","v":"CO2 bio kg/an"},{"$f":"D1a!G13","v":"CO2 kg/an"},{"$f":"D1a!H13","v":"CO2 Scope2 kg/an"},{"$f":"D1a!I13","v":"COVNM kg/an"},{"$f":"D1a!J13","v":"GES en tonnes eqCO2/an"},{"$f":"D1a!K13","v":"GES en tonnes eqCO2/an GIEC2007"},{"$f":"D1a!L13","v":"HFC kg/an"},{"$f":"D1a!M13","v":"N2O kg/an"},{"$f":"D1a!N13","v":"NH3 kg/an"},{"$f":"D1a!Q13","v":"PM10 kg/an"},{"$f":"D1a!R13","v":"PM2.5 kg/an"},{"$f":"D1a!S13","v":"SF6 kg/an"},{"$f":"D1a!T13","v":"SO2 kg/an"},null,"Néant",null,{"$f":"D2a!C6","v":"Production d'électricité"},{"$f":"D2a!E6","v":0},null,null,{"$f":"D2b!H8","v":"Part de la production située sur le territoire (%)"},{"$f":"D2b!I8","v":"Part de la production consommée par le territoire (%)"},{"$f":"D2b!J8","v":"Production du réseau (MWh)"},{"$f":"D2b!S8","v":"Résidentiel"},{"$f":"D2b!T8","v":"Déplacements"},{"$f":"D2b!U8","v":"Biens de consommation"},{"$f":"D2b!V8","v":"Alimentation"},{"$f":"D2b!W8","v":"Services"},{"$f":"D2b!X8","v":"Travaux"},null,{"$f":"D3a!C6","v":"% chauffage urbain utilisé dans le résidentiel"},{"$f":"D3a!D6","v":0.54611092878240886},null,null,"Néant",null,"Néant",null,{"$f":"I1a!C9","v":"Hauts de France - consommation d'électricité dans le résidentiel"},{"$f":"I1a!G9","v":1105.6300000000001},null,"Néant",null,"Néant",null,"Néant",null,null,{"$f":"'I2'!N9","v":"Résidentiel"},{"$f":"'I2'!O9","v":"Déplacements"},{"$f":"'I2'!P9","v":"Biens de consommation"},{"$f":"'I2'!Q9","v":"Alimentation"},{"$f":"'I2'!R9","v":"Services"},{"$f":"'I2'!S9","v":"Travaux"},null,null,null,"Néant",null,{"$f":"D4a!B18","v":"1 - surfaces du territoire par type d'occupation du sol (hors haies)"},null,null,null,null,null,null,null,null,null,{"$f":"D4b!B18","v":"1 - bilan des mutations du sol"},null,null,null,null,null,null,null,{"$f":"I1a!C9","v":"Hauts de France - consommation d'électricité dans le résidentiel"},{"$f":"I1a!G9","v":1105.6300000000001},null,null,null,null,null,null,null,null,null,null,{"$f":"Resid!F75","v":"Gaz naturel"},{"$f":"Resid!G75","v":0},null,null,null,{"$f":"Alim!E77","v":"Nombre de ménages"},null,{"$f":"Tra!C95","v":"Surface de locaux autorisés pour des activités économiques"},null,null,{"$f":"Tra!F95","v":0}]
[null,{"$f":"Accueil!C17","v":"Région"},{"$f":"Accueil!D17","v":"Hauts-de-France"},null,{"$f":"D1a!D14","v":0},{"$f":"D1a!E14","v":0},{"$f":"D1a!F14","v":0},{"$f":"D1a!G14","v":0},{"$f":"D1a!H14","v":0},{"$f":"D1a!I14","v":0},{"$f":"D1a!J14","v":0},{"$f":"D1a!K14","v":0},{"$f":"D1a!L14","v":0},{"$f":"D1a!M14","v":0},{"$f":"D1a!N14","v":0},{"$f":"D1a!Q14","v":0},{"$f":"D1a!R14","v":0},{"$f":"D1a!S14","v":0},{"$f":"D1a!T14","v":0},null,null,null,null,null,null,{"$f":"D2b!D9","v":"Alma-Beaurepaire"},{"$f":"D2b!H9","v":0},{"$f":"D2b!I9","v":0},{"$f":"D2b!J9","v":111190},{"$f":"D2b!S9","v":0.54611092878240886},{"$f":"D2b!T9","v":0},{"$f":"D2b!U9","v":0},{"$f":"D2b!V9","v":0},{"$f":"D2b!W9","v":0.45388907121759114},{"$f":"D2b!X9","v":0},null,{"$f":"D3a!C8","v":"% transport ferroviaire pour des déplacements"},{"$f":"D3a!D8","v":0.8},null,null,null,null,null,null,{"$f":"I1a!B18","v":"Résidentiel - consommation d'électricité totale"},{"$f":"I1a!D20","v":0},null,null,null,null,null,null,null,{"$f":"'I2'!D10","v":"Alma-Beaurepaire"},{"$f":"'I2'!N10","v":0.54611092878240886},{"$f":"'I2'!O10","v":0},{"$f":"'I2'!P10","v":0},{"$f":"'I2'!Q10","v":0},{"$f":"'I2'!R10","v":0.45388907121759114},{"$f":"'I2'!S10","v":0},null,null,null,null,null,null,{"$f":"D4a!D20","v":"Surfaces \n(ha)"},null,null,null,null,null,null,null,null,{"$f":"D4b!C20","v":"Evolution entre  "},{"$f":"D4b!D20","v":2006},{"$f":"D4b!E20","v":"et "},{"$f":"D4b!F20","v":2012},null,{"$f":"D4b!J20","v":"CORINE Land Cover, UE-SDES"},null,null,{"$f":"I1a!C15","v":"Territoire - consommation d'électricité - résidentiel"},{"$f":"I1a!G15","v":0},null,null,null,null,null,null,null,null,null,null,{"$f":"Resid!F76","v":"Fioul"},{"$f":"Resid!G76","v":0},null,{"$f":"Alim!C78","v":"Couple sans enfant"},null,{"$f":"Alim!E78","v":0}]
[null,{"$f":"Accueil!C19","v":"Nombre d'habitants en région HdF"},{"$f":"Accueil!D19","v":6006107},null,{"$f":"D1a!D15","v":0},{"$f":"D1a!E15","v":0},{"$f":"D1a!F15","v":0},{"$f":"D1a!G15","v":0},{"$f":"D1a!H15","v":0},{"$f":"D1a!I15","v":0},{"$f":"D1a!J15","v":0},{"$f":"D1a!K15","v":0},{"$f":"D1a!L15","v":0},{"$f":"D1a!M15","v":0},{"$f":"D1a!N15","v":0},{"$f":"D1a!Q15","v":0},{"$f":"D1a!R15","v":0},{"$f":"D1a!S15","v":0},{"$f":"D1a!T15","v":0},null,null,null,null,null,null,{"$f":"D2b!D10","v":"Les Canonniers"},{"$f":"D2b!H10","v":0},{"$f":"D2b!I10","v":0},{"$f":"D2b!J10","v":0},{"$f":"D2b!S10","v":0.54611092878240886},{"$f":"D2b!T10","v":0},{"$f":"D2b!U10","v":0},{"$f":"D2b!V10","v":0},{"$f":"D2b!W10","v":0.45388907121759114},{"$f":"D2b!X10","v":0},null,{"$f":"D3a!C9","v":"% transport fluvial pour des déplacements"},{"$f":"D3a!D9","v":0.02},null,null,null,null,null,null,null,null,null,null,null,null,null,null,null,{"$f":"'I2'!D11","v":"Les Canonniers"},{"$f":"'I2'!N11","v":0.54611092878240886},{"$f":"'I2'!O11","v":0},{"$f":"'I2'!P11","v":0},{"$f":"'I2'!Q11","v":0},{"$f":"'I2'!R11","v":0.45388907121759114},{"$f":"'I2'!S11","v":0},null,null,null,null,null,{"$f":"D4a!C21","v":"Cultures"},{"$f":"D4a!D21","v":0},null,null,null,null,null,null,null,null,null,null,null,null,null,null,null,null,null,null,null,null,null,null,null,null,null,null,null,null,{"$f":"Resid!F77","v":"Charbon"},{"$f":"Resid!G77","v":0},null,{"$f":"Alim!C79","v":"Personne seule"},null,{"$f":"Alim!E79","v":0},null,{"$f":"Tra!C97","v":"Nombre de logements autorisés "},null,null,{"$f":"Tra!F97","v":0}]
[null,{"$f":"Accueil!C20","v":"Type de territoire"},{"$f":"Accueil!D20","v":0},null,{"$f":"D1a!D16","v":0},{"$f":"D1a!E16","v":0},{"$f":"D1a!F16","v":0},{"$f":"D1a!G16","v":0},{"$f":"D1a!H16","v":0},{"$f":"D1a!I16","v":0},{"$f":"D1a!J16","v":0},{"$f":"D1a!K16","v":0},{"$f":"D1a!L16","v":0},{"$f":"D1a!M16","v":0},{"$f":"D1a!N16","v":0},{"$f":"D1a!Q16","v":0},{"$f":"D1a!R16","v":0},{"$f":"D1a!S16","v":0},{"$f":"D1a!T16","v":0},null,null,null,null,null,null,{"$f":"D2b!D11","v":"Réseau de Sains-du-Nord"},{"$f":"D2b!H11","v":0},{"$f":"D2b!I11","v":0},{"$f":"D2b!J11","v":0},{"$f":"D2b!S11","v":0.54611092878240886},{"$f":"D2b!T11","v":0},{"$f":"D2b!U11","v":0},{"$f":"D2b!V11","v":0},{"$f":"D2b!W11","v":0.45388907121759114},{"$f":"D2b!X11","v":0},null,{"$f":"D3a!C10","v":"% VUL détenu par des particuliers"},{"$f":"D3a!D10","v":0.4},null,null,null,null,null,null,{"$f":"I1a!C81","v":"Territoire - consommation d'électricité (hors branche énergie)"},{"$f":"SUM(I1a!G81:K81)","v":{"$error":"#DIV/0!"}},null,null,null,null,null,null,null,{"$f":"'I2'!D12","v":"Réseau de Sains-du-Nord"},{"$f":"'I2'!N12","v":0.54611092878240886},{"$f":"'I2'!O12","v":0},{"$f":"'I2'!P12","v":0},{"$f":"'I2'!Q12","v":0},{"$f":"'I2'!R12","v":0.45388907121759114},{"$f":"'I2'!S12","v":0},null,null,null,null,null,{"$f":"D4a!C22","v":"Forêts "},{"$f":"D4a!D22","v":0},null,null,null,null,null,null,null,null,{"$f":"D4b!C22","v":"Evolutions des surfaces (ha)"},{"$f":"D4b!D22","v":"Espaces\nartificialisés"},{"$f":"D4b!E22","v":"Espaces\nagricoles"},{"$f":"D4b!F22","v":"Espaces\nsemi-naturels"},null,null,null,null,{"$f":"I1a!C28","v":"Région HdF- consommation carburants routier voitures particulières"},{"$f":"I1a!G28","v":3121.2900000000004},null,null,null,null,null,null,null,null,null,null,{"$f":"Resid!F78","v":"GPL"},{"$f":"Resid!G78","v":0},null,{"$f":"Alim!C80","v":"Couple avec 1 enfant"},null,{"$f":"Alim!E80","v":0}]
[null,{"$f":"Accueil!C21","v":"Nom du territoire"},{"$f":"Accueil!D21","v":0},null,{"$f":"D1a!D17","v":0},{"$f":"D1a!E17","v":0},{"$f":"D1a!F17","v":0},{"$f":"D1a!G17","v":0},{"$f":"D1a!H17","v":0},{"$f":"D1a!I17","v":0},{"$f":"D1a!J17","v":0},{"$f":"D1a!K17","v":0},{"$f":"D1a!L17","v":0},{"$f":"D1a!M17","v":0},{"$f":"D1a!N17","v":0},{"$f":"D1a!Q17","v":0},{"$f":"D1a!R17","v":0},{"$f":"D1a!S17","v":0},{"$f":"D1a!T17","v":0},null,null,null,null,null,null,{"$f":"D2b!D12","v":"Quartier Pont de bois"},{"$f":"D2b!H12","v":0},{"$f":"D2b!I12","v":0},{"$f":"D2b!J12","v":39332},{"$f":"D2b!S12","v":0.54611092878240886},{"$f":"D2b!T12","v":0},{"$f":"D2b!U12","v":0},{"$f":"D2b!V12","v":0},{"$f":"D2b!W12","v":0.45388907121759114},{"$f":"D2b!X12","v":0},null,{"$f":"D3a!C11","v":"Transport routier de marchandises : \n% t.km réalisées pour des produits agricoles et agroalimentaires"},{"$f":"D3a!D11","v":0.3},null,null,null,null,null,null,{"$f":"I1a!B84","v":"Biens de consommation - consommation d'électricité totale"},{"$f":"I1a!D86","v":0},null,null,null,null,null,null,null,{"$f":"'I2'!D13","v":"Quartier Pont de bois"},{"$f":"'I2'!N13","v":0.54611092878240886},{"$f":"'I2'!O13","v":0},{"$f":"'I2'!P13","v":0},{"$f":"'I2'!Q13","v":0},{"$f":"'I2'!R13","v":0.45388907121759114},{"$f":"'I2'!S13","v":0},null,null,null,null,null,{"$f":"D4a!C23","v":"Prairies"},{"$f":"D4a!D23","v":0},null,null,null,null,null,null,null,null,{"$f":"D4b!C23","v":"Espaces artificialisés évoluant vers"},{"$f":"D4b!D23","v":0},{"$f":"D4b!E23","v":0},{"$f":"D4b!F23","v":0},null,null,null,null,{"$f":"I1a!C31","v":"Part des émissions de GES liée à l'énergie"},{"$f":"I1a!G31","v":1},null,null,null,null,null,null,null,null,null,null,{"$f":"Resid!F79","v":"Bois"},{"$f":"Resid!G79","v":0},null,{"$f":"Alim!C81","v":"Couple avec 2 enfants"},null,{"$f":"Alim!E81","v":0}]
[null,{"$f":"Accueil!C22","v":"Nombre d'habitants du territoire"},{"$f":"Accueil!D22","v":0},null,{"$f":"D1a!D18","v":0},{"$f":"D1a!E18","v":0},{"$f":"D1a!F18","v":0},{"$f":"D1a!G18","v":0},{"$f":"D1a!H18","v":0},{"$f":"D1a!I18","v":0},{"$f":"D1a!J18","v":0},{"$f":"D1a!K18","v":0},{"$f":"D1a!L18","v":0},{"$f":"D1a!M18","v":0},{"$f":"D1a!N18","v":0},{"$f":"D1a!Q18","v":0},{"$f":"D1a!R18","v":0},{"$f":"D1a!S18","v":0},{"$f":"D1a!T18","v":0},null,null,null,null,null,null,{"$f":"D2b!D13","v":"Domaine Universitaire et Scientifique"},{"$f":"D2b!H13","v":0},{"$f":"D2b!I13","v":0},{"$f":"D2b!J13","v":35765},{"$f":"D2b!S13","v":0.54611092878240886},{"$f":"D2b!T13","v":0},{"$f":"D2b!U13","v":0},{"$f":"D2b!V13","v":0},{"$f":"D2b!W13","v":0.45388907121759114},{"$f":"D2b!X13","v":0},null,{"$f":"D3a!C12","v":"Transport fluvial de marchandises : \n% t.km réalisées pour des produits agricoles et agroalimentaires "},{"$f":"D3a!D12","v":0.27},null,null,null,null,null,null,null,null,null,null,null,null,null,null,null,{"$f":"'I2'!D14","v":"Domaine Universitaire et Scientifique"},{"$f":"'I2'!N14","v":0.54611092878240886},{"$f":"'I2'!O14","v":0},{"$f":"'I2'!P14","v":0},{"$f":"'I2'!Q14","v":0},{"$f":"'I2'!R14","v":0.45388907121759114},{"$f":"'I2'!S14","v":0},null,null,null,null,null,{"$f":"D4a!C24","v":"Espaces artificialisés"},{"$f":"D4a!D24","v":0},null,null,null,null,null,null,null,null,{"$f":"D4b!C24","v":"Espaces agricoles évoluant vers"},{"$f":"D4b!D24","v":0},{"$f":"D4b!E24","v":0},{"$f":"D4b!F24","v":0},null,null,null,null,{"$f":"I1a!C37","v":"Part de l'électricité dans le parc automobile"},{"$f":"I1a!G37","v":3.6411431127133571E-4},null,null,null,null,null,null,null,null,null,null,{"$f":"Resid!E80","v":"Réseaux de chaleur et de froid"},{"$f":"Resid!G80","v":0},null,{"$f":"Alim!C82","v":"Couple avec 3 enfants "},null,{"$f":"Alim!E82","v":0},null,{"$f":"Tra!C117","v":"Surface de voiries communales"},null,null,{"$f":"Tra!F117","v":0}]
[null,{"$f":"Accueil!C24","v":"Part de la population régionale"},{"$f":"Accueil!D24","v":0},null,{"$f":"D1a!D19","v":0},{"$f":"D1a!E19","v":0},{"$f":"D1a!F19","v":0},{"$f":"D1a!G19","v":0},{"$f":"D1a!H19","v":0},{"$f":"D1a!I19","v":0},{"$f":"D1a!J19","v":0},{"$f":"D1a!K19","v":0},{"$f":"D1a!L19","v":0},{"$f":"D1a!M19","v":0},{"$f":"D1a!N19","v":0},{"$f":"D1a!Q19","v":0},{"$f":"D1a!R19","v":0},{"$f":"D1a!S19","v":0},{"$f":"D1a!T19","v":0},null,null,null,null,null,null,{"$f":"D2b!D14","v":"ZUP de Wattignies-Blanc Riez"},{"$f":"D2b!H14","v":0},{"$f":"D2b!I14","v":0},{"$f":"D2b!J14","v":28237},{"$f":"D2b!S14","v":0.54611092878240886},{"$f":"D2b!T14","v":0},{"$f":"D2b!U14","v":0},{"$f":"D2b!V14","v":0},{"$f":"D2b!W14","v":0.45388907121759114},{"$f":"D2b!X14","v":0},null,{"$f":"D3a!C13","v":"Transport ferroviaire de marchandises : \n% t.km réalisées pour des produits agricoles et agroalimentaires "},{"$f":"D3a!D13","v":0.24},null,null,null,null,null,null,{"$f":"I1a!C105","v":"Territoire - consommation d'électricité - agriculture"},{"$f":"I1a!G105","v":0},null,null,null,null,null,null,null,{"$f":"'I2'!D15","v":"ZUP de Wattignies-Blanc Riez"},{"$f":"'I2'!N15","v":0.54611092878240886},{"$f":"'I2'!O15","v":0},{"$f":"'I2'!P15","v":0},{"$f":"'I2'!Q15","v":0},{"$f":"'I2'!R15","v":0.45388907121759114},{"$f":"'I2'!S15","v":0},null,null,null,null,null,{"$f":"D4a!C25","v":"Espaces verts"},{"$f":"D4a!D25","v":0},null,null,null,null,null,null,null,null,{"$f":"D4b!C25","v":"Espaces semi-naturel évoluant vers"},{"$f":"D4b!D25","v":0},{"$f":"D4b!E25","v":0},{"$f":"D4b!F25","v":0},null,null,null,null,{"$f":"I1a!C41","v":"Territoire - consommation d'électricité - transport routier"},{"$f":"I1a!G41","v":0},null,null,null,null,null,null,null,null,null,null,{"$f":"Resid!F81","v":0},{"$f":"Resid!G81","v":0},null,{"$f":"Alim!C83","v":"Famille monoparentale"},null,{"$f":"Alim!E83","v":0},null,{"$f":"Tra!C118","v":"Surface de voiries départementales / nationales"},null,null,{"$f":"Tra!F118","v":0}]
[null,{"$f":"Accueil!C25","v":"Caractéristiques du territoire"},{"$f":"Accueil!D25","v":0},null,{"$f":"D1a!D20","v":0},{"$f":"D1a!E20","v":0},{"$f":"D1a!F20","v":0},{"$f":"D1a!G20","v":0},{"$f":"D1a!H20","v":0},{"$f":"D1a!I20","v":0},{"$f":"D1a!J20","v":0},{"$f":"D1a!K20","v":0},{"$f":"D1a!L20","v":0},{"$f":"D1a!M20","v":0},{"$f":"D1a!N20","v":0},{"$f":"D1a!Q20","v":0},{"$f":"D1a!R20","v":0},{"$f":"D1a!S20","v":0},{"$f":"D1a!T20","v":0},null,null,null,null,null,null,{"$f":"D2b!D15","v":"Réseau de Wattrelos"},{"$f":"D2b!H15","v":0},{"$f":"D2b!I15","v":0},{"$f":"D2b!J15","v":16374},{"$f":"D2b!S15","v":0.54611092878240886},{"$f":"D2b!T15","v":0},{"$f":"D2b!U15","v":0},{"$f":"D2b!V15","v":0},{"$f":"D2b!W15","v":0.45388907121759114},{"$f":"D2b!X15","v":0},null,null,null,null,null,null,null,null,null,{"$f":"I1a!C118","v":"Territoire - consommation d'électricité - agroalimentaire"},{"$f":"I1a!G118","v":0},null,null,null,null,null,null,null,{"$f":"'I2'!D16","v":"Réseau de Wattrelos"},{"$f":"'I2'!N16","v":0.54611092878240886},{"$f":"'I2'!O16","v":0},{"$f":"'I2'!P16","v":0},{"$f":"'I2'!Q16","v":0},{"$f":"'I2'!R16","v":0.45388907121759114},{"$f":"'I2'!S16","v":0},null,null,null,null,null,{"$f":"D4a!C26","v":"Milieux humides"},{"$f":"D4a!D26","v":0},null,null,null,null,null,null,null,null,null,null,null,null,null,null,null,null,null,null,null,null,null,null,null,null,null,null,null,null,null,null,null,{"$f":"Alim!C84","v":"Autres "},null,{"$f":"Alim!E84","v":0},null,{"$f":"Tra!C119","v":"Surface d'autoroutes"},null,null,{"$f":"Tra!F119","v":0}]
[null,{"$f":"Accueil!C26","v":"Nombre d'habitants en France"},{"$f":"Accueil!D26","v":64129660},null,{"$f":"D1a!D21","v":0},{"$f":"D1a!E21","v":0},{"$f":"D1a!F21","v":0},{"$f":"D1a!G21","v":0},{"$f":"D1a!H21","v":0},{"$f":"D1a!I21","v":0},{"$f":"D1a!J21","v":0},{"$f":"D1a!K21","v":0},{"$f":"D1a!L21","v":0},{"$f":"D1a!M21","v":0},{"$f":"D1a!N21","v":0},{"$f":"D1a!Q21","v":0},{"$f":"D1a!R21","v":0},{"$f":"D1a!S21","v":0},{"$f":"D1a!T21","v":0},null,null,null,null,null,null,{"$f":"D2b!D16","v":"ZAC des Epis"},{"$f":"D2b!H16","v":0},{"$f":"D2b!I16","v":0},{"$f":"D2b!J16","v":22257},{"$f":"D2b!S16","v":0.54611092878240886},{"$f":"D2b!T16","v":0},{"$f":"D2b!U16","v":0},{"$f":"D2b!V16","v":0},{"$f":"D2b!W16","v":0.45388907121759114},{"$f":"D2b!X16","v":0},null,null,null,null,null,null,null,null,null,{"$f":"I1a!B121","v":"Alimentation - consommation d'électricité totale"},{"$f":"I1a!D123","v":0},null,null,null,null,null,null,null,{"$f":"'I2'!D17","v":"ZAC des Epis"},{"$f":"'I2'!N17","v":0.54611092878240886},{"$f":"'I2'!O17","v":0},{"$f":"'I2'!P17","v":0},{"$f":"'I2'!Q17","v":0},{"$f":"'I2'!R17","v":0.45388907121759114},{"$f":"'I2'!S17","v":0},null,null,null,null,null,{"$f":"D4a!C27","v":"Total"},{"$f":"D4a!D27","v":0},null,null,null,null,null,null,null,null,{"$f":"D4b!B45","v":"Flux total annuel dans les sols stables cultivés"},null,null,null,null,null,null,null,null,null,null,null,null,null,null,null,null,null,null,null,null,null,null,{"$f":"Alim!C85","v":"Total"},null,{"$f":"Alim!E85","v":0}]
[null,null,null,null,{"$f":"D1a!D22","v":0},{"$f":"D1a!E22","v":0},{"$f":"D1a!F22","v":0},{"$f":"D1a!G22","v":0},{"$f":"D1a!H22","v":0},{"$f":"D1a!I22","v":0},{"$f":"D1a!J22","v":0},{"$f":"D1a!K22","v":0},{"$f":"D1a!L22","v":0},{"$f":"D1a!M22","v":0},{"$f":"D1a!N22","v":0},{"$f":"D1a!Q22","v":0},{"$f":"D1a!R22","v":0},{"$f":"D1a!S22","v":0},{"$f":"D1a!T22","v":0},null,null,null,null,null,null,{"$f":"D2b!D17","v":"Monsenergie"},{"$f":"D2b!H17","v":0},{"$f":"D2b!I17","v":0},{"$f":"D2b!J17","v":63591},{"$f":"D2b!S17","v":0.54611092878240886},{"$f":"D2b!T17","v":0},{"$f":"D2b!U17","v":0},{"$f":"D2b!V17","v":0},{"$f":"D2b!W17","v":0.45388907121759114},{"$f":"D2b!X17","v":0},null,null,null,null,null,null,null,null,null,null,null,null,null,null,null,null,null,null,{"$f":"'I2'!D18","v":"Monsenergie"},{"$f":"'I2'!N18","v":0.54611092878240886},{"$f":"'I2'!O18","v":0},{"$f":"'I2'!P18","v":0},{"$f":"'I2'!Q18","v":0},{"$f":"'I2'!R18","v":0.45388907121759114},{"$f":"'I2'!S18","v":0},null,null,null,null,null,null,null,null,null,null,null,null,null,null,null,{"$f":"D4b!C49","v":"Total"},{"$f":"D4b!D49","v":0},null,null,null,null,null,null,{"$f":"I1a!C46","v":"Région Hauts de France- consommation électricité transport ferroviaire"},{"$f":"I1a!G46","v":1343499.12},null,null,null,null,null,null,null,null,null,null,null,null,null,{"$f":"Alim!C86","v":0},null,{"$f":"Alim!E86","v":0}]
[null,null,null,null,{"$f":"D1a!D23","v":0},{"$f":"D1a!E23","v":0},{"$f":"D1a!F23","v":0},{"$f":"D1a!G23","v":0},{"$f":"D1a!H23","v":0},{"$f":"D1a!I23","v":0},{"$f":"D1a!J23","v":0},{"$f":"D1a!K23","v":0},{"$f":"D1a!L23","v":0},{"$f":"D1a!M23","v":0},{"$f":"D1a!N23","v":0},{"$f":"D1a!Q23","v":0},{"$f":"D1a!R23","v":0},{"$f":"D1a!S23","v":0},{"$f":"D1a!T23","v":0},null,null,null,null,null,null,{"$f":"D2b!D18","v":"Métropole Nord"},{"$f":"D2b!H18","v":0},{"$f":"D2b!I18","v":0},{"$f":"D2b!J18","v":289364},{"$f":"D2b!S18","v":0.54611092878240886},{"$f":"D2b!T18","v":0},{"$f":"D2b!U18","v":0},{"$f":"D2b!V18","v":0},{"$f":"D2b!W18","v":0.45388907121759114},{"$f":"D2b!X18","v":0},null,null,null,null,null,null,null,null,null,{"$f":"I1a!C140","v":"Territoire - consommation d'électricité - services (hors traitement des déchets)"},{"$f":"I1a!G140","v":0},null,null,null,null,null,null,null,{"$f":"'I2'!D19","v":"Métropole Nord"},{"$f":"'I2'!N19","v":0.54611092878240886},{"$f":"'I2'!O19","v":0},{"$f":"'I2'!P19","v":0},{"$f":"'I2'!Q19","v":0},{"$f":"'I2'!R19","v":0.45388907121759114},{"$f":"'I2'!S19","v":0},null,null,null,null,null,{"$f":"D4a!B33","v":"1 - Stock de carbone - haies"},null,null,null,null,null,null,null,null,null,null,null,null,null,null,null,null,null,{"$f":"I1a!C47","v":"Part de la consommation électrique du transport ferroviaire consommée sur le territoire"},{"$f":"I1a!G47","v":0},null,null,null,null,null,null,null,null,null,null,null,null,null,{"$f":"Alim!C87","v":"Type de repas"},null,{"$f":"Alim!E87","v":"Part du type de repas (%)"}]
[null,null,null,null,{"$f":"D1a!D24","v":0},{"$f":"D1a!E24","v":0},{"$f":"D1a!F24","v":0},{"$f":"D1a!G24","v":0},{"$f":"D1a!H24","v":0},{"$f":"D1a!I24","v":0},{"$f":"D1a!J24","v":0},{"$f":"D1a!K24","v":0},{"$f":"D1a!L24","v":0},{"$f":"D1a!M24","v":0},{"$f":"D1a!N24","v":0},{"$f":"D1a!Q24","v":0},{"$f":"D1a!R24","v":0},{"$f":"D1a!S24","v":0},{"$f":"D1a!T24","v":0},null,null,null,null,null,null,{"$f":"D2b!D19","v":"CHU Lille"},{"$f":"D2b!H19","v":0},{"$f":"D2b!I19","v":0},{"$f":"D2b!J19","v":100000},{"$f":"D2b!S19","v":0.54611092878240886},{"$f":"D2b!T19","v":0},{"$f":"D2b!U19","v":0},{"$f":"D2b!V19","v":0},{"$f":"D2b!W19","v":0.45388907121759114},{"$f":"D2b!X19","v":0},null,null,null,null,null,null,null,null,null,{"$f":"I1a!C153","v":"Territoire - consommation d'électricité - traitement des déchets"},{"$f":"I1a!G153","v":0},null,null,null,null,null,null,null,{"$f":"'I2'!D20","v":"CHU Lille"},{"$f":"'I2'!N20","v":0.54611092878240886},{"$f":"'I2'!O20","v":0},{"$f":"'I2'!P20","v":0},{"$f":"'I2'!Q20","v":0},{"$f":"'I2'!R20","v":0.45388907121759114},{"$f":"'I2'!S20","v":0},null,null,null,null,null,{"$f":"D4a!C39","v":"Haies"},{"$f":"D4a!D39","v":0},null,null,null,null,null,null,null,null,null,null,null,null,null,null,null,null,null,null,null,null,null,null,null,null,null,null,null,null,null,null,null,{"$f":"Alim!C88","v":"Repas classique 1 (avec poulet)"},null,{"$f":"Alim!E88","v":0}]
[null,null,null,null,{"$f":"D1a!D25","v":0},{"$f":"D1a!E25","v":0},{"$f":"D1a!F25","v":0},{"$f":"D1a!G25","v":0},{"$f":"D1a!H25","v":0},{"$f":"D1a!I25","v":0},{"$f":"D1a!J25","v":0},{"$f":"D1a!K25","v":0},{"$f":"D1a!L25","v":0},{"$f":"D1a!M25","v":0},{"$f":"D1a!N25","v":0},{"$f":"D1a!Q25","v":0},{"$f":"D1a!R25","v":0},{"$f":"D1a!S25","v":0},{"$f":"D1a!T25","v":0},null,null,null,null,null,null,{"$f":"D2b!D20","v":"Réseau de Lambersart"},{"$f":"D2b!H20","v":0},{"$f":"D2b!I20","v":0},{"$f":"D2b!J20","v":15916},{"$f":"D2b!S20","v":0.54611092878240886},{"$f":"D2b!T20","v":0},{"$f":"D2b!U20","v":0},{"$f":"D2b!V20","v":0},{"$f":"D2b!W20","v":0.45388907121759114},{"$f":"D2b!X20","v":0},null,null,null,null,null,null,null,null,null,{"$f":"I1a!B156","v":"Services - consommation d'électricité totale"},{"$f":"I1a!D158","v":0},null,null,null,null,null,null,null,{"$f":"'I2'!D21","v":"Réseau de Lambersart"},{"$f":"'I2'!N21","v":0.54611092878240886},{"$f":"'I2'!O21","v":0},{"$f":"'I2'!P21","v":0},{"$f":"'I2'!Q21","v":0},{"$f":"'I2'!R21","v":0.45388907121759114},{"$f":"'I2'!S21","v":0},null,null,null,null,null,null,null,null,null,null,null,null,null,null,null,null,null,null,null,null,null,null,null,null,null,null,null,null,null,null,null,null,null,null,null,null,null,null,{"$f":"Alim!C89","v":"Repas classique 2 (avec bœuf)"},null,{"$f":"Alim!E89","v":0}]
[null,null,null,null,{"$f":"D1a!D26","v":0},{"$f":"D1a!E26","v":0},{"$f":"D1a!F26","v":0},{"$f":"D1a!G26","v":0},{"$f":"D1a!H26","v":0},{"$f":"D1a!I26","v":0},{"$f":"D1a!J26","v":0},{"$f":"D1a!K26","v":0},{"$f":"D1a!L26","v":0},{"$f":"D1a!M26","v":0},{"$f":"D1a!N26","v":0},{"$f":"D1a!Q26","v":0},{"$f":"D1a!R26","v":0},{"$f":"D1a!S26","v":0},{"$f":"D1a!T26","v":0},null,null,null,null,null,null,{"$f":"D2b!D21","v":"ZUP de la caserne joyeuse"},{"$f":"D2b!H21","v":0},{"$f":"D2b!I21","v":0},{"$f":"D2b!J21","v":2501},{"$f":"D2b!S21","v":0.54611092878240886},{"$f":"D2b!T21","v":0},{"$f":"D2b!U21","v":0},{"$f":"D2b!V21","v":0},{"$f":"D2b!W21","v":0.45388907121759114},{"$f":"D2b!X21","v":0},null,null,null,null,null,null,null,null,null,null,null,null,null,null,null,null,null,null,{"$f":"'I2'!D22","v":"ZUP de la caserne joyeuse"},{"$f":"'I2'!N22","v":0.54611092878240886},{"$f":"'I2'!O22","v":0},{"$f":"'I2'!P22","v":0},{"$f":"'I2'!Q22","v":0},{"$f":"'I2'!R22","v":0.45388907121759114},{"$f":"'I2'!S22","v":0},null,null,null,null,null,{"$f":"D4a!B48","v":"3 - répartition du peuplement forestier"},null,null,null,null,null,null,null,null,null,null,null,null,null,null,null,null,null,{"$f":"I1a!C50","v":"Territoire - consommation d'électricité - autres transports"},{"$f":"I1a!G50","v":0},null,null,null,null,null,null,null,null,null,null,null,null,null,{"$f":"Alim!C90","v":"Repas végétarien 1"},null,{"$f":"Alim!E90","v":0}]
[null,null,null,null,{"$f":"D1a!D27","v":0},{"$f":"D1a!E27","v":0},{"$f":"D1a!F27","v":0},{"$f":"D1a!G27","v":0},{"$f":"D1a!H27","v":0},{"$f":"D1a!I27","v":0},{"$f":"D1a!J27","v":0},{"$f":"D1a!K27","v":0},{"$f":"D1a!L27","v":0},{"$f":"D1a!M27","v":0},{"$f":"D1a!N27","v":0},{"$f":"D1a!Q27","v":0},{"$f":"D1a!R27","v":0},{"$f":"D1a!S27","v":0},{"$f":"D1a!T27","v":0},null,null,null,null,null,null,{"$f":"D2b!D22","v":"Les rives créatives de l'Escaut"},{"$f":"D2b!H22","v":0},{"$f":"D2b!I22","v":0},{"$f":"D2b!J22","v":2500},{"$f":"D2b!S22","v":0.54611092878240886},{"$f":"D2b!T22","v":0},{"$f":"D2b!U22","v":0},{"$f":"D2b!V22","v":0},{"$f":"D2b!W22","v":0.45388907121759114},{"$f":"D2b!X22","v":0},null,null,null,null,null,null,null,null,null,{"$f":"I1a!C41","v":"Territoire - consommation d'électricité - transport routier"},{"$f":"I1a!G41","v":0},null,null,null,null,null,null,null,{"$f":"'I2'!D23","v":"Les rives créatives de l'Escaut"},{"$f":"'I2'!N23","v":0.54611092878240886},{"$f":"'I2'!O23","v":0},{"$f":"'I2'!P23","v":0},{"$f":"'I2'!Q23","v":0},{"$f":"'I2'!R23","v":0.45388907121759114},{"$f":"'I2'!S23","v":0},null,null,null,null,null,{"$f":"D4a!C51","v":"Peupleraies"},{"$f":"D4a!D51","v":0.11},null,{"$f":"D4a!I51","v":"Observatoire Régional de la Biodiversité - 2011 - Nord-Pas de Calais- extrapolé à la Picardie"},null,"Peupleraies",0.11,"Observatoire Régional de la Biodiversité 2011",null,null,null,null,null,null,null,null,null,null,null,null,null,null,null,null,null,null,null,null,null,null,null,null,null,{"$f":"Alim!C91","v":"Repas végétarien 2"},null,{"$f":"Alim!E91","v":0}]
[null,null,null,null,{"$f":"D1a!D28","v":0},{"$f":"D1a!E28","v":0},{"$f":"D1a!F28","v":0},{"$f":"D1a!G28","v":0},{"$f":"D1a!H28","v":0},{"$f":"D1a!I28","v":0},{"$f":"D1a!J28","v":0},{"$f":"D1a!K28","v":0},{"$f":"D1a!L28","v":0},{"$f":"D1a!M28","v":0},{"$f":"D1a!N28","v":0},{"$f":"D1a!Q28","v":0},{"$f":"D1a!R28","v":0},{"$f":"D1a!S28","v":0},{"$f":"D1a!T28","v":0},null,null,null,null,null,null,{"$f":"D2b!D23","v":"Energie Grand Littoral"},{"$f":"D2b!H23","v":0},{"$f":"D2b!I23","v":0},{"$f":"D2b!J23","v":136778},{"$f":"D2b!S23","v":0.54611092878240886},{"$f":"D2b!T23","v":0},{"$f":"D2b!U23","v":0},{"$f":"D2b!V23","v":0},{"$f":"D2b!W23","v":0.45388907121759114},{"$f":"D2b!X23","v":0},null,null,null,null,null,null,null,null,null,{"$f":"I1a!C50","v":"Territoire - consommation d'électricité - autres transports"},{"$f":"I1a!G50","v":0},null,null,null,null,null,null,null,{"$f":"'I2'!D24","v":"Energie Grand Littoral"},{"$f":"'I2'!N24","v":0.54611092878240886},{"$f":"'I2'!O24","v":0},{"$f":"'I2'!P24","v":0},{"$f":"'I2'!Q24","v":0},{"$f":"'I2'!R24","v":0.45388907121759114},{"$f":"'I2'!S24","v":0},null,null,null,null,null,{"$f":"D4a!C52","v":"Feuillus hors peupleraies"},{"$f":"D4a!D52","v":0.85},null,{"$f":"D4a!I51","v":"Observatoire Régional de la Biodiversité - 2011 - Nord-Pas de Calais- extrapolé à la Picardie"},null,"Feuillus hors peupleraies",0.85,"Observatoire Régional de la Biodiversité 2011",null,null,null,null,null,null,null,null,null,null,null,null,null,null,{"$f":"I1a!G65","v":"Sidérurgie"},{"$f":"I1a!H65","v":"Métallurgie\nnon-ferreux"},{"$f":"I1a!I65","v":"Chimie"},{"$f":"I1a!J65","v":"Papier, carton"},{"$f":"I1a!K65","v":"Energie/ Raffinage"},{"$f":"I1a!L65","v":"Automobile"},{"$f":"I1a!M65","v":"Divers"},null,null,null,null,{"$f":"Alim!C92","v":"Repas à dominante végétale 1 (avec poulet)"},null,{"$f":"Alim!E92","v":0}]
[null,null,null,null,{"$f":"D1a!D29","v":0},{"$f":"D1a!E29","v":0},{"$f":"D1a!F29","v":0},{"$f":"D1a!G29","v":0},{"$f":"D1a!H29","v":0},{"$f":"D1a!I29","v":0},{"$f":"D1a!J29","v":0},{"$f":"D1a!K29","v":0},{"$f":"D1a!L29","v":0},{"$f":"D1a!M29","v":0},{"$f":"D1a!N29","v":0},{"$f":"D1a!Q29","v":0},{"$f":"D1a!R29","v":0},{"$f":"D1a!S29","v":0},{"$f":"D1a!T29","v":0},null,null,null,null,null,null,{"$f":"D2b!D24","v":"Réseau de chauffage d'Hazebrouck"},{"$f":"D2b!H24","v":0},{"$f":"D2b!I24","v":0},{"$f":"D2b!J24","v":6708},{"$f":"D2b!S24","v":0.54611092878240886},{"$f":"D2b!T24","v":0},{"$f":"D2b!U24","v":0},{"$f":"D2b!V24","v":0},{"$f":"D2b!W24","v":0.45388907121759114},{"$f":"D2b!X24","v":0},null,null,null,null,null,null,null,null,null,{"$f":"I1a!B53","v":"Déplacements - consommation d'électricité totale"},{"$f":"I1a!D55","v":0},null,null,null,null,null,null,null,{"$f":"'I2'!D25","v":"Réseau de chauffage d'Hazebrouck"},{"$f":"'I2'!N25","v":0.54611092878240886},{"$f":"'I2'!O25","v":0},{"$f":"'I2'!P25","v":0},{"$f":"'I2'!Q25","v":0},{"$f":"'I2'!R25","v":0.45388907121759114},{"$f":"'I2'!S25","v":0},null,null,null,null,null,null,null,null,null,null,null,null,null,null,null,null,null,null,null,null,null,null,null,{"$f":"I1a!C67","v":"Part des émissions directes de GES liée à l'énergie"},null,null,null,{"$f":"I1a!G67","v":1},{"$f":"I1a!H67","v":0.91},{"$f":"I1a!I67","v":0.93},{"$f":"I1a!J67","v":1},{"$f":"I1a!K67","v":0.53},{"$f":"I1a!L67","v":0.98},{"$f":"I1a!M67","v":0.98},null,null,null,null,{"$f":"Alim!C93","v":"Repas à dominante végétale 2 (avec bœuf)"},null,{"$f":"Alim!E93","v":0}]
[null,null,null,null,{"$f":"D1a!D30","v":0},{"$f":"D1a!E30","v":0},{"$f":"D1a!F30","v":0},{"$f":"D1a!G30","v":0},{"$f":"D1a!H30","v":0},{"$f":"D1a!I30","v":0},{"$f":"D1a!J30","v":0},{"$f":"D1a!K30","v":0},{"$f":"D1a!L30","v":0},{"$f":"D1a!M30","v":0},{"$f":"D1a!N30","v":0},{"$f":"D1a!Q30","v":0},{"$f":"D1a!R30","v":0},{"$f":"D1a!S30","v":0},{"$f":"D1a!T30","v":0},null,null,null,null,null,null,{"$f":"D2b!D25","v":"Quartier Tournebride Lomme-Capinghem"},{"$f":"D2b!H25","v":0},{"$f":"D2b!I25","v":0},{"$f":"D2b!J25","v":6179},{"$f":"D2b!S25","v":0.54611092878240886},{"$f":"D2b!T25","v":0},{"$f":"D2b!U25","v":0},{"$f":"D2b!V25","v":0},{"$f":"D2b!W25","v":0.45388907121759114},{"$f":"D2b!X25","v":0},null,null,null,null,null,null,null,null,null,null,null,null,null,null,null,null,null,null,{"$f":"'I2'!D26","v":"Quartier Tournebride Lomme-Capinghem"},{"$f":"'I2'!N26","v":0.54611092878240886},{"$f":"'I2'!O26","v":0},{"$f":"'I2'!P26","v":0},{"$f":"'I2'!Q26","v":0},{"$f":"'I2'!R26","v":0.45388907121759114},{"$f":"'I2'!S26","v":0},null,null,null,null,null,{"$f":"D4a!B57","v":"4 - autres caractéristiques de la forêt"},null,null,null,null,null,null,null,null,null,null,null,null,null,null,null,null,null,{"$f":"I1a!C69","v":"Equivalence GES / consommation d'énergie (hors électricité)"},null,null,null,{"$f":"I1a!G68","v":0},{"$f":"I1a!H68","v":0},{"$f":"I1a!I68","v":0},{"$f":"I1a!J68","v":0},{"$f":"I1a!K68","v":0},{"$f":"I1a!L68","v":0},{"$f":"I1a!M68","v":0},null,null,null,null,{"$f":"Alim!C94","v":"Repas à dominante animale 1 (avec poulet)"},null,{"$f":"Alim!E94","v":0}]
[null,null,null,null,{"$f":"D1a!D31","v":0},{"$f":"D1a!E31","v":0},{"$f":"D1a!F31","v":0},{"$f":"D1a!G31","v":0},{"$f":"D1a!H31","v":0},{"$f":"D1a!I31","v":0},{"$f":"D1a!J31","v":0},{"$f":"D1a!K31","v":0},{"$f":"D1a!L31","v":0},{"$f":"D1a!M31","v":0},{"$f":"D1a!N31","v":0},{"$f":"D1a!Q31","v":0},{"$f":"D1a!R31","v":0},{"$f":"D1a!S31","v":0},{"$f":"D1a!T31","v":0},null,null,null,null,null,null,{"$f":"D2b!D26","v":0},{"$f":"D2b!H27","v":0},{"$f":"D2b!I27","v":0},{"$f":"D2b!J26","v":0},{"$f":"D2b!S26","v":0.54611092878240886},{"$f":"D2b!T26","v":0},{"$f":"D2b!U26","v":0},{"$f":"D2b!V26","v":0},{"$f":"D2b!W26","v":0.45388907121759114},{"$f":"D2b!X26","v":0},null,null,null,null,null,null,null,null,null,null,null,null,null,null,null,null,null,null,{"$f":"'I2'!D27","v":0},{"$f":"'I2'!N27","v":0.54611092878240886},{"$f":"'I2'!O27","v":0},{"$f":"'I2'!P27","v":0},{"$f":"'I2'!Q27","v":0},{"$f":"'I2'!R27","v":0.45388907121759114},{"$f":"'I2'!S27","v":0},null,null,null,null,null,{"$f":"D4a!C60","v":"Volume de bois fort"},{"$f":"D4a!D60","v":181},null,{"$f":"D4a!I60","v":"IGN 2016 - Hauts de France"},null,"Volume de bois fort",176,"IGN 2010- donnée NPdC 2012",null,null,null,null,null,null,null,null,null,null,{"$f":"I1a!C71","v":"Part de l'électricité dans l'énergie totale consommée"},null,null,null,{"$f":"I1a!G71","v":0.12},{"$f":"I1a!H71","v":0.69},{"$f":"I1a!I71","v":0.12},{"$f":"I1a!J71","v":0.31},{"$f":"I1a!K71","v":0.06},{"$f":"I1a!L71","v":0.56999999999999995},{"$f":"I1a!M71","v":0.56999999999999995}]
[null,null,null,null,{"$f":"D1a!D32","v":0},{"$f":"D1a!E32","v":0},{"$f":"D1a!F32","v":0},{"$f":"D1a!G32","v":0},{"$f":"D1a!H32","v":0},{"$f":"D1a!I32","v":0},{"$f":"D1a!J32","v":0},{"$f":"D1a!K32","v":0},{"$f":"D1a!L32","v":0},{"$f":"D1a!M32","v":0},{"$f":"D1a!N32","v":0},{"$f":"D1a!Q32","v":0},{"$f":"D1a!R32","v":0},{"$f":"D1a!S32","v":0},{"$f":"D1a!T32","v":0},null,null,null,null,null,null,{"$f":"D2b!D27","v":"ZUP du quartier République"},{"$f":"D2b!H28","v":0},{"$f":"D2b!I28","v":0},{"$f":"D2b!J27","v":15268},{"$f":"D2b!S27","v":0.54611092878240886},{"$f":"D2b!T27","v":0},{"$f":"D2b!U27","v":0},{"$f":"D2b!V27","v":0},{"$f":"D2b!W27","v":0.45388907121759114},{"$f":"D2b!X27","v":0},null,null,null,null,null,null,null,null,null,null,null,null,null,null,null,null,null,null,{"$f":"'I2'!D28","v":"ZUP du quartier République"},{"$f":"'I2'!N28","v":0.54611092878240886},{"$f":"'I2'!O28","v":0},{"$f":"'I2'!P28","v":0},{"$f":"'I2'!Q28","v":0},{"$f":"'I2'!R28","v":0.45388907121759114},{"$f":"'I2'!S28","v":0},null,null,null,null,null,{"$f":"D4a!C61","v":"Accroissement biologique bois fort"},{"$f":"D4a!D61","v":6.7},null,{"$f":"D4a!I61","v":"IGN 2016 - Hauts de France"},null,"Accroissement biologique bois fort",7.7,"IGN 2010- donnée NPdC 2012"]
[null,null,null,null,{"$f":"D1a!D33","v":0},{"$f":"D1a!E33","v":0},{"$f":"D1a!F33","v":0},{"$f":"D1a!G33","v":0},{"$f":"D1a!H33","v":0},{"$f":"D1a!I33","v":0},{"$f":"D1a!J33","v":0},{"$f":"D1a!K33","v":0},{"$f":"D1a!L33","v":0},{"$f":"D1a!M33","v":0},{"$f":"D1a!N33","v":0},{"$f":"D1a!Q33","v":0},{"$f":"D1a!R33","v":0},{"$f":"D1a!S33","v":0},{"$f":"D1a!T33","v":0},null,null,null,null,null,null,{"$f":"D2b!D28","v":"Réseau de Arques"},{"$f":"D2b!H29","v":0},{"$f":"D2b!I29","v":0},{"$f":"D2b!J28","v":8000},{"$f":"D2b!S28","v":0.54611092878240886},{"$f":"D2b!T28","v":0},{"$f":"D2b!U28","v":0},{"$f":"D2b!V28","v":0},{"$f":"D2b!W28","v":0.45388907121759114},{"$f":"D2b!X28","v":0},null,null,null,null,null,null,null,null,null,null,null,null,null,null,null,null,null,null,{"$f":"'I2'!D29","v":"Réseau de Arques"},{"$f":"'I2'!N29","v":0.54611092878240886},{"$f":"'I2'!O29","v":0},{"$f":"'I2'!P29","v":0},{"$f":"'I2'!Q29","v":0},{"$f":"'I2'!R29","v":0.45388907121759114},{"$f":"'I2'!S29","v":0},null,null,null,null,null,{"$f":"D4a!C62","v":"Part de l'accroissement exploité"},{"$f":"D4a!D62","v":0.67},null,{"$f":"D4a!I62","v":"IGN 2016 - Hauts de France"},null,"Part de l'accroissement exploité",0.41,"Calculé sur base de données IGN 2010 et DRAAF 2010",null,null,null,null,null,null,null,null,null,null,{"$f":"I1a!C77","v":"Territoire - Consommation d'électricité - Biens de consommation hors énergie"},null,null,{"$f":"I1a!F77","v":0},{"$f":"I1a!G77","v":"MWh"}]
[null,null,null,null,{"$f":"D1a!D34","v":0},{"$f":"D1a!E34","v":0},{"$f":"D1a!F34","v":0},{"$f":"D1a!G34","v":0},{"$f":"D1a!H34","v":0},{"$f":"D1a!I34","v":0},{"$f":"D1a!J34","v":0},{"$f":"D1a!K34","v":0},{"$f":"D1a!L34","v":0},{"$f":"D1a!M34","v":0},{"$f":"D1a!N34","v":0},{"$f":"D1a!Q34","v":0},{"$f":"D1a!R34","v":0},{"$f":"D1a!S34","v":0},{"$f":"D1a!T34","v":0},null,null,null,null,null,null,{"$f":"D2b!D29","v":"ZUP de Lens"},{"$f":"D2b!H30","v":0},{"$f":"D2b!I30","v":0},{"$f":"D2b!J29","v":51703},{"$f":"D2b!S29","v":0.54611092878240886},{"$f":"D2b!T29","v":0},{"$f":"D2b!U29","v":0},{"$f":"D2b!V29","v":0},{"$f":"D2b!W29","v":0.45388907121759114},{"$f":"D2b!X29","v":0},null,null,null,null,null,null,null,null,null,null,null,null,null,null,null,null,null,null,{"$f":"'I2'!D30","v":"ZUP de Lens"},{"$f":"'I2'!N30","v":0.54611092878240886},{"$f":"'I2'!O30","v":0},{"$f":"'I2'!P30","v":0},{"$f":"'I2'!Q30","v":0},{"$f":"'I2'!R30","v":0.45388907121759114},{"$f":"'I2'!S30","v":0},null,null,null,null,null,null,null,null,null,null,null,null,null,null,null,null,null,null,null,null,null,null,null,{"$f":"I1a!C78","v":"Territoire - Consommation d'électricité - Biens de consommation énergie"},null,null,{"$f":"I1a!F78","v":0},{"$f":"I1a!G78","v":"MWh"}]
[null,null,null,null,{"$f":"D1a!D35","v":0},{"$f":"D1a!E35","v":0},{"$f":"D1a!F35","v":0},{"$f":"D1a!G35","v":0},{"$f":"D1a!H35","v":0},{"$f":"D1a!I35","v":0},{"$f":"D1a!J35","v":0},{"$f":"D1a!K35","v":0},{"$f":"D1a!L35","v":0},{"$f":"D1a!M35","v":0},{"$f":"D1a!N35","v":0},{"$f":"D1a!Q35","v":0},{"$f":"D1a!R35","v":0},{"$f":"D1a!S35","v":0},{"$f":"D1a!T35","v":0},null,null,null,null,null,null,{"$f":"D2b!D30","v":"Le Portel-Outreau Engie"},{"$f":"D2b!H31","v":0},{"$f":"D2b!I31","v":0},{"$f":"D2b!J30","v":11000},{"$f":"D2b!S30","v":0.54611092878240886},{"$f":"D2b!T30","v":0},{"$f":"D2b!U30","v":0},{"$f":"D2b!V30","v":0},{"$f":"D2b!W30","v":0.45388907121759114},{"$f":"D2b!X30","v":0},null,null,null,null,null,null,null,null,null,null,null,null,null,null,null,null,null,null,{"$f":"'I2'!D31","v":"Le Portel-Outreau Engie"},{"$f":"'I2'!N31","v":0.54611092878240886},{"$f":"'I2'!O31","v":0},{"$f":"'I2'!P31","v":0},{"$f":"'I2'!Q31","v":0},{"$f":"'I2'!R31","v":0.45388907121759114},{"$f":"'I2'!S31","v":0}]
[null,null,null,null,{"$f":"D1a!D36","v":0},{"$f":"D1a!E36","v":0},{"$f":"D1a!F36","v":0},{"$f":"D1a!G36","v":0},{"$f":"D1a!H36","v":0},{"$f":"D1a!I36","v":0},{"$f":"D1a!J36","v":0},{"$f":"D1a!K36","v":0},{"$f":"D1a!L36","v":0},{"$f":"D1a!M36","v":0},{"$f":"D1a!N36","v":0},{"$f":"D1a!Q36","v":0},{"$f":"D1a!R36","v":0},{"$f":"D1a!S36","v":0},{"$f":"D1a!T36","v":0},null,null,null,null,null,null,{"$f":"D2b!D31","v":"Le Portel-Outreau Dalkia"},{"$f":"D2b!H32","v":0},{"$f":"D2b!I32","v":0},{"$f":"D2b!J31","v":5344},{"$f":"D2b!S31","v":0.54611092878240886},{"$f":"D2b!T31","v":0},{"$f":"D2b!U31","v":0},{"$f":"D2b!V31","v":0},{"$f":"D2b!W31","v":0.45388907121759114},{"$f":"D2b!X31","v":0},null,null,null,null,null,null,null,null,null,null,null,null,null,null,null,null,null,null,{"$f":"'I2'!D32","v":"Le Portel-Outreau Dalkia"},{"$f":"'I2'!N32","v":0.54611092878240886},{"$f":"'I2'!O32","v":0},{"$f":"'I2'!P32","v":0},{"$f":"'I2'!Q32","v":0},{"$f":"'I2'!R32","v":0.45388907121759114},{"$f":"'I2'!S32","v":0},null,null,null,null,null,null,null,null,null,null,null,null,null,null,null,null,null,null,null,null,null,null,null,{"$f":"I1a!C100","v":"FE combustion du fioul"},{"$f":"I1a!G100","v":0.27200000000000002}]
[null,null,null,null,{"$f":"D1a!D37","v":0},{"$f":"D1a!E37","v":0},{"$f":"D1a!F37","v":0},{"$f":"D1a!G37","v":0},{"$f":"D1a!H37","v":0},{"$f":"D1a!I37","v":0},{"$f":"D1a!J37","v":0},{"$f":"D1a!K37","v":0},{"$f":"D1a!L37","v":0},{"$f":"D1a!M37","v":0},{"$f":"D1a!N37","v":0},{"$f":"D1a!Q37","v":0},{"$f":"D1a!R37","v":0},{"$f":"D1a!S37","v":0},{"$f":"D1a!T37","v":0},null,null,null,null,null,null,{"$f":"D2b!D32","v":"ZUP de Béthune"},{"$f":"D2b!H33","v":0},{"$f":"D2b!I33","v":0},{"$f":"D2b!J32","v":27133},{"$f":"D2b!S32","v":0.54611092878240886},{"$f":"D2b!T32","v":0},{"$f":"D2b!U32","v":0},{"$f":"D2b!V32","v":0},{"$f":"D2b!W32","v":0.45388907121759114},{"$f":"D2b!X32","v":0},null,null,null,null,null,null,null,null,null,null,null,null,null,null,null,null,null,null,{"$f":"'I2'!D33","v":"ZUP de Béthune"},{"$f":"'I2'!N33","v":0.54611092878240886},{"$f":"'I2'!O33","v":0},{"$f":"'I2'!P33","v":0},{"$f":"'I2'!Q33","v":0},{"$f":"'I2'!R33","v":0.45388907121759114},{"$f":"'I2'!S33","v":0},null,null,null,null,null,null,null,null,null,null,null,null,null,null,null,null,null,null,null,null,null,null,null,{"$f":"I1a!C102","v":"Ratio consommation d'électricité / consommation de fioul (%)"},{"$f":"I1a!G102","v":0.16}]
[null,null,null,null,{"$f":"D1a!D38","v":0},{"$f":"D1a!E38","v":0},{"$f":"D1a!F38","v":0},{"$f":"D1a!G38","v":0},{"$f":"D1a!H38","v":0},{"$f":"D1a!I38","v":0},{"$f":"D1a!J38","v":0},{"$f":"D1a!K38","v":0},{"$f":"D1a!L38","v":0},{"$f":"D1a!M38","v":0},{"$f":"D1a!N38","v":0},{"$f":"D1a!Q38","v":0},{"$f":"D1a!R38","v":0},{"$f":"D1a!S38","v":0},{"$f":"D1a!T38","v":0},null,null,null,null,null,null,{"$f":"D2b!D33","v":"Réseau de Liévin"},{"$f":"D2b!H34","v":0},{"$f":"D2b!I34","v":0},{"$f":"D2b!J33","v":21122},{"$f":"D2b!S33","v":0.54611092878240886},{"$f":"D2b!T33","v":0},{"$f":"D2b!U33","v":0},{"$f":"D2b!V33","v":0},{"$f":"D2b!W33","v":0.45388907121759114},{"$f":"D2b!X33","v":0},null,null,null,null,null,null,null,null,null,null,null,null,null,null,null,null,null,null,{"$f":"'I2'!D34","v":"Réseau de Liévin"},{"$f":"'I2'!N34","v":0.54611092878240886},{"$f":"'I2'!O34","v":0},{"$f":"'I2'!P34","v":0},{"$f":"'I2'!Q34","v":0},{"$f":"'I2'!R34","v":0.45388907121759114},{"$f":"'I2'!S34","v":0}]
[null,null,null,null,{"$f":"D1a!D39","v":0},{"$f":"D1a!E39","v":0},{"$f":"D1a!F39","v":0},{"$f":"D1a!G39","v":0},{"$f":"D1a!H39","v":0},{"$f":"D1a!I39","v":0},{"$f":"D1a!J39","v":0},{"$f":"D1a!K39","v":0},{"$f":"D1a!L39","v":0},{"$f":"D1a!M39","v":0},{"$f":"D1a!N39","v":0},{"$f":"D1a!Q39","v":0},{"$f":"D1a!R39","v":0},{"$f":"D1a!S39","v":0},{"$f":"D1a!T39","v":0},null,null,null,null,null,null,{"$f":"D2b!D34","v":"Calais Energie"},{"$f":"D2b!H35","v":0},{"$f":"D2b!I35","v":0},{"$f":"D2b!J34","v":52106},{"$f":"D2b!S34","v":0.54611092878240886},{"$f":"D2b!T34","v":0},{"$f":"D2b!U34","v":0},{"$f":"D2b!V34","v":0},{"$f":"D2b!W34","v":0.45388907121759114},{"$f":"D2b!X34","v":0},null,null,null,null,null,null,null,null,null,null,null,null,null,null,null,null,null,null,{"$f":"'I2'!D35","v":"Calais Energie"},{"$f":"'I2'!N35","v":0.54611092878240886},{"$f":"'I2'!O35","v":0},{"$f":"'I2'!P35","v":0},{"$f":"'I2'!Q35","v":0},{"$f":"'I2'!R35","v":0.45388907121759114},{"$f":"'I2'!S35","v":0}]
[null,null,null,null,{"$f":"D1a!D40","v":0},{"$f":"D1a!E40","v":0},{"$f":"D1a!F40","v":0},{"$f":"D1a!G40","v":0},{"$f":"D1a!H40","v":0},{"$f":"D1a!I40","v":0},{"$f":"D1a!J40","v":0},{"$f":"D1a!K40","v":0},{"$f":"D1a!L40","v":0},{"$f":"D1a!M40","v":0},{"$f":"D1a!N40","v":0},{"$f":"D1a!Q40","v":0},{"$f":"D1a!R40","v":0},{"$f":"D1a!S40","v":0},{"$f":"D1a!T40","v":0},null,null,null,null,null,null,{"$f":"D2b!D35","v":"Réseau Centre Ville"},{"$f":"D2b!H36","v":0},{"$f":"D2b!I36","v":0},{"$f":"D2b!J35","v":12678},{"$f":"D2b!S35","v":0.54611092878240886},{"$f":"D2b!T35","v":0},{"$f":"D2b!U35","v":0},{"$f":"D2b!V35","v":0},{"$f":"D2b!W35","v":0.45388907121759114},{"$f":"D2b!X35","v":0},null,null,null,null,null,null,null,null,null,null,null,null,null,null,null,null,null,null,{"$f":"'I2'!D36","v":"Réseau Centre Ville"},{"$f":"'I2'!N36","v":0.54611092878240886},{"$f":"'I2'!O36","v":0},{"$f":"'I2'!P36","v":0},{"$f":"'I2'!Q36","v":0},{"$f":"'I2'!R36","v":0.45388907121759114},{"$f":"'I2'!S36","v":0},null,null,null,null,null,null,null,null,null,null,null,null,null,null,null,null,null,null,null,null,null,null,null,{"$f":"I1a!C105","v":"Territoire - consommation d'électricité - agriculture"},{"$f":"I1a!G105","v":0},{"$f":"I1a!H105","v":"MWh"}]
[null,null,null,null,{"$f":"D1a!D41","v":0},{"$f":"D1a!E41","v":0},{"$f":"D1a!F41","v":0},{"$f":"D1a!G41","v":0},{"$f":"D1a!H41","v":0},{"$f":"D1a!I41","v":0},{"$f":"D1a!J41","v":0},{"$f":"D1a!K41","v":0},{"$f":"D1a!L41","v":0},{"$f":"D1a!M41","v":0},{"$f":"D1a!N41","v":0},{"$f":"D1a!Q41","v":0},{"$f":"D1a!R41","v":0},{"$f":"D1a!S41","v":0},{"$f":"D1a!T41","v":0},null,null,null,null,null,null,{"$f":"D2b!D36","v":"Réseau d'Achicourt"},{"$f":"D2b!H37","v":0},{"$f":"D2b!I37","v":0},{"$f":"D2b!J36","v":6416},{"$f":"D2b!S36","v":0.54611092878240886},{"$f":"D2b!T36","v":0},{"$f":"D2b!U36","v":0},{"$f":"D2b!V36","v":0},{"$f":"D2b!W36","v":0.45388907121759114},{"$f":"D2b!X36","v":0},null,null,null,null,null,null,null,null,null,null,null,null,null,null,null,null,null,null,{"$f":"'I2'!D37","v":"Réseau d'Achicourt"},{"$f":"'I2'!N37","v":0.54611092878240886},{"$f":"'I2'!O37","v":0},{"$f":"'I2'!P37","v":0},{"$f":"'I2'!Q37","v":0},{"$f":"'I2'!R37","v":0.45388907121759114},{"$f":"'I2'!S37","v":0}]
[null,null,null,null,{"$f":"D1a!D42","v":0},{"$f":"D1a!E42","v":0},{"$f":"D1a!F42","v":0},{"$f":"D1a!G42","v":0},{"$f":"D1a!H42","v":0},{"$f":"D1a!I42","v":0},{"$f":"D1a!J42","v":0},{"$f":"D1a!K42","v":0},{"$f":"D1a!L42","v":0},{"$f":"D1a!M42","v":0},{"$f":"D1a!N42","v":0},{"$f":"D1a!Q42","v":0},{"$f":"D1a!R42","v":0},{"$f":"D1a!S42","v":0},{"$f":"D1a!T42","v":0},null,null,null,null,null,null,{"$f":"D2b!D37","v":"Réseau d'Arras"},{"$f":"D2b!H38","v":0},{"$f":"D2b!I38","v":0},{"$f":"D2b!J37","v":56703},{"$f":"D2b!S37","v":0.54611092878240886},{"$f":"D2b!T37","v":0},{"$f":"D2b!U37","v":0},{"$f":"D2b!V37","v":0},{"$f":"D2b!W37","v":0.45388907121759114},{"$f":"D2b!X37","v":0},null,null,null,null,null,null,null,null,null,null,null,null,null,null,null,null,null,null,{"$f":"'I2'!D38","v":"Réseau d'Arras"},{"$f":"'I2'!N38","v":0.54611092878240886},{"$f":"'I2'!O38","v":0},{"$f":"'I2'!P38","v":0},{"$f":"'I2'!Q38","v":0},{"$f":"'I2'!R38","v":0.45388907121759114},{"$f":"'I2'!S38","v":0},null,null,null,null,null,null,null,null,null,null,null,null,null,null,null,null,null,null,null,null,null,null,null,{"$f":"I1a!C118","v":"Territoire - consommation d'électricité - agroalimentaire"},{"$f":"I1a!G118","v":0},{"$f":"I1a!H118","v":"MWh"}]
[null,null,null,null,{"$f":"D1a!D43","v":0},{"$f":"D1a!E43","v":0},{"$f":"D1a!F43","v":0},{"$f":"D1a!G43","v":0},{"$f":"D1a!H43","v":0},{"$f":"D1a!I43","v":0},{"$f":"D1a!J43","v":0},{"$f":"D1a!K43","v":0},{"$f":"D1a!L43","v":0},{"$f":"D1a!M43","v":0},{"$f":"D1a!N43","v":0},{"$f":"D1a!Q43","v":0},{"$f":"D1a!R43","v":0},{"$f":"D1a!S43","v":0},{"$f":"D1a!T43","v":0},null,null,null,null,null,null,{"$f":"D2b!D38","v":"Réseau de Boulogne-sur-Mer"},{"$f":"D2b!H39","v":0},{"$f":"D2b!I39","v":0},{"$f":"D2b!J38","v":29249},{"$f":"D2b!S38","v":0.54611092878240886},{"$f":"D2b!T38","v":0},{"$f":"D2b!U38","v":0},{"$f":"D2b!V38","v":0},{"$f":"D2b!W38","v":0.45388907121759114},{"$f":"D2b!X38","v":0},null,null,null,null,null,null,null,null,null,null,null,null,null,null,null,null,null,null,{"$f":"'I2'!D39","v":"Réseau de Boulogne-sur-Mer"},{"$f":"'I2'!N39","v":0.54611092878240886},{"$f":"'I2'!O39","v":0},{"$f":"'I2'!P39","v":0},{"$f":"'I2'!Q39","v":0},{"$f":"'I2'!R39","v":0.45388907121759114},{"$f":"'I2'!S39","v":0}]
[null,null,null,null,{"$f":"D1a!D44","v":0},{"$f":"D1a!E44","v":0},{"$f":"D1a!F44","v":0},{"$f":"D1a!G44","v":0},{"$f":"D1a!H44","v":0},{"$f":"D1a!I44","v":0},{"$f":"D1a!J44","v":0},{"$f":"D1a!K44","v":0},{"$f":"D1a!L44","v":0},{"$f":"D1a!M44","v":0},{"$f":"D1a!N44","v":0},{"$f":"D1a!Q44","v":0},{"$f":"D1a!R44","v":0},{"$f":"D1a!S44","v":0},{"$f":"D1a!T44","v":0},null,null,null,null,null,null,{"$f":"D2b!D39","v":"Quartier du chemin vert"},{"$f":"D2b!H40","v":0},{"$f":"D2b!I40","v":0},{"$f":"D2b!J39","v":18977},{"$f":"D2b!S39","v":0.54611092878240886},{"$f":"D2b!T39","v":0},{"$f":"D2b!U39","v":0},{"$f":"D2b!V39","v":0},{"$f":"D2b!W39","v":0.45388907121759114},{"$f":"D2b!X39","v":0},null,null,null,null,null,null,null,null,null,null,null,null,null,null,null,null,null,null,{"$f":"'I2'!D40","v":"Quartier du chemin vert"},{"$f":"'I2'!N40","v":0.54611092878240886},{"$f":"'I2'!O40","v":0},{"$f":"'I2'!P40","v":0},{"$f":"'I2'!Q40","v":0},{"$f":"'I2'!R40","v":0.45388907121759114},{"$f":"'I2'!S40","v":0}]
[null,null,null,null,{"$f":"D1a!D45","v":0},{"$f":"D1a!E45","v":0},{"$f":"D1a!F45","v":0},{"$f":"D1a!G45","v":0},{"$f":"D1a!H45","v":0},{"$f":"D1a!I45","v":0},{"$f":"D1a!J45","v":0},{"$f":"D1a!K45","v":0},{"$f":"D1a!L45","v":0},{"$f":"D1a!M45","v":0},{"$f":"D1a!N45","v":0},{"$f":"D1a!Q45","v":0},{"$f":"D1a!R45","v":0},{"$f":"D1a!S45","v":0},{"$f":"D1a!T45","v":0},null,null,null,null,null,null,{"$f":"D2b!D40","v":0},{"$f":"D2b!H57","v":0},{"$f":"D2b!I57","v":0},{"$f":"D2b!J40","v":0},{"$f":"D2b!S40","v":0.54611092878240886},{"$f":"D2b!T40","v":0},{"$f":"D2b!U40","v":0},{"$f":"D2b!V40","v":0},{"$f":"D2b!W40","v":0.45388907121759114},{"$f":"D2b!X40","v":0},null,null,null,null,null,null,null,null,null,null,null,null,null,null,null,null,null,null,{"$f":"'I2'!D41","v":0},{"$f":"'I2'!N41","v":0.54611092878240886},{"$f":"'I2'!O41","v":0},{"$f":"'I2'!P41","v":0},{"$f":"'I2'!Q41","v":0},{"$f":"'I2'!R41","v":0.45388907121759114},{"$f":"'I2'!S41","v":0},null,null,null,null,null,null,null,null,null,null,null,null,null,null,null,null,null,null,null,null,null,null,null,{"$f":"I1a!C134","v":"Hauts de France - consommation d'électricité dans les services"},{"$f":"I1a!G134","v":824.28},{"$f":"I1a!H134","v":"ktep"}]
[null,null,null,null,{"$f":"D1a!D46","v":0},{"$f":"D1a!E46","v":0},{"$f":"D1a!F46","v":0},{"$f":"D1a!G46","v":0},{"$f":"D1a!H46","v":0},{"$f":"D1a!I46","v":0},{"$f":"D1a!J46","v":0},{"$f":"D1a!K46","v":0},{"$f":"D1a!L46","v":0},{"$f":"D1a!M46","v":0},{"$f":"D1a!N46","v":0},{"$f":"D1a!Q46","v":0},{"$f":"D1a!R46","v":0},{"$f":"D1a!S46","v":0},{"$f":"D1a!T46","v":0},null,null,null,null,null,null,null,null,null,null,null,null,null,null,null,null,null,null,null,null,null,null,null,null,null,null,null,null,null,null,null,null,null,null,null,null,null,null,null,null,null,null,null,null,null,null,null,null,null,null,null,null,null,null,null,null,null,null,null,null,null,null,null,null,{"$f":"I1a!C140","v":"Territoire - consommation d'électricité - services (hors traitement des déchets)"},{"$f":"I1a!G140","v":0},{"$f":"I1a!H140","v":"MWh"}]
[null,null,null,null,{"$f":"D1a!D47","v":0},{"$f":"D1a!E47","v":0},{"$f":"D1a!F47","v":0},{"$f":"D1a!G47","v":0},{"$f":"D1a!H47","v":0},{"$f":"D1a!I47","v":0},{"$f":"D1a!J47","v":0},{"$f":"D1a!K47","v":0},{"$f":"D1a!L47","v":0},{"$f":"D1a!M47","v":0},{"$f":"D1a!N47","v":0},{"$f":"D1a!Q47","v":0},{"$f":"D1a!R47","v":0},{"$f":"D1a!S47","v":0},{"$f":"D1a!T47","v":0}]
[null,null,null,null,{"$f":"D1a!D48","v":0},{"$f":"D1a!E48","v":0},{"$f":"D1a!F48","v":0},{"$f":"D1a!G48","v":0},{"$f":"D1a!H48","v":0},{"$f":"D1a!I48","v":0},{"$f":"D1a!J48","v":0},{"$f":"D1a!K48","v":0},{"$f":"D1a!L48","v":0},{"$f":"D1a!M48","v":0},{"$f":"D1a!N48","v":0},{"$f":"D1a!Q48","v":0},{"$f":"D1a!R48","v":0},{"$f":"D1a!S48","v":0},{"$f":"D1a!T48","v":0},null,null,null,null,null,null,null,null,null,null,null,null,null,null,null,null,null,null,null,null,null,null,null,null,null,null,null,null,null,null,null,null,null,null,null,null,null,null,null,null,null,null,null,null,null,null,null,null,null,null,null,null,null,null,null,null,null,null,null,null,null,null,null,null,{"$f":"I1a!C146","v":"Part des émissions de GES liée à l'énergie"},{"$f":"I1a!G146","v":0.25},{"$f":"I1a!H146","v":0}]
[null,null,null,null,{"$f":"D1a!D49","v":0},{"$f":"D1a!E49","v":0},{"$f":"D1a!F49","v":0},{"$f":"D1a!G49","v":0},{"$f":"D1a!H49","v":0},{"$f":"D1a!I49","v":0},{"$f":"D1a!J49","v":0},{"$f":"D1a!K49","v":0},{"$f":"D1a!L49","v":0},{"$f":"D1a!M49","v":0},{"$f":"D1a!N49","v":0},{"$f":"D1a!Q49","v":0},{"$f":"D1a!R49","v":0},{"$f":"D1a!S49","v":0},{"$f":"D1a!T49","v":0}]
[null,null,null,null,{"$f":"D1a!D50","v":0},{"$f":"D1a!E50","v":0},{"$f":"D1a!F50","v":0},{"$f":"D1a!G50","v":0},{"$f":"D1a!H50","v":0},{"$f":"D1a!I50","v":0},{"$f":"D1a!J50","v":0},{"$f":"D1a!K50","v":0},{"$f":"D1a!L50","v":0},{"$f":"D1a!M50","v":0},{"$f":"D1a!N50","v":0},{"$f":"D1a!Q50","v":0},{"$f":"D1a!R50","v":0},{"$f":"D1a!S50","v":0},{"$f":"D1a!T50","v":0},null,null,null,null,null,null,{"$f":"D2b!D62","v":0},{"$f":"D2b!H62","v":"Part de la production située sur le territoire (%)"},{"$f":"D2b!I62","v":"Part de la production consommée par le territoire (%)"},{"$f":"D2b!J61","v":0},{"$f":"D2b!S61","v":"Répartition des consommations sur le territoire par poste"},{"$f":"D2b!T61","v":0},{"$f":"D2b!U61","v":0},{"$f":"D2b!V61","v":0},{"$f":"D2b!W61","v":0},{"$f":"D2b!X61","v":0},null,null,null,null,null,null,null,null,null,null,null,null,null,null,null,null,null,null,{"$f":"'I2'!D62","v":0},{"$f":"'I2'!N62","v":"Répartition des consommations du territoire par poste - pour tous les réseaux connectés au territoire"},{"$f":"'I2'!O62","v":0},{"$f":"'I2'!P62","v":0},{"$f":"'I2'!Q62","v":0},{"$f":"'I2'!R62","v":0},{"$f":"'I2'!S62","v":0},null,null,null,null,null,null,null,null,null,null,null,null,null,null,null,null,null,null,null,null,null,null,null,{"$f":"I1a!C148","v":"Equivalence GES / consommation d'énergie (hors électricité)"},{"$f":"I1a!G148","v":0.2},{"$f":"I1a!H148","v":"t eq CO2 / MWh"}]
[null,null,null,null,{"$f":"D1a!D58","v":0},{"$f":"D1a!E58","v":0},{"$f":"D1a!F58","v":0},{"$f":"D1a!G58","v":0},{"$f":"D1a!H58","v":0},{"$f":"D1a!I58","v":0},{"$f":"D1a!J58","v":0},{"$f":"D1a!K58","v":0},{"$f":"D1a!L58","v":0},{"$f":"D1a!M58","v":0},{"$f":"D1a!N58","v":0},{"$f":"D1a!Q58","v":0},{"$f":"D1a!R58","v":0},{"$f":"D1a!S51","v":0},{"$f":"D1a!T51","v":0},null,null,null,null,null,null,{"$f":"D2b!D63","v":0},{"$f":"D2b!H63","v":0},{"$f":"D2b!I63","v":0},{"$f":"D2b!J62","v":"Production du réseau (MWh)"},{"$f":"D2b!S62","v":"Résidentiel"},{"$f":"D2b!T62","v":"Déplacements"},{"$f":"D2b!U62","v":"Biens de consommation"},{"$f":"D2b!V62","v":"Alimentation"},{"$f":"D2b!W62","v":"Services"},{"$f":"D2b!X62","v":"Travaux"},null,null,null,null,null,null,null,null,null,null,null,null,null,null,null,null,null,null,{"$f":"'I2'!D63","v":0},{"$f":"'I2'!N63","v":"Résidentiel"},{"$f":"'I2'!O63","v":"Déplacements"},{"$f":"'I2'!P63","v":"Biens de consommation"},{"$f":"'I2'!Q63","v":"Alimentation"},{"$f":"'I2'!R63","v":"Services"},{"$f":"'I2'!S63","v":"Travaux"}]
[null,null,null,null,{"$f":"D1a!D59","v":0},{"$f":"D1a!E59","v":0},{"$f":"D1a!F59","v":0},{"$f":"D1a!G59","v":0},{"$f":"D1a!H59","v":0},{"$f":"D1a!I59","v":0},{"$f":"D1a!J59","v":0},{"$f":"D1a!K59","v":0},{"$f":"D1a!L59","v":0},{"$f":"D1a!M59","v":0},{"$f":"D1a!N59","v":0},{"$f":"D1a!Q59","v":0},{"$f":"D1a!R59","v":0},{"$f":"D1a!S52","v":0},{"$f":"D1a!T52","v":0},null,null,null,null,null,null,{"$f":"D2b!D64","v":0},{"$f":"D2b!H64","v":0},{"$f":"D2b!I64","v":0},{"$f":"D2b!J63","v":0},{"$f":"D2b!S63","v":0},{"$f":"D2b!T63","v":0},{"$f":"D2b!U63","v":3.0000000000000027E-2},{"$f":"D2b!V63","v":0},{"$f":"D2b!W63","v":0.97},{"$f":"D2b!X63","v":0},null,null,null,null,null,null,null,null,null,null,null,null,null,null,null,null,null,null,{"$f":"'I2'!D64","v":0},{"$f":"'I2'!N64","v":0},{"$f":"'I2'!O64","v":0},{"$f":"'I2'!P64","v":3.0000000000000027E-2},{"$f":"'I2'!Q64","v":0},{"$f":"'I2'!R64","v":0.97},{"$f":"'I2'!S64","v":0},null,null,null,null,null,null,null,null,null,null,null,null,null,null,null,null,null,null,null,null,null,null,null,{"$f":"I1a!C150","v":"Part de l'électricité dans l'énergie totale consommée"},{"$f":"I1a!G150","v":0.02},{"$f":"I1a!H150","v":0}]
[null,null,null,null,{"$f":"D1a!D60","v":0},{"$f":"D1a!E60","v":0},{"$f":"D1a!F60","v":0},{"$f":"D1a!G60","v":0},{"$f":"D1a!H60","v":0},{"$f":"D1a!I60","v":0},{"$f":"D1a!J60","v":0},{"$f":"D1a!K60","v":0},{"$f":"D1a!L60","v":0},{"$f":"D1a!M60","v":0},{"$f":"D1a!N60","v":0},{"$f":"D1a!Q60","v":0},{"$f":"D1a!R60","v":0},{"$f":"D1a!S53","v":0},{"$f":"D1a!T53","v":0},null,null,null,null,null,null,{"$f":"D2b!D65","v":0},{"$f":"D2b!H65","v":0},{"$f":"D2b!I65","v":0},{"$f":"D2b!J64","v":0},{"$f":"D2b!S64","v":0},{"$f":"D2b!T64","v":0},{"$f":"D2b!U64","v":3.0000000000000027E-2},{"$f":"D2b!V64","v":0},{"$f":"D2b!W64","v":0.97},{"$f":"D2b!X64","v":0},null,null,null,null,null,null,null,null,null,null,null,null,null,null,null,null,null,null,{"$f":"'I2'!D65","v":0},{"$f":"'I2'!N65","v":0},{"$f":"'I2'!O65","v":0},{"$f":"'I2'!P65","v":3.0000000000000027E-2},{"$f":"'I2'!Q65","v":0},{"$f":"'I2'!R65","v":0.97},{"$f":"'I2'!S65","v":0}]
[null,null,null,null,{"$f":"D1a!D64","v":0},{"$f":"D1a!E64","v":0},{"$f":"D1a!F64","v":0},{"$f":"D1a!G64","v":0},{"$f":"D1a!H64","v":0},{"$f":"D1a!I64","v":0},{"$f":"D1a!J64","v":0},{"$f":"D1a!K64","v":0},{"$f":"D1a!L64","v":0},{"$f":"D1a!M64","v":0},{"$f":"D1a!N64","v":0},{"$f":"D1a!Q64","v":0},{"$f":"D1a!R64","v":0},{"$f":"D1a!S54","v":0},{"$f":"D1a!T54","v":0},null,null,null,null,null,null,{"$f":"D2b!D66","v":0},{"$f":"D2b!H66","v":0},{"$f":"D2b!I66","v":0},{"$f":"D2b!J65","v":0},{"$f":"D2b!S65","v":0},{"$f":"D2b!T65","v":0},{"$f":"D2b!U65","v":3.0000000000000027E-2},{"$f":"D2b!V65","v":0},{"$f":"D2b!W65","v":0.97},{"$f":"D2b!X65","v":0},null,null,null,null,null,null,null,null,null,null,null,null,null,null,null,null,null,null,{"$f":"'I2'!D66","v":0},{"$f":"'I2'!N66","v":0},{"$f":"'I2'!O66","v":0},{"$f":"'I2'!P66","v":3.0000000000000027E-2},{"$f":"'I2'!Q66","v":0},{"$f":"'I2'!R66","v":0.97},{"$f":"'I2'!S66","v":0}]
[null,null,null,null,{"$f":"D1a!D65","v":0},{"$f":"D1a!E65","v":0},{"$f":"D1a!F65","v":0},{"$f":"D1a!G65","v":0},{"$f":"D1a!H65","v":0},{"$f":"D1a!I65","v":0},{"$f":"D1a!J65","v":0},{"$f":"D1a!K65","v":0},{"$f":"D1a!L65","v":0},{"$f":"D1a!M65","v":0},{"$f":"D1a!N65","v":0},{"$f":"D1a!Q65","v":0},{"$f":"D1a!R65","v":0},{"$f":"D1a!S55","v":0},{"$f":"D1a!T55","v":0},null,null,null,null,null,null,null,null,null,null,null,null,null,null,null,null,null,null,null,null,null,null,null,null,null,null,null,null,null,null,null,null,null,null,{"$f":"'I2'!D67","v":0},{"$f":"'I2'!N67","v":0},{"$f":"'I2'!O67","v":0},{"$f":"'I2'!P67","v":3.0000000000000027E-2},{"$f":"'I2'!Q67","v":0},{"$f":"'I2'!R67","v":0.97},{"$f":"'I2'!S67","v":0},null,null,null,null,null,null,null,null,null,null,null,null,null,null,null,null,null,null,null,null,null,null,null,{"$f":"I1a!C153","v":"Territoire - consommation d'électricité - traitement des déchets"},{"$f":"I1a!G153","v":0},{"$f":"I1a!H153","v":"MWh"}]
[null,null,null,null,{"$f":"D1a!D67","v":0},{"$f":"D1a!E67","v":0},{"$f":"D1a!F67","v":0},{"$f":"D1a!G67","v":0},{"$f":"D1a!H67","v":0},{"$f":"D1a!I67","v":0},{"$f":"D1a!J67","v":0},{"$f":"D1a!K67","v":0},{"$f":"D1a!L67","v":0},{"$f":"D1a!M67","v":0},{"$f":"D1a!N67","v":0},{"$f":"D1a!Q67","v":0},{"$f":"D1a!R67","v":0},{"$f":"D1a!S56","v":0},{"$f":"D1a!T56","v":0},null,null,null,null,null,null,null,null,null,null,null,null,null,null,null,null,null,null,null,null,null,null,null,null,null,null,null,null,null,null,null,null,null,null,{"$f":"'I2'!D74","v":0},{"$f":"'I2'!N74","v":0},{"$f":"'I2'!O74","v":0},{"$f":"'I2'!P74","v":0},{"$f":"'I2'!Q74","v":0},{"$f":"'I2'!R74","v":0},{"$f":"'I2'!S74","v":0},null,null,null,null,null,null,null,null,null,null,null,null,null,null,null,null,null,null,null,null,null,null,null,null,null,null,null,{"$f":"I1a!G170","v":"Industrie des minéraux non-métalliques et matériaux de construction"}]
[null,null,null,null,null,null,null,null,null,null,null,null,null,null,null,null,null,null,null,null,null,null,null,null,null,null,null,null,null,null,null,null,null,null,null,null,null,null,null,null,null,null,null,null,null,null,null,null,null,null,null,null,null,{"$f":"'I2'!D75","v":0},{"$f":"'I2'!N75","v":0},{"$f":"'I2'!O75","v":0},{"$f":"'I2'!P75","v":0},{"$f":"'I2'!Q75","v":0},{"$f":"'I2'!R75","v":0},{"$f":"'I2'!S75","v":0},null,null,null,null,null,null,null,null,null,null,null,null,null,null,null,null,null,null,null,null,null,null,null,{"$f":"I1a!C172","v":"Part des émissions directes de GES liée à l'énergie"},null,null,{"$f":"I1a!F172","v":"%"},{"$f":"I1a!G172","v":1.4999999999999999E-2}]
[null,null,null,null,null,null,null,null,null,null,null,null,null,null,null,null,null,null,null,null,null,null,null,null,null,null,null,null,null,null,null,null,null,null,null,null,null,null,null,null,null,null,null,null,null,null,null,null,null,null,null,null,null,null,null,null,null,null,null,null,null,null,null,null,null,null,null,null,null,null,null,null,null,null,null,null,null,null,null,null,null,null,null,{"$f":"I1a!C174","v":"Equivalence GES / consommation d'énergie (hors électricité)"},null,null,{"$f":"I1a!F174","v":"t eq CO2 / MWh"},{"$f":"I1a!G174","v":0.27100000000000002}]
[null,null,null,null,null,null,null,null,null,null,null,null,null,null,null,null,null,null,null,null,null,null,null,null,null,null,null,null,null,null,null,null,null,null,null,null,null,null,null,null,null,null,null,null,null,null,null,null,null,null,null,null,null,null,null,null,null,null,null,null,null,null,null,null,null,null,null,null,null,null,null,null,null,null,null,null,null,null,null,null,null,null,null,{"$f":"I1a!C176","v":"Part de l'électricité dans l'énergie totale consommée"},null,null,{"$f":"I1a!F176","v":"%"},{"$f":"I1a!G176","v":0.16}]
[]
[null,null,null,null,null,null,null,null,null,null,null,null,null,null,null,null,null,null,null,null,null,null,null,null,null,null,null,null,null,null,null,null,null,null,null,null,null,null,null,null,null,null,null,null,null,null,null,null,null,null,null,null,null,null,null,null,null,null,null,null,null,null,null,null,null,null,null,null,null,null,null,null,null,null,null,null,null,null,null,null,null,null,null,{"$f":"I1a!C181","v":"Territoire - Consommation d'électricité - Travaux"},null,null,{"$f":"I1a!F181","v":0},{"$f":"I1a!G181","v":"MWh"}]

{"sheet":"GestionErreurs","index":2,"n_rows":113,"n_cols":23,"rows_kept":113,"cut":false,"hidden":false,"merged":[[1,1,1,18]]}
[]
[null,"ESPASS - Gestion des erreurs qui peuvent intervenir dans les macro.",null,null,null,null,null,null,null,null,null,null,null,null,null,null,null,null,null,null,null,"SCOT","Vider les champs"]
[]
[null,"1)","Activer le contenu de la macro."]
[]
[]
[]
[]
[]
[]
[]
[]
[]
[]
[]
[null,null,"Si cela ne résout pas le problème, essayer la résolution 2 ci-dessous."]
[]
[]
[]
[null,"2)","Vérifier que les références des bibliothèques nécessaires à la macro soient correctement activées."]
[null,null,"2.1)","Pour cela vérifier que le menu \"Developer\" soit visible."]
[null,null,null,"Si ce n'est pas le cas, cocher le menu \"Developer\" dans le menu Fichier -> Options -> Personaliser le ruban."]
[]
[]
[]
[]
[]
[]
[]
[]
[]
[]
[]
[]
[]
[]
[]
[]
[]
[]
[]
[]
[]
[]
[]
[]
[]
[]
[]
[]
[]
[]
[]
[]
[]
[]
[]
[null,null,"2.2)","Une fois visible, aller dans l'onglet Developer -> Visual Basic"]
[]
[]
[]
[]
[]
[]
[]
[]
[null,null,"2.3)","Dans la fenêtre Visual Basic, choisir le menu Outils et Références et dans la fenetre des références, cocher toutes les références requises suivantes:"]
[]
[]
[]
[]
[]
[]
[]
[]
[]
[]
[]
[]
[]
[]
[]
[]
[]
[]
[]
[null,null,"2.4)","Si certaines références sont notées \"Manquantes\" ou \"Missing\", les désactiver et choisir des versions antérieures disponibles plus bas dans la liste."]
[]
[]
[]
[]
[]
[]
[]
[]
[]
[]
[]
[]
[]
[]
[]
[]
[]
[]
[]
[]
[null,null,"2.5)","Si cela ne résout pas le problème, essayer la résolution 3 ci-dessous."]
[]
[]
[]
[null,"3)","Réessayer l'export Word en choisissant l'option \"DOC\" plutôt que \"DOCX\"."]
[null,null,"Pour cela, la version \".doc\" du template Word doit être présente dans votre dossier de travail."]

{"sheet":"D1a","index":3,"n_rows":221,"n_cols":20,"rows_kept":221,"cut":false,"hidden":false,"merged":[[171,2,171,3],[168,2,168,3],[130,4,130,10],[133,2,135,2],[136,2,138,2],[139,2,150,2],[151,2,152,2],[167,2,167,3],[169,2,169,3],[5,4,5,5],[6,4,6,5],[130,11,130,16],[153,2,159,2],[160,2,166,2],[70,4,70,10],[70,11,70,16],[125,2,125,3],[8,4,8,11],[65,2,65,3]]}
[]
[null,"MyEmiss'Air"]
[]
[null,"Emissions directes du territoire "]
[]
[null,"Source:","http://myemissair.atmo-npdc2.fr",null,"Année de la méthodologie: ",null,2017]
[null,null,null,null,"Année des données: ",null,2015]
[]
[null,null,null,null,"Note : si vous devez réaliser plusieurs extractions de \"myemiss'air\" pour obtenir les onnées d'émissions à votre échelle géographique, faites une sous-total par poste secten (exemple : additionnez toutes les lignes \"TROUTE\" entre elles). Les données que vous saisissez ne doivent pas comporter plus de 52 lignes."]
[]
[null,"Emissions directes territoriales par GES/polluants et par secteur"]
[]
[null,null,null,"SECTEN 2 M2012","CH4 kg/an","CO2 bio kg/an","CO2 kg/an","CO2 Scope2 kg/an","COVNM kg/an","GES en tonnes eqCO2/an","GES en tonnes eqCO2/an GIEC2007","HFC kg/an","N2O kg/an","NH3 kg/an","NOx kg/an","PFC kg/an","PM10 kg/an","PM2.5 kg/an","SF6 kg/an","SO2 kg/an"]
[]
[]
[]
[]
[]
[]
[]
[]
[]
[]
[]
[]
[]
[]
[]
[]
[]
[]
[]
[]
[]
[]
[]
[]
[]
[]
[]
[]
[]
[]
[]
[]
[]
[]
[]
[]
[]
[]
[]
[]
[]
[]
[]
[]
[]
[]
[]
[]
[]
[]
[]
[]
[null,null,"Total",null,{"$f":"SUM(E14:E65)","v":0},{"$f":"SUM(F14:F65)","v":0},0,0,0,0,0,0,0,0,0,0,0,0,0,0]
[]
[]
[]
[null,"Nettoyage des données - Emissions directes territoriales par GES/polluants et par secteur (ne pas modifier)"]
[null,null,null,null,"Gaz à effet de serre",null,null,null,null,null,null,"Polluants atmosphériques"]
[null,null,null,null,"CO2","CH4","N2O","HFC","PFC","SF6","GES en tonnes eqCO2/an","PM10","NOx","COVNM","PM2.5","SO2","NH3"]
[null,null,null,"Secteurs atmo méthode 2012","kg","kg","kg","kg","kg","kg","kt eq CO2","kg","kg","kg","kg","kg","kg"]
[null,null,null,{"$f":"D14","v":0},{"$f":"IFERROR(VALUE(SUBSTITUTE(G14,\".\",\",\")),0)","v":0},{"$f":"IFERROR(VALUE(SUBSTITUTE(E14,\".\",\",\")),0)","v":0},{"$f":"IFERROR(VALUE(SUBSTITUTE(M14,\".\",\",\")),0)","v":0},{"$f":"IFERROR(VALUE(SUBSTITUTE(L14,\".\",\",\")),0)","v":0},{"$f":"IFERROR(VALUE(SUBSTITUTE(P14,\".\",\",\")),0)","v":0},{"$f":"IFERROR(VALUE(SUBSTITUTE(S14,\".\",\",\")),0)","v":0},{"$f":"(IFERROR(VALUE(SUBSTITUTE(J14,\".\",\",\")),0)-IFERROR(VALUE(SUBSTITUTE(H14,\".\",\",\")),0)/1000)/1000","v":0},{"$f":"IFERROR(VALUE(SUBSTITUTE(Q14,\".\",\",\")),0)","v":0},{"$f":"IFERROR(VALUE(SUBSTITUTE(O14,\".\",\",\")),0)","v":0},{"$f":"IFERROR(VALUE(SUBSTITUTE(I14,\".\",\",\")),0)","v":0},{"$f":"IFERROR(VALUE(SUBSTITUTE(R14,\".\",\",\")),0)","v":0},{"$f":"IFERROR(VALUE(SUBSTITUTE(T14,\".\",\",\")),0)","v":0},{"$f":"IFERROR(VALUE(SUBSTITUTE(N14,\".\",\",\")),0)","v":0}]
[null,null,null,{"$f":"D15","v":0},0,0,0,0,0,0,{"$f":"(IFERROR(VALUE(SUBSTITUTE(J15,\".\",\",\")),0)-IFERROR(VALUE(SUBSTITUTE(H15,\".\",\",\")),0)/1000)/1000","v":0},0,0,0,0,0,0]
[null,null,null,0,0,0,0,0,0,0,0,0,0,0,0,0,0]
[null,null,null,0,0,0,0,0,0,0,0,0,0,0,0,0,0]
[null,null,null,0,0,0,0,0,0,0,0,0,0,0,0,0,0]
[null,null,null,0,0,0,0,0,0,0,0,0,0,0,0,0,0]
[null,null,null,0,0,0,0,0,0,0,0,0,0,0,0,0,0]
[null,null,null,0,0,0,0,0,0,0,0,0,0,0,0,0,0]
[null,null,null,0,0,0,0,0,0,0,0,0,0,0,0,0,0]
[null,null,null,0,0,0,0,0,0,0,0,0,0,0,0,0,0]
[null,null,null,0,0,0,0,0,0,0,0,0,0,0,0,0,0]
[null,null,null,0,0,0,0,0,0,0,0,0,0,0,0,0,0]
[null,null,null,0,0,0,0,0,0,0,0,0,0,0,0,0,0]
[null,null,null,0,0,0,0,0,0,0,0,0,0,0,0,0,0]
[null,null,null,0,0,0,0,0,0,0,0,0,0,0,0,0,0]
[null,null,null,0,0,0,0,0,0,0,0,0,0,0,0,0,0]
[null,null,null,0,0,{"$f":"IFERROR(VALUE(SUBSTITUTE(E30,\".\",\",\")),0)","v":0},0,0,0,0,0,0,0,0,0,0,0]
[null,null,null,0,0,0,0,0,0,0,0,0,0,0,0,0,0]
[null,null,null,0,0,0,0,0,0,0,0,0,0,0,0,0,0]
[null,null,null,0,0,0,0,0,0,0,0,0,0,0,0,0,0]
[null,null,null,0,0,0,0,0,0,0,0,0,0,0,0,0,0]
[null,null,null,0,0,0,0,0,0,0,0,0,0,0,0,0,0]
[null,null,null,0,0,0,0,0,0,0,0,0,0,0,0,0,0]
[null,null,null,0,0,0,0,0,0,0,0,0,0,0,0,0,0]
[null,null,null,0,0,0,0,0,0,0,0,0,0,0,0,0,0]
[null,null,null,0,0,0,0,0,0,0,0,0,0,0,0,0,0]
[null,null,null,0,0,0,0,0,0,0,0,0,0,0,0,0,0]
[null,null,null,0,0,0,0,0,0,0,0,0,0,0,0,0,0]
[null,null,null,0,{"$f":"IFERROR(VALUE(SUBSTITUTE(G42,\".\",\",\")),0)","v":0},0,0,0,0,0,0,0,0,0,0,0,0]
[null,null,null,0,0,0,0,0,0,0,0,0,0,0,0,0,0]
[null,null,null,0,0,0,0,0,0,0,0,0,0,0,0,0,0]
[null,null,null,0,0,0,0,0,0,0,0,0,0,0,0,0,0]
[null,null,null,0,{"$f":"IFERROR(VALUE(SUBSTITUTE(G46,\".\",\",\")),0)","v":0},0,0,0,0,0,0,0,0,0,0,0,0]
[null,null,null,0,{"$f":"IFERROR(VALUE(SUBSTITUTE(G47,\".\",\",\")),0)","v":0},0,0,0,0,0,0,0,0,0,0,0,0]
[null,null,null,0,{"$f":"IFERROR(VALUE(SUBSTITUTE(G48,\".\",\",\")),0)","v":0},0,0,0,0,0,0,0,0,0,0,0,0]
[null,null,null,0,{"$f":"IFERROR(VALUE(SUBSTITUTE(G49,\".\",\",\")),0)","v":0},0,0,0,0,0,0,0,0,0,0,0,0]
[null,null,null,0,{"$f":"IFERROR(VALUE(SUBSTITUTE(G50,\".\",\",\")),0)","v":0},{"$f":"IFERROR(VALUE(SUBSTITUTE(E50,\".\",\",\")),0)","v":0},{"$f":"IFERROR(VALUE(SUBSTITUTE(M50,\".\",\",\")),0)","v":0},{"$f":"IFERROR(VALUE(SUBSTITUTE(L50,\".\",\",\")),0)","v":0},{"$f":"IFERROR(VALUE(SUBSTITUTE(P50,\".\",\",\")),0)","v":0},{"$f":"IFERROR(VALUE(SUBSTITUTE(S50,\".\",\",\")),0)","v":0},0,{"$f":"IFERROR(VALUE(SUBSTITUTE(Q50,\".\",\",\")),0)","v":0},{"$f":"IFERROR(VALUE(SUBSTITUTE(O50,\".\",\",\")),0)","v":0},{"$f":"IFERROR(VALUE(SUBSTITUTE(I50,\".\",\",\")),0)","v":0},{"$f":"IFERROR(VALUE(SUBSTITUTE(R50,\".\",\",\")),0)","v":0},{"$f":"IFERROR(VALUE(SUBSTITUTE(T50,\".\",\",\")),0)","v":0},{"$f":"IFERROR(VALUE(SUBSTITUTE(N50,\".\",\",\")),0)","v":0}]
[null,null,null,0,0,0,0,0,0,0,0,0,0,0,0,0,0]
[null,null,null,0,0,0,0,0,0,0,0,0,0,0,0,0,0]
[null,null,null,0,0,0,0,0,0,0,0,0,0,0,0,0,0]
[null,null,null,0,0,0,0,0,0,0,0,0,0,0,0,0,0]
[null,null,null,0,0,0,0,0,0,0,0,0,0,0,0,0,0]
[null,null,null,0,0,0,0,0,0,0,0,0,0,0,0,0,0]
[null,null,null,0,0,0,0,0,0,0,0,0,0,0,0,0,0]
[null,null,null,0,0,0,0,0,0,0,0,0,0,0,0,0,0]
[null,null,null,0,{"$f":"IFERROR(VALUE(SUBSTITUTE(G59,\".\",\",\")),0)","v":0},{"$f":"IFERROR(VALUE(SUBSTITUTE(E59,\".\",\",\")),0)","v":0},{"$f":"IFERROR(VALUE(SUBSTITUTE(M59,\".\",\",\")),0)","v":0},{"$f":"IFERROR(VALUE(SUBSTITUTE(L59,\".\",\",\")),0)","v":0},{"$f":"IFERROR(VALUE(SUBSTITUTE(P59,\".\",\",\")),0)","v":0},{"$f":"IFERROR(VALUE(SUBSTITUTE(S59,\".\",\",\")),0)","v":0},0,{"$f":"IFERROR(VALUE(SUBSTITUTE(Q59,\".\",\",\")),0)","v":0},{"$f":"IFERROR(VALUE(SUBSTITUTE(O59,\".\",\",\")),0)","v":0},{"$f":"IFERROR(VALUE(SUBSTITUTE(I59,\".\",\",\")),0)","v":0},{"$f":"IFERROR(VALUE(SUBSTITUTE(R59,\".\",\",\")),0)","v":0},{"$f":"IFERROR(VALUE(SUBSTITUTE(T59,\".\",\",\")),0)","v":0},{"$f":"IFERROR(VALUE(SUBSTITUTE(N59,\".\",\",\")),0)","v":0}]
[null,null,null,0,0,0,0,0,0,0,0,0,0,0,0,0,0]
[null,null,null,0,0,0,0,0,0,0,0,0,0,0,0,0,0]
[null,null,null,0,0,0,0,0,0,0,0,0,0,0,0,0,0]
[null,null,null,0,0,0,0,0,0,0,0,0,0,0,0,0,0]
[null,null,null,0,0,0,0,0,0,0,0,0,0,0,0,0,0]
[null,null,null,0,0,0,0,0,0,0,0,0,0,0,0,0,0]
[null,null,"Total",null,{"$f":"SUM(E74:E125)","v":0},{"$f":"SUM(F74:F125)","v":0},0,0,0,0,0,0,0,0,0,0,0]
[]
[]
[]
[null,"Récapitulatif - Table de correspondance SECTEN - Emissions directes territoriales par GES/polluants et par secteur (ne pas modifier)"]
[null,null,null,null,"Gaz à effet de serre",null,null,null,null,null,null,"Polluants atmosphériques"]
[null,null,null,null,"CO2","CH4","N2O","HFC","PFC","SF6","Effet de serre (GIEC 2013-AR5)","PM10","NOx","COVNM","PM2.5","SO2","NH3"]
[null,null,null,"Nomenclature ESPASS (base atmo méthode 2010)","kg","kg","kg","kg","kg","kg","kt eq CO2","kg","kg","kg","kg","kg","kg","Notes version ATMO"]
[null,null,"Agriculture","Autres sources de l'agriculture (tracteurs, …) + sylviculture",{"$f":"IFERROR(VLOOKUP($D$220,$D$74:$Q$125,E171,FALSE),0)+IFERROR(VLOOKUP($D$175,$D$74:$Q$125,E171,FALSE),0)","v":0},{"$f":"IFERROR(VLOOKUP($D$220,$D$74:$Q$125,F171,FALSE),0)+IFERROR(VLOOKUP($D$175,$D$74:$Q$125,F171,FALSE),0)","v":0},0,0,0,0,{"$f":"IFERROR(VLOOKUP($D$220,$D$74:$Q$125,K171,FALSE),0)+IFERROR(VLOOKUP($D$175,$D$74:$Q$125,K171,FALSE),0)","v":0},0,0,0,0,0,0]
[null,null,null,"Culture",{"$f":"IFERROR(VLOOKUP($D$176,$D$74:$Q$125,E171,FALSE),0)","v":0},{"$f":"IFERROR(VLOOKUP($D$176,$D$74:$Q$125,F171,FALSE),0)","v":0},0,0,0,0,0,0,0,0,0,0,0]
[null,null,null,"Elevage",{"$f":"IFERROR(VLOOKUP($D178,$D$74:$Q$125,E171,FALSE),0)","v":0},{"$f":"IFERROR(VLOOKUP($D178,$D$74:$Q$125,F171,FALSE),0)","v":0},0,0,0,0,0,0,0,0,0,0,0]
[null,null,"Autres transports","Transport aérien français",{"$f":"IFERROR(VLOOKUP($D221,$D$74:$Q$125,E171,FALSE),0)+IFERROR(VLOOKUP($D179,$D$74:$Q$125,E171,FALSE),0)","v":0},{"$f":"IFERROR(VLOOKUP($D221,$D$74:$Q$125,F171,FALSE),0)+IFERROR(VLOOKUP($D179,$D$74:$Q$125,F171,FALSE),0)","v":0},0,0,0,0,0,0,0,0,0,0,0]
[null,null,null,"Transport ferroviaire",{"$f":"IFERROR(VLOOKUP($D180,$D$74:$Q$125,E171,FALSE),0)","v":0},{"$f":"IFERROR(VLOOKUP($D180,$D$74:$Q$125,F171,FALSE),0)","v":0},0,0,0,0,0,0,0,0,0,0,0]
[null,null,null,"Transport fluvial et maritime",{"$f":"IFERROR(VLOOKUP($D181,$D$74:$Q$125,E171,FALSE),0)+IFERROR(VLOOKUP($D182,$D$74:$Q$125,E171,FALSE),0)","v":0},{"$f":"IFERROR(VLOOKUP($D181,$D$74:$Q$125,F171,FALSE),0)+IFERROR(VLOOKUP($D182,$D$74:$Q$125,F171,FALSE),0)","v":0},0,0,0,0,0,0,0,0,0,0,0]
[null,null,"IDEC","Agro-alimentaire",{"$f":"IFERROR(VLOOKUP($D183,$D$74:$Q$125,E171,FALSE),0)","v":0},{"$f":"IFERROR(VLOOKUP($D183,$D$74:$Q$125,F171,FALSE),0)","v":0},0,0,0,0,0,0,0,0,0,0,0]
[null,null,null,"Autres secteurs de l'industrie et non spécifié",{"$f":"IFERROR(VLOOKUP($D184,$D$74:$Q$125,E171,FALSE),0)","v":0},{"$f":"IFERROR(VLOOKUP($D184,$D$74:$Q$125,F171,FALSE),0)","v":0},0,0,0,0,0,0,0,0,0,0,0]
[null,null,null,"Biens d'équipement, matériels de transport…",{"$f":"IFERROR(VLOOKUP($D185,$D$74:$Q$125,E171,FALSE),0)","v":0},{"$f":"IFERROR(VLOOKUP($D185,$D$74:$Q$125,F171,FALSE),0)","v":0},0,0,0,0,0,0,0,0,0,0,0]
[null,null,null,"Chimie organique, non-organique et divers",{"$f":"IFERROR(VLOOKUP($D186,$D$74:$Q$125,E171,FALSE),0)","v":0},{"$f":"IFERROR(VLOOKUP($D186,$D$74:$Q$125,F171,FALSE),0)","v":0},0,0,0,0,0,0,0,0,0,0,0]
[null,null,null,"Construction",{"$f":"IFERROR(VLOOKUP($D187,$D$74:$Q$125,E171,FALSE),0)","v":0},{"$f":"IFERROR(VLOOKUP($D187,$D$74:$Q$125,F171,FALSE),0)","v":0},0,0,0,0,0,0,0,0,0,0,0]
[null,null,null,"Métallurgie des métaux ferreux",{"$f":"IFERROR(VLOOKUP($D188,$D$74:$Q$125,E171,FALSE),0)","v":0},{"$f":"IFERROR(VLOOKUP($D188,$D$74:$Q$125,F171,FALSE),0)","v":0},{"$f":"IFERROR(VLOOKUP($D188,$D$74:$Q$125,G171,FALSE),0)","v":0},0,0,0,0,0,0,0,0,0,0]
[null,null,null,"Métallurgie des métaux non-ferreux",{"$f":"IFERROR(VLOOKUP($D189,$D$74:$Q$125,E171,FALSE),0)","v":0},{"$f":"IFERROR(VLOOKUP($D189,$D$74:$Q$125,F171,FALSE),0)","v":0},0,0,0,0,0,0,0,0,0,0,0]
[null,null,null,"Minéraux non-métalliques et matériaux de construction",{"$f":"IFERROR(VLOOKUP($D190,$D$74:$Q$125,E171,FALSE),0)","v":0},{"$f":"IFERROR(VLOOKUP($D190,$D$74:$Q$125,F171,FALSE),0)","v":0},0,0,0,0,0,0,0,0,0,0,0]
[null,null,null,"Papier, carton",{"$f":"IFERROR(VLOOKUP($D191,$D$74:$Q$125,E171,FALSE),0)","v":0},{"$f":"IFERROR(VLOOKUP($D191,$D$74:$Q$125,F171,FALSE),0)","v":0},0,0,0,0,0,0,0,0,0,0,0]
[null,null,null,"Tous secteurs IM",0,0,0,0,0,0,0,0,0,0,0,0,0,"supprimé (M2010>M2012)"]
[null,null,null,"Traitement des déchets",{"$f":"IFERROR(VLOOKUP($D193,$D$74:$Q$125,E171,FALSE),0)+IFERROR(VLOOKUP($D194,$D$74:$Q$125,E171,FALSE),0)","v":0},{"$f":"IFERROR(VLOOKUP($D193,$D$74:$Q$125,F171,FALSE),0)+IFERROR(VLOOKUP($D194,$D$74:$Q$125,F171,FALSE),0)","v":0},0,0,0,0,0,0,0,0,0,0,0]
[null,null,null,"Traitement déchets industrie",0,0,0,0,0,0,0,0,0,0,0,0,0,"ventilé (M2010>M2012)"]
[null,null,"Résidentiel tertiaire","Résidentiel",{"$f":"IFERROR(VLOOKUP($D196,$D$74:$Q$125,E171,FALSE),0)","v":0},{"$f":"IFERROR(VLOOKUP($D196,$D$74:$Q$125,F171,FALSE),0)","v":0},{"$f":"IFERROR(VLOOKUP($D196,$D$74:$Q$125,G171,FALSE),0)","v":0},0,0,0,0,0,0,0,0,0,0]
[null,null,null,"Tertiaire, commercial et institutionnel",{"$f":"IFERROR(VLOOKUP($D197,$D$74:$Q$125,E171,FALSE),0)","v":0},{"$f":"IFERROR(VLOOKUP($D197,$D$74:$Q$125,F171,FALSE),0)","v":0},0,0,0,0,0,0,0,0,0,0,0]
[null,null,"Transformation de l'énergie","Chauffage urbain",{"$f":"IFERROR(VLOOKUP($D198,$D$74:$Q$125,E171,FALSE),0)","v":0},{"$f":"IFERROR(VLOOKUP($D198,$D$74:$Q$125,F171,FALSE),0)","v":0},0,0,0,0,0,0,0,0,0,0,0]
[null,null,null,"Extraction des combustibles gazeux et distribution d'énergie",{"$f":"IFERROR(VLOOKUP($D199,$D$74:$Q$125,E171,FALSE),0)","v":0},{"$f":"IFERROR(VLOOKUP($D199,$D$74:$Q$125,F171,FALSE),0)","v":0},0,0,0,0,0,0,0,0,0,0,0]
[null,null,null,"Extraction des combustibles liquides et distribution d'énergie",{"$f":"IFERROR(VLOOKUP($D200,$D$74:$Q$125,E171,FALSE),0)","v":0},{"$f":"IFERROR(VLOOKUP($D200,$D$74:$Q$125,F171,FALSE),0)","v":0},0,0,0,0,0,0,0,0,0,0,0]
[null,null,null,"Extraction des combustibles solides et distribution d'énergie",{"$f":"IFERROR(VLOOKUP($D204,$D$74:$Q$125,E171,FALSE),0)","v":0},{"$f":"IFERROR(VLOOKUP($D204,$D$74:$Q$125,F171,FALSE),0)","v":0},0,0,0,0,0,0,0,0,0,0,0]
[null,null,null,"Production d'électricité",{"$f":"IFERROR(VLOOKUP($D201,$D$74:$Q$125,E171,FALSE),0)","v":0},{"$f":"IFERROR(VLOOKUP($D201,$D$74:$Q$125,F171,FALSE),0)","v":0},0,0,0,0,0,0,0,0,0,0,0]
[null,null,null,"Raffinage de pétrole",{"$f":"IFERROR(VLOOKUP($D202,$D$74:$Q$125,E171,FALSE),0)+IFERROR(VLOOKUP($D203,$D$74:$Q$125,E171,FALSE),0)","v":0},{"$f":"IFERROR(VLOOKUP($D202,$D$74:$Q$125,F171,FALSE),0)+IFERROR(VLOOKUP($D203,$D$74:$Q$125,F171,FALSE),0)","v":0},0,0,0,0,0,0,0,0,0,0,0]
[null,null,null,"Transformation des combustibles minéraux solides – siderurgies",{"$f":"IFERROR(VLOOKUP($D$192,$D$74:$Q$125,E171,FALSE),0)","v":0},0,0,0,0,0,0,0,0,0,0,0,0]
[null,null,"Transport routier","Deux roues",{"$f":"IFERROR(VLOOKUP($D205,$D$74:$Q$125,E171,FALSE),0)","v":0},{"$f":"IFERROR(VLOOKUP($D205,$D$74:$Q$125,F171,FALSE),0)","v":0},0,0,0,0,0,0,0,0,0,0,0]
[null,null,null,"evap essence",0,0,0,0,0,0,0,0,0,0,0,0,0,"ventilé (M2010>M2012)"]
[null,null,null,"Poids lourds",{"$f":"IFERROR(VLOOKUP($D207,$D$74:$Q$125,E171,FALSE),0)+IFERROR(VLOOKUP($D208,$D$74:$Q$125,E171,FALSE),0)+IFERROR(VLOOKUP($D$206,$D$74:$Q$125,E171,FALSE),0)","v":0},0,0,0,0,0,0,0,0,0,0,0,0]
[null,null,null,"trafic diffus",0,0,0,0,0,0,0,0,0,0,0,0,0,"ventilé (M2010>M2012)"]
[null,null,null,"usure routes",0,0,0,0,0,0,0,0,0,0,0,0,0,"ventilé (M2010>M2012)"]
[null,null,null,"Voitures particulières",{"$f":"IFERROR(VLOOKUP($D211,$D$74:$Q$125,E171,FALSE),0)+IFERROR(VLOOKUP($D212,$D$74:$Q$125,E171,FALSE),0)+IFERROR(VLOOKUP($D213,$D$74:$Q$125,E171,FALSE),0)+IFERROR(VLOOKUP($D214,$D$74:$Q$125,E171,FALSE),0)+IFERROR(VLOOKUP($D215,$D$74:$Q$125,E171,FALSE),0)+IFERROR(VLOOKUP($D$210,$D$74:$Q$125,E171,FALSE),0)+IFERROR(VLOOKUP($D$219,$D$74:$Q$125,E171,FALSE),0)","v":0},0,0,0,0,0,0,0,0,0,0,0,0]
[null,null,null,"VUL",{"$f":"IFERROR(VLOOKUP($D216,$D$74:$Q$125,E171,FALSE),0)+IFERROR(VLOOKUP($D217,$D$74:$Q$125,E171,FALSE),0)+IFERROR(VLOOKUP($D218,$D$74:$Q$125,E171,FALSE),0)+IFERROR(VLOOKUP($D$209,$D$74:$Q$125,E171,FALSE),0)","v":0},0,0,0,0,0,0,0,0,0,0,0,0]
[null,null,"Autres sources non antrophiques + sources biotiques agricoles",null,{"$f":"IFERROR(VLOOKUP($D$177,$D$74:$Q$125,E171,FALSE),0)+IFERROR(VLOOKUP($D$195,$D$74:$Q$125,E171,FALSE),0)","v":0},{"$f":"IFERROR(VLOOKUP($D$177,$D$74:$Q$125,F171,FALSE),0)+IFERROR(VLOOKUP($D$195,$D$74:$Q$125,F171,FALSE),0)","v":0},0,0,0,0,0,0,0,0,0,0,0]
[null,null,"Total",null,{"$f":"SUM(E134:E168)","v":0},{"$f":"SUM(F134:F168)","v":0},0,0,0,0,{"$f":"SUM(K134:K168)","v":0},0,0,0,0,0,0]
[null,null,"Total (hors sources non anthropiques)",null,{"$f":"SUM(E134:E167)","v":0},{"$f":"SUM(F134:F167)","v":0},0,0,0,0,{"$f":"SUM(K134:K167)","v":0},0,0,0,0,0,0]
[null,null,null,null,2,3,4,5,6,7,8,9,10,11,12,13,14]
[null,null,"Comparaison totaux",null,{"$f":"E169-E126","v":0},{"$f":"F169-F126","v":0},0,0,0,0,0,0,0,0,0,0,0]
[]
[null,null,"Nomenclature atmo méthode 2010","Nomenclature atmo méthode 2017"]
[null,null,null,"AGRISY - Autre agriculture (combustion, engins,...)",null,"Les émissions non anthropiques, les sources biotiques agricoles et l'UTCF ne sont pas prises en compte dans les émissions directes car comptées par ailleurs. "]
[null,null,null,"AGRISY - Culture",null,"Le transport aérien hors contribution national est compatabilisé (petits aérodromes)"]
[null,null,null,"NON_FR - Sources biotiques agricoles",null,"La sylviculture est comptée dans le poste \"autres sources de l'agriculture\""]
[null,null,null,"AGRISY - Elevage"]
[null,null,null,"TR_AUT - Transport aérien pris en compte dans le total national"]
[null,null,null,"TR_AUT - Transport ferroviaire"]
[null,null,null,"TR_AUT - Transport fluvial"]
[null,null,null,"TR_AUT - Transport maritime selon la définition CEE-NU (partie nationale)"]
[null,null,null,"INDUST - Industries agro-alimentaires"]
[null,null,null,"INDUST - Diverses autres industries"]
[null,null,null,"INDUST - Bien d'équipements, construction"]
[null,null,null,"INDUST - Chimie"]
[null,null,null,"INDUST - Construction"]
[null,null,null,"INDUST - Sidérurgie et 1ere transformation des métaux ferreux y compris fonderie"]
[null,null,null,"INDUST - Métallurgie des métaux non ferreux"]
[null,null,null,"INDUST - Minéraux non-métalliques et matériaux de construction"]
[null,null,null,"INDUST - Papier, carton"]
[null,null,null,"EXTREN - Transformation de combustibles minéraux solides - mines"]
[null,null,null,"INDUST - Traitement des déchets"]
[null,null,null,"EXTREN - Autres secteurs de la transformation de l'énergie"]
[null,null,null,"UTCF - Utilisation des terres, leur changement et la forêt"]
[null,null,null,"RETECI - Résidentiel"]
[null,null,null,"RETECI - Tertiaire"]
[null,null,null,"EXTREN - Chauffage urbain"]
[null,null,null,"EXTREN - Extraction et distribution de combustibles gazeux"]
[null,null,null,"EXTREN - Extraction et distribution de combustibles liquides"]
[null,null,null,"EXTREN - Production d'électricité"]
[null,null,null,"EXTREN - Raffinage du pétrole"]
[null,null,null,"EXTREN - Extraction et distribution d'autres produits énergétiques"]
[null,null,null,"EXTREN - Extraction et distribution de combustibles solides"]
[null,null,null,"TROUTE - Deux roues"]
[null,null,null,"TROUTE - Poids lourds à moteur GNV"]
[null,null,null,"TROUTE - Poids lourds à moteur diesel"]
[null,null,null,"TROUTE - Poids lourds à moteur essence"]
[null,null,null,"TROUTE - Véhicules utilitaires légers à moteur essence et non catalysé"]
[null,null,null,"TROUTE - Voitures particulières à moteur électrique"]
[null,null,null,"TROUTE - Voitures particulière à moteur diesel et catalysé"]
[null,null,null,"TROUTE - Voitures particulière à moteur diesel et non catalysé"]
[null,null,null,"TROUTE - Voitures particulière à moteur essence et catalysé"]
[null,null,null,"TROUTE - Voitures particulière à moteur essence et GPL"]
[null,null,null,"TROUTE - Voitures particulière à moteur essence et non catalysé"]
[null,null,null,"TROUTE - Véhicules utilitaires légers à moteur diesel et catalysé"]
[null,null,null,"TROUTE - Véhicules utilitaires légers à moteur diesel et non catalysé"]
[null,null,null,"TROUTE - Véhicules utilitaires légers à moteur essence et catalysé"]
[null,null,null,"TROUTE - Voitures particulières à moteur GNV"]
[null,null,null,"AGRISY - Sylviculture"]
[null,null,null,"NON_FR - Transport aérien hors contribution nationale"]

{"sheet":"D1b","index":4,"n_rows":50,"n_cols":18,"rows_kept":50,"cut":false,"hidden":false,"merged":[[49,2,49,3],[48,2,48,3],[13,2,15,2],[10,4,10,10],[16,2,18,2],[19,2,30,2],[31,2,32,2],[47,2,47,3],[5,4,5,5],[6,4,6,5],[10,11,10,16],[33,2,39,2],[40,2,46,2]]}
[]
[null,"MyEmiss'Air"]
[]
[null,"Emissions directes de la région Hauts-de-France"]
[]
[null,"Source:","http://myemissair.atmo-npdc2.fr",null,"Année de la méthodologie: ",null,2017]
[null,null,null,null,"Année des données: ",null,2015]
[]
[]
[null,"Emissions directes régionales par GES/polluants et par secteur"]
[null,null,null,null,"Gaz à effet de serre",null,null,null,null,null,null,"Polluants atmosphériques"]
[null,null,null,null,"CO2","CH4","N2O","HFC","PFC","SF6","Effet de serre","PM10","NOx","COVNM","PM2.5","SO2","NH3"]
[null,null,null,null,"kg","kg","kg","kg","kg","kg","kt eq CO2","kg","kg","kg","kg","kg","kg","Remarques"]
[null,null,"Agriculture","Autres sources de l'agriculture (tracteurs, …)",912849660.34600008,6910595.6862580003,287081.22570099996,0,0,0,1182.4228641539999,519136.80322200002,5849314.5987200001,36930822.53413,454082.74920199998,11198.48424313,2639.6733250000002]
[null,null,null,"Culture",0,827589.24040000001,8294876.2470000004,0,0,0,2221.3147039999999,9581585.2259999998,630476.26329999999,1413453.8559999999,3101224.7209999999,127261.0022,29663256.649999999]
[null,null,null,"Elevage",0,105585723.3,1221912.872,0,0,0,3280.2071620000002,1015804.133,0,0,265479.98979999998,0,19327481.710000001]
[null,null,"Autres transports","Transport aérien français",41757014.943999998,2877.0365413999998,1606.8115420000001,0,0,0,42.263377030000001,42823.86752,144976.7591,25893.328870000001,20352.963049999998,13256.19522,0]
[null,null,null,"Transport ferroviaire",47279952.520000003,4395.2723779999997,1582.5293360000001,0,0,0,47.822390429999999,449585.75260000001,945202.04110000003,71835.355129999996,188369.14550000001,300.06414000000001,0]
[null,null,null,"Transport fluvial et maritime",298247416.95999998,28671.298752999999,7951.3512100000007,0,0,0,301.15732136000003,403137.74206000002,6392133.2873,364322.30200000003,381831.99980999995,142854.48896399999,0]
[null,null,"IDEC","Agro-alimentaire",1760000000,115369.4422,96418.116949999996,1011.162615,0,0,1791.2942479999999,873917.47140000004,2382197.7149999999,2670623.1519999998,205392.33840000001,3801906.5830000001,11218.358620000001]
[null,null,null,"Autres secteurs de l'industrie et non spécifié",920670324.60000002,1407774.66,136166.43350000001,1373.370253,14,0,1008.1088157400001,1195219.1029999999,2052197.42,6774313.9280000003,967758.9645,1252036.9709999999,3157.315454]
[null,null,null,"Biens d'équipement, matériels de transport…",273882268.5,11487.00023,4608.0278120000003,20.267680649999999,0,0,275.46745210999995,5110.9879860000001,258200.65479999999,2717073.1159999999,4768.286556,2438.0581149999998,0]
[null,null,null,"Chimie organique, non-organique et divers",1110000000,254333.3125,1069474.2209999999,4860.0554389999998,0,0,1411.0754548,32743.979090000001,1411611.3670000001,4414357.13,31250.245790000001,1501226.3419999999,72439.955270000006]
[null,null,null,"Construction",669197703.89999998,41675.580349999997,235172.73060000001,0,0,0,732.68539379999993,627832.91850000003,3168527.852,4181210.9950000001,347785.24249999999,147107.29749999999,1477.189648]
[null,null,null,"Métallurgie des métaux ferreux",12500000000,775632.43660000002,65988.285870000007,911.1,0,0,12516.468024599999,2359924.389,6684236.534,622699.33739999996,2109479.5430000001,6345886.0460000001,126714.89]
[null,null,null,"Métallurgie des métaux non-ferreux",782885871.39999998,14403.35159,6967.9932760000002,99.3,5322,140,836.89873637000005,8332.7696300000007,326411.21169999999,368447.77010000002,5526.5858049999997,4314548.2249999996,2863.7161529999998]
[null,null,null,"Minéraux non-métalliques et matériaux de construction",2880000000,36065.907729999999,23708.615839999999,446.61247800000001,0,0,2887.90284819,783941.70640000002,4732400.5269999998,95254.911009999996,146743.17800000001,2160189.8390000002,406.12075959999999]
[null,null,null,"Papier, carton",771615829.79999995,15607.703289999999,90758.076690000002,0,0,0,796.10373574999994,10973.398359999999,1029475.768,729752.40960000001,9099.8055820000009,52862.368199999997,0]
[null,null,null,"Tous secteurs IM",0,0,0,0,0,0,0,0,0,0,0,0,0,"supprimé (M2010>M2012)"]
[null,null,null,"Traitement des déchets",621593415.51999998,34540543.270697899,375291.56687000004,179,0,0,1688.555539,18120.344446000003,951316.70629999996,528951.52992599993,15456.122180000002,88810.730779999998,471416.84152999998]
[null,null,null,"Traitement déchets industrie",0,0,0,0,0,0,0,0,0,0,0,0,0,"ventilé (M2010>M2012)"]
[null,null,"Résidentiel tertiaire","Résidentiel",5670000000,6684165.0520000001,150220.36629999999,0,0,0,6314.9574160000002,8398574.9269999992,6624665.193,27255482.68,8203060.7300000004,4246357.4179999996,0]
[null,null,null,"Tertiaire, commercial et institutionnel",2870000000,314467.36580000003,42658.09203,0,0,0,3100.6622367999998,194517.37049999999,3562344.8730000001,1790291.1540000001,192786.22519999999,861829.8443,888.76507200000003]
[null,null,"Transformation de l'énergie","Chauffage urbain",374304083.10000002,41685.785389999997,17355.911950000002,0,0,0,380.0706017,131199.42499999999,724289.15209999995,5085.5515439999999,109543.3167,140268.85939999999,0]
[null,null,null,"Extraction des combustibles gazeux et distribution d'énergie",197384188.09999999,5032421.375,3067.000059,0,0,0,339.10474160000001,0,134133.85639999999,759601.90850000002,0,3568.7726910000001,0]
[null,null,null,"Extraction des combustibles liquides et distribution d'énergie",0,0,0,0,0,0,0,0,0,1113823.068,0,0,0]
[null,null,null,"Extraction des combustibles solides et distribution d'énergie",0,0,0,0,0,0,0,0,0,0,0,0,0]
[null,null,null,"Production d'électricité",5170000000,1073180.3219999999,24565.67065,437.16080879999998,0,0,5207.5262980000007,116480.3483,2169288.8480000002,27765.828939999999,70474.365000000005,2509506.75,5274.1392690000002]
[null,null,null,"Raffinage de pétrole",843978977.5,8412.3201270000009,22161.684440000001,0,0,0,850.0873689,21040.05142,459767.76569999999,99289.956049999993,18156.18879,991937.96440000006,23800]
[null,null,null,"Transformation des combustibles minéraux solides – siderurgies",0,44523,0,0,0,0,1.2466440000000001,0,675215,15490,0,1573534,179]
[null,null,"Transport routier","Deux roues",120669341.90000001,95576.159759999995,2368.5953239999999,0,0,0,123.97315210000001,46972.356529999997,309144.3798,964864.14950000006,31236.08467,844.63327449999997,2368.5953239999999]
[null,null,null,"evap essence",0,0,0,0,0,0,0,0,0,0,0,0,0,"ventilé (M2010>M2012)"]
[null,null,null,"Poids lourds",2848240507.5263,56602.976865370001,124013.01193208201,0,0,0,2883.5032157126002,1045061.9362639,14409258.463036999,359495.09911499999,661051.14281410014,19457.256695666001,23793.499370694]
[null,null,null,"trafic diffus",0,0,0,0,0,0,0,0,0,0,0,0,0,"ventilé (M2010>M2012)"]
[null,null,null,"usure routes",0,0,0,0,0,0,0,0,0,0,0,0,0,"ventilé (M2010>M2012)"]
[null,null,null,"Voitures particulières",5983884567.4460001,163194.266431,205895.82447577297,0,0,0,6045.2651602079995,2833829.6131704003,20321194.494557302,1618100.2988909998,1915379.3984194,41892.040285688003,348988.09642939997]
[null,null,null,"VUL",2233198213.9779997,15153.8312572,54135.483906850008,0,0,0,2252.3401623175,958972.99100069993,10694819.764910001,400420.72321899998,708315.4197063999,15324.758815134999,41592.803137611001]
[null,null,"Autres sources non antrophiques",null,0,21997.277709999998,586.59407220000003,0,0,0,0.771371205,0,5276852.5949999997,21659187.850000001,0,0,0]
[null,null,"Total",null,49901639338.040298,164124124.23185882,12566593.340336902,9338.0292744500002,5336,140,58519.256435877098,31674839.611398995,102319653.09082429,117977909.922925,20164604.751974899,30366404.993224125,50129957.31936232]
[null,null,"Total (hors sources non anthropiques)",null,49901639338.040298,164102126.95414883,12566006.746264702,9338.0292744500002,5336,140,58518.485064672095,31674839.611398995,97042800.495824292,96318722.072924986,20164604.751974899,30366404.993224125,50129957.31936232]

{"sheet":"D2a","index":5,"n_rows":7,"n_cols":11,"rows_kept":7,"cut":false,"hidden":false,"merged":[[6,2,6,3],[5,2,5,3]]}
[]
[null,"Production d'électricité du territoire"]
[]
[null,"Biens de consommation- production d'électricité totale"]
[]
[null,null,"Production d'électricité",null,null,"MWh",null,"Source",null,null,"A saisir si le territoire le souhaite (pas nécessaire pour le bilan)"]
[null,null,"Emissions GES liées à la production d'électricité sur le territoire = Emissions exportées",null,{"$f":"D1a!K158","v":0},"kt eq CO2"]

{"sheet":"D2b","index":6,"n_rows":145,"n_cols":25,"rows_kept":145,"cut":false,"hidden":false,"merged":[[40,3,40,4],[45,2,51,2],[52,2,55,2],[40,2,44,2],[44,3,44,4],[51,3,51,4],[55,3,55,4],[6,7,6,8],[56,2,56,5],[29,3,29,4],[16,3,16,4],[17,3,17,4],[19,3,19,4],[20,3,20,4],[21,3,21,4],[8,2,25,2],[8,3,8,4],[9,3,9,4],[10,3,10,4],[11,3,11,4],[12,3,12,4],[13,3,13,4],[32,3,32,4],[22,3,22,4],[23,3,23,4],[24,3,24,4],[26,3,26,4],[27,3,27,4],[60,7,60,8],[60,18,60,23],[62,2,63,2],[62,3,62,4],[63,3,63,4],[6,18,6,23],[25,3,25,4],[26,2,39,2],[39,3,39,4],[38,3,38,4],[18,3,18,4],[28,3,28,4],[36,3,36,4],[37,3,37,4],[30,3,30,4],[31,3,31,4],[14,3,14,4],[15,3,15,4],[33,3,33,4],[34,3,34,4],[35,3,35,4],[65,3,65,4],[72,2,72,5],[97,6,97,10],[64,2,65,2],[64,3,64,4],[85,6,85,10],[66,2,67,2],[68,2,69,2],[70,2,71,2],[66,3,66,4],[67,3,67,4],[68,3,68,4],[69,3,69,4],[70,3,70,4],[71,3,71,4]]}
[]
[null,"Répartition des émissions liées à la production de chaleur et de froid du territoire"]
[]
["A.","Production de chaleur et de froid du territoire (MWh)"]
[]
[null,"Production de chaleur par réseau en Hauts-de-France"]
[null,null," ",null,null,null,null,null,null,null,null,null,null,null,null,null,null,null,"Répartition des consommations du territoire par poste -seulement pour les réseaux situés sur le territoire"]
[null,null,null,null,null,null,null,"Part de la production située sur le territoire (%)","Part de la production consommée par le territoire (%)","Production du réseau (MWh)","Production du territoire  (MWh)","Production du territoire consommée sur le territoire (MWh)","Production du territoire exportée (MWh)","Emissions produites par les réseaux (kt eq CO2)","Emissions produites sur le territoire (kt eq CO2)","Emissions produites et consommées par le territoire (kt eq CO2)","Emissions produites sur le territoire et exportées (kt eq CO2)","Source","Résidentiel","Déplacements","Biens de consommation","Alimentation","Services","Travaux","Source"]
[null,null,"Nord","Alma-Beaurepaire",null,"Roubaix","Chaleur",null,null,111190,{"$f":"H9*J9","v":0},{"$f":"I9*J9*H9","v":0},{"$f":"K9-L9","v":0},{"$f":"((J9)*('FE5'!$G30))/1000","v":9.2287700000000008},{"$f":"((K9)*('FE5'!$G30))/1000","v":0},{"$f":"((L9)*('FE5'!$G30))/1000","v":0},{"$f":"((M9)*('FE5'!$G30))/1000","v":0},"Enquête nationale sur les réseaux de chaleur et de froid SOeS 2014 (données 2012)",{"$f":"D3a!$D$6","v":0.54611092878240886},0,0,0,{"$f":"1-S9","v":0.45388907121759114},0,"NORENER 2014 - données 2011"]
[null,null,null,"Les Canonniers",null,"Valenciennes","Chaleur",null,null,0,{"$f":"H10*J10","v":0},{"$f":"I10*J10*H10","v":0},{"$f":"K10-L10","v":0},{"$f":"((J10)*('FE5'!$G31))/1000","v":0},{"$f":"((K10)*('FE5'!$G31))/1000","v":0},{"$f":"((L10)*('FE5'!$G31))/1000","v":0},{"$f":"((M10)*('FE5'!$G31))/1000","v":0},"Enquête nationale sur les réseaux de chaleur et de froid SOeS 2014 (données 2012)",{"$f":"D3a!$D$6","v":0.54611092878240886},0,0,0,0.45388907121759114,0,"NORENER 2014 - données 2011"]
[null,null,null,"Réseau de Sains-du-Nord",null,"Sains-du-Nord","Chaleur",null,null,0,{"$f":"H11*J11","v":0},{"$f":"I11*J11*H11","v":0},0,{"$f":"((J11)*('FE5'!$G32))/1000","v":0},{"$f":"((K11)*('FE5'!$G32))/1000","v":0},{"$f":"((L11)*('FE5'!$G32))/1000","v":0},{"$f":"((M11)*('FE5'!$G32))/1000","v":0},"La voix du Nord, 17 avril 2017",{"$f":"D3a!$D$6","v":0.54611092878240886},0,0,0,0.45388907121759114,0,"NORENER 2014 - données 2011"]
[null,null,null,"Quartier Pont de bois",null,"Villeneuve-d'Ascq","Chaleur",null,null,39332,0,0,0,{"$f":"((J12)*('FE5'!$G33))/1000","v":8.4170480000000012},{"$f":"((K12)*('FE5'!$G33))/1000","v":0},{"$f":"((L12)*('FE5'!$G33))/1000","v":0},{"$f":"((M12)*('FE5'!$G33))/1000","v":0},"Enquête nationale sur les réseaux de chaleur et de froid SOeS 2014 (données 2012)",{"$f":"D3a!$D$6","v":0.54611092878240886},0,0,0,0.45388907121759114,0,"NORENER 2014 - données 2011"]
[null,null,null,"Domaine Universitaire et Scientifique",null,"Villeneuve-d'Ascq","Chaleur",null,null,35765,0,0,0,{"$f":"((J13)*('FE5'!$G34))/1000","v":8.6193650000000002},{"$f":"((K13)*('FE5'!$G34))/1000","v":0},{"$f":"((L13)*('FE5'!$G34))/1000","v":0},{"$f":"((M13)*('FE5'!$G34))/1000","v":0},"Enquête nationale sur les réseaux de chaleur et de froid SOeS 2014 (données 2012)",{"$f":"D3a!$D$6","v":0.54611092878240886},0,0,0,0.45388907121759114,0,"NORENER 2014 - données 2011"]
[null,null,null,"ZUP de Wattignies-Blanc Riez",null,"Wattignies","Chaleur",null,null,28237,0,0,0,{"$f":"((J14)*('FE5'!$G35))/1000","v":4.9132379999999998},{"$f":"((K14)*('FE5'!$G35))/1000","v":0},{"$f":"((L14)*('FE5'!$G35))/1000","v":0},{"$f":"((M14)*('FE5'!$G35))/1000","v":0},"Enquête nationale sur les réseaux de chaleur et de froid SOeS 2014 (données 2012)",{"$f":"D3a!$D$6","v":0.54611092878240886},0,0,0,0.45388907121759114,0,"NORENER 2014 - données 2011"]
[null,null,null,"Réseau de Wattrelos",null,"Wattrelos","Chaleur",null,null,16374,0,0,0,{"$f":"((J15)*('FE5'!$G36))/1000","v":3.5040360000000002},{"$f":"((K15)*('FE5'!$G36))/1000","v":0},{"$f":"((L15)*('FE5'!$G36))/1000","v":0},{"$f":"((M15)*('FE5'!$G36))/1000","v":0},"Enquête nationale sur les réseaux de chaleur et de froid SOeS 2014 (données 2012)",{"$f":"D3a!$D$6","v":0.54611092878240886},0,0,0,0.45388907121759114,0,"NORENER 2014 - données 2011"]
[null,null,null,"ZAC des Epis",null,"Sin-le-Noble","Chaleur",null,null,22257,{"$f":"H16*J16","v":0},{"$f":"I16*J16*H16","v":0},0,{"$f":"((J16)*('FE5'!$G37))/1000","v":5.0745960000000006},{"$f":"((K16)*('FE5'!$G37))/1000","v":0},{"$f":"((L16)*('FE5'!$G37))/1000","v":0},{"$f":"((M16)*('FE5'!$G37))/1000","v":0},"Enquête nationale sur les réseaux de chaleur et de froid SOeS 2014 (données 2012)",{"$f":"D3a!$D$6","v":0.54611092878240886},0,0,0,0.45388907121759114,0,"NORENER 2014 - données 2011"]
[null,null,null,"Monsenergie",null,"Mons-en-Barœul","Chaleur",null,null,63591,0,0,0,{"$f":"((J17)*('FE5'!$G38))/1000","v":14.753112000000002},{"$f":"((K17)*('FE5'!$G38))/1000","v":0},{"$f":"((L17)*('FE5'!$G38))/1000","v":0},{"$f":"((M17)*('FE5'!$G38))/1000","v":0},"Enquête nationale sur les réseaux de chaleur et de froid SOeS 2014 (données 2012)",{"$f":"D3a!$D$6","v":0.54611092878240886},0,0,0,0.45388907121759114,0,"NORENER 2014 - données 2011"]
[null,null,null,"Métropole Nord",null,"Lille","Chaleur",null,null,289364,0,0,0,{"$f":"((J18)*('FE5'!$G39))/1000","v":82.179375999999991},{"$f":"((K18)*('FE5'!$G39))/1000","v":0},{"$f":"((L18)*('FE5'!$G39))/1000","v":0},{"$f":"((M18)*('FE5'!$G39))/1000","v":0},"Enquête nationale sur les réseaux de chaleur et de froid SOeS 2014 (données 2012)",{"$f":"D3a!$D$6","v":0.54611092878240886},0,0,0,0.45388907121759114,0,"NORENER 2014 - données 2011"]
[null,null,null,"CHU Lille",null,"Lille","Chaleur",null,null,100000,0,0,0,{"$f":"((J19)*('FE5'!$G40))/1000","v":32},{"$f":"((K19)*('FE5'!$G40))/1000","v":0},{"$f":"((L19)*('FE5'!$G40))/1000","v":0},{"$f":"((M19)*('FE5'!$G40))/1000","v":0},"Observatoire Climat, données 2012",{"$f":"D3a!$D$6","v":0.54611092878240886},0,0,0,0.45388907121759114,0,"NORENER 2014 - données 2011"]
[null,null,null,"Réseau de Lambersart",null,"Lambersart","Chaleur",null,null,15916,0,0,0,{"$f":"((J20)*('FE5'!$G41))/1000","v":4.6793040000000001},{"$f":"((K20)*('FE5'!$G41))/1000","v":0},{"$f":"((L20)*('FE5'!$G41))/1000","v":0},{"$f":"((M20)*('FE5'!$G41))/1000","v":0},"Observatoire Climat, données 2012",{"$f":"D3a!$D$6","v":0.54611092878240886},0,0,0,0.45388907121759114,0,"NORENER 2014 - données 2011"]
[null,null,null,"ZUP de la caserne joyeuse",null,"Maubeuge","Chaleur",null,null,2501,0,0,0,{"$f":"((J21)*('FE5'!$G42))/1000","v":0.59273699999999996},{"$f":"((K21)*('FE5'!$G42))/1000","v":0},{"$f":"((L21)*('FE5'!$G42))/1000","v":0},{"$f":"((M21)*('FE5'!$G42))/1000","v":0},"Enquête nationale sur les réseaux de chaleur et de froid SOeS 2014 (données 2012)",{"$f":"D3a!$D$6","v":0.54611092878240886},0,0,0,0.45388907121759114,0,"NORENER 2014 - données 2011"]
[null,null,null,"Les rives créatives de l'Escaut",null,"Anzin","Chaleur",null,null,2500,0,0,0,{"$f":"((J22)*('FE5'!$G43))/1000","v":1.2500000000000001E-2},{"$f":"((K22)*('FE5'!$G43))/1000","v":0},{"$f":"((L22)*('FE5'!$G43))/1000","v":0},{"$f":"((M22)*('FE5'!$G43))/1000","v":0},"Estimation RDC sur base d'une puissance de 281 kW",{"$f":"D3a!$D$6","v":0.54611092878240886},0,0,0,0.45388907121759114,0,"NORENER 2014 - données 2011"]
[null,null,null,"Energie Grand Littoral",null,"Dunkerque","Chaleur",null,null,136778,0,0,0,{"$f":"((J23)*('FE5'!$G44))/1000","v":13.677800000000001},{"$f":"((K23)*('FE5'!$G44))/1000","v":0},{"$f":"((L23)*('FE5'!$G44))/1000","v":0},{"$f":"((M23)*('FE5'!$G44))/1000","v":0},"Enquête nationale sur les réseaux de chaleur et de froid SOeS 2014 (données 2012)",{"$f":"D3a!$D$6","v":0.54611092878240886},0,0,0,0.45388907121759114,0,"NORENER 2014 - données 2011"]
[null,null,null,"Réseau de chauffage d'Hazebrouck",null,"Hazebrouck","Chaleur",null,null,6708,0,0,0,{"$f":"((J24)*('FE5'!$G45))/1000","v":1.516008},{"$f":"((K24)*('FE5'!$G45))/1000","v":0},{"$f":"((L24)*('FE5'!$G45))/1000","v":0},{"$f":"((M24)*('FE5'!$G45))/1000","v":0},"Enquête nationale sur les réseaux de chaleur et de froid SOeS 2014 (données 2012)",{"$f":"D3a!$D$6","v":0.54611092878240886},0,0,0,0.45388907121759114,0,"NORENER 2014 - données 2011"]
[null,null,null,"Quartier Tournebride Lomme-Capinghem",null,"Lille","Chaleur",null,null,6179,{"$f":"H25*J25","v":0},{"$f":"I25*J25*H25","v":0},{"$f":"K25-L25","v":0},{"$f":"((J25)*('FE5'!$G46))/1000","v":0.48814100000000005},{"$f":"((K25)*('FE5'!$G46))/1000","v":0},{"$f":"((L25)*('FE5'!$G46))/1000","v":0},{"$f":"((M25)*('FE5'!$G46))/1000","v":0},"Observatoire Climat, données 2012",{"$f":"D3a!$D$6","v":0.54611092878240886},0,0,0,{"$f":"1-S25","v":0.45388907121759114},0,"NORENER 2014 - données 2011"]
[null,null,null,null,null,null,"Chaleur",null,null,null,{"$f":"H26*J26","v":0},{"$f":"I26*J26*H26","v":0},{"$f":"K26-L26","v":0},{"$f":"((J26)*('FE5'!$G47))/1000","v":0},{"$f":"((K26)*('FE5'!$G47))/1000","v":0},{"$f":"((L26)*('FE5'!$G47))/1000","v":0},{"$f":"((M26)*('FE5'!$G47))/1000","v":0},null,{"$f":"D3a!$D$6","v":0.54611092878240886},0,0,0,{"$f":"1-S26","v":0.45388907121759114},0,"NORENER 2014 - données 2011"]
[null,null,"Pas-de-calais","ZUP du quartier République",null,"Avion","Chaleur",null,null,15268,0,0,0,{"$f":"((J27)*('FE5'!$G48))/1000","v":3.4505680000000001},{"$f":"((K27)*('FE5'!$G48))/1000","v":0},{"$f":"((L27)*('FE5'!$G48))/1000","v":0},{"$f":"((M27)*('FE5'!$G48))/1000","v":0},"Enquête nationale sur les réseaux de chaleur et de froid SOeS 2014 (données 2012)",{"$f":"D3a!$D$6","v":0.54611092878240886},0,0,0,0.45388907121759114,0,"NORENER 2014 - données 2011"]
[null,null,null,"Réseau de Arques",null,"Arques","Chaleur",null,null,8000,0,0,0,{"$f":"((J28)*('FE5'!$G49))/1000","v":0.432},{"$f":"((K28)*('FE5'!$G49))/1000","v":0},{"$f":"((L28)*('FE5'!$G49))/1000","v":0},{"$f":"((M28)*('FE5'!$G49))/1000","v":0},"Enquête nationale sur les réseaux de chaleur et de froid SOeS 2014 (données 2012)",{"$f":"D3a!$D$6","v":0.54611092878240886},0,0,0,0.45388907121759114,0,"NORENER 2014 - données 2011"]
[null,null,null,"ZUP de Lens",null,"Lens","Chaleur",null,null,51703,0,0,0,{"$f":"((J29)*('FE5'!$G50))/1000","v":0.31021799999999999},{"$f":"((K29)*('FE5'!$G50))/1000","v":0},{"$f":"((L29)*('FE5'!$G50))/1000","v":0},{"$f":"((M29)*('FE5'!$G50))/1000","v":0},"Enquête nationale sur les réseaux de chaleur et de froid SOeS 2014 (données 2012)",{"$f":"D3a!$D$6","v":0.54611092878240886},0,0,0,0.45388907121759114,0,"NORENER 2014 - données 2011"]
[null,null,null,"Le Portel-Outreau Engie",null,"Outreau","Chaleur",null,null,11000,0,0,0,{"$f":"((J30)*('FE5'!$G51))/1000","v":2.1230000000000002},{"$f":"((K30)*('FE5'!$G51))/1000","v":0},{"$f":"((L30)*('FE5'!$G51))/1000","v":0},{"$f":"((M30)*('FE5'!$G51))/1000","v":0},"estimation RDC puissance 2,4 MW, rendement 60%",{"$f":"D3a!$D$6","v":0.54611092878240886},0,0,0,0.45388907121759114,0,"NORENER 2014 - données 2011"]
[null,null,null,"Le Portel-Outreau Dalkia",null,"Outreau","Chaleur",null,null,5344,0,0,0,{"$f":"((J31)*('FE5'!$G52))/1000","v":1.1168959999999999},{"$f":"((K31)*('FE5'!$G52))/1000","v":0},{"$f":"((L31)*('FE5'!$G52))/1000","v":0},{"$f":"((M31)*('FE5'!$G52))/1000","v":0},"Réseau Rafhael, présentation du 27 novembre 2013",{"$f":"D3a!$D$6","v":0.54611092878240886},0,0,0,0.45388907121759114,0,"NORENER 2014 - données 2011"]
[null,null,null,"ZUP de Béthune",null,"Béthune","Chaleur",null,null,27133,0,0,0,{"$f":"((J32)*('FE5'!$G53))/1000","v":6.484786999999999},{"$f":"((K32)*('FE5'!$G53))/1000","v":0},{"$f":"((L32)*('FE5'!$G53))/1000","v":0},{"$f":"((M32)*('FE5'!$G53))/1000","v":0},"Enquête nationale sur les réseaux de chaleur et de froid SOeS 2014 (données 2012)",{"$f":"D3a!$D$6","v":0.54611092878240886},0,0,0,0.45388907121759114,0,"NORENER 2014 - données 2011"]
[null,null,null,"Réseau de Liévin",null,"Liévin","Chaleur",null,null,21122,0,0,0,{"$f":"((J33)*('FE5'!$G54))/1000","v":5.3227439999999993},{"$f":"((K33)*('FE5'!$G54))/1000","v":0},{"$f":"((L33)*('FE5'!$G54))/1000","v":0},{"$f":"((M33)*('FE5'!$G54))/1000","v":0},"Enquête nationale sur les réseaux de chaleur et de froid SOeS 2014 (données 2012)",{"$f":"D3a!$D$6","v":0.54611092878240886},0,0,0,0.45388907121759114,0,"NORENER 2014 - données 2011"]
[null,null,null,"Calais Energie",null,"Calais","Chaleur",null,null,52106,0,0,0,{"$f":"((J34)*('FE5'!$G55))/1000","v":10.525412000000001},{"$f":"((K34)*('FE5'!$G55))/1000","v":0},{"$f":"((L34)*('FE5'!$G55))/1000","v":0},{"$f":"((M34)*('FE5'!$G55))/1000","v":0},"Enquête nationale sur les réseaux de chaleur et de froid SOeS 2014 (données 2012)",{"$f":"D3a!$D$6","v":0.54611092878240886},0,0,0,0.45388907121759114,0,"NORENER 2014 - données 2011"]
[null,null,null,"Réseau Centre Ville",null,"Béthune","Chaleur",null,null,12678,0,0,0,{"$f":"((J35)*('FE5'!$G56))/1000","v":2.8525500000000004},{"$f":"((K35)*('FE5'!$G56))/1000","v":0},{"$f":"((L35)*('FE5'!$G56))/1000","v":0},{"$f":"((M35)*('FE5'!$G56))/1000","v":0},"Enquête nationale sur les réseaux de chaleur et de froid SOeS 2014 (données 2012)",{"$f":"D3a!$D$6","v":0.54611092878240886},0,0,0,0.45388907121759114,0,"NORENER 2014 - données 2011"]
[null,null,null,"Réseau d'Achicourt",null,"Achicourt","Chaleur",null,null,6416,0,0,0,{"$f":"((J36)*('FE5'!$G57))/1000","v":0.64160000000000006},{"$f":"((K36)*('FE5'!$G57))/1000","v":0},{"$f":"((L36)*('FE5'!$G57))/1000","v":0},{"$f":"((M36)*('FE5'!$G57))/1000","v":0},"Observatoire Climat, données 2013",{"$f":"D3a!$D$6","v":0.54611092878240886},0,0,0,0.45388907121759114,0,"NORENER 2014 - données 2011"]
[null,null,null,"Réseau d'Arras",null,"Arras","Chaleur",null,null,56703,0,0,0,{"$f":"((J37)*('FE5'!$G58))/1000","v":12.701471999999999},{"$f":"((K37)*('FE5'!$G58))/1000","v":0},{"$f":"((L37)*('FE5'!$G58))/1000","v":0},{"$f":"((M37)*('FE5'!$G58))/1000","v":0},"Enquête nationale sur les réseaux de chaleur et de froid SOeS 2014 (données 2012)",{"$f":"D3a!$D$6","v":0.54611092878240886},0,0,0,0.45388907121759114,0,"NORENER 2014 - données 2011"]
[null,null,null,"Réseau de Boulogne-sur-Mer",null,"Boulogne-sur-Mer","Chaleur",null,null,29249,0,0,0,{"$f":"((J38)*('FE5'!$G59))/1000","v":6.9612619999999996},{"$f":"((K38)*('FE5'!$G59))/1000","v":0},{"$f":"((L38)*('FE5'!$G59))/1000","v":0},{"$f":"((M38)*('FE5'!$G59))/1000","v":0},"Observatoire Climat, données 2015",{"$f":"D3a!$D$6","v":0.54611092878240886},0,0,0,0.45388907121759114,0,"NORENER 2014 - données 2011"]
[null,null,null,"Quartier du chemin vert",null,"Boulogne-sur-Mer","Chaleur",null,null,18977,{"$f":"H39*J39","v":0},0,0,{"$f":"((J39)*('FE5'!$G60))/1000","v":1.3293388500000001},{"$f":"((K39)*('FE5'!$G60))/1000","v":0},{"$f":"((L39)*('FE5'!$G60))/1000","v":0},{"$f":"((M39)*('FE5'!$G60))/1000","v":0},"CERDD",{"$f":"D3a!$D$6","v":0.54611092878240886},0,0,0,0.45388907121759114,0,"NORENER 2014 - données 2011"]
[null,null,null,null,null,null,"Chaleur",null,null,null,{"$f":"H40*J40","v":0},{"$f":"I40*J40*H40","v":0},{"$f":"K40-L40","v":0},{"$f":"((J40)*('FE5'!$G61))/1000","v":0},{"$f":"((K40)*('FE5'!$G61))/1000","v":0},{"$f":"((L40)*('FE5'!$G61))/1000","v":0},{"$f":"((M40)*('FE5'!$G61))/1000","v":0},null,{"$f":"D3a!$D$6","v":0.54611092878240886},0,0,0,0.45388907121759114,0,"NORENER 2014 - données 2011"]
[null,null,"Aisne","ZUP du Quartier Europe",null,"Saint-Quentin","Chaleur",null,null,65926,{"$f":"H41*J41","v":0},{"$f":"I41*J41*H41","v":0},{"$f":"K41-L41","v":0},{"$f":"((J41)*('FE5'!$G62))/1000","v":8.90001},{"$f":"((K41)*('FE5'!$G62))/1000","v":0},{"$f":"((L41)*('FE5'!$G62))/1000","v":0},{"$f":"((M41)*('FE5'!$G62))/1000","v":0},"L’ANNUAIRE DES RÉSEAUX DE CHALEUR ET DE FROID 2014/2015 (données 2012)",{"$f":"D3a!$D$6","v":0.54611092878240886},0,0,0,{"$f":"1-S41","v":0.45388907121759114},0,"NORENER 2014 - données 2012"]
[null,null,null,"ZUP de Presles",null,"Soissons","Chaleur",null,null,33921,0,0,0,{"$f":"((J42)*('FE5'!$G63))/1000","v":2.611917},{"$f":"((K42)*('FE5'!$G63))/1000","v":0},{"$f":"((L42)*('FE5'!$G63))/1000","v":0},{"$f":"((M42)*('FE5'!$G63))/1000","v":0},"L’ANNUAIRE DES RÉSEAUX DE CHALEUR ET DE FROID 2014/2015 (données 2012)",{"$f":"D3a!$D$6","v":0.54611092878240886},0,0,0,0.45388907121759114,0,"NORENER 2014 - données 2013"]
[null,null,null,"Réseau de Laon",null,"Laon","Chaleur",null,null,1825,0,0,0,{"$f":"((J43)*('FE5'!$G64))/1000","v":7.3000000000000001E-3},{"$f":"((K43)*('FE5'!$G64))/1000","v":0},{"$f":"((L43)*('FE5'!$G64))/1000","v":0},{"$f":"((M43)*('FE5'!$G64))/1000","v":0},"L’ANNUAIRE DES RÉSEAUX DE CHALEUR ET DE FROID 2014/2015 (données 2012)",{"$f":"D3a!$D$6","v":0.54611092878240886},0,0,0,0.45388907121759114,0,"NORENER 2014 - données 2014"]
[null,null,null,"Réseau d'Urcel",null,"Urcel","Chaleur",null,null,285,0,0,0,{"$f":"((J44)*('FE5'!$G65))/1000","v":1.14E-2},{"$f":"((K44)*('FE5'!$G65))/1000","v":0},{"$f":"((L44)*('FE5'!$G65))/1000","v":0},{"$f":"((M44)*('FE5'!$G65))/1000","v":0},"Réseau de chaleur de la ville d'URCEL (02) (http://ret-ademe-region-hdf.fr/)",{"$f":"D3a!$D$6","v":0.54611092878240886},0,0,0,0.45388907121759114,0,"NORENER 2014 - données 2015"]
[null,null,null,null,null,null,"Chaleur",null,null,null,0,0,0,{"$f":"((J45)*('FE5'!$G66))/1000","v":0},{"$f":"((K45)*('FE5'!$G66))/1000","v":0},{"$f":"((L45)*('FE5'!$G66))/1000","v":0},{"$f":"((M45)*('FE5'!$G66))/1000","v":0},null,{"$f":"D3a!$D$6","v":0.54611092878240886},0,0,0,0.45388907121759114,0,"NORENER 2014 - données 2016"]
[null,null,"Oise","Réseau de Compiègne",null,"Compiègne","Chaleur",null,null,68895,0,0,0,{"$f":"((J46)*('FE5'!$G67))/1000","v":16.948169999999998},{"$f":"((K46)*('FE5'!$G67))/1000","v":0},{"$f":"((L46)*('FE5'!$G67))/1000","v":0},{"$f":"((M46)*('FE5'!$G67))/1000","v":0},"L’ANNUAIRE DES RÉSEAUX DE CHALEUR ET DE FROID 2014/2015 (données 2012)",{"$f":"D3a!$D$6","v":0.54611092878240886},0,0,0,0.45388907121759114,0,"NORENER 2014 - données 2017"]
[null,null,null,"La Cavée",null,"Creil","Chaleur",null,null,71957,0,0,0,{"$f":"((J47)*('FE5'!$G68))/1000","v":7.8433130000000002},{"$f":"((K47)*('FE5'!$G68))/1000","v":0},{"$f":"((L47)*('FE5'!$G68))/1000","v":0},{"$f":"((M47)*('FE5'!$G68))/1000","v":0},"L’ANNUAIRE DES RÉSEAUX DE CHALEUR ET DE FROID 2014/2015 (données 2012)",{"$f":"D3a!$D$6","v":0.54611092878240886},0,0,0,0.45388907121759114,0,"NORENER 2014 - données 2018"]
[null,null,null,"Quartier des Obiers",null,"Nogent-sur-Oise","Chaleur",null,null,42305,0,0,0,{"$f":"((J48)*('FE5'!$G69))/1000","v":7.7418149999999999},{"$f":"((K48)*('FE5'!$G69))/1000","v":0},{"$f":"((L48)*('FE5'!$G69))/1000","v":0},{"$f":"((M48)*('FE5'!$G69))/1000","v":0},"L’ANNUAIRE DES RÉSEAUX DE CHALEUR ET DE FROID 2014/2015 (données 2012)",{"$f":"D3a!$D$6","v":0.54611092878240886},0,0,0,0.45388907121759114,0,"NORENER 2014 - données 2019"]
[null,null,null,"Les Martinets",null,"Montataire","Chaleur",null,null,0,0,0,0,{"$f":"((J49)*('FE5'!$G70))/1000","v":0},{"$f":"((K49)*('FE5'!$G70))/1000","v":0},{"$f":"((L49)*('FE5'!$G70))/1000","v":0},{"$f":"((M49)*('FE5'!$G70))/1000","v":0},"Cessation d'activité en 2014 : Annexe I de l'arrêté du 24 janvier 2014.",{"$f":"D3a!$D$6","v":0.54611092878240886},0,0,0,0.45388907121759114,0,"NORENER 2014 - données 2020"]
[null,null,null,"Réseau du Quartier Saint-Jean",null,"Beauvais","Chaleur",null,null,30000,0,0,0,{"$f":"((J50)*('FE5'!$G71))/1000","v":0.39},{"$f":"((K50)*('FE5'!$G71))/1000","v":0},{"$f":"((L50)*('FE5'!$G71))/1000","v":0},{"$f":"((M50)*('FE5'!$G71))/1000","v":0},"http://www.cram.fr/project/ville-de-beauvais-quartier-st-jean/",{"$f":"D3a!$D$6","v":0.54611092878240886},0,0,0,0.45388907121759114,0,"NORENER 2014 - données 2021"]
[null,null,null,"Réseau de Breteuil-sur-Noye",null,"Breteuil-sur-Noye","Chaleur",null,null,6230,0,0,0,{"$f":"((J51)*('FE5'!$G72))/1000","v":0.15575},{"$f":"((K51)*('FE5'!$G72))/1000","v":0},{"$f":"((L51)*('FE5'!$G72))/1000","v":0},{"$f":"((M51)*('FE5'!$G72))/1000","v":0},"http://www.ville-breteuil.fr/mode-texte/fr/information/63260/chaufferie-biomasse-reseau-chaleur",{"$f":"D3a!$D$6","v":0.54611092878240886},0,0,0,0.45388907121759114,0,"NORENER 2014 - données 2022"]
[null,null,null,null,null,null,"Chaleur",null,null,null,0,0,0,{"$f":"((J52)*('FE5'!$G73))/1000","v":0},{"$f":"((K52)*('FE5'!$G73))/1000","v":0},{"$f":"((L52)*('FE5'!$G73))/1000","v":0},{"$f":"((M52)*('FE5'!$G73))/1000","v":0},null,{"$f":"D3a!$D$6","v":0.54611092878240886},0,0,0,0.45388907121759114,0,"NORENER 2014 - données 2023"]
[null,null,"Somme","Etouvie",null,"Amiens","Chaleur",null,null,30035,0,0,0,{"$f":"((J53)*('FE5'!$G74))/1000","v":7.7790650000000001},{"$f":"((K53)*('FE5'!$G74))/1000","v":0},{"$f":"((L53)*('FE5'!$G74))/1000","v":0},{"$f":"((M53)*('FE5'!$G74))/1000","v":0},"L’ANNUAIRE DES RÉSEAUX DE CHALEUR ET DE FROID 2014/2015 (données 2012)",{"$f":"D3a!$D$6","v":0.54611092878240886},0,0,0,0.45388907121759114,0,"NORENER 2014 - données 2024"]
[null,null,null,"Réseau de Montdidier",null,"Montdidier","Chaleur",null,null,6970,0,0,0,{"$f":"((J54)*('FE5'!$G75))/1000","v":0.52275000000000005},{"$f":"((K54)*('FE5'!$G75))/1000","v":0},{"$f":"((L54)*('FE5'!$G75))/1000","v":0},{"$f":"((M54)*('FE5'!$G75))/1000","v":0},"L’ANNUAIRE DES RÉSEAUX DE CHALEUR ET DE FROID 2014/2015 (données 2012)",{"$f":"D3a!$D$6","v":0.54611092878240886},0,0,0,0.45388907121759114,0,"NORENER 2014 - données 2025"]
[null,null,null,"Réseau d'Abbeville",null,"Abbeville","Chaleur",null,null,10511,0,0,0,{"$f":"((J55)*('FE5'!$G76))/1000","v":1.114166},{"$f":"((K55)*('FE5'!$G76))/1000","v":0},{"$f":"((L55)*('FE5'!$G76))/1000","v":0},{"$f":"((M55)*('FE5'!$G76))/1000","v":0},"L’ANNUAIRE DES RÉSEAUX DE CHALEUR ET DE FROID 2014/2015 (données 2012)",{"$f":"D3a!$D$6","v":0.54611092878240886},0,0,0,0.45388907121759114,0,"NORENER 2014 - données 2026"]
[null,null,null,null,null,null,"Chaleur",null,null,null,0,0,0,{"$f":"((J56)*('FE5'!$G77))/1000","v":0},{"$f":"((K56)*('FE5'!$G77))/1000","v":0},{"$f":"((L56)*('FE5'!$G77))/1000","v":0},{"$f":"((M56)*('FE5'!$G77))/1000","v":0},null,{"$f":"D3a!$D$6","v":0.54611092878240886},0,0,0,0.45388907121759114,0,"NORENER 2014 - données 2027"]
[null,null,"Total",null,null,null,null,null,null,{"$f":"SUM(J9:J56)","v":1561251},{"$f":"SUM(K9:K56)","v":0},0,0,297.93353484999994,0,0,0]
[]
[]
[null,"Production de froid par réseau en Hauts-de-France"]
[null,null,null,null,null,null,null,null,null,null,null,null,null,null,null,null,null,null,"Répartition des consommations sur le territoire par poste"]
[null,null,null,null,null,null,null,"Part de la production située sur le territoire (%)","Part de la production consommée par le territoire (%)","Production du réseau (MWh)","Production du territoire  (MWh)","Production du territoire consommée sur le territoire (MWh)","Production du territoire exportée (MWh)","Emissions produites par les réseaux (t eq CO2)","Emissions produites sur le territoire (t eq CO2)","Emissions produites et consommées par le territoire (t eq CO2)","Emissions exportées (t eq CO2)","Source","Résidentiel","Déplacements","Biens de consommation","Alimentation","Services","Travaux","Source"]
[null,null,"Nord",null,null,null,"Froid",null,null,null,{"$f":"H63*J63","v":0},{"$f":"I63*J63*H63","v":0},{"$f":"K63-L63","v":0},{"$f":"((J63*1000)*('FE5'!$G69))/1000","v":0},{"$f":"((K63*1000)*('FE5'!$G69))/1000","v":0},{"$f":"((L63*1000)*('FE5'!$G69))/1000","v":0},{"$f":"((M63*1000)*('FE5'!$G69))/1000","v":0},null,0,0,{"$f":"1-W63","v":3.0000000000000027E-2},0,{"$f":"D3a!$D$7","v":0.97},0,{"$f":"D3a!$E$7","v":"Enquête de branche SNCU 2015"}]
[null,null,null,null,null,null,"Froid",null,null,null,{"$f":"H64*J64","v":0},0,0,{"$f":"((J64*1000)*('FE5'!$G70))/1000","v":0},{"$f":"((K64*1000)*('FE5'!$G70))/1000","v":0},{"$f":"((L64*1000)*('FE5'!$G70))/1000","v":0},{"$f":"((M64*1000)*('FE5'!$G70))/1000","v":0},null,0,0,{"$f":"1-W64","v":3.0000000000000027E-2},0,{"$f":"D3a!$D$7","v":0.97},0,{"$f":"D3a!$E$7","v":"Enquête de branche SNCU 2015"}]
[null,null,"Pas-de-calais",null,null,null,"Froid",null,null,null,0,0,0,{"$f":"((J65*1000)*('FE5'!$G71))/1000","v":0},{"$f":"((K65*1000)*('FE5'!$G71))/1000","v":0},{"$f":"((L65*1000)*('FE5'!$G71))/1000","v":0},{"$f":"((M65*1000)*('FE5'!$G71))/1000","v":0},null,0,0,3.0000000000000027E-2,0,{"$f":"D3a!$D$7","v":0.97},0,{"$f":"D3a!$E$7","v":"Enquête de branche SNCU 2015"}]
[null,null,null,null,null,null,"Froid",null,null,null,0,0,0,{"$f":"L66-M66","v":0},{"$f":"M66-N66","v":0},{"$f":"N66-O66","v":0},{"$f":"O66-P66","v":0},null,0,0,3.0000000000000027E-2,0,{"$f":"D3a!$D$7","v":0.97},0,{"$f":"D3a!$E$7","v":"Enquête de branche SNCU 2015"}]
[null,null,"Aisne",null,null,null,"Froid",null,null,null,0,0,0,0,0,0,0,null,0,0,3.0000000000000027E-2,0,{"$f":"D3a!$D$7","v":0.97},0,{"$f":"D3a!$E$7","v":"Enquête de branche SNCU 2015"}]
[null,null,null,null,null,null,"Froid",null,null,null,0,0,0,0,0,0,0,null,0,0,3.0000000000000027E-2,0,{"$f":"D3a!$D$7","v":0.97},0,{"$f":"D3a!$E$7","v":"Enquête de branche SNCU 2015"}]
[null,null,"Oise",null,null,null,"Froid",null,null,null,0,0,0,0,0,0,0,null,0,0,3.0000000000000027E-2,0,{"$f":"D3a!$D$7","v":0.97},0,{"$f":"D3a!$E$7","v":"Enquête de branche SNCU 2015"}]
[null,null,null,null,null,null,"Froid",null,null,null,0,0,0,0,0,0,0,null,0,0,3.0000000000000027E-2,0,{"$f":"D3a!$D$7","v":0.97},0,{"$f":"D3a!$E$7","v":"Enquête de branche SNCU 2015"}]
[null,null,"Somme",null,null,null,"Froid",null,null,null,0,0,0,0,0,0,0,null,0,0,3.0000000000000027E-2,0,{"$f":"D3a!$D$7","v":0.97},0,{"$f":"D3a!$E$7","v":"Enquête de branche SNCU 2015"}]
[null,null,null,null,null,null,"Froid",null,null,null,0,0,0,0,0,0,0,null,0,0,3.0000000000000027E-2,0,{"$f":"D3a!$D$7","v":0.97},0,{"$f":"D3a!$E$7","v":"Enquête de branche SNCU 2015"}]
[null,null,"Total",null,null,null,null,null,null,{"$f":"SUM(J63:J72)","v":0},{"$f":"SUM(K63:K72)","v":0},0,0,0,0,0,0]
[]
[]
["B.","Production de chaleur et froid par poste ESPASS (MWh)"]
[]
[null,"Territoire - réseaux de chaleur - production de chaleur sur le territoire- répartition par poste"]
[]
[null,null,"Résidentiel",{"$f":"SUMPRODUCT(L9:L56,S9:S56)","v":0},"MWh"]
[null,null,"Déplacements",{"$f":"SUMPRODUCT(L9:L56,T9:T56)","v":0},"MWh"]
[null,null,"Biens de consommation",{"$f":"SUMPRODUCT(L9:L56,U9:U56)+SUM(M9:M56)","v":0},"MWh"]
[null,null,"Alimentation",{"$f":"SUMPRODUCT(L9:L56,V9:V56)","v":0},"MWh"]
[null,null,"Services",{"$f":"SUMPRODUCT(L9:L56,W9:W56)","v":0},"MWh"]
[null,null,"Travaux",{"$f":"SUMPRODUCT(L9:L56,X9:X56)","v":0},"MWh"]
[null,null,"Production d'énergie",{"$f":"SUMIF(G9:G56,\"Chaleur\",L9:L56)","v":0},"MWh","Source:","Enquête nationale sur les réseaux de chaleur et de froid SOeS 2014 (données 2012)",null,null,null,null,null,null," "]
[]
[]
[]
[null,"Territoire - réseaux de froid - production de froid sur le territoire"]
[]
[null,null,"Résidentiel",{"$f":"SUMPRODUCT(L63:L72,S63:S72)","v":0},"MWh"]
[null,null,"Déplacements",{"$f":"SUMPRODUCT(L63:L72,T63:T72)","v":0},"MWh"]
[null,null,"Biens de consommation",{"$f":"SUMPRODUCT(L63:L72,U63:U72)+SUM(M63:M72)","v":0},"MWh"]
[null,null,"Alimentation",{"$f":"SUMPRODUCT(L63:L72,V63:V72)","v":0},"MWh"]
[null,null,"Services",{"$f":"SUMPRODUCT(L63:L72,W63:W72)","v":0},"MWh"]
[null,null,"Travaux",{"$f":"SUMPRODUCT(L63:L72,X63:X72)","v":0},"MWh"]
[null,null,"Production d'énergie",{"$f":"SUMIF(G21:G73,\"Chaleur\",L21:L73)","v":0},"MWh","Source:"]
[]
[]
[]
["C.","Production de chaleur et froid par poste PCAET (MWh)"]
[]
[null,"Production de chaleur par poste PCAET"]
[]
[null,null,null,"Part de la consommation destinée au poste","Production totale"]
[null,null,"Industrie branche énergie",1,{"$f":"$D$86*D107","v":0},"MWh"]
[]
[]
[]
[null,"Production de froid par poste PCAET"]
[]
[null,null,null,"Part de la consommation destinée au poste","Production totale"]
[null,null,"Industrie branche énergie",1,{"$f":"$D$98*D114","v":0},"MWh"]
[]
[]
[]
["D.","Emissions liées aux réseaux de chaleur et de froid - par poste ESPASS"]
[]
[null,"Territoire - réseaux de chaleur et de froid - émissions directes - répartition par poste"]
[]
[null,null,null,"Emissions directes"]
[null,null,"Résidentiel",{"$f":"SUMPRODUCT(P9:P56,S9:S56)+SUMPRODUCT(P63:P72,S63:S72)","v":0},"kt eq CO2"]
[null,null,"Déplacements",{"$f":"SUMPRODUCT(P9:P56,T9:T56)+SUMPRODUCT(P63:P72,T63:T72)","v":0},"kt eq CO2"]
[null,null,"Biens de consommation",{"$f":"SUMPRODUCT(P9:P56,U9:U56)+SUM(Q9:Q56)+SUMPRODUCT(P63:P72,U63:U72)+SUM(Q63:Q72)","v":0},"kt eq CO2"]
[null,null,"Alimentation",{"$f":"SUMPRODUCT(P9:P56,V9:V56)+SUMPRODUCT(P63:P72,V63:V72)","v":0},"kt eq CO2"]
[null,null,"Services",{"$f":"SUMPRODUCT(P9:P56,W9:W56)+SUMPRODUCT(P63:P72,W63:W72)","v":0},"kt eq CO2"]
[null,null,"Travaux",{"$f":"SUMPRODUCT(O9:O56,X9:X56)+SUMPRODUCT(P63:P72,X63:X72)","v":0},"kt eq CO2"]
[null,null,"Total",{"$f":"SUM(D123:D128)","v":0},"kt eq CO2",null,null,null,null,null,null,null,null," "]
[]
[]
["E.","Emissions liées aux réseaux de chaleur et de froid - par poste PCAET"]
[]
[null,"Territoire - réseaux de chaleur - émissions liées à la consommation - répartition par poste"]
[]
[null,null,null,"Emissions directes"]
[null,null,"Résidentiel",null,"kt eq CO2"]
[null,null,"Tertiaire",null,"kt eq CO2"]
[null,null,"Transport routier",null,"kt eq CO2"]
[null,null,"Autres transports",null,"kt eq CO2"]
[null,null,"Agriculture",null,"kt eq CO2"]
[null,null,"Déchets",null,"kt eq CO2"]
[null,null,"Industrie hors branche énergie",null,"kt eq CO2",null,null,null,null,null,null,null,null," "]
[null,null,"Industrie branche énergie",{"$f":"D114*D129","v":0},"kt eq CO2"]
[null,null,"Total",{"$f":"SUM(D137:D144)","v":0},"kt eq CO2",null,null,null,null,null,null,null,null," "]

{"sheet":"D3a","index":7,"n_rows":13,"n_cols":5,"rows_kept":13,"cut":false,"hidden":false,"merged":[[12,4,12,6],[8,4,8,6],[9,4,9,6],[4,4,4,6],[5,4,5,6],[7,4,7,6],[11,4,11,6],[10,4,10,6],[6,4,6,6]]}
[]
[null,"Données nécessaires pour établir la correspondance des secteurs MyEmiss'Air"]
[]
[]
[null,null,null,"Valeur","Source"]
[null,null,"% chauffage urbain utilisé dans le résidentiel",{"$f":"83.2/(61.11+8.04+83.2)","v":0.54611092878240886},"NORENER 2017 Hauts de France- données 2014"]
[null,null,"% réseaux de froid utilisé dans le tertiaire",0.97,"Enquête de branche SNCU 2015"]
[null,null,"% transport ferroviaire pour des déplacements",0.8,"Calcul basé sur \"Les comptes des transports\" du SOeS"]
[null,null,"% transport fluvial pour des déplacements",0.02,"ATMO NPdC- appliqué aux hauts de France"]
[null,null,"% VUL détenu par des particuliers",0.4,"Chiffres et statistiques du SOeS"]
[null,null,"Transport routier de marchandises : \n% t.km réalisées pour des produits agricoles et agroalimentaires",0.3,"SITRAM - transport national"]
[null,null,"Transport fluvial de marchandises : \n% t.km réalisées pour des produits agricoles et agroalimentaires ",0.27,"SITRAM - transport national"]
[null,null,"Transport ferroviaire de marchandises : \n% t.km réalisées pour des produits agricoles et agroalimentaires ",0.24,"SITRAM - transport national"]

{"sheet":"D3b","index":8,"n_rows":167,"n_cols":16,"rows_kept":167,"cut":false,"hidden":false,"merged":[[8,3,8,4],[9,3,9,4],[10,3,10,4],[11,3,11,4],[23,3,23,4],[12,3,12,4],[13,3,13,4],[14,3,14,4],[15,3,15,4],[16,3,16,4],[17,3,17,4],[18,3,18,4],[22,3,22,4],[19,3,19,4],[20,3,20,4],[21,3,21,4],[42,2,42,4],[37,3,37,4],[31,3,31,4],[41,3,41,4],[36,3,36,4],[40,3,40,4],[32,3,32,4],[33,3,33,4],[34,3,34,4],[38,3,38,4],[39,3,39,4],[35,3,35,4],[28,15,28,18],[29,3,29,4],[30,3,30,4],[24,3,24,4],[25,3,25,4],[26,3,26,4],[27,3,27,4],[28,3,28,4]]}
[]
[null,"Correspondance postes ESPASS <> MyEmiss'Air"]
[]
[null,"Tableau des correspondances"]
[]
[]
[]
[null,null,null,null,null,"Résidentiel","Déplacements","Biens de consommation","Alimentation","Services","Travaux","Total"]
[null,null,"Agriculture","Autres sources de l'agriculture (tracteurs, …)",null,null,null,null,{"$f":"D135","v":1},null,null,{"$f":"SUM(F9:K9)","v":1}]
[null,null,null,"Culture",null,null,null,null,{"$f":"D136","v":1},null,null,1]
[null,null,null,"Elevage",null,null,null,null,{"$f":"D137","v":1},null,null,1]
[null,null,"Autres transports","Transport aérien français",null,null,{"$f":"D70","v":1},null,null,null,null,1]
[null,null,null,"Transport ferroviaire",null,null,{"$f":"D71","v":0.8},{"$f":"D112","v":0.15199999999999997},{"$f":"D139","v":4.7999999999999987E-2},null,null,1]
[null,null,null,"Transport fluvial",null,null,{"$f":"D72","v":0.02},{"$f":"D113","v":0.71539999999999992},{"$f":"D140","v":0.2646},null,null,1]
[null,null,"IDEC","Agro-alimentaire",null,null,null,null,{"$f":"D138","v":1},null,null,1]
[null,null,null,"Autres secteurs de l'industrie et non spécifié",null,null,null,{"$f":"D105","v":1},null,null,null,1]
[null,null,null,"Biens d'équipement, matériels de transport…",null,null,null,{"$f":"D103","v":1},null,null,null,1]
[null,null,null,"Chimie organique, non-organique et divers",null,null,null,{"$f":"D101","v":1},null,null,null,1]
[null,null,null,"Construction",null,null,null,null,null,null,{"$f":"D165","v":1},1]
[null,null,null,"Métallurgie des métaux ferreux",null,null,null,{"$f":"D98","v":1},null,null,null,1]
[null,null,null,"Métallurgie des métaux non-ferreux",null,null,null,{"$f":"D100","v":1},null,null,null,1]
[null,null,null,"Minéraux non-métalliques et matériaux de construction",null,null,null,0.11,null,null,0.89,1,null,null,"Source","Calculs RDC sur base de ATMO et GEREP 2012 (émissions déclarées)"]
[null,null,null,"Papier, carton",null,null,null,{"$f":"D102","v":1},null,null,null,1]
[null,null,null,"tous secteurs IM",null,null,null,{"$f":"D104","v":1},null,null,null,1]
[null,null,null,"Traitement des déchets",null,null,null,null,null,{"$f":"D154","v":1},null,1]
[null,null,null,"Traitement dechets industrie",null,null,null,null,null,1,null,1]
[null,null,"Résidentiel tertiaire","Résidentiel",null,{"$f":"D52","v":1},null,null,null,null,null,1]
[null,null,null,"Tertiaire, commercial et institutionnel",null,null,null,null,null,{"$f":"D153","v":1},null,1]
[null,null,"Transformation de l'énergie","Chauffage urbain",null,{"$f":"IFERROR(D2b!D80/D2b!D86,D3a!$D$6)","v":0.54611092878240886},{"$f":"IFERROR(D2b!D81/D2b!D86,0)","v":0},{"$f":"IFERROR(D2b!D82/D2b!D86,0)","v":0},{"$f":"IFERROR(D2b!D83/D2b!D86,0)","v":0},{"$f":"IFERROR(D2b!D84/D2b!D86,1-D3a!D6)","v":0.45388907121759114},{"$f":"IFERROR(D2b!D85/D2b!D86, 0)","v":0},1]
[null,null,null,"Extraction des combustibles gazeux et distribution d'énergie",null,null,null,{"$f":"D107","v":1},null,null,null,1]
[null,null,null,"Extraction des combustibles liquides et distribution d'énergie",null,null,null,{"$f":"D108","v":1},null,null,null,1]
[null,null,null,"Extraction des combustibles solides et distribution d'énergie",null,null,null,{"$f":"D109","v":1},null,null,null,1]
[null,null,null,"Production d'électricité",null,null,null,1,null,null,null,1]
[null,null,null,"Raffinage de pétrole",null,null,null,{"$f":"D111","v":1},null,null,null,1]
[null,null,null,"Transformation des combustibles minéraux solides – siderurgies",null,null,null,{"$f":"D99","v":1},null,null,null,1]
[null,null,"Transport routier","Deux roues",null,null,{"$f":"D75","v":1},null,null,null,null,1]
[null,null,null,"evap essence",null,null,{"$f":"D76","v":1},null,null,null,null,1]
[null,null,null,"Poids lourds",null,null,null,{"$f":"D114","v":0.7},{"$f":"D141","v":0.3},null,null,1]
[null,null,null,"trafic diffus",null,null,{"$f":"D77","v":1},null,null,null,null,1]
[null,null,null,"usure routes",null,null,{"$f":"D78","v":1},null,null,null,null,1]
[null,null,null,"Voitures particulières",null,null,{"$f":"D73","v":1},null,null,null,null,1]
[null,null,null,"VUL",null,null,{"$f":"D74","v":0.4},{"$f":"D115","v":0.42},{"$f":"D142","v":0.18},null,null,1]
[null,null,"Autres sources non antrophiques"]
[]
[]
[]
["A.","Correspondances - résidentiel"]
[]
[null,"Résidentiel - correspondances"]
[]
[null,null,"Poste MyEmiss'Air","Résidentiel"]
[null,null,"Résidentiel",1]
[null,null,"Chauffage urbain",{"$f":"F29","v":0.54611092878240886}]
[]
[]
[]
["B.","Correspondances - déplacements"]
[]
[null,"Déplacements - données utilisées pour établir la correspondance"]
[]
[null,null,null,"Valeur"]
[null,null,"% transport ferroviaire pour des déplacements",{"$f":"D3a!D8","v":0.8}]
[null,null,"% transport fluvial pour des déplacements",{"$f":"D3a!D9","v":0.02}]
[null,null,"% VUL détenu par des particuliers",{"$f":"D3a!D10","v":0.4}]
[]
[]
[null,"Déplacements - correspondances"]
[]
[null,null,"Poste MyEmiss'Air","Déplacements","Sous-catégorie de déplacements"]
[null,null,"Transport aérien français",1,"Avion"]
[null,null,"Transport ferroviaire",{"$f":"D62","v":0.8},"Train"]
[null,null,"Transport fluvial",{"$f":"D63","v":0.02},"Bateau"]
[null,null,"Voitures particulières",1,"Routier"]
[null,null,"VUL",{"$f":"D64","v":0.4},"Routier"]
[null,null,"Deux roues",1,"Routier"]
[null,null,"evap essence",1,"Routier"]
[null,null,"trafic diffus",1,"Routier"]
[null,null,"usure routes",1,"Routier"]
[]
[]
[]
["C.","Correspondances - biens de consommation"]
[]
[null,"Biens de consommation - données utilisées pour établir la correspondance"]
[]
[null,null,null,"Valeur"]
[null,null,"% VUL détenus par des non particuliers",{"$f":"1-D3a!$D$10","v":0.6}]
[null,null,"Transport routier de marchandises : \n% t.km réalisées pour des produits non agricoles et non agroalimentaires",{"$f":"1-D3a!D11","v":0.7}]
[null,null,"Transport ferroviaire : \n% des émissions liées au transport de marchandises ",{"$f":"1-D3a!D8","v":0.19999999999999996}]
[null,null,"Transport ferroviaire de marchandises : \n% t.km réalisées pour des produits non agricoles et non agroalimentaires ",{"$f":"1-D3a!D13","v":0.76}]
[null,null,"Transport fluvial : \n% des émissions liées au transport de marchandises ",{"$f":"1-D3a!D9","v":0.98}]
[null,null,"Transport fluvial de marchandises :\n% t.km réalisées pour des produits non agricoles et non agroalimentaires ",{"$f":"1-D3a!D12","v":0.73}]
[]
[]
[null,"Biens de consommation - correspondances"]
[]
[null,null,"Poste MyEmiss'Air","Consommation","Sous-catégorie de consommation"]
[null,null,"Métallurgie des métaux ferreux",1,"Industrie - sidérurgie"]
[null,null,"Transformation des combustibles minéraux solides – siderurgies",1,"Industrie - sidérurgie"]
[null,null,"Métallurgie des métaux non-ferreux",1,"Industrie - métallurgie non ferreux"]
[null,null,"Chimie organique, non-organique et divers",1,"Industrie - chimie"]
[null,null,"Papier, carton",1,"Industrie - papier carton"]
[null,null,"Biens d'équipement, matériels de transport…",1,"Industrie - automobile"]
[null,null,"tous secteurs IM",1,"Industrie - divers"]
[null,null,"Autres secteurs de l'industrie et non spécifié",1,"Industrie - divers"]
[null,null,"Chauffage urbain",{"$f":"H29","v":0},"Industrie - divers"]
[null,null,"Extraction des combustibles gazeux et distribution d'énergie",1,"Industrie - énergie"]
[null,null,"Extraction des combustibles liquides et distribution d'énergie",1,"Industrie - énergie"]
[null,null,"Extraction des combustibles solides et distribution d'énergie",1,"Industrie - énergie"]
[null,null,"Production d'électricité",{"$f":"H33","v":1},"Industrie- énergie"]
[null,null,"Raffinage de pétrole",1,"Industrie - énergie"]
[null,null,"Transport ferroviaire",{"$f":"D89*D90","v":0.15199999999999997},"Fret"]
[null,null,"Transport fluvial",{"$f":"D91*D92","v":0.71539999999999992},"Fret"]
[null,null,"Poids lourds",{"$f":"D88","v":0.7},"Fret"]
[null,null,"VUL",{"$f":"D87*D88","v":0.42},"Fret"]
[]
[]
[]
["D.","Correspondances - alimentation"]
[]
[null,"Alimentation - données utilisées pour établir la correspondance"]
[]
[null,null,null,"Valeur"]
[null,null,"% VUL détenus par des non particuliers",{"$f":"1-D3a!D10","v":0.6}]
[null,null,"Transport routier de marchandises : \n% t.km réalisées pour des produits agricoles et agroalimentaires",{"$f":"D3a!D11","v":0.3}]
[null,null,"Transport ferroviaire : \n% des émissions liées au transport de marchandises ",{"$f":"1-D3a!D8","v":0.19999999999999996}]
[null,null,"Transport ferroviaire de marchandises : \n% t.km réalisées pour des produits agricoles et agroalimentaires ",{"$f":"D3a!D13","v":0.24}]
[null,null,"Transport fluvial : \n% des émissions liées au transport de marchandises ",{"$f":"1-D3a!D9","v":0.98}]
[null,null,"Transport fluvial de marchandises : \n% t.km réalisées pour des produits agricoles et agroalimentaires ",{"$f":"D3a!D12","v":0.27}]
[]
[]
[null,"Alimentation - correspondances "]
[]
[null,null,"Poste MyEmiss'Air","Alimentation","Sous-catégorie de consommation"]
[null,null,"Autres sources de l'agriculture (tracteurs, …)",1,"Agriculture"]
[null,null,"Culture",1,"Agriculture"]
[null,null,"Elevage",1,"Agriculture"]
[null,null,"Agro-alimentaire",1,"Agroalimentaire"]
[null,null,"Transport ferroviaire",{"$f":"D126*D127","v":4.7999999999999987E-2},"Fret"]
[null,null,"Transport fluvial",{"$f":"D128*D129","v":0.2646},"Fret"]
[null,null,"Poids lourds",{"$f":"D125","v":0.3},"Fret"]
[null,null,"VUL",{"$f":"D124*D125","v":0.18},"Fret"]
[null,null,"Chauffage urbain",{"$f":"I29","v":0},"Chauffage urbain"]
[]
[]
[]
["E.","Correspondances - services"]
[]
[]
[null,"Services - correspondances"]
[]
[null,null,"Poste MyEmiss'Air","Services","Sous-catégorie de services"]
[null,null,"Tertiaire, commercial et institutionnel",1,"Services hors déchets"]
[null,null,"Traitement des déchets",1,"Déchets"]
[null,null,"Traitement des déchets industrie",1,"Déchets"]
[null,null,"Chauffage urbain",{"$f":"J29","v":0.45388907121759114},"Chauffage urbain"]
[]
[]
[]
["F.","Correspondances - travaux"]
[]
[null,"Travaux - correspondances"]
[]
[null,null,"Poste MyEmiss'Air","Travaux"]
[null,null,"Construction",1]
[null,null,"Minéraux non-métalliques et matériaux de construction",1]
[null,null,"Chauffage urbain",{"$f":"K29","v":0}]

{"sheet":"D3c","index":9,"n_rows":43,"n_cols":14,"rows_kept":43,"cut":false,"hidden":false,"merged":[[13,3,13,4],[8,3,8,4],[9,3,9,4],[10,3,10,4],[11,3,11,4],[12,3,12,4],[25,3,25,4],[14,3,14,4],[15,3,15,4],[16,3,16,4],[17,3,17,4],[18,3,18,4],[19,3,19,4],[20,3,20,4],[21,3,21,4],[22,3,22,4],[23,3,23,4],[24,3,24,4],[36,3,36,4],[26,3,26,4],[27,3,27,4],[28,3,28,4],[29,3,29,4],[30,3,30,4],[31,3,31,4],[32,3,32,4],[33,3,33,4],[34,3,34,4],[35,3,35,4],[42,2,42,4],[37,3,37,4],[38,3,38,4],[39,3,39,4],[40,3,40,4],[41,3,41,4]]}
[]
[null,"Correspondance postes PCAET <> MyEmiss'Air"]
[]
[null,"Tableau des correspondances"]
[]
[]
[]
[null,null,null,null,null,"Résidentiel","Tertiaire","Transport routier","Autres transports","Agriculture","Déchets","Industrie hors branche énergie","Industrie branche énergie","Total"]
[null,null,"Agriculture","Autres sources de l'agriculture (tracteurs, …)",null,null,null,null,null,1,null,null,null,{"$f":"SUM(F9:M9)","v":1}]
[null,null,null,"Culture",null,null,null,null,null,1,null,null,null,{"$f":"SUM(F10:M10)","v":1}]
[null,null,null,"Elevage",null,null,null,null,null,1,null,null,null,1]
[null,null,"Autres transports","Transport aérien français",null,null,null,null,1,null,null,null,null,1]
[null,null,null,"Transport ferroviaire",null,null,null,null,1,null,null,null,null,1]
[null,null,null,"Transport fluvial",null,null,null,null,1,null,null,null,null,1]
[null,null,"IDEC","Agro-alimentaire",null,null,null,null,null,null,null,1,null,1]
[null,null,null,"Autres secteurs de l'industrie et non spécifié",null,null,null,null,null,null,null,1,null,1]
[null,null,null,"Biens d'équipement, matériels de transport…",null,null,null,null,null,null,null,1,null,1]
[null,null,null,"Chimie organique, non-organique et divers",null,null,null,null,null,null,null,1,null,1]
[null,null,null,"Construction",null,null,null,null,null,null,null,1,null,1]
[null,null,null,"Métallurgie des métaux ferreux",null,null,null,null,null,null,null,1,null,1]
[null,null,null,"Métallurgie des métaux non-ferreux",null,null,null,null,null,null,null,1,null,1]
[null,null,null,"Minéraux non-métalliques et matériaux de construction",null,null,null,null,null,null,null,1,null,1]
[null,null,null,"Papier, carton",null,null,null,null,null,null,null,1,null,1]
[null,null,null,"tous secteurs IM",null,null,null,null,null,null,null,1,null,1]
[null,null,null,"Traitement des déchets",null,null,null,null,null,null,1,null,null,1]
[null,null,null,"traitement dechets industrie",null,null,null,null,null,null,1,null,null,1]
[null,null,"Résidentiel tertiaire","Résidentiel",null,1,null,null,null,null,null,null,null,1]
[null,null,null,"Tertiaire, commercial et institutionnel",null,null,1,null,null,null,null,null,null,1]
[null,null,"Transformation de l'énergie","Chauffage urbain",null,null,null,null,null,null,null,null,1]
[null,null,null,"Extraction des combustibles gazeux et distribution d'énergie",null,null,null,null,null,null,null,null,1,1]
[null,null,null,"Extraction des combustibles liquides et distribution d'énergie",null,null,null,null,null,null,null,null,1,1]
[null,null,null,"Extraction des combustibles solides et distribution d'énergie",null,null,null,null,null,null,null,null,1,1]
[null,null,null,"Production d'électricité",null,null,null,null,null,null,null,null,1,1]
[null,null,null,"Raffinage de pétrole",null,null,null,null,null,null,null,null,1,1]
[null,null,null,"Transformation des combustibles minéraux solides – siderurgies",null,null,null,null,null,null,null,null,1,1]
[null,null,"Transport routier","Deux roues",null,null,null,1,null,null,null,null,null,1]
[null,null,null,"evap essence",null,null,null,1,null,null,null,null,null,1]
[null,null,null,"Poids lourds",null,null,null,1,null,null,null,null,null,1]
[null,null,null,"trafic diffus",null,null,null,1,null,null,null,null,null,1]
[null,null,null,"usure routes",null,null,null,1,null,null,null,null,null,1]
[null,null,null,"Voitures particulières",null,null,null,1,null,null,null,null,null,1]
[null,null,null,"VUL",null,null,null,1,null,null,null,null,null,1]
[null,null,"Autres sources non antrophiques"]

{"sheet":"D4a","index":10,"n_rows":74,"n_cols":15,"rows_kept":74,"cut":false,"hidden":false,"merged":[[21,11,21,12],[61,8,61,10],[59,8,59,10],[60,8,60,10],[38,9,38,10],[38,12,38,13],[14,3,14,4],[34,9,34,10],[51,8,51,9],[50,8,50,10],[39,9,39,10]]}
[]
[null,"STOCK DE CARBONE"]
[]
[]
[]
[]
[]
[]
[]
[]
["A.","Stock dans les sols"]
[]
[null,"Source(s):","http://www.arch.nordpasdecalais.fr/ ",null,"http://opendata.hautsdefrance.fr",null,null,"http://geoidd.developpement-durable.gouv.fr/geoclip_stats_o3/index.php#l=fr "]
[]
[null,null,null,"Année des données: ",null,2012]
[null,null,null,"Année de la méthodologie: ",null,2012,null,"Source:","CORINE Land Cover, UE-SDES"]
[]
[null,"1 - surfaces du territoire par type d'occupation du sol (hors haies)",null,null,null,null,null,"Source suggérée pour l'amélioration des données","ARCH"]
[]
[null,null,null,"Surfaces \n(ha)","Stock carbone\n(kt CO2)"]
[null,null,"Cultures",null,{"$f":"D21*'FE4'!G10/1000","v":0}]
[null,null,"Forêts ",null,{"$f":"D22*'FE4'!G11/1000","v":0},null,null,"Superficie régionale de forêt",432054,"ha","Source:","CORINE Land Cover, UE-SDES"]
[null,null,"Prairies",null,{"$f":"D23*'FE4'!G12/1000","v":0}]
[null,null,"Espaces artificialisés",null,{"$f":"D24*'FE4'!G13/1000","v":0}]
[null,null,"Espaces verts",null,{"$f":"D25*'FE4'!G14/1000","v":0}]
[null,null,"Milieux humides",null,{"$f":"D26*'FE4'!G15/1000","v":0}]
[null,null,"Total",{"$f":"SUM(D21:D26)","v":0},{"$f":"SUM(E21:E26)","v":0}]
[]
[]
[]
["B.","Stock dans la biomasse"]
[]
[null,"1 - Stock de carbone - haies"]
[]
[null,null,"Largeur d'une haie",2,"m",null,null,null,"Source:","Hypothèse RDC "]
[]
[]
[null,null,null,"Linéaires haies\n(km)","Surface haies\n(ha)","Stock carbone\n(kt CO2)"]
[null,null,"Haies",null,{"$f":"D35*D39/10","v":0},{"$f":"E39*'FE4'!G16/1000","v":0},null,null,"Source:",null,null,null,"Année des données: ",null,2012]
[null,null,null,null,null,null,null,null,"Source conseillée pour affiner","ARCH",null,null,"Année de la méthodologie: ",null,2012]
[]
[null,"2 - surface forestière totale"]
[]
[null,null,null,"Surface\n(ha)","Stock carbone\n(kt CO2)"]
[null,null,"Forêt",{"$f":"D22","v":0},{"$f":"E54","v":0}]
[]
[]
[null,"3 - répartition du peuplement forestier"]
[]
[null,null,null,"Répartition","Stock carbone\n(kt CO2)"]
[null,null,"Peupleraies",0.11,{"$f":"((D$45*D51)*((D$61*(1-D$62)+D$60)*'FE4'!D25*'FE4'!E25*'FE4'!G25+'FE4'!I25))/1000","v":0},null,null,"Source:","Observatoire Régional de la Biodiversité - 2011 - Nord-Pas de Calais- extrapolé à la Picardie"]
[null,null,"Feuillus hors peupleraies",0.85,{"$f":"((D$45*D52)*((D$61*(1-D$62)+D$60)*'FE4'!D26*'FE4'!E26*'FE4'!G26+'FE4'!I26))/1000","v":0}]
[null,null,"Résineux",{"$f":"D54-D51-D52","v":4.0000000000000036E-2},{"$f":"((D$45*D53)*((D$61*(1-D$62)+D$60)*'FE4'!D27*'FE4'!E27*'FE4'!G27+'FE4'!I27))/1000","v":0}]
[null,null,"Total",1,{"$f":"SUM(E51:E53)","v":0}]
[]
[]
[null,"4 - autres caractéristiques de la forêt"]
[]
[null,null,null,"Valeur","Unité"]
[null,null,"Volume de bois fort",181,"m³ / ha",null,null,"Source:","IGN 2016 - Hauts de France"]
[null,null,"Accroissement biologique bois fort",6.7,"m³ / ha / an",null,null,"Source:","IGN 2016 - Hauts de France"]
[null,null,"Part de l'accroissement exploité",0.67,"-",null,null,"Source:","IGN 2016 - Hauts de France"]
[]
[]
[]
["C.","Stock de carbone total"]
[]
[null,"Synthèse - stock de carbone"]
[]
[null,null,null,"GES"]
[null,null,null,"kt eq CO2"]
[null,null,"Stock dans les sols",{"$f":"D4a!E27","v":0}]
[null,null,"Stock dans la biomasse",{"$f":"D4a!E54+F39","v":0}]
[null,null,"Total",{"$f":"SUM(D72:D73)","v":0}]

{"sheet":"D4b","index":11,"n_rows":90,"n_cols":10,"rows_kept":90,"cut":false,"hidden":false,"merged":[[19,9,19,10],[48,7,48,10]]}
[]
[null,"FLUX DE CARBONE"]
[]
[]
[]
[]
[]
[]
[]
[]
["A.","Flux liés au changement d'affectation des sols"]
[]
[null,"Source:","http://www.sigale.nordpasdecalais.fr/cartotheque/ATLAS/Occsol_2005/OccSol_2005.html"]
[]
[]
[]
[]
[null,"1 - bilan des mutations du sol"]
[]
[null,null,"Evolution entre  ",2006,"et ",2012,null,null,"Source:","CORINE Land Cover, UE-SDES"]
[]
[null,null,"Evolutions des surfaces (ha)","Espaces\nartificialisés","Espaces\nagricoles","Espaces\nsemi-naturels"]
[null,null,"Espaces artificialisés évoluant vers"]
[null,null,"Espaces agricoles évoluant vers"]
[null,null,"Espaces semi-naturel évoluant vers"]
[]
[null,null,"Evolutions des surfaces (ha/an)","Espaces\nartificialisés","Espaces\nagricoles","Espaces\nsemi-naturels"]
[null,null,"Espaces artificialisés évoluant vers",{"$f":"D23/($F$20-$D$20)","v":0},{"$f":"E23/($F$20-$D$20)","v":0},{"$f":"F23/($F$20-$D$20)","v":0}]
[null,null,"Espaces agricoles évoluant vers",{"$f":"D24/($F$20-$D$20)","v":0},0,0]
[null,null,"Espaces semi-naturel évoluant vers",0,0,0]
[]
[]
[null,"2 - impact des mutations du sol"]
[]
[null,null,null,"GES"]
[null,null,null,"kt eq CO2"]
[null,null,"Stockage",{"$f":"(E28*'FE4'!E38+D4b!F28*'FE4'!F38+D4b!F29*'FE4'!F39)/1000","v":0}]
[null,null,"Déstockage",{"$f":"(D29*'FE4'!D39+D4b!D30*'FE4'!D40+D4b!E30*'FE4'!E40)/1000","v":0}]
[null,null,"Total",{"$f":"D37+D38","v":0}]
[]
[]
[]
["B.","Flux dans les sols stables cultivés"]
[]
[null,"Flux total annuel dans les sols stables cultivés"]
[]
[null,null,null,"GES"]
[null,null,null,"kt eq CO2"]
[null,null,"Total",null,null,null,"Source:","Calculs Agro-transfert à l'échelle cantonale, aggrégation RDC Environment"]
[]
[]
[]
["C.","Flux dans la biomasse"]
[]
[null,"Flux dans la biomasse forêt"]
[]
[null,null,null,"Répartition","Flux carbone\n(kt CO2)"]
[null,null,"Peupleraies",{"$f":"D4a!D51","v":0.11},{"$f":"-((D58*D4a!D$45*D4a!D$61*(1-D4a!D$62)*'FE4'!D25*'FE4'!E25*'FE4'!G25))/1000","v":0}]
[null,null,"Feuillus hors peupleraies",{"$f":"D4a!D52","v":0.85},{"$f":"-((D59*D4a!D$45*D4a!D$61*(1-D4a!D$62)*'FE4'!D26*'FE4'!E26*'FE4'!G26))/1000","v":0}]
[null,null,"Résineux",{"$f":"D4a!D53","v":4.0000000000000036E-2},{"$f":"-((D60*D4a!D$45*D4a!D$61*(1-D4a!D$62)*'FE4'!D27*'FE4'!E27*'FE4'!G27))/1000","v":0}]
[null,null,"Total",{"$f":"SUM(D58:D60)","v":1},{"$f":"SUM(E58:E60)","v":0}]
[]
[]
[]
["D.","Flux de carbone total"]
[]
[null,"Synthèse - flux de carbone"]
[]
[null,null,null,"GES"]
[null,null,null,"kt eq CO2"]
[null,null,"Sols en transition",{"$f":"D39","v":0}]
[null,null,"Sols stables cultivés",{"$f":"D49","v":0}]
[null,null,"Biomasse forêt",{"$f":"E61","v":0}]
[null,null,"Total",{"$f":"SUM(D71:D73)","v":0}]
[]
[]
[]
["E.","Produits en bois"]
[]
[null,"Flux dans les produits en bois"]
[]
[null,null,null,"Valeur","Source"]
[null,null,"Volume de produits bois (m³/an)",{"$f":"0.339*population","v":0},"Valeur moyenne France calculée sur base de la consommation de bois rond industriel (2015) en France - données FAOSTAT"]
[null,null,"Taux de stockage",0.5,"Hypothèse RDC"]
[]
[null,null,null,"t eq CO2","Source"]
[null,null,"Contenu carbone des produits en bois (/m³)",0.95,"Guide ADEME PCAET 2016"]
[]
[null,null,null,"kt eq CO2"]
[null,null,"Total",{"$f":"-D83*D87*D84/1000","v":0}]

{"sheet":"I1a","index":12,"n_rows":217,"n_cols":18,"rows_kept":217,"cut":false,"hidden":false,"merged":[[180,9,180,13],[185,7,185,11],[169,6,169,7],[170,6,170,7],[171,6,171,7],[172,6,172,7],[173,6,173,7],[174,6,174,7],[175,6,175,7],[176,6,176,7],[171,10,171,11],[175,10,175,11],[45,9,45,10],[206,3,206,4],[170,2,170,4],[171,2,171,4],[172,2,172,4],[173,2,173,4],[174,2,174,4],[175,2,175,4],[178,2,178,4],[46,2,46,5],[113,2,113,5],[114,2,114,5],[146,2,146,5],[147,2,147,5],[135,2,135,5],[136,2,136,5],[144,2,144,5],[145,2,145,4],[137,2,137,5],[133,2,134,4],[115,2,115,5],[192,3,192,4],[178,9,178,13],[180,2,180,4],[115,9,115,10],[139,9,139,10],[77,9,77,13],[86,7,86,11],[87,7,87,11],[49,9,49,10],[133,9,133,10],[111,9,111,10],[112,9,112,10],[113,9,113,10],[114,9,114,10],[137,9,137,10],[117,9,117,10],[152,9,152,10],[38,9,38,10],[27,9,27,10],[148,2,148,5],[110,9,110,10],[14,2,14,5],[14,9,14,10],[73,2,73,4],[76,2,76,4],[73,9,73,13],[76,9,76,13],[79,2,79,5],[80,2,80,4],[77,2,77,4],[74,2,74,4],[104,9,104,10],[147,9,147,10],[148,9,148,10],[149,9,149,10],[149,2,149,5],[31,2,31,4],[30,2,30,4],[54,7,54,11],[55,7,55,11],[8,9,8,10],[99,9,99,10],[100,9,100,10],[101,9,101,10],[12,2,12,5],[19,7,19,10],[8,2,9,4],[69,2,69,4],[70,2,70,4],[65,2,65,4],[66,2,66,4],[67,2,67,4],[10,2,10,5],[98,2,98,5],[100,2,100,5],[101,2,101,5],[68,2,68,4],[36,2,36,5],[27,2,27,5],[47,2,47,5],[29,2,29,5],[32,2,32,5],[28,2,28,5],[38,2,38,5],[37,2,37,5],[33,9,33,10],[34,9,34,10],[150,9,150,10],[46,9,46,10],[40,9,40,10],[36,9,36,10],[30,9,30,10],[11,2,11,5],[102,2,102,5],[150,2,150,5],[45,2,45,5],[112,2,112,5],[110,2,110,4],[111,2,111,5],[109,2,109,4],[99,2,99,5],[145,9,145,10],[146,9,146,10],[56,7,56,11],[47,9,47,10],[12,9,12,10],[85,7,85,11],[102,9,102,10]]}
[]
[null,"Consommation d'électricité du territoire"]
[]
["A.","Résidentiel - consommation d'électricité  sur le territoire"]
[null,"Renseigner directement la consommation d'électricité \"résidentiel\" au niveau territorial à partir des données du SGBD (prendre contact avec l'Observatoire Climat), ou cliquer sur \"+\" (à gauche) pour affiner l'estimation"]
[]
[null,"Consommation d'électricité dans le résidentiel"]
[]
[null,null,"Hauts de France - consommation d'électricité dans le résidentiel",null,null,"(en ktep)",1105.6300000000001,"ktep","Source:","NORENER 2017 (données 2014)"]
[null,null,null,null,null,"(en MWh)",{"$f":"11628*G9","v":12856265.640000001},"MWh"]
[null,null,"HdF émissions directes de GES du poste \"résidentiel\" (hors électricité)",null,null,null,{"$f":"D1b!K32","v":6314.9574160000002},"kt eq CO2"]
[null,null,"Territoire - émissions directes de GES du poste \"résidentiel\" (hors électricité)",null,null,null,{"$f":"D1a!K152","v":0},"kt eq CO2"]
[null,null,"Territoire - consommation d'électricité estimée - résidentiel",null,null,null,{"$f":"G10*G12/G11-0.5*G41","v":0},"MWh","Source:",{"$f":"J9","v":"NORENER 2017 (données 2014)"}]
[]
[null,null,"Territoire - consommation d'électricité - résidentiel",null,null,null,0,"MWh","Source:","Observatoire Climat Hauts de France, année 2012"]
[]
[]
[null,"Résidentiel - consommation d'électricité totale"]
[]
[null,null,"Consommation d'électricité utilisée",{"$f":"IF(G15=0,G13,G15)","v":0},"MWh",null,"Source:",{"$f":"IF(G15=0,J9,J15)","v":"NORENER 2017 (données 2014)"}]
[]
[]
[]
["B.","Déplacements - consommation d'électricité sur le territoire"]
[]
[null,"Consommation d'électricité - transport routier"]
[]
[null,null,"Région HdF- consommation carburants routier voitures particulières",null,null,null,{"$f":"197+354+0.77*(1088+2100)+36.78+78.75","v":3121.2900000000004},"ktep","Source:","NORENER 2017 (données 2014) - 100% essence, 77% du diesel (23% camions), 100% du GPL - selon les allocations de NORENER NPdC 2016"]
[null,null,"Région HdF- consommation carburants routier",null,null,null,{"$f":"G28*11628","v":36294360.120000005},"MWh"]
[null,null,"Région HdF- émissions GES directes carburants routier véhicules particuliers",null,null,null,{"$f":"SUMPRODUCT(D1b!K41:K47,D3b!G36:G42)","v":7070.1743772350001},"kt eq CO2"]
[null,null,"Part des émissions de GES liée à l'énergie",null,null,null,1,null,"Source:","hypothèse RDC"]
[null,null,"Territoire - émissions directes de GES du transport routier particuliers (hors électricité) - MyEmiss'Air",null,null,null,{"$f":"Depl!F37","v":0},"kt eq CO2"]
[null,null,"Territoire- consommation carburants routier",null,null,null,{"$f":"G32/G30*G29","v":0},"MWh"]
[null,null,"Rendement véhicule thermique",null,null,null,0.45,null,"Source:","hypothèse RDC"]
[null,null,"Rendement véhicule électrique",null,null,null,0.98,null,"Source:","hypothèse RDC"]
[null,null,"Territoire - énergie fournie carburants",null,null,null,{"$f":"G33*G34","v":0},"MWh"]
[null,null,"Part de l'électricité dans le parc automobile",null,null,null,{"$f":"(744+386)/(1141624+1961797)","v":3.6411431127133571E-4},null,"Source:","Proportion des véhicules particuliers et commerciaux électriques en Hauts de France - calcul à partir du Répertoire statistique des véhicules routiers RSVERO- MEEM (CGDD/SOeS) données disponibles sur EIDER - Hauts de France- données 2014"]
[null,null,"Territoire-énergie électrique fournie dans les transports",null,null,null,{"$f":"G36*G37/(1-G37)","v":0},"MWh"]
[null,null,"Territoire - consommation d'électricité estimée - transport routier",null,null,null,{"$f":"G38/G35","v":0},"MWh","Source:",{"$f":"CONCATENATE(J28,\", \",J31,\", \",J37)","v":"NORENER 2017 (données 2014) - 100% essence, 77% du diesel (23% camions), 100% du GPL - selon les allocations de NORENER NPdC 2016, hypothèse RDC, Proportion des véhicules particuliers et commerciaux électriques en Hauts de France - calcul à partir du Répertoire statistique des véhicules routiers RSVERO- MEEM (CGDD/SOeS) données disponibles sur EIDER - Hauts de France- données 2014"}]
[]
[null,null,"Territoire - consommation d'électricité - transport routier",null,null,null,null,"MWh","Source:"]
[]
[]
[null,"Consommation d'électricité - autres transports"]
[]
[null,null,"Région Hauts de France- consommation électricité transport ferroviaire",null,null,null,{"$f":"115.54*Accueil!F74","v":1343499.12},"MWh","Source:","NORENER 2017 (données 2014)"]
[null,null,"Part de la consommation électrique du transport ferroviaire consommée sur le territoire",null,null,null,{"$f":"D1a!L138/D1b!L18","v":0},null,"Source:","Hypothèse RDC: part des émissions de PM10 du transport ferroviaire"]
[null,null,"Territoire - consommation d'électricité transport ferroviaire",null,null,null,{"$f":"G46*G47","v":0},"MWh","Source:",{"$f":"CONCATENATE(J46,\", \",J47)","v":"NORENER 2017 (données 2014), Hypothèse RDC: part des émissions de PM10 du transport ferroviaire"}]
[]
[null,null,"Territoire - consommation d'électricité - autres transports",null,null,null,null,"MWh","Source:"]
[]
[]
[null,"Déplacements - consommation d'électricité totale"]
[]
[null,null,"Consommation d'électricité utilisée",{"$f":"SUM(D56+D57)","v":0},"MWh",null,"Source:",{"$f":"CONCATENATE(H56,\", \",H57)","v":"NORENER 2017 (données 2014) - 100% essence, 77% du diesel (23% camions), 100% du GPL - selon les allocations de NORENER NPdC 2016, hypothèse RDC, Proportion des véhicules particuliers et commerciaux électriques en Hauts de France - calcul à partir du Répertoire statistique des véhicules routiers RSVERO- MEEM (CGDD/SOeS) données disponibles sur EIDER - Hauts de France- données 2014, NORENER 2017 (données 2014), Hypothèse RDC: part des émissions de PM10 du transport ferroviaire"},null,null,null,null," "]
[null,null,"Transports routiers",{"$f":"IF(G41=0,G39,G41)","v":0},"MWh",null,"Source:",{"$f":"IF(G41=0,J39,J41)","v":"NORENER 2017 (données 2014) - 100% essence, 77% du diesel (23% camions), 100% du GPL - selon les allocations de NORENER NPdC 2016, hypothèse RDC, Proportion des véhicules particuliers et commerciaux électriques en Hauts de France - calcul à partir du Répertoire statistique des véhicules routiers RSVERO- MEEM (CGDD/SOeS) données disponibles sur EIDER - Hauts de France- données 2014"}]
[null,null,"Autres transports",{"$f":"IF(G50=0,G48,G50)","v":0},"MWh",null,"Source:",{"$f":"IF(G50=0,J48,J50)","v":"NORENER 2017 (données 2014), Hypothèse RDC: part des émissions de PM10 du transport ferroviaire"}]
[]
[]
["C.","Biens de consommation - consommation d'électricité  sur le territoire"]
[null,"Renseigner directement la consommation d'électricité \"consommation\" au niveau territorial, ou cliquer sur \"+\" (à gauche) pour affiner l'estimation"]
[]
[null,"Consommation d'électricité - Biens de consommation"]
[]
[null,null,null,null,null,null,"Sidérurgie","Métallurgie\nnon-ferreux","Chimie","Papier, carton","Energie/ Raffinage","Automobile","Divers"]
[null,null,"Territoire - émissions directes de GES (hors électricité) - MyEmiss'Air",null,null,"kt eq CO2",{"$f":"D1a!K145+D1a!K160","v":0},{"$f":"D1a!K146","v":0},{"$f":"D1a!K143","v":0},{"$f":"D1a!K148","v":0},{"$f":"D1a!K155+D1a!K156+D1a!K157+D1a!K159+D2b!D129","v":0},{"$f":"D1a!K142","v":0},{"$f":"D1a!K141+D1a!K149","v":0}]
[null,null,"Part des émissions directes de GES liée à l'énergie",null,null,"%",1,0.91,0.93,1,0.53,0.98,0.98,null,"Source:","ATMO NPdC 2008, Raffinage classique du pétrole au Canada (CIPEC, 2002)",null," "]
[null,null,"Territoire - émissions directes de GES liées à l'énergie (hors électricité)",null,null,"kt eq CO2",{"$f":"G66*G67","v":0},0,0,0,0,0,0]
[null,null,"Equivalence GES / consommation d'énergie (hors électricité)",null,null,"t eq CO2 / MWh",0.41099999999999998,0.36,0.184,0.32200000000000001,0.219,0.219,0.219,null,"Source:","SESSI 2011",null," "]
[null,null,"Territoire - consommation d'énergie (hors électricité)",null,null,"MWh",{"$f":"G68/G69*1000","v":0},0,0,0,0,0,0]
[null,null,"Part de l'électricité dans l'énergie totale consommée",null,null,"%",0.12,0.69,0.12,0.31,0.06,0.56999999999999995,0.56999999999999995,null,"Source:","SESSI 2011, Raffinage classique du pétrôle au Canada (CIPEC, 2002)",null," "]
[null,null,"Territoire - consommation d'électricité estimée",null,null,"MWh",{"$f":"(G70*G71)/(1-G71)","v":0},0,0,0,0,0,0]
[]
[null,null,"Territoire- Consommation d'électricité estimée - Biens de consommation hors énergie",null,null,{"$f":"SUM(G72:M72)-K72","v":0},"MWh",null,"Source","SESSI 2011, ATMO NPdC 2008"]
[null,null,"Territoire- Consommation d'électricité estimée - Biens de consommation énergie",null,null,{"$f":"K72","v":0},"MWh",null,"Source","Raffinage classique du pétrole au Canada (CIPEC, 2002)"]
[]
[null,null,"Territoire - Consommation d'électricité - Biens de consommation hors énergie",null,null,null,"MWh",null,"Source"]
[null,null,"Territoire - Consommation d'électricité - Biens de consommation énergie",null,null,null,"MWh",null,"Source"]
[]
[null,null,"Estimation de répartition par secteur",null,null,null,"Sidérurgie","Métallurgie\nnon-ferreux","Chimie","Papier, carton","Energie/ Raffinage","Automobile","Divers"]
[null,null,"Territoire - consommation d'électricité (hors branche énergie)",null,null,"MWh",{"$f":"(G72/$F$74)*$F$77","v":{"$error":"#DIV/0!"}},{"$f":"(H72/$F$74)*$F$77","v":{"$error":"#DIV/0!"}},{"$error":"#DIV/0!"},{"$error":"#DIV/0!"},{"$f":"F78","v":0},{"$error":"#DIV/0!"},{"$error":"#DIV/0!"}]
[]
[]
[null,"Biens de consommation - consommation d'électricité totale"]
[]
[null,null,"Consommation d'électricité utilisée",{"$f":"IF(F77=0,F74,F77)+IF(F78=0,F75,F78)","v":0},"MWh",null,"Source:",{"$f":"CONCATENATE(H87,\", \",H88)","v":"SESSI 2011, ATMO NPdC 2008, Raffinage classique du pétrole au Canada (CIPEC, 2002)"}]
[null,null,"Biens de consommation hors énergie",{"$f":"IF(F77=0,F74,F77)","v":0},"MWh",null,"Source:",{"$f":"IF(F77=0,J74,J77)","v":"SESSI 2011, ATMO NPdC 2008"}]
[null,null,"Biens de consommation énergie",{"$f":"IF(F80=0,F75,F80)","v":0},"MWh",null,"Source:",{"$f":"IF(F78=0,J75,J78)","v":"Raffinage classique du pétrole au Canada (CIPEC, 2002)"}]
[]
[]
[]
["D.","Alimentation - consommation d'électricité  sur le territoire"]
[null,"Cette partie n'est pas utilisée pour calculer le bilan GES final des émissions liées à la consommation. Spécifier les données bleues est optionnel et sert uniquement à obtenir la répartition par poste de la consommation électrique, à titre informatif. "]
[null,"Renseigner directement la consommation d'électricité \"alimentation\" au niveau territorial, ou cliquer sur \"+\" (à gauche) pour affiner l'estimation"]
[]
[]
[null,"Consommation d'électricité - agriculture"]
[]
[null,null,"Territoire - émissions directes de GES des autres sources de l'agriculture (hors électricité)",null,null,null,{"$f":"D1a!K134","v":0},"kt eq CO2"]
[null,null,"FE combustion du fioul",null,null,null,0.27200000000000002,"t eq CO2 / MWh","Source:","Bilan Carbone v7"]
[null,null,"Consommation de fioul estimée",null,null,null,{"$f":"G99/G100*1000","v":0},"MWh"]
[null,null,"Ratio consommation d'électricité / consommation de fioul (%)",null,null,null,0.16,null,"Source:","ClimAgri étude NPdC 2012, appliqué aux Hauts de France"]
[null,null,"Territoire - consommation d'électricité estimée - agriculture",null,null,null,{"$f":"G101*G102","v":0},"MWh","Source:",{"$f":"CONCATENATE(J102,\", \",J100)","v":"ClimAgri étude NPdC 2012, appliqué aux Hauts de France, Bilan Carbone v7"}]
[]
[null,null,"Territoire - consommation d'électricité - agriculture",null,null,null,null,"MWh","Source:"]
[]
[]
[null,"Consommation d'électricité - industrie - agroalimentaire"]
[]
[null,null,"Territoire - émissions directes de GES (hors électricité) - MyEmiss'Air",null,null,null,{"$f":"D1a!K140","v":0},"kt eq CO2"]
[null,null,"Part des émissions de GES liée à l'énergie",null,null,null,0.38,null,"Source:","ATMO HdF 2012"]
[null,null,"Territoire - émissions directes de GES liées à l'énergie (hors électricité)",null,null,null,{"$f":"G110*G111","v":0},"kt eq CO2"]
[null,null,"Equivalence GES / consommation d'énergie (hors électricité)",null,null,null,0.28399999999999997,"t eq CO2 / MWh","Source:","SESSI 2011"]
[null,null,"Territoire - consommation d'énergie (hors électricité)",null,null,null,{"$f":"G112/G113*1000","v":0},"MWh"]
[null,null,"Part de l'électricité dans l'énergie totale consommée",null,null,null,0.16,null,"Source:","SESSI 2011"]
[null,null,"Territoire - consommation d'électricité estimée - agriculture",null,null,null,{"$f":"G114*G115/(1-G115)","v":0},"MWh","Source:",{"$f":"CONCATENATE(J111,\", \",J113)","v":"ATMO HdF 2012, SESSI 2011"}]
[]
[null,null,"Territoire - consommation d'électricité - agroalimentaire",null,null,null,null,"MWh","Source:"]
[]
[]
[null,"Alimentation - consommation d'électricité totale"]
[]
[null,null,"Consommation d'électricité utilisée",{"$f":"D124+D125","v":0},"MWh",null,"Source:",{"$f":"CONCATENATE(H124,\", \",H125)","v":"ClimAgri étude NPdC 2012, appliqué aux Hauts de France, Bilan Carbone v7, ATMO HdF 2012, SESSI 2011"}]
[null,null,"Agriculture",{"$f":"IF(G105=0,G103,G105)","v":0},"MWh",null,"Source:",{"$f":"IF(G105=0,J103,J105)","v":"ClimAgri étude NPdC 2012, appliqué aux Hauts de France, Bilan Carbone v7"}]
[null,null,"Agroalimentaire",{"$f":"IF(G118=0,G116,G118)","v":0},"MWh",null,"Source:",{"$f":"IF(G118=0,J116,J118)","v":"ATMO HdF 2012, SESSI 2011"}]
[]
[]
[]
["E.","Services - consommation d'électricité  sur le territoire"]
[null,"Renseigner directement la consommation d'électricité \"services\" au niveau territorial, ou cliquer sur \"+\" (à gauche) pour affiner l'estimation"]
[]
[null,"Consommation d'électricité - services (hors traitement des déchets)"]
[]
[null,null,"Hauts de France - consommation d'électricité dans les services",null,null,"(en ktep)",{"$f":"553.39+270.89","v":824.28},"ktep","Source:","NORENER 2017 HdF (données 2014)"]
[null,null,null,null,null,"(en MWh)",{"$f":"11628*G134","v":9584727.8399999999},"MWh"]
[null,null,"Hauts de France - émissions directes de GES du poste \"tertaire\" (hors électricité) - MyEmiss'Air",null,null,null,{"$f":"D1b!K33","v":3100.6622367999998},"kt eq CO2"]
[null,null,"Territoire - émissions directes de GES du poste \"tertiaire\" (hors électricité) - MyEmiss'Air",null,null,null,{"$f":"D1a!K153","v":0},"kt eq CO2"]
[null,null,"Territoire - consommation d'électricité estimée - services (hors traitement des déchets)",null,null,null,{"$f":"G135*G137/G136-0.5*G39","v":0},"MWh","Source:",{"$f":"J134","v":"NORENER 2017 HdF (données 2014)"}]
[]
[null,null,"Territoire - consommation d'électricité - services (hors traitement des déchets)",null,null,null,null,"MWh","Source:"]
[]
[]
[null,"Consommation d'électricité - industrie - traitement des déchets"]
[]
[null,null,"Territoire - émissions directes de GES (hors électricité) - MyEmiss'Air",null,null,null,{"$f":"D1a!K150+D1a!K151","v":0},"kt eq CO2"]
[null,null,"Part des émissions de GES liée à l'énergie",null,null,null,0.25,null,"Source:","ATMO Hauts de France \"déchets\" 2012- combustion"]
[null,null,"Territoire - émissions directes de GES liées à l'énergie (hors électricité)",null,null,null,{"$f":"G145*G146","v":0},"kt eq CO2"]
[null,null,"Equivalence GES / consommation d'énergie (hors électricité)",null,null,null,0.2,"t eq CO2 / MWh","Source:","FE incinération des déchets"]
[null,null,"Territoire - consommation d'énergie (hors électricité)",null,null,null,{"$f":"G147/G148*1000","v":0},"MWh"]
[null,null,"Part de l'électricité dans l'énergie totale consommée",null,null,null,0.02,null,"Source:","Retour d'exp. ClimatMundi"]
[null,null,"Territoire - consommation d'électricité estimée - traitement des déchets",null,null,null,{"$f":"G149*G150/(1-G150)","v":0},"MWh","Source:",{"$f":"CONCATENATE(J146,\", \",J148,\", \",J150)","v":"ATMO Hauts de France \"déchets\" 2012- combustion, FE incinération des déchets, Retour d'exp. ClimatMundi"}]
[]
[null,null,"Territoire - consommation d'électricité - traitement des déchets",null,null,null,null,"MWh","Source:"]
[]
[]
[null,"Services - consommation d'électricité totale"]
[]
[null,null,"Consommation d'électricité utilisée",{"$f":"D159+D160","v":0},"MWh",null,null,null,null,null,null,null," "]
[null,null,"Services (hors déchets)",{"$f":"IF(G140=0,G138,G140)","v":0},"MWh",null,"Source:",{"$f":"IF(G140=0,J138,J140)","v":"NORENER 2017 HdF (données 2014)"}]
[null,null,"Traitement des déchets",{"$f":"IF(G153=0,G151,G153)","v":0},"MWh",null,"Source:",{"$f":"IF(G153=0,J151,J153)","v":"ATMO Hauts de France \"déchets\" 2012- combustion, FE incinération des déchets, Retour d'exp. ClimatMundi"}]
[]
[]
[]
["C.","Travaux- consommation d'électricité  sur le territoire"]
[null,"Cette partie n'est pas utilisée pour calculer le bilan GES final des émissions liées à la consommation. Spécifier les données bleues est optionnel et sert uniquement à obtenir la répartition par poste de la consommation électrique, à titre informatif. "]
[null,"Renseigner directement la consommation d'électricité \"travaux\" au niveau territorial, ou cliquer sur \"+\" (à gauche) pour affiner l'estimation"]
[]
[null,"Consommation d'électricité - Travaux"]
[]
[null,null,null,null,null,null,"Industrie des minéraux non-métalliques et matériaux de construction"]
[null,null,"Territoire - émissions directes de GES (hors électricité) - MyEmiss'Air",null,null,"kt eq CO2",{"$f":"D1a!K147","v":0}]
[null,null,"Part des émissions directes de GES liée à l'énergie",null,null,"%",1.4999999999999999E-2,null,null,"Source:","ATMO HdF 2012",null,null,null,"Source:","ATMO NPdC 2008, Raffinage classique du pétrole au Canada (CIPEC, 2002)",null," "]
[null,null,"Territoire - émissions directes de GES liées à l'énergie (hors électricité)",null,null,"kt eq CO2",{"$f":"G171*G172","v":0}]
[null,null,"Equivalence GES / consommation d'énergie (hors électricité)",null,null,"t eq CO2 / MWh",0.27100000000000002,null,null,"Source:","SESSI 2011",null,null,null,"Source:","SESSI 2011",null," "]
[null,null,"Territoire - consommation d'énergie (hors électricité)",null,null,"MWh",{"$f":"G173/G174*1000","v":0}]
[null,null,"Part de l'électricité dans l'énergie totale consommée",null,null,"%",0.16,null,null,"Source:","SESSI 2011",null,null,null,"Source:","SESSI 2011, Raffinage classique du pétrôle au Canada (CIPEC, 2002)",null," "]
[null,null,"Territoire - consommation d'électricité estimée",null,null,"MWh",{"$f":"(G175*G176)/(1-G176)","v":0}]
[]
[null,null,"Territoire- Consommation d'électricité estimée - Travaux",null,null,{"$f":"G177","v":0},"MWh",null,"Source",{"$f":"CONCATENATE(K172,\", \",K174,\", \",K176)","v":"ATMO HdF 2012, SESSI 2011, SESSI 2011"}]
[]
[null,null,"Territoire - Consommation d'électricité - Travaux",null,null,null,"MWh",null,"Source"]
[]
[]
[null,"Travaux - consommation d'électricité totale"]
[]
[null,null,"Consommation d'électricité utilisée",{"$f":"IF(F181=0,F179,F181)","v":0},"MWh",null,"Source:",{"$f":"IF(F181=0,J179,J181)","v":"ATMO HdF 2012, SESSI 2011, SESSI 2011"}]
[]
[]
[]
["F.","Bilan des consommations d'électricité sur le territoire- répartition par poste ESPASS"]
[]
[]
[null,null,null,"Consommation d'électricité\nsur le territoire"]
[null,null,null,"MWh","%"]
[null,null,"Résidentiel",{"$f":"D20","v":0},{"$f":"D195/$D$201","v":{"$error":"#DIV/0!"}}]
[null,null,"Déplacements",{"$f":"D55","v":0},{"$error":"#DIV/0!"}]
[null,null,"Biens de consommation",{"$f":"D86","v":0},{"$error":"#DIV/0!"}]
[null,null,"Alimentation",{"$f":"D123","v":0},{"$error":"#DIV/0!"}]
[null,null,"Services",{"$f":"D158","v":0},{"$error":"#DIV/0!"}]
[null,null,"Travaux",{"$f":"D186","v":0},{"$error":"#DIV/0!"}]
[null,null,"Consommation d'électricité",{"$f":"SUM(D195:D200)","v":0},{"$f":"SUM(E195:E200)","v":{"$error":"#DIV/0!"}}]
[]
[]
["G.","Bilan des consommations d'électricité sur le territoire- répartition par poste PCAET"]
[]
[]
[null,null,null,"Consommation d'électricité\nsur le territoire"]
[null,null,null,"MWh","%"]
[null,null,"Résidentiel",{"$f":"D20","v":0},{"$f":"D209/$D$217","v":{"$error":"#DIV/0!"}}]
[null,null,"Tertiaire",{"$f":"D159","v":0},{"$error":"#DIV/0!"}]
[null,null,"Transport routier",{"$f":"D56","v":0},{"$error":"#DIV/0!"}]
[null,null,"Autres transports",{"$f":"D57","v":0},{"$error":"#DIV/0!"}]
[null,null,"Agriculture",{"$f":"D124","v":0},{"$error":"#DIV/0!"}]
[null,null,"Déchets",{"$f":"D160","v":0},{"$error":"#DIV/0!"}]
[null,null,"Industrie hors branche énergie",{"$f":"D125+D86+D186-K72","v":0},{"$error":"#DIV/0!"}]
[null,null,"Industrie branche énergie ",{"$f":"K72","v":0},{"$error":"#DIV/0!"}]
[null,null,"Consommation d'électricité",{"$f":"SUM(D209:D216)","v":0},{"$f":"SUM(E209:E216)","v":{"$error":"#DIV/0!"}}]

{"sheet":"I1b","index":13,"n_rows":151,"n_cols":15,"rows_kept":151,"cut":false,"hidden":false,"merged":[[126,2,126,3],[127,2,127,3],[102,2,102,3],[103,2,103,3],[83,2,85,3],[89,2,89,3],[110,2,112,3],[120,2,120,3],[123,2,123,3],[124,2,124,3],[125,2,125,3],[95,2,95,3],[96,2,96,3],[97,2,97,3],[98,2,98,3],[99,2,99,3],[149,2,149,3],[150,2,150,3],[128,2,128,3],[140,2,140,3],[145,2,145,3],[129,2,129,3],[130,2,130,3],[131,2,131,3],[148,2,148,3],[100,2,100,3],[101,2,101,3],[43,2,43,3],[42,2,42,3],[88,2,88,3],[92,2,92,3],[66,2,66,3],[67,2,67,3],[68,2,68,3],[69,2,69,3],[57,2,57,3],[62,2,62,3],[72,2,72,3],[73,2,73,3],[74,2,74,3],[70,2,70,3],[71,2,71,3],[51,2,53,3],[44,2,44,3],[36,2,36,3],[37,2,37,3],[38,2,38,3],[40,2,40,3],[41,2,41,3],[58,2,58,3],[59,2,59,3],[60,2,60,3],[61,2,61,3],[11,2,11,3],[12,2,12,3],[15,2,15,3],[16,2,16,3],[17,2,17,3],[24,2,26,3],[29,2,29,3],[30,2,30,3],[33,2,33,3],[39,2,39,3]]}
[null,"Bilan des émissions de GES liées à la consommation d'électricité- par poste"]
[]
["A.","Résidentiel - émissions de GES liées à la consommation d'électricité  sur le territoire"]
[]
[]
[null,"Résidentiel - émissions indirectes de GES liées à la consommation d'électricité (Imports)"]
[]
[]
[null,null,null,"Consommation d'électricité","Résidentiel",{"$f":"I1a!D20","v":0},"MWh"]
[]
[null,null,null,null,null,"Transport","Industrie base","Eclairage résidentiel","Eclairage public et industrie","Eau chaude sanitaire et cuisson","Cuisson residentiel","Climatisation tertiaire","Chauffage","Autres (BTP, recherche, armées, etc.)","Total"]
[null,null,"Répartition de la consommation d’électricité",null,"%",{"$f":"'FE5'!E9","v":0},{"$f":"'FE5'!F9","v":0},{"$f":"'FE5'!G9","v":7.0000000000000007E-2},{"$f":"'FE5'!H9","v":0},{"$f":"'FE5'!I9","v":0.13},{"$f":"'FE5'!J9","v":0.08},{"$f":"'FE5'!K9","v":0},{"$f":"'FE5'!L9","v":0.28999999999999998},{"$f":"'FE5'!M9","v":0.43},{"$f":"SUM(F12:N12)","v":1}]
[null,null,"Résidentiel- Consommation d'électricité",null,"MWh",{"$f":"$F$9*F12","v":0},0,0,0,0,0,0,0,0,{"$f":"SUM(F13:N13)","v":0}]
[]
[null,null,null,null,null,"Transport","Industrie base","Eclairage résidentiel","Eclairage public et industrie","Eau chaude sanitaire et cuisson","Cuisson residentiel","Climatisation tertiaire","Chauffage","Autres (BTP, recherche, armées, etc.)","Total"]
[null,null,"Résidentiel- Emissions indirectes (scope 2 - périmètre réglementaire)",null,"kt eq CO2",{"$f":"(F13*'FE5'!E20)/1000000","v":0},{"$f":"(G13*'FE5'!F20)/1000000","v":0},{"$f":"(H13*'FE5'!G20)/1000000","v":0},{"$f":"(I13*'FE5'!H20)/1000000","v":0},{"$f":"(J13*'FE5'!I20)/1000000","v":0},{"$f":"(K13*'FE5'!J20)/1000000","v":0},{"$f":"(L13*'FE5'!K20)/1000000","v":0},{"$f":"(M13*'FE5'!L20)/1000000","v":0},{"$f":"(N13*'FE5'!M20)/1000000","v":0},{"$f":"SUM(F16:N16)","v":0}]
[null,null,"résidentiel- Emissions indirectes (amont des combustibles, transport et distribution)",null,"kt eq CO2",{"$f":"F18-F16","v":0},{"$f":"G18-G16","v":0},0,0,0,0,0,0,0,{"$f":"SUM(F17:N17)","v":0}]
[null,null,"Résidentiel-  Scope 3",null,"kt eq CO2",{"$f":"(F13*'FE5'!E21)/1000000","v":0},{"$f":"(G13*'FE5'!F21)/1000000","v":0},{"$f":"(H13*'FE5'!G21)/1000000","v":0},{"$f":"(I13*'FE5'!H21)/1000000","v":0},{"$f":"(J13*'FE5'!I21)/1000000","v":0},{"$f":"(K13*'FE5'!J21)/1000000","v":0},{"$f":"(L13*'FE5'!K21)/1000000","v":0},{"$f":"(M13*'FE5'!L21)/1000000","v":0},{"$f":"(N13*'FE5'!M21)/1000000","v":0},{"$f":"SUM(F18:N18)","v":0}]
[]
[]
["B.","Déplacements- Émissions indirectes de GES liées à la consommation d'électricité sur le territoire"]
[]
[null,"Déplacements - émissions indirectes de GES liées à la consommation d'électricité (Imports)"]
[]
[null,null,"Consommation d'électricité",null,"Déplacements",{"$f":"I1a!D55","v":0},"MWh"]
[null,null,null,null,"Transport routier",{"$f":"I1a!D56","v":0},"MWh"]
[null,null,null,null,"Autres transports",{"$f":"I1a!D57","v":0},"MWh"]
[]
[null,null,null,null,null,"Transport","Industrie base","Eclairage résidentiel","Eclairage public et industrie","Eau chaude sanitaire et cuisson","Cuisson residentiel","Climatisation tertiaire","Chauffage","Autres (BTP, recherche, armées, etc.)","Total"]
[null,null,"Répartition de la consommation d’électricité - Transport routier",null,"%",{"$f":"'FE5'!E11","v":0},{"$f":"'FE5'!F11","v":0},{"$f":"'FE5'!G11","v":0},{"$f":"'FE5'!H11","v":0},{"$f":"'FE5'!I11","v":0},{"$f":"'FE5'!J11","v":0},{"$f":"'FE5'!K11","v":0},{"$f":"'FE5'!L11","v":0},{"$f":"'FE5'!M11","v":1},{"$f":"SUM(F30:N30)","v":1}]
[null,null,"Répartition de la consommation d’électricité - Autres transports",null,"%",{"$f":"'FE5'!E12","v":1},{"$f":"'FE5'!F12","v":0},{"$f":"'FE5'!G12","v":0},{"$f":"'FE5'!H12","v":0},{"$f":"'FE5'!I12","v":0},{"$f":"'FE5'!J12","v":0},{"$f":"'FE5'!K12","v":0},{"$f":"'FE5'!L12","v":0},{"$f":"'FE5'!M12","v":0},{"$f":"SUM(F31:N31)","v":1}]
[null,null,"Transport routier",null,"MWh",{"$f":"$F$26*F30","v":0},{"$f":"$F$26*G30","v":0},0,0,0,0,0,0,0,{"$f":"SUM(F32:N32)","v":0}]
[null,null,"Autres transports",null,"MWh",{"$f":"$F$27*F31","v":0},{"$f":"$F$27*G31","v":0},0,0,0,0,0,0,0,{"$f":"SUM(F33:N33)","v":0}]
[null,null,"Déplacements- Consommation d'électricité",null,"MWh",{"$f":"F32+F33","v":0},{"$f":"G32+G33","v":0},0,0,0,0,0,0,0,{"$f":"SUM(F34:N34)","v":0}]
[]
[null,null,null,null,null,"Transport","Industrie base","Eclairage résidentiel","Eclairage public et industrie","Eau chaude sanitaire et cuisson","Cuisson residentiel","Climatisation tertiaire","Chauffage","Autres (BTP, recherche, armées, etc.)","Total"]
[null,null,"Transport routier - Emissions indirectes (scope 2 - périmètre réglementaire)",null,"kt eq CO2",{"$f":"(F32*'FE5'!E$20)/1000000","v":0},{"$f":"(G32*'FE5'!F$20)/1000000","v":0},{"$f":"(H32*'FE5'!G$20)/1000000","v":0},{"$f":"(I32*'FE5'!H$20)/1000000","v":0},{"$f":"(J32*'FE5'!I$20)/1000000","v":0},{"$f":"(K32*'FE5'!J$20)/1000000","v":0},{"$f":"(L32*'FE5'!K$20)/1000000","v":0},{"$f":"(M32*'FE5'!L$20)/1000000","v":0},{"$f":"(N32*'FE5'!M$20)/1000000","v":0},{"$f":"SUM(F37:N37)","v":0}]
[null,null,"Transport routier- Emissions indirectes (amont des combustibles, transport et distribution)",null,"kt eq CO2",{"$f":"F39-F37","v":0},{"$f":"G39-G37","v":0},0,0,0,0,0,0,0,0]
[null,null,"Transport routier-Scope 3",null,"kt eq CO2",{"$f":"(F32*'FE5'!E$21)/1000000","v":0},{"$f":"(G32*'FE5'!F$21)/1000000","v":0},{"$f":"(H32*'FE5'!G$21)/1000000","v":0},{"$f":"(I32*'FE5'!H$21)/1000000","v":0},{"$f":"(J32*'FE5'!I$21)/1000000","v":0},{"$f":"(K32*'FE5'!J$21)/1000000","v":0},{"$f":"(L32*'FE5'!K$21)/1000000","v":0},{"$f":"(M32*'FE5'!L$21)/1000000","v":0},{"$f":"(N32*'FE5'!M$21)/1000000","v":0},0]
[null,null,"Autres transports - Emissions indirectes (scope 2 - périmètre réglementaire)",null,"kt eq CO2",{"$f":"(F33*'FE5'!E$20)/1000000","v":0},{"$f":"(G33*'FE5'!F$20)/1000000","v":0},{"$f":"(H33*'FE5'!G$20)/1000000","v":0},{"$f":"(I33*'FE5'!H$20)/1000000","v":0},{"$f":"(J33*'FE5'!I$20)/1000000","v":0},{"$f":"(K33*'FE5'!J$20)/1000000","v":0},{"$f":"(L33*'FE5'!K$20)/1000000","v":0},{"$f":"(M33*'FE5'!L$20)/1000000","v":0},{"$f":"(N33*'FE5'!M$20)/1000000","v":0},0]
[null,null,"Autres transports- Emissions indirectes (amont des combustibles, transport et distribution)",null,"kt eq CO2",{"$f":"F42-F40","v":0},{"$f":"G42-G40","v":0},0,0,0,0,0,0,0,0]
[null,null,"Autres transports-Scope 3",null,"kt eq CO2",{"$f":"(F33*'FE5'!E$21)/1000000","v":0},{"$f":"(G33*'FE5'!F$21)/1000000","v":0},{"$f":"(H33*'FE5'!G$21)/1000000","v":0},{"$f":"(I33*'FE5'!H$21)/1000000","v":0},{"$f":"(J33*'FE5'!I$21)/1000000","v":0},{"$f":"(K33*'FE5'!J$21)/1000000","v":0},{"$f":"(L33*'FE5'!K$21)/1000000","v":0},{"$f":"(M33*'FE5'!L$21)/1000000","v":0},{"$f":"(N33*'FE5'!M$21)/1000000","v":0},0]
[null,null,"Déplacements-Emissions indirectes (scope 2 - périmètre réglementaire)",null,"kt eq CO2",{"$f":"F34*'FE5'!E$20/1000000","v":0},{"$f":"G34*'FE5'!F$20/1000000","v":0},{"$f":"H34*'FE5'!G$20/1000000","v":0},{"$f":"I34*'FE5'!H$20/1000000","v":0},{"$f":"J34*'FE5'!I$20/1000000","v":0},{"$f":"K34*'FE5'!J$20/1000000","v":0},{"$f":"L34*'FE5'!K$20/1000000","v":0},{"$f":"M34*'FE5'!L$20/1000000","v":0},{"$f":"N34*'FE5'!M$20/1000000","v":0},0]
[null,null,"Déplacements-  Emissions indirectes (amont des combustibles, transport et distribution)",null,"kt eq CO2",{"$f":"F45-F43","v":0},{"$f":"G45-G43","v":0},0,0,0,0,0,0,0,0]
[null,null,"Déplacements- Scope 3",null,"kt eq CO2",{"$f":"F34*'FE5'!E$21/1000000","v":0},{"$f":"G34*'FE5'!F$21/1000000","v":0},{"$f":"H34*'FE5'!G$21/1000000","v":0},{"$f":"I34*'FE5'!H$21/1000000","v":0},{"$f":"J34*'FE5'!I$21/1000000","v":0},{"$f":"K34*'FE5'!J$21/1000000","v":0},{"$f":"L34*'FE5'!K$21/1000000","v":0},{"$f":"M34*'FE5'!L$21/1000000","v":0},{"$f":"N34*'FE5'!M$21/1000000","v":0},0]
[]
[]
["C.","Biens de consommation- Émissions indirectes de GES liées à la consommation d'électricité sur le territoire"]
[]
[null,"Biens de consommation - émissions indirectes de GES liées à la consommation d'électricité (Imports)"]
[]
[null,null,"Consommation d'électricité",null,"Biens de consom.",{"$f":"I1a!D86","v":0},"MWh"]
[null,null,null,null,"dont hors branche énergie",{"$f":"F52-I1a!K72","v":0},"MWh"]
[null,null,null,null,"Industrie branche énergie",{"$f":"I1a!K72","v":0},"MWh"]
[]
[]
[null,null,null,null,null,"Transport","Industrie base","Eclairage résidentiel","Eclairage public et industrie","Eau chaude sanitaire et cuisson","Cuisson residentiel","Climatisation tertiaire","Chauffage","Autres (BTP, recherche, armées, etc.)","Total"]
[null,null,"Répartition de la consommation d'électricité - Industrie hors énergie",null,"%",{"$f":"'FE5'!E15","v":0},{"$f":"'FE5'!F15","v":1},{"$f":"'FE5'!G15","v":0},{"$f":"'FE5'!H15","v":0},{"$f":"'FE5'!I15","v":0},{"$f":"'FE5'!J15","v":0},{"$f":"'FE5'!K15","v":0},{"$f":"'FE5'!L15","v":0},{"$f":"'FE5'!M15","v":0},{"$f":"SUM(F58:N58)","v":1}]
[null,null,"Biens de consommation hors énergie - Consommation d'électricité",null,"%",{"$f":"F58","v":0},{"$f":"G58","v":1},0,0,0,0,0,0,0,1]
[null,null,"Biens de consommation énergie - Consommation d'électricité",null,"%",{"$f":"'FE5'!E15","v":0},{"$f":"'FE5'!F15","v":1},{"$f":"'FE5'!G15","v":0},{"$f":"'FE5'!H15","v":0},{"$f":"'FE5'!I15","v":0},{"$f":"'FE5'!J15","v":0},{"$f":"'FE5'!K15","v":0},{"$f":"'FE5'!L15","v":0},{"$f":"'FE5'!M15","v":0},1]
[null,null,"Biens de consommation hors énergie - Consommation d'électricité",null,"MWh",{"$f":"$F$53*F59","v":0},{"$f":"$F$53*G59","v":0},0,0,0,0,0,0,0,0]
[null,null,"Biens de consommation énergie - Consommation d'électricité",null,"MWh",{"$f":"$F$54*F60","v":0},{"$f":"$F$54*G60","v":0},0,0,0,0,0,0,0,0]
[null,null,"Biens de consommation - Consommation d'électricité",null,"MWh",{"$f":"$F$52*F58","v":0},{"$f":"$F$52*G58","v":0},0,0,0,0,0,0,0,0]
[]
[]
[null,null,null,null,null,"Transport","Industrie base","Eclairage résidentiel","Eclairage public et industrie","Eau chaude sanitaire et cuisson","Cuisson residentiel","Climatisation tertiaire","Chauffage","Autres (BTP, recherche, armées, etc.)","Total"]
[null,null,"Biens de consommation hors énergie - Emissions indirectes (scope 2 - périmètre réglementaire)",null,"kt eq CO2",{"$f":"(F61*'FE5'!E$20)/1000000","v":0},{"$f":"(G61*'FE5'!F$20)/1000000","v":0},{"$f":"(H61*'FE5'!G$20)/1000000","v":0},{"$f":"(I61*'FE5'!H$20)/1000000","v":0},{"$f":"(J61*'FE5'!I$20)/1000000","v":0},{"$f":"(K61*'FE5'!J$20)/1000000","v":0},{"$f":"(L61*'FE5'!K$20)/1000000","v":0},{"$f":"(M61*'FE5'!L$20)/1000000","v":0},{"$f":"(N61*'FE5'!M$20)/1000000","v":0},{"$f":"SUM(F67:N67)","v":0}]
[null,null,"Biens de consommation hors énergie - Emissions indirectes (amont des combustibles, transport et distribution)",null,"kt eq CO2",{"$f":"F69-F67","v":0},{"$f":"G69-G67","v":0},0,0,0,0,0,0,0,0]
[null,null,"Biens de consommation hors énergie -Scope 3",null,"kt eq CO2",{"$f":"(F61*'FE5'!E$21)/1000000","v":0},{"$f":"(G61*'FE5'!F$21)/1000000","v":0},{"$f":"(H61*'FE5'!G$21)/1000000","v":0},{"$f":"(I61*'FE5'!H$21)/1000000","v":0},{"$f":"(J61*'FE5'!I$21)/1000000","v":0},{"$f":"(K61*'FE5'!J$21)/1000000","v":0},{"$f":"(L61*'FE5'!K$21)/1000000","v":0},{"$f":"(M61*'FE5'!L$21)/1000000","v":0},{"$f":"(N61*'FE5'!M$21)/1000000","v":0},0]
[null,null,"Biens de consommation  énergie  - Emissions indirectes (scope 2 - périmètre réglementaire)",null,"kt eq CO2",{"$f":"(F62*'FE5'!E$20)/1000000","v":0},{"$f":"(G62*'FE5'!F$20)/1000000","v":0},{"$f":"(H62*'FE5'!G$20)/1000000","v":0},{"$f":"(I62*'FE5'!H$20)/1000000","v":0},{"$f":"(J62*'FE5'!I$20)/1000000","v":0},{"$f":"(K62*'FE5'!J$20)/1000000","v":0},{"$f":"(L62*'FE5'!K$20)/1000000","v":0},{"$f":"(M62*'FE5'!L$20)/1000000","v":0},{"$f":"(N62*'FE5'!M$20)/1000000","v":0},0]
[null,null,"Biens de consommation  énergie - Emissions indirectes (amont des combustibles, transport et distribution)",null,"kt eq CO2",{"$f":"F72-F70","v":0},0,0,0,0,0,0,0,0,0]
[null,null,"Biens de consommation  énergie -Scope 3",null,"kt eq CO2",{"$f":"(F62*'FE5'!E$21)/1000000","v":0},{"$f":"(G62*'FE5'!F$21)/1000000","v":0},{"$f":"(H62*'FE5'!G$21)/1000000","v":0},{"$f":"(I62*'FE5'!H$21)/1000000","v":0},{"$f":"(J62*'FE5'!I$21)/1000000","v":0},{"$f":"(K62*'FE5'!J$21)/1000000","v":0},{"$f":"(L62*'FE5'!K$21)/1000000","v":0},{"$f":"(M62*'FE5'!L$21)/1000000","v":0},{"$f":"(N62*'FE5'!M$21)/1000000","v":0},0]
[null,null,"Biens de consommation - Emissions indirectes (scope 2 - périmètre réglementaire)",null,"kt eq CO2",{"$f":"(F63*'FE5'!E20)/1000000","v":0},{"$f":"(G63*'FE5'!F20)/1000000","v":0},{"$f":"(H63*'FE5'!G20)/1000000","v":0},{"$f":"(I63*'FE5'!H20)/1000000","v":0},{"$f":"(J63*'FE5'!I20)/1000000","v":0},{"$f":"(K63*'FE5'!J20)/1000000","v":0},{"$f":"(L63*'FE5'!K20)/1000000","v":0},{"$f":"(M63*'FE5'!L20)/1000000","v":0},{"$f":"(N63*'FE5'!M20)/1000000","v":0},0]
[null,null,"Biens de consommation - Emissions indirectes (amont des combustibles, transport et distribution)",null,"kt eq CO2",{"$f":"F75-F73","v":0},{"$f":"G75-G73","v":0},0,0,0,0,0,0,0,0]
[null,null,"Biens de consommation - Scope 3",null,"kt eq CO2",{"$f":"(F63*'FE5'!E21)/1000000","v":0},{"$f":"(G63*'FE5'!F21)/1000000","v":0},{"$f":"(H63*'FE5'!G21)/1000000","v":0},{"$f":"(I63*'FE5'!H21)/1000000","v":0},{"$f":"(J63*'FE5'!I21)/1000000","v":0},{"$f":"(K63*'FE5'!J21)/1000000","v":0},{"$f":"(L63*'FE5'!K21)/1000000","v":0},{"$f":"(M63*'FE5'!L21)/1000000","v":0},{"$f":"(N63*'FE5'!M21)/1000000","v":0},0]
[]
[]
["D.","Alimentation - Émissions indirectes de GES liées à la consommation d'électricité sur le territoire"]
[null,"Cette partie n'est pas utilisée pour calculer le bilan GES final des émissions liées à la consommation. Spécifier les données bleues est optionnel et sert uniquement à obtenir la répartition par poste de la consommation électrique, à titre informatif. "]
[null,"Renseigner directement la consommation d'électricité \"alimentation\" au niveau territorial, ou cliquer sur \"+\" (à gauche) pour affiner l'estimation"]
[]
[null,"Alimentation - émissions indirectes de GES liées à la consommation d'électricité (Imports)"]
[]
[null,null,"Consommation d'électricité",null,"Alimentation",{"$f":"I1a!D123","v":0},"MWh"]
[null,null,null,null,"Agriculture",{"$f":"I1a!D124","v":0},"MWh"]
[null,null,null,null,"Agroalimentaire",{"$f":"I1a!D125","v":0},"MWh"]
[]
[null,null,null,null,null,"Transport","Industrie base","Eclairage résidentiel","Eclairage public et industrie","Eau chaude sanitaire et cuisson","Cuisson residentiel","Climatisation tertiaire","Chauffage","Autres (BTP, recherche, armées, etc.)","Total"]
[null,null,"Répartition de la consommation d'électricité - Agriculture",null,"%",{"$f":"'FE5'!E13","v":0},{"$f":"'FE5'!F13","v":0},{"$f":"'FE5'!G13","v":0},{"$f":"'FE5'!H13","v":0},{"$f":"'FE5'!I13","v":0},{"$f":"'FE5'!J13","v":0},{"$f":"'FE5'!K13","v":0},{"$f":"'FE5'!L13","v":0},{"$f":"'FE5'!M13","v":1},{"$f":"SUM(F89:N89)","v":1}]
[null,null,"Répartition de la consommation d'électricité - Industrie agroalimentaire",null,"%",{"$f":"'FE5'!E15","v":0},{"$f":"'FE5'!F15","v":1},{"$f":"'FE5'!G15","v":0},{"$f":"'FE5'!H15","v":0},{"$f":"'FE5'!I15","v":0},{"$f":"'FE5'!J15","v":0},{"$f":"'FE5'!K15","v":0},{"$f":"'FE5'!L15","v":0},{"$f":"'FE5'!M15","v":0},{"$f":"SUM(F90:N90)","v":1}]
[null,null,"Agriculture",null,"MWh",{"$f":"$F$85*F89","v":0},{"$f":"$F$85*G89","v":0},0,0,0,0,0,0,0,{"$f":"SUM(F91:N91)","v":0}]
[null,null,"Industrie agroalimentaire",null,"MWh",{"$f":"$F$86*F90","v":0},{"$f":"$F$86*G90","v":0},0,0,0,0,0,0,0,{"$f":"SUM(F92:N92)","v":0}]
[null,null,"Alimentation - Consommation d'électricité",null,"MWh",{"$f":"F91+F92","v":0},{"$f":"G91+G92","v":0},0,0,0,0,0,0,0,{"$f":"SUM(F93:N93)","v":0}]
[]
[null,null,null,null,null,"Transport","Industrie base","Eclairage résidentiel","Eclairage public et industrie","Eau chaude sanitaire et cuisson","Cuisson residentiel","Climatisation tertiaire","Chauffage","Autres (BTP, recherche, armées, etc.)","Total"]
[null,null,"Agriculture- Emissions indirectes (scope 2 - périmètre réglementaire)",null,"kt eq CO2",{"$f":"(F91*'FE5'!E$20)/1000000","v":0},{"$f":"(G91*'FE5'!F$20)/1000000","v":0},{"$f":"(H91*'FE5'!G$20)/1000000","v":0},{"$f":"(I91*'FE5'!H$20)/1000000","v":0},{"$f":"(J91*'FE5'!I$20)/1000000","v":0},{"$f":"(K91*'FE5'!J$20)/1000000","v":0},{"$f":"(L91*'FE5'!K$20)/1000000","v":0},{"$f":"(M91*'FE5'!L$20)/1000000","v":0},{"$f":"(N91*'FE5'!M$20)/1000000","v":0},{"$f":"SUM(F96:N96)","v":0}]
[null,null,"Agriculture- Emissions indirectes (amont des combustibles, transport et distribution)",null,"kt eq CO2",{"$f":"F98-F96","v":0},0,0,0,0,0,0,0,0,0]
[null,null,"Agriculture-Scope 3",null,"kt eq CO2",{"$f":"(F91*'FE5'!E$21)/1000000","v":0},{"$f":"(G91*'FE5'!F$21)/1000000","v":0},{"$f":"(H91*'FE5'!G$21)/1000000","v":0},{"$f":"(I91*'FE5'!H$21)/1000000","v":0},{"$f":"(J91*'FE5'!I$21)/1000000","v":0},{"$f":"(K91*'FE5'!J$21)/1000000","v":0},{"$f":"(L91*'FE5'!K$21)/1000000","v":0},{"$f":"(M91*'FE5'!L$21)/1000000","v":0},{"$f":"(N91*'FE5'!M$21)/1000000","v":0},0]
[null,null,"Industrie agroalimentaire - Emissions indirectes (scope 2 - périmètre réglementaire)",null,"kt eq CO2",{"$f":"(F92*'FE5'!E$20)/1000000","v":0},{"$f":"(G92*'FE5'!F$20)/1000000","v":0},{"$f":"(H92*'FE5'!G$20)/1000000","v":0},{"$f":"(I92*'FE5'!H$20)/1000000","v":0},{"$f":"(J92*'FE5'!I$20)/1000000","v":0},{"$f":"(K92*'FE5'!J$20)/1000000","v":0},{"$f":"(L92*'FE5'!K$20)/1000000","v":0},{"$f":"(M92*'FE5'!L$20)/1000000","v":0},{"$f":"(N92*'FE5'!M$20)/1000000","v":0},0]
[null,null,"Industrie agroalimentaire- Emissions indirectes (amont des combustibles, transport et distribution)",null,"kt eq CO2",{"$f":"F101-F99","v":0},{"$f":"G101-G99","v":0},0,0,0,0,0,0,0,0]
[null,null,"Industrie agroalimentaire-Scope 3",null,"kt eq CO2",{"$f":"(F92*'FE5'!E$21)/1000000","v":0},{"$f":"(G92*'FE5'!F$21)/1000000","v":0},{"$f":"(H92*'FE5'!G$21)/1000000","v":0},{"$f":"(I92*'FE5'!H$21)/1000000","v":0},{"$f":"(J92*'FE5'!I$21)/1000000","v":0},{"$f":"(K92*'FE5'!J$21)/1000000","v":0},{"$f":"(L92*'FE5'!K$21)/1000000","v":0},{"$f":"(M92*'FE5'!L$21)/1000000","v":0},{"$f":"(N92*'FE5'!M$21)/1000000","v":0},0]
[null,null,"Alimlentation (scope 2 - périmètre réglementaire)",null,"kt eq CO2",{"$f":"(F93*'FE5'!E$20)/1000000","v":0},{"$f":"(G93*'FE5'!F$20)/1000000","v":0},{"$f":"(H93*'FE5'!G$20)/1000000","v":0},{"$f":"(I93*'FE5'!H$20)/1000000","v":0},{"$f":"(J93*'FE5'!I$20)/1000000","v":0},{"$f":"(K93*'FE5'!J$20)/1000000","v":0},{"$f":"(L93*'FE5'!K$20)/1000000","v":0},{"$f":"(M93*'FE5'!L$20)/1000000","v":0},{"$f":"(N93*'FE5'!M$20)/1000000","v":0},0]
[null,null,"Alimentation- Emissions indirectes (amont des combustibles, transport et distribution)",null,"kt eq CO2",{"$f":"F104-F102","v":0},{"$f":"G104-G102","v":0},0,0,0,0,0,0,0,0]
[null,null,"Alimentation - Scope 3",null,"kt eq CO2",{"$f":"(F93*'FE5'!E$21)/1000000","v":0},{"$f":"(G93*'FE5'!F$21)/1000000","v":0},{"$f":"(H93*'FE5'!G$21)/1000000","v":0},{"$f":"(I93*'FE5'!H$21)/1000000","v":0},{"$f":"(J93*'FE5'!I$21)/1000000","v":0},{"$f":"(K93*'FE5'!J$21)/1000000","v":0},{"$f":"(L93*'FE5'!K$21)/1000000","v":0},{"$f":"(M93*'FE5'!L$21)/1000000","v":0},{"$f":"(N93*'FE5'!M$21)/1000000","v":0},0]
[]
[]
["E.","Services - Émissions indirectes de GES liées à la consommation d'électricité sur le territoire"]
[]
[null,"Services - émissions indirectes de GES liées à la consommation d'électricité (Imports)"]
[]
[null,null,"Consommation d'électricité",null,"Services",{"$f":"I1a!D158","v":0},"MWh"]
[null,null,null,null,"Tertiaire",{"$f":"I1a!D159","v":0},"MWh"]
[null,null,null,null,"Traitement des déchets",{"$f":"I1a!D160","v":0},"MWh"]
[]
[]
[null,null,null,null,null,"Transport","Industrie base","Eclairage résidentiel","Eclairage public et industrie","Eau chaude sanitaire et cuisson","Cuisson residentiel","Climatisation tertiaire","Chauffage","Autres (BTP, recherche, armées, etc.)","Total"]
[null,null,"Tertiaire",null,"%",{"$f":"'FE5'!E10","v":0},{"$f":"'FE5'!F10","v":0},{"$f":"'FE5'!G10","v":0},{"$f":"'FE5'!H10","v":0},{"$f":"'FE5'!I10","v":7.0000000000000007E-2},{"$f":"'FE5'!J10","v":0},{"$f":"'FE5'!K10","v":0.11},{"$f":"'FE5'!L10","v":0.17},{"$f":"'FE5'!M10","v":0.65},{"$f":"SUM(F117:N117)","v":1}]
[null,null,"Traitement de déchets",null,"%",{"$f":"'FE5'!E14","v":0},{"$f":"'FE5'!F14","v":1},{"$f":"'FE5'!G14","v":0},{"$f":"'FE5'!H14","v":0},{"$f":"'FE5'!I14","v":0},{"$f":"'FE5'!J14","v":0},{"$f":"'FE5'!K14","v":0},{"$f":"'FE5'!L14","v":0},{"$f":"'FE5'!M14","v":0},{"$f":"SUM(F118:N118)","v":1}]
[null,null,"Tertiaire",null,"MWh",{"$f":"$F$112*F117","v":0},{"$f":"$F$112*G117","v":0},0,0,0,0,0,0,0,{"$f":"SUM(F119:N119)","v":0}]
[null,null,"Traitement de déchets",null,"MWh",{"$f":"$F$113*F118","v":0},{"$f":"$F$113*G118","v":0},0,0,0,0,0,0,0,{"$f":"SUM(F120:N120)","v":0}]
[null,null,"Services- Consommation d'électricité",null,"MWh",{"$f":"F119+F120","v":0},{"$f":"G119+G120","v":0},0,0,0,0,0,0,0,{"$f":"SUM(F121:N121)","v":0}]
[]
[null,null,null,null,null,"Transport","Industrie base","Eclairage résidentiel","Eclairage public et industrie","Eau chaude sanitaire et cuisson","Cuisson residentiel","Climatisation tertiaire","Chauffage","Autres (BTP, recherche, armées, etc.)","Total"]
[null,null,"Tertiaire- Emissions indirectes (scope 2 - périmètre réglementaire)",null,"kt eq CO2",{"$f":"(F119*'FE5'!E$20)/1000000","v":0},{"$f":"(G119*'FE5'!F$20)/1000000","v":0},{"$f":"(H119*'FE5'!G$20)/1000000","v":0},{"$f":"(I119*'FE5'!H$20)/1000000","v":0},{"$f":"(J119*'FE5'!I$20)/1000000","v":0},{"$f":"(K119*'FE5'!J$20)/1000000","v":0},{"$f":"(L119*'FE5'!K$20)/1000000","v":0},{"$f":"(M119*'FE5'!L$20)/1000000","v":0},{"$f":"(N119*'FE5'!M$20)/1000000","v":0},{"$f":"SUM(F124:N124)","v":0}]
[null,null,"Tertiaire- Emissions indirectes (amont des combustibles, transport et distribution)",null,"kt eq CO2",{"$f":"F126-F124","v":0},0,0,0,0,0,0,0,0,0]
[null,null,"Tertiaire-Scope 3",null,"kt eq CO2",{"$f":"(F119*'FE5'!E$21)/1000000","v":0},{"$f":"(G119*'FE5'!F$21)/1000000","v":0},{"$f":"(H119*'FE5'!G$21)/1000000","v":0},{"$f":"(I119*'FE5'!H$21)/1000000","v":0},{"$f":"(J119*'FE5'!I$21)/1000000","v":0},{"$f":"(K119*'FE5'!J$21)/1000000","v":0},{"$f":"(L119*'FE5'!K$21)/1000000","v":0},{"$f":"(M119*'FE5'!L$21)/1000000","v":0},{"$f":"(N119*'FE5'!M$21)/1000000","v":0},0]
[null,null,"Traitement de déchets - Emissions indirectes (scope 2 - périmètre réglementaire)",null,"kt eq CO2",{"$f":"(F120*'FE5'!E$20)/1000000","v":0},{"$f":"(G120*'FE5'!F$20)/1000000","v":0},{"$f":"(H120*'FE5'!G$20)/1000000","v":0},{"$f":"(I120*'FE5'!H$20)/1000000","v":0},{"$f":"(J120*'FE5'!I$20)/1000000","v":0},{"$f":"(K120*'FE5'!J$20)/1000000","v":0},{"$f":"(L120*'FE5'!K$20)/1000000","v":0},{"$f":"(M120*'FE5'!L$20)/1000000","v":0},{"$f":"(N120*'FE5'!M$20)/1000000","v":0},0]
[null,null,"Traitement de déchets- Emissions indirectes (amont des combustibles, transport et distribution)",null,"kt eq CO2",{"$f":"F129-F127","v":0},0,0,0,0,0,0,0,0,0]
[null,null,"Traitement de déchets-Scope 3",null,"kt eq CO2",{"$f":"(F120*'FE5'!E$21)/1000000","v":0},{"$f":"(G120*'FE5'!F$21)/1000000","v":0},{"$f":"(H120*'FE5'!G$21)/1000000","v":0},{"$f":"(I120*'FE5'!H$21)/1000000","v":0},{"$f":"(J120*'FE5'!I$21)/1000000","v":0},{"$f":"(K120*'FE5'!J$21)/1000000","v":0},{"$f":"(L120*'FE5'!K$21)/1000000","v":0},{"$f":"(M120*'FE5'!L$21)/1000000","v":0},{"$f":"(N120*'FE5'!M$21)/1000000","v":0},0]
[null,null,"Services - Emissions indirectes (scope 2 - périmètre réglementaire)",null,"kt eq CO2",{"$f":"(F121*'FE5'!E$20)/1000000","v":0},{"$f":"(G121*'FE5'!F$20)/1000000","v":0},{"$f":"(H121*'FE5'!G$20)/1000000","v":0},{"$f":"(I121*'FE5'!H$20)/1000000","v":0},{"$f":"(J121*'FE5'!I$20)/1000000","v":0},{"$f":"(K121*'FE5'!J$20)/1000000","v":0},{"$f":"(L121*'FE5'!K$20)/1000000","v":0},{"$f":"(M121*'FE5'!L$20)/1000000","v":0},{"$f":"(N121*'FE5'!M$20)/1000000","v":0},0]
[null,null,"Services - Emissions indirectes (amont des combustibles, transport et distribution)",null,"kt eq CO2",{"$f":"F132-F130","v":0},{"$f":"G132-G130","v":0},0,0,0,0,0,0,0,0]
[null,null,"Services- Scope 3",null,"kt eq CO2",{"$f":"(F121*'FE5'!E$21)/1000000","v":0},{"$f":"(G121*'FE5'!F$21)/1000000","v":0},{"$f":"(H121*'FE5'!G$21)/1000000","v":0},{"$f":"(I121*'FE5'!H$21)/1000000","v":0},{"$f":"(J121*'FE5'!I$21)/1000000","v":0},{"$f":"(K121*'FE5'!J$21)/1000000","v":0},{"$f":"(L121*'FE5'!K$21)/1000000","v":0},{"$f":"(M121*'FE5'!L$21)/1000000","v":0},{"$f":"(N121*'FE5'!M$21)/1000000","v":0},0]
[]
[]
["F.","Travaux - Émissions indirectes de GES liées à la consommation d'électricité sur le territoire"]
[null,"Cette partie n'est pas utilisée pour calculer le bilan GES final des émissions liées à la consommation. Spécifier les données bleues est optionnel et sert uniquement à obtenir la répartition par poste de la consommation électrique, à titre informatif. "]
[null,"Renseigner directement la consommation d'électricité \"travaux\" au niveau territorial, ou cliquer sur \"+\" (à gauche) pour affiner l'estimation"]
[]
[null,"Services - émissions indirectes de GES liées à la consommation d'électricité (Imports)"]
[]
[null,null,"Consommation d'électricité",null,"Travaux - Industrie des matériaux de construction",{"$f":"I1a!D186","v":0},"MWh"]
[]
[]
[null,null,null,null,null,"Transport","Industrie base","Eclairage résidentiel","Eclairage public et industrie","Eau chaude sanitaire et cuisson","Cuisson residentiel","Climatisation tertiaire","Chauffage","Autres (BTP, recherche, armées, etc.)","Total"]
[null,null,"Travaux",null,"%",{"$f":"'FE5'!E15","v":0},{"$f":"'FE5'!F15","v":1},{"$f":"'FE5'!G15","v":0},{"$f":"'FE5'!H15","v":0},{"$f":"'FE5'!I15","v":0},{"$f":"'FE5'!J15","v":0},{"$f":"'FE5'!K15","v":0},{"$f":"'FE5'!L15","v":0},{"$f":"'FE5'!M15","v":0},{"$f":"SUM(F145:N145)","v":1}]
[null,null,"Travaux- Consommation d'électricité",null,"MWh",{"$f":"$F$141*F145","v":0},{"$f":"$F$141*G145","v":0},0,0,0,0,0,0,0,{"$f":"SUM(F146:N146)","v":0}]
[]
[null,null,null,null,null,"Transport","Industrie base","Eclairage résidentiel","Eclairage public et industrie","Eau chaude sanitaire et cuisson","Cuisson residentiel","Climatisation tertiaire","Chauffage","Autres (BTP, recherche, armées, etc.)","Total"]
[null,null,"Travaux - Emissions indirectes (scope 2 - périmètre réglementaire)",null,"kt eq CO2",{"$f":"(F146*'FE5'!E$20)/1000000","v":0},{"$f":"(G146*'FE5'!F$20)/1000000","v":0},{"$f":"(H146*'FE5'!G$20)/1000000","v":0},{"$f":"(I146*'FE5'!H$20)/1000000","v":0},{"$f":"(J146*'FE5'!I$20)/1000000","v":0},{"$f":"(K146*'FE5'!J$20)/1000000","v":0},{"$f":"(L146*'FE5'!K$20)/1000000","v":0},{"$f":"(M146*'FE5'!L$20)/1000000","v":0},{"$f":"(N146*'FE5'!M$20)/1000000","v":0},{"$f":"SUM(F149:N149)","v":0}]
[null,null,"Travaux- Emissions indirectes (amont des combustibles, transport et distribution)",null,"kt eq CO2",{"$f":"F151-F149","v":0},{"$f":"G151-G149","v":0},0,0,0,0,0,0,0,{"$f":"SUM(F150:N150)","v":0}]
[null,null,"Travaux- Scope 3",null,"kt eq CO2",{"$f":"(F146*'FE5'!E$21)/1000000","v":0},{"$f":"(G146*'FE5'!F$21)/1000000","v":0},{"$f":"(H146*'FE5'!G$21)/1000000","v":0},{"$f":"(I146*'FE5'!H$21)/1000000","v":0},{"$f":"(J146*'FE5'!I$21)/1000000","v":0},{"$f":"(K146*'FE5'!J$21)/1000000","v":0},{"$f":"(L146*'FE5'!K$21)/1000000","v":0},{"$f":"(M146*'FE5'!L$21)/1000000","v":0},{"$f":"(N146*'FE5'!M$21)/1000000","v":0},{"$f":"SUM(F151:N151)","v":0}]

{"sheet":"I1c","index":14,"n_rows":22,"n_cols":13,"rows_kept":22,"cut":false,"hidden":false,"merged":[[20,1,20,4],[21,1,21,4],[13,1,13,4],[7,1,7,4],[8,1,8,4],[11,1,11,4],[14,1,14,4],[19,1,19,4]]}
[null,"Bilan des émissions de GES liées à la production / consommation d'électricité (scope 2 )- par poste ESPASS"]
[]
[null,"Bilan des émissions de GES liées à la production d'électricité / consommation d'électricité"]
[]
["1)","Emissions liées à la consommation d'électricité - Emissions importées"]
[]
[null,null,null,null,null,null,"Résidentiel","Déplacements","Biens de consommation","Alimentation","Services","Travaux","Total"]
[null,"Consommation d'électricité sur le territoire",null,null,null,"MWh",{"$f":"I1b!F9","v":0},{"$f":"I1b!F25","v":0},{"$f":"I1b!F52","v":0},{"$f":"I1b!F84","v":0},{"$f":"I1b!F111","v":0},{"$f":"I1b!F141","v":0},{"$f":"SUM(G8:L8)","v":0}]
[null,"Emissions GES liées à la consommation d'électricité = Emissions importées (scope 2)",null,null,null,"kt eq CO2",{"$f":"I1b!O16","v":0},{"$f":"I1b!O43","v":0},{"$f":"I1b!O73","v":0},{"$f":"I1b!O102","v":0},{"$f":"I1b!O130","v":0},{"$f":"I1b!O149","v":0},{"$f":"SUM(G9:L9)","v":0}]
[]
["2)","Emissions liées à la production  d'électricité - Emissions exportées"]
[]
[null,null,null,null,null,null,"Résidentiel","Déplacements","Biens de consommation","Alimentation","Services","Travaux","Total"]
[null,"Production d'électricité",null,null,null,"MWh",null,null,{"$f":"D2a!E6","v":0},null,null,null,{"$f":"-D2a!E6","v":0}]
[null,"Emissions GES liées à la production d'électricité sur le territoire = Emissions exportées",null,null,null,"kt eq CO2",null,null,{"$f":"-D2a!E7","v":0},null,null,null,{"$f":"-D2a!E7","v":0}]
[]
["3)","Bilan imports exports émissions liées à l'électricité (scope 2)"]
[]
[null,null,null,null,null,null,"Résidentiel","Déplacements","Biens de consommation","Alimentation","Services","Travaux","Total"]
[null,"Emissions GES liées à la consommation d'électricité = Emissions importées (scope 2)",null,null,null,"kt eq CO2",{"$f":"G9","v":0},0,0,0,0,0,0]
[null,"Emissions GES liées à la production d'électricité sur le territoire = Emissions exportées",null,null,null,"kt eq CO2",{"$f":"G15","v":0},0,0,0,0,0,0]
[null,"Emissions indirectes (scope 2) - Solde imports-exports",null,null,null,"kt eq CO2",{"$f":"G20+ G21","v":0},0,0,0,0,0,{"$f":"M20-M21","v":0}]

{"sheet":"I1d","index":15,"n_rows":22,"n_cols":15,"rows_kept":22,"cut":false,"hidden":false,"merged":[[14,1,14,4],[19,1,19,4],[20,1,20,4],[21,1,21,4],[7,1,7,4],[8,1,8,4],[11,1,11,4],[13,1,13,4]]}
[null,"Bilan des émissions de GES liées à la production/consommation d'électricité et de combustibles du territoire (scope 2)- par poste PCAET"]
[]
[null,"Bilan des émissions de GES liées à la production d'électricité / consommation d'électricité"]
[]
["1)","Emissions liées à la consommation d'électricité - Emissions importées"]
[]
[null,null,null,null,null,null,"Résidentiel","Tertiaire","Transport routier","Autres transports","Agriculture","Déchets","Industrie hors branche énergie","Industrie branche énergie ","Total"]
[null,"Consommation d'électricité sur le territoire",null,null,null,"MWh",{"$f":"I1b!F9","v":0},{"$f":"I1b!F112","v":0},{"$f":"I1b!F26","v":0},{"$f":"I1b!F27","v":0},{"$f":"I1b!F85","v":0},{"$f":"I1b!F113","v":0},{"$f":"I1b!F141+I1b!F86+I1b!F53","v":0},{"$f":"I1b!F54","v":0},{"$f":"SUM(G8:N8)","v":0}]
[null,"Emissions GES liées à la consommation d'électricité = Emissions importées (scope 2)",null,null,null,"kt eq CO2",{"$f":"I1b!O16","v":0},{"$f":"I1b!O124","v":0},{"$f":"I1b!O37","v":0},{"$f":"I1b!O40","v":0},{"$f":"I1b!O96","v":0},{"$f":"I1b!O127","v":0},{"$f":"I1b!O67+I1b!O99+I1b!O149","v":0},{"$f":"I1b!O70","v":0},{"$f":"SUM(G9:N9)","v":0}]
[]
["2)","Emissions liées à la production  d'électricité - Emissions exportées"]
[]
[null,null,null,null,null,null,"Résidentiel","Tertiaire","Transport routier","Autres transports","Agriculture","Déchets","Industrie hors branche énergie","Industrie branche énergie ","Total"]
[null,"Production d'électricité",null,null,null,"MWh",null,null,null,null,null,null,null,{"$f":"D2a!E6","v":0},{"$f":"SUM(G14:N14)","v":0}]
[null,"Emissions GES liées à la production d'électricité sur le territoire = Emissions exportées",null,null,null,"kt eq CO2",null,null,null,null,null,null,null,{"$f":"-D2a!E7","v":0},{"$f":"SUM(G15:N15)","v":0}]
[]
["3)","Bilan imports exports émissions liées à l'électricité (scope 2)"]
[]
[null,null,null,null,null,null,"Résidentiel","Tertiaire","Transport routier","Autres transports","Agriculture","Déchets","Industrie hors branche énergie","Industrie branche énergie ","Total"]
[null,"Emissions GES liées à la consommation d'électricité = Emissions importées (scope 2)",null,null,null,"kt eq CO2",{"$f":"G9","v":0},0,0,0,0,0,0,0,0]
[null,"Emissions GES liées à la production d'électricité sur le territoire = Emissions exportées",null,null,null,"kt eq CO2",{"$f":"G15","v":0},{"$f":"H15","v":0},{"$f":"N15","v":0},{"$f":"J15","v":0},0,0,0,0,0]
[null,"Emissions indirectes (scope 2) - Solde imports-exports",null,null,null,"kt eq CO2",{"$f":"G20+ G21","v":0},0,0,0,0,0,0,0,0]

{"sheet":"I2","index":16,"n_rows":161,"n_cols":20,"rows_kept":161,"cut":false,"hidden":false,"merged":[[71,3,71,4],[72,3,72,4],[56,3,56,4],[41,2,45,2],[46,2,52,2],[53,2,56,2],[51,3,51,4],[52,3,52,4],[53,3,53,4],[54,3,54,4],[55,3,55,4],[46,3,46,4],[47,3,47,4],[48,3,48,4],[49,3,49,4],[50,3,50,4],[41,3,41,4],[42,3,42,4],[43,3,43,4],[44,3,44,4],[45,3,45,4],[97,6,97,10],[26,3,26,4],[40,3,40,4],[7,13,7,18],[61,7,61,8],[61,13,61,18],[22,3,22,4],[9,3,9,4],[10,3,10,4],[11,3,11,4],[12,3,12,4],[13,3,13,4],[14,3,14,4],[15,3,15,4],[16,3,16,4],[27,3,27,4],[9,2,26,2],[17,3,17,4],[18,3,18,4],[19,3,19,4],[20,3,20,4],[21,3,21,4],[23,3,23,4],[24,3,24,4],[25,3,25,4],[27,2,40,2],[33,3,33,4],[34,3,34,4],[35,3,35,4],[36,3,36,4],[37,3,37,4],[38,3,38,4],[39,3,39,4],[28,3,28,4],[29,3,29,4],[30,3,30,4],[31,3,31,4],[32,3,32,4],[57,2,57,5],[86,6,86,9],[63,2,64,2],[65,2,66,2],[63,3,63,4],[64,3,64,4],[65,3,65,4],[66,3,66,4],[73,2,73,5],[67,2,68,2],[69,2,70,2],[71,2,72,2],[67,3,67,4],[68,3,68,4],[69,3,69,4],[70,3,70,4]]}
[]
[null,"Consommation de chaleur et de froid du territoire par réseaux"]
[]
["A.","Consommation de chaleur et de froid par réseaux du territoire (MWh)"]
[]
[null,"Consommation de chaleur et froid par réseau"]
[]
[null,null,"Aller dans l'onglet D2b pour modifier les valeurs",null,null,null,null,null,null,null,null,null,null,"Répartition des consommations du territoire par poste - pour tous les réseaux connectés au territoire"]
[null,null,null,null,null,null,null,"Part de la production consommée par le territoire (%)","Production du réseau (MWh)","Consommation du territoire  (MWh)","Emissions produites par les réseaux (kt eq CO2)","Emissions liées à la consommation (t eq CO2)","Source","Résidentiel","Déplacements","Biens de consommation","Alimentation","Services","Travaux","Source"]
[null,null,"Nord",{"$f":"D2b!D9","v":"Alma-Beaurepaire"},null,{"$f":"D2b!F9","v":"Roubaix"},{"$f":"D2b!G9","v":"Chaleur"},{"$f":"D2b!I9","v":0},{"$f":"D2b!J9","v":111190},{"$f":"H10*I10","v":0},{"$f":"((I10)*('FE5'!$G30))/1000","v":9.2287700000000008},{"$f":"H10*K10","v":0},{"$f":"D2b!R9","v":"Enquête nationale sur les réseaux de chaleur et de froid SOeS 2014 (données 2012)"},{"$f":"D3a!$D$6","v":0.54611092878240886},0,0,0,{"$f":"1-N10","v":0.45388907121759114},0,{"$f":"D3a!$E$6","v":"NORENER 2017 Hauts de France- données 2014"}]
[null,null,null,{"$f":"D2b!D10","v":"Les Canonniers"},null,{"$f":"D2b!F10","v":"Valenciennes"},{"$f":"D2b!G10","v":"Chaleur"},{"$f":"D2b!I10","v":0},{"$f":"D2b!J10","v":0},{"$f":"H11*I11","v":0},{"$f":"((I11)*('FE5'!$G31))/1000","v":0},{"$f":"H11*K11","v":0},{"$f":"D2b!R10","v":"Enquête nationale sur les réseaux de chaleur et de froid SOeS 2014 (données 2012)"},{"$f":"D3a!$D$6","v":0.54611092878240886},0,0,0,0.45388907121759114,0,{"$f":"D3a!$E$6","v":"NORENER 2017 Hauts de France- données 2014"}]
[null,null,null,{"$f":"D2b!D11","v":"Réseau de Sains-du-Nord"},null,{"$f":"D2b!F11","v":"Sains-du-Nord"},{"$f":"D2b!G11","v":"Chaleur"},{"$f":"D2b!I11","v":0},{"$f":"D2b!J11","v":0},0,{"$f":"((I12)*('FE5'!$G32))/1000","v":0},0,{"$f":"D2b!R11","v":"La voix du Nord, 17 avril 2017"},{"$f":"D3a!$D$6","v":0.54611092878240886},0,0,0,0.45388907121759114,0,{"$f":"D3a!$E$6","v":"NORENER 2017 Hauts de France- données 2014"}]
[null,null,null,{"$f":"D2b!D12","v":"Quartier Pont de bois"},null,{"$f":"D2b!F12","v":"Villeneuve-d'Ascq"},{"$f":"D2b!G12","v":"Chaleur"},{"$f":"D2b!I12","v":0},{"$f":"D2b!J12","v":39332},0,{"$f":"((I13)*('FE5'!$G33))/1000","v":8.4170480000000012},0,{"$f":"D2b!R12","v":"Enquête nationale sur les réseaux de chaleur et de froid SOeS 2014 (données 2012)"},{"$f":"D3a!$D$6","v":0.54611092878240886},0,0,0,0.45388907121759114,0,{"$f":"D3a!$E$6","v":"NORENER 2017 Hauts de France- données 2014"}]
[null,null,null,{"$f":"D2b!D13","v":"Domaine Universitaire et Scientifique"},null,{"$f":"D2b!F13","v":"Villeneuve-d'Ascq"},{"$f":"D2b!G13","v":"Chaleur"},{"$f":"D2b!I13","v":0},{"$f":"D2b!J13","v":35765},0,{"$f":"((I14)*('FE5'!$G34))/1000","v":8.6193650000000002},0,{"$f":"D2b!R13","v":"Enquête nationale sur les réseaux de chaleur et de froid SOeS 2014 (données 2012)"},{"$f":"D3a!$D$6","v":0.54611092878240886},0,0,0,0.45388907121759114,0,{"$f":"D3a!$E$6","v":"NORENER 2017 Hauts de France- données 2014"}]
[null,null,null,{"$f":"D2b!D14","v":"ZUP de Wattignies-Blanc Riez"},null,{"$f":"D2b!F14","v":"Wattignies"},{"$f":"D2b!G14","v":"Chaleur"},{"$f":"D2b!I14","v":0},{"$f":"D2b!J14","v":28237},0,{"$f":"((I15)*('FE5'!$G35))/1000","v":4.9132379999999998},0,{"$f":"D2b!R14","v":"Enquête nationale sur les réseaux de chaleur et de froid SOeS 2014 (données 2012)"},{"$f":"D3a!$D$6","v":0.54611092878240886},0,0,0,0.45388907121759114,0,{"$f":"D3a!$E$6","v":"NORENER 2017 Hauts de France- données 2014"}]
[null,null,null,{"$f":"D2b!D15","v":"Réseau de Wattrelos"},null,{"$f":"D2b!F15","v":"Wattrelos"},{"$f":"D2b!G15","v":"Chaleur"},{"$f":"D2b!I15","v":0},{"$f":"D2b!J15","v":16374},0,{"$f":"((I16)*('FE5'!$G36))/1000","v":3.5040360000000002},0,{"$f":"D2b!R15","v":"Enquête nationale sur les réseaux de chaleur et de froid SOeS 2014 (données 2012)"},{"$f":"D3a!$D$6","v":0.54611092878240886},0,0,0,0.45388907121759114,0,{"$f":"D3a!$E$6","v":"NORENER 2017 Hauts de France- données 2014"}]
[null,null,null,{"$f":"D2b!D16","v":"ZAC des Epis"},null,{"$f":"D2b!F16","v":"Sin-le-Noble"},{"$f":"D2b!G16","v":"Chaleur"},{"$f":"D2b!I16","v":0},{"$f":"D2b!J16","v":22257},0,{"$f":"((I17)*('FE5'!$G37))/1000","v":5.0745960000000006},0,{"$f":"D2b!R16","v":"Enquête nationale sur les réseaux de chaleur et de froid SOeS 2014 (données 2012)"},{"$f":"D3a!$D$6","v":0.54611092878240886},0,0,0,0.45388907121759114,0,{"$f":"D3a!$E$6","v":"NORENER 2017 Hauts de France- données 2014"}]
[null,null,null,{"$f":"D2b!D17","v":"Monsenergie"},null,{"$f":"D2b!F17","v":"Mons-en-Barœul"},{"$f":"D2b!G17","v":"Chaleur"},{"$f":"D2b!I17","v":0},{"$f":"D2b!J17","v":63591},0,{"$f":"((I18)*('FE5'!$G38))/1000","v":14.753112000000002},0,{"$f":"D2b!R17","v":"Enquête nationale sur les réseaux de chaleur et de froid SOeS 2014 (données 2012)"},{"$f":"D3a!$D$6","v":0.54611092878240886},0,0,0,0.45388907121759114,0,{"$f":"D3a!$E$6","v":"NORENER 2017 Hauts de France- données 2014"}]
[null,null,null,{"$f":"D2b!D18","v":"Métropole Nord"},null,{"$f":"D2b!F18","v":"Lille"},{"$f":"D2b!G18","v":"Chaleur"},{"$f":"D2b!I18","v":0},{"$f":"D2b!J18","v":289364},0,{"$f":"((I19)*('FE5'!$G39))/1000","v":82.179375999999991},0,{"$f":"D2b!R18","v":"Enquête nationale sur les réseaux de chaleur et de froid SOeS 2014 (données 2012)"},{"$f":"D3a!$D$6","v":0.54611092878240886},0,0,0,0.45388907121759114,0,{"$f":"D3a!$E$6","v":"NORENER 2017 Hauts de France- données 2014"}]
[null,null,null,{"$f":"D2b!D19","v":"CHU Lille"},null,{"$f":"D2b!F19","v":"Lille"},{"$f":"D2b!G19","v":"Chaleur"},{"$f":"D2b!I19","v":0},{"$f":"D2b!J19","v":100000},0,{"$f":"((I20)*('FE5'!$G40))/1000","v":32},0,{"$f":"D2b!R19","v":"Observatoire Climat, données 2012"},{"$f":"D3a!$D$6","v":0.54611092878240886},0,0,0,0.45388907121759114,0,{"$f":"D3a!$E$6","v":"NORENER 2017 Hauts de France- données 2014"}]
[null,null,null,{"$f":"D2b!D20","v":"Réseau de Lambersart"},null,{"$f":"D2b!F20","v":"Lambersart"},{"$f":"D2b!G20","v":"Chaleur"},{"$f":"D2b!I20","v":0},{"$f":"D2b!J20","v":15916},0,{"$f":"((I21)*('FE5'!$G41))/1000","v":4.6793040000000001},0,{"$f":"D2b!R20","v":"Observatoire Climat, données 2012"},{"$f":"D3a!$D$6","v":0.54611092878240886},0,0,0,0.45388907121759114,0,{"$f":"D3a!$E$6","v":"NORENER 2017 Hauts de France- données 2014"}]
[null,null,null,{"$f":"D2b!D21","v":"ZUP de la caserne joyeuse"},null,{"$f":"D2b!F21","v":"Maubeuge"},{"$f":"D2b!G21","v":"Chaleur"},{"$f":"D2b!I21","v":0},{"$f":"D2b!J21","v":2501},0,{"$f":"((I22)*('FE5'!$G42))/1000","v":0.59273699999999996},0,{"$f":"D2b!R21","v":"Enquête nationale sur les réseaux de chaleur et de froid SOeS 2014 (données 2012)"},{"$f":"D3a!$D$6","v":0.54611092878240886},0,0,0,0.45388907121759114,0,{"$f":"D3a!$E$6","v":"NORENER 2017 Hauts de France- données 2014"}]
[null,null,null,{"$f":"D2b!D22","v":"Les rives créatives de l'Escaut"},null,{"$f":"D2b!F22","v":"Anzin"},{"$f":"D2b!G22","v":"Chaleur"},{"$f":"D2b!I22","v":0},{"$f":"D2b!J22","v":2500},0,{"$f":"((I23)*('FE5'!$G43))/1000","v":1.2500000000000001E-2},0,{"$f":"D2b!R22","v":"Estimation RDC sur base d'une puissance de 281 kW"},{"$f":"D3a!$D$6","v":0.54611092878240886},0,0,0,0.45388907121759114,0,{"$f":"D3a!$E$6","v":"NORENER 2017 Hauts de France- données 2014"}]
[null,null,null,{"$f":"D2b!D23","v":"Energie Grand Littoral"},null,{"$f":"D2b!F23","v":"Dunkerque"},{"$f":"D2b!G23","v":"Chaleur"},{"$f":"D2b!I23","v":0},{"$f":"D2b!J23","v":136778},0,{"$f":"((I24)*('FE5'!$G44))/1000","v":13.677800000000001},0,{"$f":"D2b!R23","v":"Enquête nationale sur les réseaux de chaleur et de froid SOeS 2014 (données 2012)"},{"$f":"D3a!$D$6","v":0.54611092878240886},0,0,0,0.45388907121759114,0,{"$f":"D3a!$E$6","v":"NORENER 2017 Hauts de France- données 2014"}]
[null,null,null,{"$f":"D2b!D24","v":"Réseau de chauffage d'Hazebrouck"},null,{"$f":"D2b!F24","v":"Hazebrouck"},{"$f":"D2b!G24","v":"Chaleur"},{"$f":"D2b!I24","v":0},{"$f":"D2b!J24","v":6708},0,{"$f":"((I25)*('FE5'!$G45))/1000","v":1.516008},0,{"$f":"D2b!R24","v":"Enquête nationale sur les réseaux de chaleur et de froid SOeS 2014 (données 2012)"},{"$f":"D3a!$D$6","v":0.54611092878240886},0,0,0,0.45388907121759114,0,{"$f":"D3a!$E$6","v":"NORENER 2017 Hauts de France- données 2014"}]
[null,null,null,{"$f":"D2b!D25","v":"Quartier Tournebride Lomme-Capinghem"},null,"Lille",{"$f":"D2b!G25","v":"Chaleur"},{"$f":"D2b!I25","v":0},{"$f":"D2b!J25","v":6179},0,{"$f":"((I26)*('FE5'!$G46))/1000","v":0.48814100000000005},0,{"$f":"D2b!R25","v":"Observatoire Climat, données 2012"},{"$f":"D3a!$D$6","v":0.54611092878240886},0,0,0,0.45388907121759114,0,{"$f":"D3a!$E$6","v":"NORENER 2017 Hauts de France- données 2014"}]
[null,null,null,{"$f":"D2b!D26","v":0},null,{"$f":"D2b!F26","v":0},{"$f":"D2b!G26","v":"Chaleur"},{"$f":"D2b!I26","v":0},{"$f":"D2b!J26","v":0},0,{"$f":"((I27)*('FE5'!$G47))/1000","v":0},0,{"$f":"D2b!R26","v":0},{"$f":"D3a!$D$6","v":0.54611092878240886},0,0,0,{"$f":"1-N27","v":0.45388907121759114},0,{"$f":"D3a!$E$6","v":"NORENER 2017 Hauts de France- données 2014"}]
[null,null,"Pas-de-calais",{"$f":"D2b!D27","v":"ZUP du quartier République"},null,{"$f":"D2b!F27","v":"Avion"},{"$f":"D2b!G27","v":"Chaleur"},{"$f":"D2b!I27","v":0},{"$f":"D2b!J27","v":15268},0,{"$f":"((I28)*('FE5'!$G48))/1000","v":3.4505680000000001},{"$f":"H28*K28","v":0},{"$f":"D2b!R27","v":"Enquête nationale sur les réseaux de chaleur et de froid SOeS 2014 (données 2012)"},{"$f":"D3a!$D$6","v":0.54611092878240886},0,0,0,0.45388907121759114,0,{"$f":"D3a!$E$6","v":"NORENER 2017 Hauts de France- données 2014"}]
[null,null,null,{"$f":"D2b!D28","v":"Réseau de Arques"},null,{"$f":"D2b!F28","v":"Arques"},{"$f":"D2b!G28","v":"Chaleur"},{"$f":"D2b!I28","v":0},{"$f":"D2b!J28","v":8000},0,{"$f":"((I29)*('FE5'!$G49))/1000","v":0.432},0,{"$f":"D2b!R28","v":"Enquête nationale sur les réseaux de chaleur et de froid SOeS 2014 (données 2012)"},{"$f":"D3a!$D$6","v":0.54611092878240886},0,0,0,0.45388907121759114,0,{"$f":"D3a!$E$6","v":"NORENER 2017 Hauts de France- données 2014"}]
[null,null,null,{"$f":"D2b!D29","v":"ZUP de Lens"},null,{"$f":"D2b!F29","v":"Lens"},{"$f":"D2b!G29","v":"Chaleur"},{"$f":"D2b!I29","v":0},{"$f":"D2b!J29","v":51703},0,{"$f":"((I30)*('FE5'!$G50))/1000","v":0.31021799999999999},0,{"$f":"D2b!R29","v":"Enquête nationale sur les réseaux de chaleur et de froid SOeS 2014 (données 2012)"},{"$f":"D3a!$D$6","v":0.54611092878240886},0,0,0,0.45388907121759114,0,{"$f":"D3a!$E$6","v":"NORENER 2017 Hauts de France- données 2014"}]
[null,null,null,{"$f":"D2b!D30","v":"Le Portel-Outreau Engie"},null,{"$f":"D2b!F30","v":"Outreau"},{"$f":"D2b!G30","v":"Chaleur"},{"$f":"D2b!I30","v":0},{"$f":"D2b!J30","v":11000},0,{"$f":"((I31)*('FE5'!$G51))/1000","v":2.1230000000000002},0,{"$f":"D2b!R30","v":"estimation RDC puissance 2,4 MW, rendement 60%"},{"$f":"D3a!$D$6","v":0.54611092878240886},0,0,0,0.45388907121759114,0,{"$f":"D3a!$E$6","v":"NORENER 2017 Hauts de France- données 2014"}]
[null,null,null,{"$f":"D2b!D31","v":"Le Portel-Outreau Dalkia"},null,{"$f":"D2b!F31","v":"Outreau"},{"$f":"D2b!G31","v":"Chaleur"},{"$f":"D2b!I31","v":0},{"$f":"D2b!J31","v":5344},0,{"$f":"((I32)*('FE5'!$G52))/1000","v":1.1168959999999999},0,{"$f":"D2b!R31","v":"Réseau Rafhael, présentation du 27 novembre 2013"},{"$f":"D3a!$D$6","v":0.54611092878240886},0,0,0,0.45388907121759114,0,{"$f":"D3a!$E$6","v":"NORENER 2017 Hauts de France- données 2014"}]
[null,null,null,{"$f":"D2b!D32","v":"ZUP de Béthune"},null,{"$f":"D2b!F32","v":"Béthune"},{"$f":"D2b!G32","v":"Chaleur"},{"$f":"D2b!I32","v":0},{"$f":"D2b!J32","v":27133},0,{"$f":"((I33)*('FE5'!$G53))/1000","v":6.484786999999999},0,{"$f":"D2b!R32","v":"Enquête nationale sur les réseaux de chaleur et de froid SOeS 2014 (données 2012)"},{"$f":"D3a!$D$6","v":0.54611092878240886},0,0,0,0.45388907121759114,0,{"$f":"D3a!$E$6","v":"NORENER 2017 Hauts de France- données 2014"}]
[null,null,null,{"$f":"D2b!D33","v":"Réseau de Liévin"},null,{"$f":"D2b!F33","v":"Liévin"},{"$f":"D2b!G33","v":"Chaleur"},{"$f":"D2b!I33","v":0},{"$f":"D2b!J33","v":21122},0,{"$f":"((I34)*('FE5'!$G54))/1000","v":5.3227439999999993},0,{"$f":"D2b!R33","v":"Enquête nationale sur les réseaux de chaleur et de froid SOeS 2014 (données 2012)"},{"$f":"D3a!$D$6","v":0.54611092878240886},0,0,0,0.45388907121759114,0,{"$f":"D3a!$E$6","v":"NORENER 2017 Hauts de France- données 2014"}]
[null,null,null,{"$f":"D2b!D34","v":"Calais Energie"},null,{"$f":"D2b!F34","v":"Calais"},{"$f":"D2b!G34","v":"Chaleur"},{"$f":"D2b!I34","v":0},{"$f":"D2b!J34","v":52106},0,{"$f":"((I35)*('FE5'!$G55))/1000","v":10.525412000000001},0,{"$f":"D2b!R34","v":"Enquête nationale sur les réseaux de chaleur et de froid SOeS 2014 (données 2012)"},{"$f":"D3a!$D$6","v":0.54611092878240886},0,0,0,0.45388907121759114,0,{"$f":"D3a!$E$6","v":"NORENER 2017 Hauts de France- données 2014"}]
[null,null,null,{"$f":"D2b!D35","v":"Réseau Centre Ville"},null,{"$f":"D2b!F35","v":"Béthune"},{"$f":"D2b!G35","v":"Chaleur"},{"$f":"D2b!I35","v":0},{"$f":"D2b!J35","v":12678},0,{"$f":"((I36)*('FE5'!$G56))/1000","v":2.8525500000000004},0,{"$f":"D2b!R35","v":"Enquête nationale sur les réseaux de chaleur et de froid SOeS 2014 (données 2012)"},{"$f":"D3a!$D$6","v":0.54611092878240886},0,0,0,0.45388907121759114,0,{"$f":"D3a!$E$6","v":"NORENER 2017 Hauts de France- données 2014"}]
[null,null,null,{"$f":"D2b!D36","v":"Réseau d'Achicourt"},null,{"$f":"D2b!F36","v":"Achicourt"},{"$f":"D2b!G36","v":"Chaleur"},{"$f":"D2b!I36","v":0},{"$f":"D2b!J36","v":6416},0,{"$f":"((I37)*('FE5'!$G57))/1000","v":0.64160000000000006},0,{"$f":"D2b!R36","v":"Observatoire Climat, données 2013"},{"$f":"D3a!$D$6","v":0.54611092878240886},0,0,0,0.45388907121759114,0,{"$f":"D3a!$E$6","v":"NORENER 2017 Hauts de France- données 2014"}]
[null,null,null,{"$f":"D2b!D37","v":"Réseau d'Arras"},null,{"$f":"D2b!F37","v":"Arras"},{"$f":"D2b!G37","v":"Chaleur"},{"$f":"D2b!I37","v":0},{"$f":"D2b!J37","v":56703},0,{"$f":"((I38)*('FE5'!$G58))/1000","v":12.701471999999999},0,{"$f":"D2b!R37","v":"Enquête nationale sur les réseaux de chaleur et de froid SOeS 2014 (données 2012)"},{"$f":"D3a!$D$6","v":0.54611092878240886},0,0,0,0.45388907121759114,0,{"$f":"D3a!$E$6","v":"NORENER 2017 Hauts de France- données 2014"}]
[null,null,null,{"$f":"D2b!D38","v":"Réseau de Boulogne-sur-Mer"},null,{"$f":"D2b!F38","v":"Boulogne-sur-Mer"},{"$f":"D2b!G38","v":"Chaleur"},{"$f":"D2b!I38","v":0},{"$f":"D2b!J38","v":29249},0,{"$f":"((I39)*('FE5'!$G59))/1000","v":6.9612619999999996},0,{"$f":"D2b!R38","v":"Observatoire Climat, données 2015"},{"$f":"D3a!$D$6","v":0.54611092878240886},0,0,0,0.45388907121759114,0,{"$f":"D3a!$E$6","v":"NORENER 2017 Hauts de France- données 2014"}]
[null,null,null,{"$f":"D2b!D39","v":"Quartier du chemin vert"},null,{"$f":"D2b!F39","v":"Boulogne-sur-Mer"},{"$f":"D2b!G39","v":"Chaleur"},{"$f":"D2b!I39","v":0},{"$f":"D2b!J39","v":18977},0,{"$f":"((I40)*('FE5'!$G60))/1000","v":1.3293388500000001},0,{"$f":"D2b!R39","v":"CERDD"},{"$f":"D3a!$D$6","v":0.54611092878240886},0,0,0,0.45388907121759114,0,{"$f":"D3a!$E$6","v":"NORENER 2017 Hauts de France- données 2014"}]
[null,null,null,{"$f":"D2b!D40","v":0},null,{"$f":"D2b!F40","v":0},{"$f":"D2b!G40","v":"Chaleur"},{"$f":"D2b!I40","v":0},{"$f":"D2b!J40","v":0},{"$f":"H41*I41","v":0},{"$f":"((I41)*('FE5'!$G61))/1000","v":0},0,{"$f":"D2b!R40","v":0},{"$f":"D3a!$D$6","v":0.54611092878240886},0,0,0,{"$f":"1-N41","v":0.45388907121759114},0,{"$f":"D3a!$E$6","v":"NORENER 2017 Hauts de France- données 2014"}]
[null,null,"Aisne",{"$f":"D2b!D41","v":"ZUP du Quartier Europe"},null,{"$f":"D2b!F41","v":"Saint-Quentin"},{"$f":"D2b!G41","v":"Chaleur"},{"$f":"D2b!I41","v":0},{"$f":"D2b!J41","v":65926},{"$f":"H42*I42","v":0},{"$f":"((I42)*('FE5'!$G62))/1000","v":8.90001},{"$f":"H42*K42","v":0},{"$f":"D2b!R41","v":"L’ANNUAIRE DES RÉSEAUX DE CHALEUR ET DE FROID 2014/2015 (données 2012)"},{"$f":"D3a!$D$6","v":0.54611092878240886},0,0,0,{"$f":"1-N42","v":0.45388907121759114},0,{"$f":"D3a!$E$6","v":"NORENER 2017 Hauts de France- données 2014"}]
[null,null,null,{"$f":"D2b!D42","v":"ZUP de Presles"},null,{"$f":"D2b!F42","v":"Soissons"},{"$f":"D2b!G42","v":"Chaleur"},{"$f":"D2b!I42","v":0},{"$f":"D2b!J42","v":33921},0,{"$f":"((I43)*('FE5'!$G63))/1000","v":2.611917},0,{"$f":"D2b!R42","v":"L’ANNUAIRE DES RÉSEAUX DE CHALEUR ET DE FROID 2014/2015 (données 2012)"},{"$f":"D3a!$D$6","v":0.54611092878240886},0,0,0,0.45388907121759114,0,{"$f":"D3a!$E$6","v":"NORENER 2017 Hauts de France- données 2014"}]
[null,null,null,{"$f":"D2b!D43","v":"Réseau de Laon"},null,{"$f":"D2b!F43","v":"Laon"},{"$f":"D2b!G43","v":"Chaleur"},{"$f":"D2b!I43","v":0},{"$f":"D2b!J43","v":1825},0,{"$f":"((I44)*('FE5'!$G64))/1000","v":7.3000000000000001E-3},0,{"$f":"D2b!R43","v":"L’ANNUAIRE DES RÉSEAUX DE CHALEUR ET DE FROID 2014/2015 (données 2012)"},{"$f":"D3a!$D$6","v":0.54611092878240886},0,0,0,0.45388907121759114,0,{"$f":"D3a!$E$6","v":"NORENER 2017 Hauts de France- données 2014"}]
[null,null,null,{"$f":"D2b!D44","v":"Réseau d'Urcel"},null,{"$f":"D2b!F44","v":"Urcel"},{"$f":"D2b!G44","v":"Chaleur"},{"$f":"D2b!I44","v":0},{"$f":"D2b!J44","v":285},0,{"$f":"((I45)*('FE5'!$G65))/1000","v":1.14E-2},0,{"$f":"D2b!R44","v":"Réseau de chaleur de la ville d'URCEL (02) (http://ret-ademe-region-hdf.fr/)"},{"$f":"D3a!$D$6","v":0.54611092878240886},0,0,0,0.45388907121759114,0,{"$f":"D3a!$E$6","v":"NORENER 2017 Hauts de France- données 2014"}]
[null,null,null,{"$f":"D2b!D45","v":0},null,{"$f":"D2b!F45","v":0},{"$f":"D2b!G45","v":"Chaleur"},{"$f":"D2b!I45","v":0},{"$f":"D2b!J45","v":0},0,{"$f":"((I46)*('FE5'!$G66))/1000","v":0},0,{"$f":"D2b!R45","v":0},{"$f":"D3a!$D$6","v":0.54611092878240886},0,0,0,0.45388907121759114,0,{"$f":"D3a!$E$6","v":"NORENER 2017 Hauts de France- données 2014"}]
[null,null,"Oise",{"$f":"D2b!D46","v":"Réseau de Compiègne"},null,{"$f":"D2b!F46","v":"Compiègne"},{"$f":"D2b!G46","v":"Chaleur"},{"$f":"D2b!I46","v":0},{"$f":"D2b!J46","v":68895},0,{"$f":"((I47)*('FE5'!$G67))/1000","v":16.948169999999998},0,{"$f":"D2b!R46","v":"L’ANNUAIRE DES RÉSEAUX DE CHALEUR ET DE FROID 2014/2015 (données 2012)"},{"$f":"D3a!$D$6","v":0.54611092878240886},0,0,0,0.45388907121759114,0,{"$f":"D3a!$E$6","v":"NORENER 2017 Hauts de France- données 2014"}]
[null,null,null,{"$f":"D2b!D47","v":"La Cavée"},null,{"$f":"D2b!F47","v":"Creil"},{"$f":"D2b!G47","v":"Chaleur"},{"$f":"D2b!I47","v":0},{"$f":"D2b!J47","v":71957},0,{"$f":"((I48)*('FE5'!$G68))/1000","v":7.8433130000000002},0,{"$f":"D2b!R47","v":"L’ANNUAIRE DES RÉSEAUX DE CHALEUR ET DE FROID 2014/2015 (données 2012)"},{"$f":"D3a!$D$6","v":0.54611092878240886},0,0,0,0.45388907121759114,0,{"$f":"D3a!$E$6","v":"NORENER 2017 Hauts de France- données 2014"}]
[null,null,null,{"$f":"D2b!D48","v":"Quartier des Obiers"},null,{"$f":"D2b!F48","v":"Nogent-sur-Oise"},{"$f":"D2b!G48","v":"Chaleur"},{"$f":"D2b!I48","v":0},{"$f":"D2b!J48","v":42305},0,{"$f":"((I49)*('FE5'!$G69))/1000","v":7.7418149999999999},0,{"$f":"D2b!R48","v":"L’ANNUAIRE DES RÉSEAUX DE CHALEUR ET DE FROID 2014/2015 (données 2012)"},{"$f":"D3a!$D$6","v":0.54611092878240886},0,0,0,0.45388907121759114,0,{"$f":"D3a!$E$6","v":"NORENER 2017 Hauts de France- données 2014"}]
[null,null,null,{"$f":"D2b!D49","v":"Les Martinets"},null,{"$f":"D2b!F49","v":"Montataire"},{"$f":"D2b!G49","v":"Chaleur"},{"$f":"D2b!I49","v":0},{"$f":"D2b!J49","v":0},0,{"$f":"((I50)*('FE5'!$G70))/1000","v":0},0,{"$f":"D2b!R49","v":"Cessation d'activité en 2014 : Annexe I de l'arrêté du 24 janvier 2014."},{"$f":"D3a!$D$6","v":0.54611092878240886},0,0,0,0.45388907121759114,0,{"$f":"D3a!$E$6","v":"NORENER 2017 Hauts de France- données 2014"}]
[null,null,null,{"$f":"D2b!D50","v":"Réseau du Quartier Saint-Jean"},null,{"$f":"D2b!F50","v":"Beauvais"},{"$f":"D2b!G50","v":"Chaleur"},{"$f":"D2b!I50","v":0},{"$f":"D2b!J50","v":30000},0,{"$f":"((I51)*('FE5'!$G71))/1000","v":0.39},0,{"$f":"D2b!R50","v":"http://www.cram.fr/project/ville-de-beauvais-quartier-st-jean/"},{"$f":"D3a!$D$6","v":0.54611092878240886},0,0,0,0.45388907121759114,0,{"$f":"D3a!$E$6","v":"NORENER 2017 Hauts de France- données 2014"}]
[null,null,null,{"$f":"D2b!D51","v":"Réseau de Breteuil-sur-Noye"},null,{"$f":"D2b!F51","v":"Breteuil-sur-Noye"},{"$f":"D2b!G51","v":"Chaleur"},{"$f":"D2b!I51","v":0},{"$f":"D2b!J51","v":6230},0,{"$f":"((I52)*('FE5'!$G72))/1000","v":0.15575},0,{"$f":"D2b!R51","v":"http://www.ville-breteuil.fr/mode-texte/fr/information/63260/chaufferie-biomasse-reseau-chaleur"},{"$f":"D3a!$D$6","v":0.54611092878240886},0,0,0,0.45388907121759114,0,{"$f":"D3a!$E$6","v":"NORENER 2017 Hauts de France- données 2014"}]
[null,null,null,{"$f":"D2b!D52","v":0},null,{"$f":"D2b!F52","v":0},{"$f":"D2b!G52","v":"Chaleur"},{"$f":"D2b!I52","v":0},{"$f":"D2b!J52","v":0},0,{"$f":"((I53)*('FE5'!$G73))/1000","v":0},0,{"$f":"D2b!R52","v":0},{"$f":"D3a!$D$6","v":0.54611092878240886},0,0,0,0.45388907121759114,0,{"$f":"D3a!$E$6","v":"NORENER 2017 Hauts de France- données 2014"}]
[null,null,"Somme",{"$f":"D2b!D53","v":"Etouvie"},null,{"$f":"D2b!F53","v":"Amiens"},{"$f":"D2b!G53","v":"Chaleur"},{"$f":"D2b!I53","v":0},{"$f":"D2b!J53","v":30035},0,{"$f":"((I54)*('FE5'!$G74))/1000","v":7.7790650000000001},0,{"$f":"D2b!R53","v":"L’ANNUAIRE DES RÉSEAUX DE CHALEUR ET DE FROID 2014/2015 (données 2012)"},{"$f":"D3a!$D$6","v":0.54611092878240886},0,0,0,0.45388907121759114,0,{"$f":"D3a!$E$6","v":"NORENER 2017 Hauts de France- données 2014"}]
[null,null,null,{"$f":"D2b!D54","v":"Réseau de Montdidier"},null,{"$f":"D2b!F54","v":"Montdidier"},{"$f":"D2b!G54","v":"Chaleur"},{"$f":"D2b!I54","v":0},{"$f":"D2b!J54","v":6970},0,{"$f":"((I55)*('FE5'!$G75))/1000","v":0.52275000000000005},0,{"$f":"D2b!R54","v":"L’ANNUAIRE DES RÉSEAUX DE CHALEUR ET DE FROID 2014/2015 (données 2012)"},{"$f":"D3a!$D$6","v":0.54611092878240886},0,0,0,0.45388907121759114,0,{"$f":"D3a!$E$6","v":"NORENER 2017 Hauts de France- données 2014"}]
[null,null,null,{"$f":"D2b!D55","v":"Réseau d'Abbeville"},null,{"$f":"D2b!F55","v":"Abbeville"},{"$f":"D2b!G55","v":"Chaleur"},{"$f":"D2b!I55","v":0},{"$f":"D2b!J55","v":10511},0,{"$f":"((I56)*('FE5'!$G76))/1000","v":1.114166},0,{"$f":"D2b!R55","v":"L’ANNUAIRE DES RÉSEAUX DE CHALEUR ET DE FROID 2014/2015 (données 2012)"},{"$f":"D3a!$D$6","v":0.54611092878240886},0,0,0,0.45388907121759114,0,{"$f":"D3a!$E$6","v":"NORENER 2017 Hauts de France- données 2014"}]
[null,null,null,{"$f":"D2b!D57","v":0},null,{"$f":"D2b!F56","v":0},{"$f":"D2b!G56","v":"Chaleur"},{"$f":"D2b!I56","v":0},{"$f":"D2b!J56","v":0},0,{"$f":"((I57)*('FE5'!$G77))/1000","v":0},0,{"$f":"D2b!R56","v":0},{"$f":"D3a!$D$6","v":0.54611092878240886},0,0,0,0.45388907121759114,0,{"$f":"D3a!$E$6","v":"NORENER 2017 Hauts de France- données 2014"}]
[null,null,"Total",null,null,null,null,null,{"$f":"SUM(I10:I57)","v":1561251},{"$f":"SUM(J10:J57)","v":0},{"$f":"SUM(K10:K57)","v":297.93353484999994},{"$f":"SUM(L10:L57)","v":0}]
[]
[]
[null,"Production de froid par réseau"]
[null,null,null,null,null,null,null,null,null,null,null,null,null,"Répartition des consommations du territoire par poste - pour tous les réseaux connectés au territoire"]
[null,null,null,null,null,null,null,"Part de la production consommée par le territoire (%)","Production du réseau (MWh)","Consommation du territoire  (MWh)","Emissions produites par les réseaux (t eq CO2)","Emissions liées à la consommation (t eq CO2)","Source","Résidentiel","Déplacements","Biens de consommation","Alimentation","Services","Travaux","Source"]
[null,null,"Nord",{"$f":"D2b!D63","v":0},null,{"$f":"D2b!F63","v":0},{"$f":"D2b!G63","v":"Froid"},{"$f":"D2b!I63","v":0},{"$f":"D2b!J63","v":0},{"$f":"H64*I64","v":0},{"$f":"D2b!N63","v":0},{"$f":"H64*K64","v":0},null,0,0,{"$f":"1-R64","v":3.0000000000000027E-2},0,{"$f":"D3a!$D$7","v":0.97},0,{"$f":"D3a!$E$7","v":"Enquête de branche SNCU 2015"}]
[null,null,null,{"$f":"D2b!D64","v":0},null,{"$f":"D2b!F64","v":0},{"$f":"D2b!G64","v":"Froid"},{"$f":"D2b!I64","v":0},{"$f":"D2b!J64","v":0},{"$f":"H65*I65","v":0},{"$f":"D2b!N64","v":0},{"$f":"H65*K65","v":0},null,0,0,{"$f":"1-R65","v":3.0000000000000027E-2},0,{"$f":"D3a!$D$7","v":0.97},0,{"$f":"D3a!$E$7","v":"Enquête de branche SNCU 2015"}]
[null,null,"Pas-de-calais",{"$f":"D2b!D65","v":0},null,{"$f":"D2b!F65","v":0},{"$f":"D2b!G65","v":"Froid"},{"$f":"D2b!I65","v":0},{"$f":"D2b!J65","v":0},{"$f":"H66*I66","v":0},{"$f":"D2b!N65","v":0},{"$f":"H66*K66","v":0},null,0,0,3.0000000000000027E-2,0,{"$f":"D3a!$D$7","v":0.97},0,{"$f":"D3a!$E$7","v":"Enquête de branche SNCU 2015"}]
[null,null,null,{"$f":"D2b!D66","v":0},null,{"$f":"D2b!F66","v":0},{"$f":"D2b!G66","v":"Froid"},{"$f":"D2b!I66","v":0},{"$f":"D2b!J66","v":0},{"$f":"H67*I67","v":0},{"$f":"D2b!N66","v":0},{"$f":"H67*K67","v":0},null,0,0,3.0000000000000027E-2,0,{"$f":"D3a!$D$7","v":0.97},0,{"$f":"D3a!$E$7","v":"Enquête de branche SNCU 2015"}]
[null,null,"Aisne",{"$f":"D2b!D67","v":0},null,{"$f":"D2b!F67","v":0},{"$f":"D2b!G67","v":"Froid"},{"$f":"D2b!I67","v":0},{"$f":"D2b!J67","v":0},{"$f":"H68*I68","v":0},{"$f":"D2b!N67","v":0},{"$f":"H68*K68","v":0},null,0,0,3.0000000000000027E-2,0,{"$f":"D3a!$D$7","v":0.97},0,{"$f":"D3a!$E$7","v":"Enquête de branche SNCU 2015"}]
[null,null,null,{"$f":"D2b!D68","v":0},null,{"$f":"D2b!F68","v":0},{"$f":"D2b!G68","v":"Froid"},{"$f":"D2b!I68","v":0},{"$f":"D2b!J68","v":0},0,{"$f":"D2b!N68","v":0},0,null,0,0,3.0000000000000027E-2,0,{"$f":"D3a!$D$7","v":0.97},0,{"$f":"D3a!$E$7","v":"Enquête de branche SNCU 2015"}]
[null,null,"Oise",{"$f":"D2b!D69","v":0},null,{"$f":"D2b!F69","v":0},{"$f":"D2b!G69","v":"Froid"},{"$f":"D2b!I69","v":0},{"$f":"D2b!J69","v":0},0,{"$f":"D2b!N69","v":0},0,null,0,0,3.0000000000000027E-2,0,{"$f":"D3a!$D$7","v":0.97},0,{"$f":"D3a!$E$7","v":"Enquête de branche SNCU 2015"}]
[null,null,null,{"$f":"D2b!D70","v":0},null,{"$f":"D2b!F70","v":0},{"$f":"D2b!G70","v":"Froid"},{"$f":"D2b!I70","v":0},{"$f":"D2b!J70","v":0},0,{"$f":"D2b!N70","v":0},0,null,0,0,3.0000000000000027E-2,0,{"$f":"D3a!$D$7","v":0.97},0,{"$f":"D3a!$E$7","v":"Enquête de branche SNCU 2015"}]
[null,null,"Somme",{"$f":"D2b!D71","v":0},null,{"$f":"D2b!F71","v":0},{"$f":"D2b!G71","v":"Froid"},{"$f":"D2b!I71","v":0},{"$f":"D2b!J71","v":0},0,{"$f":"D2b!N71","v":0},0,null,0,0,3.0000000000000027E-2,0,{"$f":"D3a!$D$7","v":0.97},0,{"$f":"D3a!$E$7","v":"Enquête de branche SNCU 2015"}]
[null,null,null,{"$f":"D2b!D72","v":0},null,{"$f":"D2b!F72","v":0},{"$f":"D2b!G72","v":"Froid"},{"$f":"D2b!I72","v":0},{"$f":"D2b!J72","v":0},0,{"$f":"D2b!N72","v":0},0,null,0,0,3.0000000000000027E-2,0,{"$f":"D3a!$D$7","v":0.97},0,{"$f":"D3a!$E$7","v":"Enquête de branche SNCU 2015"}]
[null,null,"Total",null,null,null,null,null,{"$f":"SUM(I64:I67)","v":0},{"$f":"SUM(J64:J67)","v":0},{"$f":"SUM(K64:K67)","v":0},{"$f":"SUM(L64:L67)","v":0}]
[]
[]
["B.","Consommation de chaleur et froid par poste ESPASS (MWh)"]
[]
[null,"Territoire - réseaux de chaleur - consommation de chaleur- répartition par poste"]
[]
[null,null,"Résidentiel",{"$f":"SUMPRODUCT(J10:J57,N10:N57)","v":0},"MWh"]
[null,null,"Déplacements",{"$f":"SUMPRODUCT(J10:J57,O10:O57)","v":0},"MWh"]
[null,null,"Biens de consommation",{"$f":"SUMPRODUCT(J10:J57,P10:P57)","v":0},"MWh"]
[null,null,"Alimentation",{"$f":"SUMPRODUCT(J10:J57,Q10:Q57)","v":0},"MWh"]
[null,null,"Services",{"$f":"SUMPRODUCT(J10:J57,R10:R57)","v":0},"MWh"]
[null,null,"Travaux",{"$f":"SUMPRODUCT(J10:J57,S10:S57)","v":0},"MWh"]
[null,null,"Consommation d'énergie",{"$f":"SUM(D81:D86)","v":0},"MWh","Source:","Enquête nationale sur les réseaux de chaleur et de froid SOeS 2014 (données 2012)",null,null,null," "]
[]
[]
[null,"Territoire - réseaux de froid - consommation de froid sur le territoire"]
[]
[null,null,"Résidentiel",{"$f":"SUMPRODUCT(J64:J73,N64:N73)","v":0},"MWh"]
[null,null,"Déplacements",{"$f":"SUMPRODUCT(J64:J73,O64:O73)","v":0},"MWh"]
[null,null,"Biens de consommation",{"$f":"SUMPRODUCT(J64:J73,P64:P73)","v":0},"MWh"]
[null,null,"Alimentation",{"$f":"SUMPRODUCT(J64:J73,Q64:Q73)","v":0},"MWh"]
[null,null,"Services",{"$f":"SUMPRODUCT(J64:J73,R64:R73)","v":0},"MWh"]
[null,null,"Travaux",{"$f":"SUMPRODUCT(J64:J73,S64:S73)","v":0},"MWh"]
[null,null,"Production d'énergie",{"$f":"SUM(D92:D97)","v":0},"MWh","Source:"]
[]
[]
[]
["C.","Consommation de chaleur et froid par poste PCAET (MWh)"]
[]
[]
[null,"Consommation de chaleur par poste PCAET"]
[]
[null,null,null,"Part de la consommation destinée au poste","Consommation totale"]
[null,null,"Résidentiel",{"$f":"IFERROR(E108/$E$116,0)","v":0},{"$f":"D81","v":0},"MWh"]
[null,null,"Tertiaire",{"$f":"IFERROR(E109/$E$116,0)","v":0},{"$f":"D85","v":0},"MWh"]
[null,null,"Transport routier",0,0,"MWh"]
[null,null,"Autres transports",0,0,"MWh"]
[null,null,"Agriculture",0,0,"MWh"]
[null,null,"Déchets",0,0,"MWh"]
[null,null,"Industrie hors branche énergie",0,{"$f":"D97+D95+D94","v":0},"MWh"]
[null,null,"Industrie branche énergie",{"$f":"IFERROR(E115/$E$131,0)","v":0},0]
[null,null,"Total",{"$f":"SUM(D108:D114)","v":0},{"$f":"SUM(E108:E114)","v":0},"MWh"]
[]
[]
[]
[null,"Consommation de froid par poste PCAET"]
[]
[null,null,null,"Part de la consommation destinée au poste","Consommation totale"]
[null,null,"Résidentiel",{"$f":"IFERROR(E123/$E$131,0)","v":0},{"$f":"D92","v":0},"MWh"]
[null,null,"Tertiaire",{"$f":"IFERROR(E124/$E$131,0)","v":0},{"$f":"D96","v":0},"MWh"]
[null,null,"Transport routier",0,0,"MWh"]
[null,null,"Autres transports",0,0,"MWh"]
[null,null,"Agriculture",0,0,"MWh"]
[null,null,"Déchets",0,0,"MWh"]
[null,null,"Industrie hors branche énergie",0,{"$f":"D97+D94+D95","v":0},"MWh"]
[null,null,"Industrie branche énergie",0,0,"MWh"]
[null,null,"Total",{"$f":"SUM(D123:D129)","v":0},{"$f":"SUM(E123:E130)","v":0},"MWh"]
[]
[]
["D.","Emissions liées aux réseaux de chaleur et de froid - par poste ESPASS"]
[]
[null,"Territoire - réseaux de chaleur et de froid - émissions liées à la consommation - répartition par poste"]
[]
[null,null,null,"Emissions liées à la consommation de chaleur et de froid","Emissions indirectes"]
[null,null,"Résidentiel",{"$f":"SUMPRODUCT(L10:L57,N10:N57)+SUMPRODUCT(L64:L73, N64:N73)","v":0},{"$f":"D139-D2b!D123","v":0},"kt eq CO2"]
[null,null,"Déplacements",{"$f":"SUMPRODUCT(L10:L57,O10:O57)+SUMPRODUCT(L64:L73, O64:O73)","v":0},{"$f":"D140-D2b!D124","v":0},"kt eq CO2"]
[null,null,"Biens de consommation",{"$f":"SUMPRODUCT(L10:L57,P10:P57)+SUMPRODUCT(L64:L73, P64:P73)","v":0},{"$f":"D141-D2b!D125","v":0},"kt eq CO2"]
[null,null,"Alimentation",{"$f":"SUMPRODUCT(L10:L57,Q10:Q57)+SUMPRODUCT(L64:L73, Q64:Q73)","v":0},{"$f":"D142-D2b!D126","v":0},"kt eq CO2"]
[null,null,"Services",{"$f":"SUMPRODUCT(L10:L57,R10:R57)+SUMPRODUCT(L64:L73, R64:R73)","v":0},{"$f":"D143-D2b!D127","v":0},"kt eq CO2"]
[null,null,"Travaux",{"$f":"SUMPRODUCT(L10:L57,S10:S57)+SUMPRODUCT(L64:L73, S64:S73)","v":0},{"$f":"D144-D2b!D128","v":0},"kt eq CO2"]
[null,null,"Total",{"$f":"SUM(D139:D144)","v":0},{"$f":"D145-D2b!D129","v":0},"kt eq CO2",null,null,null,null," "]
[]
[]
["E.","Emissions liées aux réseaux de chaleur et de froid - par poste PCAET"]
[]
[null,"Territoire - réseaux de chaleur et de froid - émissions liées à la consommation - répartition par poste"]
[]
[null,null,null,"Emissions liées à la consommation de chaleur et de froid","Emissions indirectes"]
[null,null,"Résidentiel",{"$f":"D139","v":0},{"$f":"D153-D2b!D137","v":0},"kt eq CO2"]
[null,null,"Tertiaire",{"$f":"D143","v":0},{"$f":"D154-D2b!D138","v":0},"kt eq CO2"]
[null,null,"Transport routier",0,{"$f":"D155-D2b!D139","v":0},"kt eq CO2"]
[null,null,"Autres transports",{"$f":"D140","v":0},{"$f":"D156-D2b!D140","v":0},"kt eq CO2"]
[null,null,"Agriculture",{"$f":"D142","v":0},{"$f":"D157-D2b!D141","v":0},"kt eq CO2"]
[null,null,"Déchets",0,{"$f":"D158-D2b!D142","v":0},"kt eq CO2"]
[null,null,"Industrie hors branche énergie",{"$f":"D141+D142+D144","v":0},{"$f":"D159-D2b!D143","v":0},"kt eq CO2",null,null,null,null," "]
[null,null,"Industrie branche énergie",0,{"$f":"D160-D2b!D144","v":0},"kt eq CO2"]
[null,null,"Total",{"$f":"SUM(D153:D160)","v":0},{"$f":"SUM(E153:E160)","v":0},"kt eq CO2",null,null,null,null," "]

{"sheet":"I3","index":17,"n_rows":47,"n_cols":15,"rows_kept":47,"cut":false,"hidden":false,"merged":[[41,2,41,4],[46,2,46,4],[8,1,8,4],[15,1,15,4],[34,2,34,4],[39,2,39,4],[23,2,23,4],[40,2,40,4],[28,2,28,4],[29,2,29,4],[7,1,7,4],[14,1,14,4],[11,1,11,4],[13,1,13,4],[4,1,4,4],[6,1,6,4]]}
[]
[null,"Bilan des autres émissions indirectes liées à l'énergie - Amont des combustibles …"]
[]
["1)","Emissions indirectes liées aux combustibles- par poste ESPASS"]
[]
[null,null,null,null,null,null,"Résidentiel","Déplacements","Biens de consommation","Alimentation","Services","Travaux","Total"]
[null,"Emissions GES directes liées à la production de combustibles sur le territoire = Emissions exportées",null,null,null,"kt eq CO2",null,null,{"$f":"-SUM(D1a!K155:K157,D1a!K159:K160)","v":0},null,null,null,{"$f":"SUM(G7:L7)","v":0}]
[null,"Emissions GES liées à l'amont de la production d'électricité (hors industrie de l'énergie) - (amont des combustibles, transport et distribution)",null,null,null,"kt eq CO2",{"$f":"I1b!O17","v":0},{"$f":"I1b!O44","v":0},{"$f":"I1b!O68","v":0},{"$f":"I1b!O103","v":0},{"$f":"I1b!O131","v":0},{"$f":"I1b!O150","v":0},{"$f":"SUM(G8:L8)","v":0}]
[null,"Emissions GES liées à l'amont des combustibles (hors électricité et branche énergie)",null,null,null,"kt eq CO2",{"$f":"F24","v":0},{"$f":"F29","v":{"$error":"#DIV/0!"}},{"$f":"F35","v":0},null,{"$f":"F42","v":0},{"$f":"F47","v":0},{"$f":"SUM(G9:L9)","v":{"$error":"#DIV/0!"}}]
[]
["2)","Emissions indirectes liées aux combustibles- par poste PCAET"]
[null,"Remarque: ces données ne sont pas utilisées dans le rapportage réglementaire"]
[null,null,null,null,null,null,"Résidentiel","Tertiaire","Transport routier","Autres transports","Agriculture","Déchets","Industrie hors branche énergie","Industrie branche énergie ","Total"]
[null,"Emissions GES liées à la production de combustibles sur le territoire = Emissions exportées",null,null,null,"kt eq CO2",null,null,null,null,null,null,null,{"$f":"-SUM(D1a!K155:K157,D1a!K159:K160)","v":0},{"$f":"SUM(G14:N14)","v":0}]
[null,"Emissions GES liées à l'amont de la production d'électricité (hors industrie de l'énergie) - (amont des combustibles, transport et distribution)",null,null,null,"kt eq CO2",{"$f":"'I3'!G8","v":0},{"$f":"I1b!O125","v":0},{"$f":"I1b!O38","v":0},{"$f":"I1b!O41","v":0},{"$f":"I1b!O97","v":0},{"$f":"I1b!O128","v":0},{"$f":"I1b!O68+I1b!O100+I1b!O150","v":0},null,{"$f":"SUM(G15:N15)","v":0}]
[null,"Emissions GES liées à l'amont des combustibles (hors électricité et branche énergie)",null,null,null,"kt eq CO2",{"$f":"G9","v":0},{"$f":"F40","v":0},{"$f":"F29","v":{"$error":"#DIV/0!"}},null,null,{"$f":"F41","v":0},{"$f":"F47+F35","v":0},null,{"$f":"SUM(G16:N16)","v":{"$error":"#DIV/0!"}}]
[]
[]
[]
["A.","Données détaillées par poste ESPASS"]
[]
[null,"Résidentiel - émissions indirectes liées à l'énergie (hors électricité)- Amont des combustibles"]
[]
[null,null,"Emissions indirectes liées à l'énergie (hors électricité)",null,null,{"$f":"Resid!G95","v":0},"kt eq CO2"]
[]
[]
[null,"Déplacements - émissions indirectes liées à l'énergie"]
[]
[null,null,{"$f":"Depl!C73","v":"Emissions indirectes liées à l'énergie"},null,null,{"$f":"Depl!F73","v":{"$error":"#DIV/0!"}}]
[null,null,{"$f":"Depl!C79","v":"Emissions indirectes liées à l'énergie (hors avion)"},null,null,{"$f":"Depl!F79","v":{"$error":"#DIV/0!"}},"kt eq CO2"]
[]
[]
[null,"Biens de consommation - émissions indirectes liées à l'amont des combustibles dans l'industrie"]
[]
[null,null,{"$f":"'Biens de conso'!C113","v":"Emissions indirectes liées à l'amont des combustibles dans l'industrie (kt eq CO2)"},null,null,{"$f":"'Biens de conso'!L113","v":0},"kt eq CO2"]
[]
[]
[null,"Services - émissions indirectes liées à l'énergie (hors électricité)"]
[]
[null,null,"Tertiaire",null,null,{"$f":"Serv!F62","v":0},"kt eq CO2"]
[null,null,"Industrie des déchets",null,null,{"$f":"Serv!F86","v":0},"kt eq CO2"]
[null,null,"Services - total",null,null,{"$f":"F40+F41","v":0},"kt eq CO2"]
[]
[]
[null,"Travaux- émissions indirectes liées à l'amont des combustibles dans l'industrie"]
[]
[null,null,{"$f":"Tra!F69","v":"Industrie - \nminéraux non-métalliques et matériaux de construction"},null,null,{"$f":"Tra!F86","v":0},"kt eq CO2"]

{"sheet":"IE1","index":18,"n_rows":457,"n_cols":33,"rows_kept":457,"cut":false,"hidden":false,"merged":[[44,29,44,31],[45,29,45,31],[46,29,46,31],[47,29,47,31],[9,29,9,31],[10,29,10,31],[11,29,11,31],[12,29,12,31],[13,29,13,31],[35,29,35,31],[36,29,36,31],[37,29,37,31],[38,29,38,31],[39,29,39,31],[40,29,40,31],[41,29,41,31],[42,29,42,31],[43,29,43,31],[26,29,26,31],[27,29,27,31],[28,29,28,31],[29,29,29,31],[30,29,30,31],[31,29,31,31],[32,29,32,31],[33,29,33,31],[34,29,34,31],[17,29,17,31],[18,29,18,31],[19,29,19,31],[20,29,20,31],[21,29,21,31],[22,29,22,31],[23,29,23,31],[24,29,24,31],[25,29,25,31],[10,10,10,11],[10,12,10,13],[282,18,286,18],[282,19,286,19],[13,10,13,11],[13,12,13,13],[44,18,47,18],[44,19,47,19],[57,18,88,18],[57,19,88,19],[124,18,125,18],[124,19,125,19],[268,18,269,18],[268,19,269,19],[44,14,47,14],[44,15,47,15],[57,14,88,14],[57,15,88,15],[268,16,269,16],[268,17,269,17],[57,16,88,16],[57,17,88,17],[44,16,47,16],[44,17,47,17],[12,6,12,7],[13,20,13,21],[13,18,13,19],[13,22,13,23],[16,18,19,18],[16,19,19,19],[22,18,31,18],[22,19,31,19],[33,18,39,18],[33,19,39,19],[16,14,19,14],[16,15,19,15],[22,14,31,14],[22,15,31,15],[33,14,39,14],[33,15,39,15],[33,16,39,16],[13,6,13,7],[13,8,13,9],[13,14,13,15],[13,16,13,17],[455,2,455,3],[455,4,455,5],[456,2,456,5],[453,2,454,3],[453,4,454,5],[124,14,125,14],[124,15,125,15],[268,14,269,14],[268,15,269,15],[282,14,286,14],[282,15,286,15],[445,2,445,3],[446,2,446,3],[447,2,447,5],[428,2,428,3],[428,4,428,5],[414,2,414,3],[414,4,414,5],[415,2,418,3],[415,4,415,5],[416,4,416,5],[417,4,417,5],[418,4,418,5],[409,2,409,3],[442,2,442,3],[442,4,442,5],[443,2,443,3],[443,4,443,5],[444,2,444,3],[444,4,444,5],[432,2,432,3],[432,4,432,5],[433,2,433,5],[439,2,440,3],[439,4,440,5],[441,2,441,3],[441,4,441,5],[429,2,429,3],[429,4,429,5],[430,2,430,3],[430,4,430,5],[431,2,431,3],[431,4,431,5],[419,2,419,5],[425,2,426,3],[425,4,426,5],[427,2,427,3],[409,4,409,5],[410,2,413,3],[410,4,410,5],[411,4,411,5],[412,4,412,5],[413,4,413,5],[405,2,405,3],[405,4,405,5],[406,2,407,3],[406,4,406,5],[407,4,407,5],[408,2,408,3],[408,4,408,5],[401,2,401,3],[401,4,401,5],[402,2,404,3],[402,4,402,5],[403,4,403,5],[404,4,404,5],[395,4,395,5],[396,4,396,5],[397,2,397,3],[397,4,397,5],[398,2,400,3],[398,4,398,5],[399,4,399,5],[400,4,400,5],[383,2,383,5],[389,2,390,3],[389,4,390,5],[391,2,396,3],[391,4,391,5],[392,4,392,5],[393,4,393,5],[394,4,394,5],[380,2,380,3],[380,4,380,5],[381,2,381,3],[381,4,381,5],[382,2,382,3],[382,4,382,5],[376,2,376,3],[376,4,376,5],[377,2,379,3],[377,4,377,5],[378,4,378,5],[379,4,379,5],[372,2,373,3],[372,4,372,5],[373,4,373,5],[374,2,374,3],[374,4,374,5],[375,2,375,3],[375,4,375,5],[369,2,369,3],[369,4,369,5],[370,2,370,3],[370,4,370,5],[371,2,371,3],[371,4,371,5],[366,2,366,3],[366,4,366,5],[367,2,367,3],[367,4,367,5],[368,2,368,3],[368,4,368,5],[363,2,363,3],[363,4,363,5],[364,2,364,3],[364,4,364,5],[365,2,365,3],[365,4,365,5],[358,2,358,3],[358,4,358,5],[359,2,362,3],[359,4,359,5],[360,4,360,5],[361,4,361,5],[362,4,362,5],[355,2,355,3],[355,4,355,5],[356,2,356,3],[356,4,356,5],[357,2,357,3],[357,4,357,5],[352,2,352,3],[352,4,352,5],[353,2,353,3],[353,4,353,5],[354,2,354,3],[354,4,354,5],[349,2,349,3],[349,4,349,5],[350,2,350,3],[350,4,350,5],[351,2,351,3],[351,4,351,5],[346,2,346,3],[346,4,346,5],[347,2,347,3],[347,4,347,5],[348,2,348,3],[348,4,348,5],[341,2,341,3],[341,4,341,5],[342,2,345,3],[342,4,342,5],[343,4,343,5],[344,4,344,5],[345,4,345,5],[335,2,335,3],[335,4,335,5],[336,2,336,3],[336,4,336,5],[337,2,340,3],[337,4,337,5],[338,4,338,5],[339,4,339,5],[340,4,340,5],[332,2,332,3],[332,4,332,5],[333,2,333,3],[333,4,333,5],[334,2,334,3],[334,4,334,5],[326,2,326,3],[326,4,326,5],[327,2,331,3],[327,4,327,5],[328,4,328,5],[329,4,329,5],[330,4,330,5],[331,4,331,5],[323,2,323,3],[323,4,323,5],[324,2,324,3],[324,4,324,5],[325,2,325,3],[325,4,325,5],[320,2,320,3],[320,4,320,5],[321,2,321,3],[321,4,321,5],[322,2,322,3],[322,4,322,5],[317,2,317,3],[317,4,317,5],[318,2,318,3],[318,4,318,5],[319,2,319,3],[319,4,319,5],[315,2,315,3],[315,4,315,5],[316,2,316,3],[316,4,316,5],[299,2,299,5],[300,2,300,5],[301,2,301,5],[303,2,303,5],[313,2,314,3],[313,4,314,5],[287,2,287,5],[296,2,297,3],[296,4,297,5],[298,2,298,5],[302,2,302,5],[271,2,274,2],[271,3,274,3],[275,2,279,2],[275,3,279,3],[280,2,281,2],[280,3,281,3],[254,2,258,2],[254,3,258,3],[259,2,262,2],[259,3,262,3],[264,2,267,2],[264,3,267,3],[245,2,246,2],[245,3,246,3],[247,2,248,2],[247,3,248,3],[251,2,253,2],[251,3,253,3],[234,2,235,2],[234,3,235,3],[236,2,242,2],[236,3,242,3],[243,2,244,2],[243,3,244,3],[212,2,213,2],[212,3,213,3],[214,2,221,2],[214,3,221,3],[222,2,232,2],[222,3,232,3],[202,2,203,2],[202,3,203,3],[207,2,208,2],[207,3,208,3],[210,2,211,2],[210,3,211,3],[188,2,189,2],[188,3,189,3],[190,2,192,2],[190,3,192,3],[194,2,201,2],[194,3,201,3],[174,2,179,2],[174,3,179,3],[180,2,185,2],[180,3,185,3],[186,2,187,2],[186,3,187,3],[146,2,149,2],[146,3,149,3],[150,2,154,2],[150,3,154,3],[155,2,173,2],[155,3,173,3],[135,2,141,2],[135,3,141,3],[142,2,143,2],[142,3,143,3],[144,2,145,2],[144,3,145,3],[124,2,125,2],[124,3,125,3],[126,2,132,2],[126,3,132,3],[133,2,134,2],[133,3,134,3],[110,2,115,2],[110,3,115,3],[116,2,117,2],[116,3,117,3],[118,2,122,2],[118,3,122,3],[90,2,98,2],[90,3,98,3],[99,2,106,2],[99,3,106,3],[107,2,109,2],[107,3,109,3],[73,2,79,2],[73,3,79,3],[80,2,81,2],[80,3,81,3],[82,2,88,2],[82,3,88,3],[66,2,67,2],[66,3,67,3],[68,2,69,2],[68,3,69,3],[70,2,72,2],[70,3,72,3],[57,2,59,2],[57,3,59,3],[61,2,63,2],[61,3,63,3],[64,2,65,2],[64,3,65,3],[7,3,7,4],[14,2,14,3],[14,4,14,5],[46,2,47,2],[46,3,47,3],[48,2,50,2],[48,3,50,3],[51,2,56,2],[51,3,56,3],[16,3,39,3],[40,3,42,3],[44,2,45,2],[44,3,45,3],[13,24,14,24],[312,8,312,9],[312,14,312,15],[282,16,286,16],[282,17,286,17],[33,17,39,17],[22,16,31,16],[22,17,31,17],[16,16,19,16],[16,17,19,17],[124,16,125,16],[124,17,125,17],[312,16,312,17]]}
[]
[null,"Donnés douanes - Hauts-de-France"]
[]
["A.","Imports / exports - données brutes"]
[]
[null,"Source:","http://lekiosque.finances.gouv.fr/portail_default.asp"]
[]
[null,null,null,"Année des données: ",null,2016]
[]
[null,"Données douanes importations / exportations",null,null,null,null,null,null,null,null,null,null,null,null,null,null,null,null,null,null,null,null,null,null,null,null,null,null,null,"Catégorie",null,null,"Mode de modulation"]
[null,null,null,null,null,null,null,null,null,null,"Mode de modulation",null,"Automatique - présaisi régional",null,null,null,null,null,null,null,null,null,null,null,null,null,null,null,null,"Biens de consommation",null,null,"Automatique - présaisi régional"]
[null,null,null,null,null,null,null,null,null,null,null,null,null,null,null,null,null,null,null,null,null,null,null,null,null,null,null,null,null,"Marchandises industrielles",null,null,"Manuel"]
[null,null,null,null,null,null,"Données indicatives",null,null,null,null,null,null,null,null,null,null,null,null,null,null,null,null,null,null,null,null,null,null,"Absente"]
[null,null,null,null,null,null,"Données régionales",null,"Données régionales",null,"Facteur de modulation territoire appliqué",null,"Facteur de modulation territoire base de données",null,"Catégorie de marchandise",null,"Présence industrie",null,"Ratio territoire pertinent",null,"Valeur du ratio territoire pertinent",null,"Ratio appliqué",null,null,null,null,null,null,"Présente"]
[null,null,"Nomenclature A129",null,"Nomenclature CPF4",null,"Imports","Exports","Imports","Exports","Imports","Exports","Imports","Exports","Imports","Exports","Imports","Exports","Imports","Exports","Imports","Exports","Imports","Exports"]
[null,null,"Code","Libellé","Code","Libellé","(euros)","(euros)","kg","kg","%","%","%","%","-","-","-","-","-","-","%","%"]
[null,null,"A01Z","Produits de la culture et de l'élevage","0111","Céréales (à l'exclusion du riz), légumineuses et oléagineux",136149417,794315832,504262931,5761970414,{"$f":"IF($M$11=$AG$11,M17,W17)","v":0},{"$f":"IF($M$11=$AG$11,N17,X17)","v":0},null,null,"Industrie agroalimentaire","Industrie agroalimentaire","Industrie agroalimentaire","Industrie agroalimentaire","Industrie agroalimentaire","Industrie agroalimentaire",{"$f":"IFERROR(IF(S17=\"\",\"\",VLOOKUP(S17,$AD$20:$AG$49,4,FALSE)),\"\")","v":""},{"$f":"IFERROR(IF(T17=\"\",\"\",VLOOKUP(T17,$AD$20:$AG$49,4,FALSE)),\"\")","v":""},{"$f":"IF(O17=$AD$11,Accueil!$D$24,IF(('IE1'!O17='IE1'!$AD$12)*AND('IE1'!Q17='IE1'!$AD$14),'IE1'!U17,IF(('IE1'!O17='IE1'!$AD$12)*AND('IE1'!Q17='IE1'!$AD$13),0,0)))","v":0},{"$f":"IF(P17=$AD$11,Accueil!$D$24,IF(('IE1'!P17='IE1'!$AD$12)*AND('IE1'!R17='IE1'!$AD$14),'IE1'!V17,IF(('IE1'!P17='IE1'!$AD$12)*AND('IE1'!R17='IE1'!$AD$13),0,0)))","v":0}]
[null,null,null,null,"0112","Riz, non décortiqué",1136665,8899,2792897,7972,{"$f":"IF($M$11=$AG$11,M18,W18)","v":0},{"$f":"IF($M$11=$AG$11,N18,X18)","v":0},null,null,null,null,null,null,null,null,{"$f":"IFERROR(IF(S18=\"\",\"\",VLOOKUP(S18,$AD$20:$AG$49,4,FALSE)),\"\")","v":""},{"$f":"IFERROR(IF(T18=\"\",\"\",VLOOKUP(T18,$AD$20:$AG$49,4,FALSE)),\"\")","v":""},{"$f":"IF(O18=$AD$11,Accueil!$D$24,IF(('IE1'!O18='IE1'!$AD$12)*AND('IE1'!Q18='IE1'!$AD$14),'IE1'!U18,IF(('IE1'!O18='IE1'!$AD$12)*AND('IE1'!Q18='IE1'!$AD$13),0,0)))","v":0},{"$f":"IF(P18=$AD$11,Accueil!$D$24,IF(('IE1'!P18='IE1'!$AD$12)*AND('IE1'!R18='IE1'!$AD$14),'IE1'!V18,IF(('IE1'!P18='IE1'!$AD$12)*AND('IE1'!R18='IE1'!$AD$13),0,0)))","v":0},null,null,null,null,null,"Ratios territoires "]
[null,null,null,null,"0113","Légumes et melons, racines et tubercules",284646036,209331060,527858421,1168913851,0,0,null,null,null,null,null,null,null,null,"","",{"$f":"IF(O19=$AD$11,Accueil!$D$24,IF(('IE1'!O19='IE1'!$AD$12)*AND('IE1'!Q19='IE1'!$AD$14),'IE1'!U19,IF(('IE1'!O19='IE1'!$AD$12)*AND('IE1'!Q19='IE1'!$AD$13),0,0)))","v":0},{"$f":"IF(P19=$AD$11,Accueil!$D$24,IF(('IE1'!P19='IE1'!$AD$12)*AND('IE1'!R19='IE1'!$AD$14),'IE1'!V19,IF(('IE1'!P19='IE1'!$AD$12)*AND('IE1'!R19='IE1'!$AD$13),0,0)))","v":0},null,null,null,null,null,"Liste des ratios possibles",null,null,"Valeur du ratio"]
[null,null,null,null,"0114","Cannes à sucre",0,0,0,0,0,0,null,null,null,null,null,null,null,null,"","",{"$f":"IF(O20=$AD$11,Accueil!$D$24,IF(('IE1'!O20='IE1'!$AD$12)*AND('IE1'!Q20='IE1'!$AD$14),'IE1'!U20,IF(('IE1'!O20='IE1'!$AD$12)*AND('IE1'!Q20='IE1'!$AD$13),0,0)))","v":0},{"$f":"IF(P20=$AD$11,Accueil!$D$24,IF(('IE1'!P20='IE1'!$AD$12)*AND('IE1'!R20='IE1'!$AD$14),'IE1'!V20,IF(('IE1'!P20='IE1'!$AD$12)*AND('IE1'!R20='IE1'!$AD$13),0,0)))","v":0},null,null,null,null,null,"Autres sources de l'agriculture (tracteurs, …)",null,null,{"$f":"D1a!K134/D1b!K14","v":0}]
[null,null,null,null,"0115","Tabac brut",0,0,0,0,0,0,null,null,"Biens de consommation","Biens de consommation",null,null,null,null,"","",{"$f":"IF(O21=$AD$11,Accueil!$D$24,IF(('IE1'!O21='IE1'!$AD$12)*AND('IE1'!Q21='IE1'!$AD$14),'IE1'!U21,IF(('IE1'!O21='IE1'!$AD$12)*AND('IE1'!Q21='IE1'!$AD$13),0,0)))","v":0},{"$f":"IF(P21=$AD$11,Accueil!$D$24,IF(('IE1'!P21='IE1'!$AD$12)*AND('IE1'!R21='IE1'!$AD$14),'IE1'!V21,IF(('IE1'!P21='IE1'!$AD$12)*AND('IE1'!R21='IE1'!$AD$13),0,0)))","v":0},null,null,null,null,null,"Culture",null,null,{"$f":"D1a!K135/D1b!K15","v":0}]
[null,null,null,null,"0116","Plantes textiles",3062212,2424515,2787984,1946442,0,0,null,null,"Biens de consommation","Biens de consommation",null,null,null,null,"","",{"$f":"IF(O22=$AD$11,Accueil!$D$24,IF(('IE1'!O22='IE1'!$AD$12)*AND('IE1'!Q22='IE1'!$AD$14),'IE1'!U22,IF(('IE1'!O22='IE1'!$AD$12)*AND('IE1'!Q22='IE1'!$AD$13),0,0)))","v":0},{"$f":"IF(P22=$AD$11,Accueil!$D$24,IF(('IE1'!P22='IE1'!$AD$12)*AND('IE1'!R22='IE1'!$AD$14),'IE1'!V22,IF(('IE1'!P22='IE1'!$AD$12)*AND('IE1'!R22='IE1'!$AD$13),0,0)))","v":0},null,null,null,null,null,"Elevage",null,null,{"$f":"D1a!K136/D1b!K16","v":0}]
[null,null,null,null,"0119","Autres cultures non permanentes",68133097,11659883,17241375,6620470,0,0,null,null,"Industrie agroalimentaire","Industrie agroalimentaire","Industrie agroalimentaire","Industrie agroalimentaire","Industrie agroalimentaire","Industrie agroalimentaire","","",{"$f":"IF(O23=$AD$11,Accueil!$D$24,IF(('IE1'!O23='IE1'!$AD$12)*AND('IE1'!Q23='IE1'!$AD$14),'IE1'!U23,IF(('IE1'!O23='IE1'!$AD$12)*AND('IE1'!Q23='IE1'!$AD$13),0,0)))","v":0},{"$f":"IF(P23=$AD$11,Accueil!$D$24,IF(('IE1'!P23='IE1'!$AD$12)*AND('IE1'!R23='IE1'!$AD$14),'IE1'!V23,IF(('IE1'!P23='IE1'!$AD$12)*AND('IE1'!R23='IE1'!$AD$13),0,0)))","v":0},null,null,null,null,null,"Transport aérien français",null,null,{"$f":"D1a!K137/D1b!K17","v":0}]
[null,null,null,null,"0121","Raisin",6069817,226111,3593531,103005,0,0,null,null,null,null,null,null,null,null,"","",{"$f":"IF(O24=$AD$11,Accueil!$D$24,IF(('IE1'!O24='IE1'!$AD$12)*AND('IE1'!Q24='IE1'!$AD$14),'IE1'!U24,IF(('IE1'!O24='IE1'!$AD$12)*AND('IE1'!Q24='IE1'!$AD$13),0,0)))","v":0},{"$f":"IF(P24=$AD$11,Accueil!$D$24,IF(('IE1'!P24='IE1'!$AD$12)*AND('IE1'!R24='IE1'!$AD$14),'IE1'!V24,IF(('IE1'!P24='IE1'!$AD$12)*AND('IE1'!R24='IE1'!$AD$13),0,0)))","v":0},null,null,null,null,null,"Transport ferroviaire",null,null,{"$f":"D1a!K138/D1b!K18","v":0}]
[null,null,null,null,"0122","Fruits tropicaux et subtropicaux",28415647,8058742,31318021,10649113,0,0,null,null,null,null,null,null,null,null,"","",{"$f":"IF(O25=$AD$11,Accueil!$D$24,IF(('IE1'!O25='IE1'!$AD$12)*AND('IE1'!Q25='IE1'!$AD$14),'IE1'!U25,IF(('IE1'!O25='IE1'!$AD$12)*AND('IE1'!Q25='IE1'!$AD$13),0,0)))","v":0},{"$f":"IF(P25=$AD$11,Accueil!$D$24,IF(('IE1'!P25='IE1'!$AD$12)*AND('IE1'!R25='IE1'!$AD$14),'IE1'!V25,IF(('IE1'!P25='IE1'!$AD$12)*AND('IE1'!R25='IE1'!$AD$13),0,0)))","v":0},null,null,null,null,null,"Transport fluvial",null,null,{"$f":"D1a!K139/D1b!K19","v":0}]
[null,null,null,null,"0123","Agrumes",34668300,1132132,36876743,1121048,0,0,null,null,null,null,null,null,null,null,"","",{"$f":"IF(O26=$AD$11,Accueil!$D$24,IF(('IE1'!O26='IE1'!$AD$12)*AND('IE1'!Q26='IE1'!$AD$14),'IE1'!U26,IF(('IE1'!O26='IE1'!$AD$12)*AND('IE1'!Q26='IE1'!$AD$13),0,0)))","v":0},{"$f":"IF(P26=$AD$11,Accueil!$D$24,IF(('IE1'!P26='IE1'!$AD$12)*AND('IE1'!R26='IE1'!$AD$14),'IE1'!V26,IF(('IE1'!P26='IE1'!$AD$12)*AND('IE1'!R26='IE1'!$AD$13),0,0)))","v":0},null,null,null,null,null,"Industrie total (IDEC)",null,null,{"$f":"SUM(D1a!K140:K151)/SUM(D1b!K20:K31)","v":0}]
[null,null,null,null,"0124","Fruits à pépins et à noyau",34313642,1161519,41823472,2688981,0,0,null,null,null,null,null,null,null,null,"","",{"$f":"IF(O27=$AD$11,Accueil!$D$24,IF(('IE1'!O27='IE1'!$AD$12)*AND('IE1'!Q27='IE1'!$AD$14),'IE1'!U27,IF(('IE1'!O27='IE1'!$AD$12)*AND('IE1'!Q27='IE1'!$AD$13),0,0)))","v":0},{"$f":"IF(P27=$AD$11,Accueil!$D$24,IF(('IE1'!P27='IE1'!$AD$12)*AND('IE1'!R27='IE1'!$AD$14),'IE1'!V27,IF(('IE1'!P27='IE1'!$AD$12)*AND('IE1'!R27='IE1'!$AD$13),0,0)))","v":0},null,null,null,null,null,"Agro-alimentaire",null,null,{"$f":"D1a!K140/D1b!K20","v":0}]
[null,null,null,null,"0125","Autres fruits d'arbres ou d'arbustes et fruits à coque",51408156,1271035,11578285,525278,0,0,null,null,null,null,null,null,null,null,"","",{"$f":"IF(O28=$AD$11,Accueil!$D$24,IF(('IE1'!O28='IE1'!$AD$12)*AND('IE1'!Q28='IE1'!$AD$14),'IE1'!U28,IF(('IE1'!O28='IE1'!$AD$12)*AND('IE1'!Q28='IE1'!$AD$13),0,0)))","v":0},{"$f":"IF(P28=$AD$11,Accueil!$D$24,IF(('IE1'!P28='IE1'!$AD$12)*AND('IE1'!R28='IE1'!$AD$14),'IE1'!V28,IF(('IE1'!P28='IE1'!$AD$12)*AND('IE1'!R28='IE1'!$AD$13),0,0)))","v":0},null,null,null,null,null,"Autres secteurs de l'industrie et non spécifié",null,null,{"$f":"D1a!K141/D1b!K21","v":0}]
[null,null,null,null,"0126","Fruits oléagineux",819671,8493,315601,4994,0,0,null,null,null,null,null,null,null,null,"","",{"$f":"IF(O29=$AD$11,Accueil!$D$24,IF(('IE1'!O29='IE1'!$AD$12)*AND('IE1'!Q29='IE1'!$AD$14),'IE1'!U29,IF(('IE1'!O29='IE1'!$AD$12)*AND('IE1'!Q29='IE1'!$AD$13),0,0)))","v":0},{"$f":"IF(P29=$AD$11,Accueil!$D$24,IF(('IE1'!P29='IE1'!$AD$12)*AND('IE1'!R29='IE1'!$AD$14),'IE1'!V29,IF(('IE1'!P29='IE1'!$AD$12)*AND('IE1'!R29='IE1'!$AD$13),0,0)))","v":0},null,null,null,null,null,"Biens d'équipement, matériels de transport…",null,null,{"$f":"D1a!K142/D1b!K22","v":0}]
[null,null,null,null,"0127","Plantes à boissons",46013861,355375,19186968,616487,0,0,null,null,null,null,null,null,null,null,"","",{"$f":"IF(O30=$AD$11,Accueil!$D$24,IF(('IE1'!O30='IE1'!$AD$12)*AND('IE1'!Q30='IE1'!$AD$14),'IE1'!U30,IF(('IE1'!O30='IE1'!$AD$12)*AND('IE1'!Q30='IE1'!$AD$13),0,0)))","v":0},{"$f":"IF(P30=$AD$11,Accueil!$D$24,IF(('IE1'!P30='IE1'!$AD$12)*AND('IE1'!R30='IE1'!$AD$14),'IE1'!V30,IF(('IE1'!P30='IE1'!$AD$12)*AND('IE1'!R30='IE1'!$AD$13),0,0)))","v":0},null,null,null,null,null,"Chimie organique, non-organique et divers",null,null,{"$f":"D1a!K143/D1b!K23","v":0}]
[null,null,null,null,"0128","Plantes à épices, aromatiques, médicinales et pharmaceutiques",26574851,6167444,694495,106241,0,0,null,null,null,null,null,null,null,null,"","",{"$f":"IF(O31=$AD$11,Accueil!$D$24,IF(('IE1'!O31='IE1'!$AD$12)*AND('IE1'!Q31='IE1'!$AD$14),'IE1'!U31,IF(('IE1'!O31='IE1'!$AD$12)*AND('IE1'!Q31='IE1'!$AD$13),0,0)))","v":0},{"$f":"IF(P31=$AD$11,Accueil!$D$24,IF(('IE1'!P31='IE1'!$AD$12)*AND('IE1'!R31='IE1'!$AD$14),'IE1'!V31,IF(('IE1'!P31='IE1'!$AD$12)*AND('IE1'!R31='IE1'!$AD$13),0,0)))","v":0},null,null,null,null,null,"Construction",null,null,{"$f":"D1a!K144/D1b!K24","v":0}]
[null,null,null,null,"0129","Autres cultures permanentes",24510905,482775,21395953,1126045,0,0,null,null,null,null,null,null,null,null,"","",{"$f":"IF(O32=$AD$11,Accueil!$D$24,IF(('IE1'!O32='IE1'!$AD$12)*AND('IE1'!Q32='IE1'!$AD$14),'IE1'!U32,IF(('IE1'!O32='IE1'!$AD$12)*AND('IE1'!Q32='IE1'!$AD$13),0,0)))","v":0},{"$f":"IF(P32=$AD$11,Accueil!$D$24,IF(('IE1'!P32='IE1'!$AD$12)*AND('IE1'!R32='IE1'!$AD$14),'IE1'!V32,IF(('IE1'!P32='IE1'!$AD$12)*AND('IE1'!R32='IE1'!$AD$13),0,0)))","v":0},null,null,null,null,null,"Métallurgie des métaux ferreux",null,null,{"$f":"D1a!K145/D1b!K25","v":0}]
[null,null,null,null,"0130","Plants : plants de pépinière, bulbes, tubercules et rhizomes, boutures et greffons ; blanc de champignon",83444260,240616,28353421,401412,0,0,null,null,"Biens de consommation","Biens de consommation",null,null,null,null,"","",{"$f":"IF(O33=$AD$11,Accueil!$D$24,IF(('IE1'!O33='IE1'!$AD$12)*AND('IE1'!Q33='IE1'!$AD$14),'IE1'!U33,IF(('IE1'!O33='IE1'!$AD$12)*AND('IE1'!Q33='IE1'!$AD$13),0,0)))","v":0},{"$f":"IF(P33=$AD$11,Accueil!$D$24,IF(('IE1'!P33='IE1'!$AD$12)*AND('IE1'!R33='IE1'!$AD$14),'IE1'!V33,IF(('IE1'!P33='IE1'!$AD$12)*AND('IE1'!R33='IE1'!$AD$13),0,0)))","v":0},null,null,null,null,null,"Métallurgie des métaux non-ferreux",null,null,{"$f":"D1a!K146/D1b!K26","v":0}]
[null,null,null,null,"0141","Vaches laitières, vivantes et lait de vache, brut",2292689,1343789,537108,1543903,0,0,null,null,"Industrie agroalimentaire","Industrie agroalimentaire","Industrie agroalimentaire","Industrie agroalimentaire","Industrie agroalimentaire","Industrie agroalimentaire","","",{"$f":"IF(O34=$AD$11,Accueil!$D$24,IF(('IE1'!O34='IE1'!$AD$12)*AND('IE1'!Q34='IE1'!$AD$14),'IE1'!U34,IF(('IE1'!O34='IE1'!$AD$12)*AND('IE1'!Q34='IE1'!$AD$13),0,0)))","v":0},{"$f":"IF(P34=$AD$11,Accueil!$D$24,IF(('IE1'!P34='IE1'!$AD$12)*AND('IE1'!R34='IE1'!$AD$14),'IE1'!V34,IF(('IE1'!P34='IE1'!$AD$12)*AND('IE1'!R34='IE1'!$AD$13),0,0)))","v":0},null,null,null,null,null,"Minéraux non-métalliques et matériaux de construction",null,null,{"$f":"D1a!K147/D1b!K27","v":0}]
[null,null,null,null,"0142","Autres bovins et buffles, vivants et leur sperme",2527659,16769012,213100,6507891,0,0,null,null,null,null,null,null,null,null,"","",{"$f":"IF(O35=$AD$11,Accueil!$D$24,IF(('IE1'!O35='IE1'!$AD$12)*AND('IE1'!Q35='IE1'!$AD$14),'IE1'!U35,IF(('IE1'!O35='IE1'!$AD$12)*AND('IE1'!Q35='IE1'!$AD$13),0,0)))","v":0},{"$f":"IF(P35=$AD$11,Accueil!$D$24,IF(('IE1'!P35='IE1'!$AD$12)*AND('IE1'!R35='IE1'!$AD$14),'IE1'!V35,IF(('IE1'!P35='IE1'!$AD$12)*AND('IE1'!R35='IE1'!$AD$13),0,0)))","v":0},null,null,null,null,null,"Papier, carton",null,null,{"$f":"D1a!K148/D1b!K28","v":0}]
[null,null,null,null,"0143","Chevaux et autres équidés, vivants",15728606,78800,56690,296508,0,0,null,null,null,null,null,null,null,null,"","",{"$f":"IF(O36=$AD$11,Accueil!$D$24,IF(('IE1'!O36='IE1'!$AD$12)*AND('IE1'!Q36='IE1'!$AD$14),'IE1'!U36,IF(('IE1'!O36='IE1'!$AD$12)*AND('IE1'!Q36='IE1'!$AD$13),0,0)))","v":0},{"$f":"IF(P36=$AD$11,Accueil!$D$24,IF(('IE1'!P36='IE1'!$AD$12)*AND('IE1'!R36='IE1'!$AD$14),'IE1'!V36,IF(('IE1'!P36='IE1'!$AD$12)*AND('IE1'!R36='IE1'!$AD$13),0,0)))","v":0},null,null,null,null,null,"Tous secteurs IM",null,null,{"$f":"IFERROR(D1a!K149/D1b!K29,0)","v":0}]
[null,null,null,null,"0145","Ovins et caprins, vivants ; lait de brebis et de chèvre brut, laine en suint et poils d'ovins et de caprins",1881693,57056,389745,41031,0,0,null,null,null,null,null,null,null,null,"","",{"$f":"IF(O37=$AD$11,Accueil!$D$24,IF(('IE1'!O37='IE1'!$AD$12)*AND('IE1'!Q37='IE1'!$AD$14),'IE1'!U37,IF(('IE1'!O37='IE1'!$AD$12)*AND('IE1'!Q37='IE1'!$AD$13),0,0)))","v":0},{"$f":"IF(P37=$AD$11,Accueil!$D$24,IF(('IE1'!P37='IE1'!$AD$12)*AND('IE1'!R37='IE1'!$AD$14),'IE1'!V37,IF(('IE1'!P37='IE1'!$AD$12)*AND('IE1'!R37='IE1'!$AD$13),0,0)))","v":0},null,null,null,null,null,"Traitement des déchets",null,null,{"$f":"D1a!K150/D1b!K30","v":0}]
[null,null,null,null,"0146","Porcins, vivants",6303304,51382124,3588626,45413040,0,0,null,null,null,null,null,null,null,null,"","",{"$f":"IF(O38=$AD$11,Accueil!$D$24,IF(('IE1'!O38='IE1'!$AD$12)*AND('IE1'!Q38='IE1'!$AD$14),'IE1'!U38,IF(('IE1'!O38='IE1'!$AD$12)*AND('IE1'!Q38='IE1'!$AD$13),0,0)))","v":0},{"$f":"IF(P38=$AD$11,Accueil!$D$24,IF(('IE1'!P38='IE1'!$AD$12)*AND('IE1'!R38='IE1'!$AD$14),'IE1'!V38,IF(('IE1'!P38='IE1'!$AD$12)*AND('IE1'!R38='IE1'!$AD$13),0,0)))","v":0},null,null,null,null,null,"Traitement déchets industrie",null,null,{"$f":"AG37","v":0}]
[null,null,null,null,"0147","Volailles vivantes et oeufs",18157557,83205546,7157240,103799103,0,0,null,null,null,null,null,null,null,null,"","",{"$f":"IF(O39=$AD$11,Accueil!$D$24,IF(('IE1'!O39='IE1'!$AD$12)*AND('IE1'!Q39='IE1'!$AD$14),'IE1'!U39,IF(('IE1'!O39='IE1'!$AD$12)*AND('IE1'!Q39='IE1'!$AD$13),0,0)))","v":0},{"$f":"IF(P39=$AD$11,Accueil!$D$24,IF(('IE1'!P39='IE1'!$AD$12)*AND('IE1'!R39='IE1'!$AD$14),'IE1'!V39,IF(('IE1'!P39='IE1'!$AD$12)*AND('IE1'!R39='IE1'!$AD$13),0,0)))","v":0},null,null,null,null,null,"Métallurgie / Sidérurgie",null,null,{"$f":"(D1a!K145+D1a!K146+D1a!K160)/(D1b!K26+D1b!K25+D1b!K40)","v":0}]
[null,null,null,null,"0149","Autres animaux d'élevage et produits d'origine animale",10139911,2298335,6295452,399314,0,0,null,null,null,null,null,null,null,null,"","",{"$f":"IF(O40=$AD$11,Accueil!$D$24,IF(('IE1'!O40='IE1'!$AD$12)*AND('IE1'!Q40='IE1'!$AD$14),'IE1'!U40,IF(('IE1'!O40='IE1'!$AD$12)*AND('IE1'!Q40='IE1'!$AD$13),0,0)))","v":0},{"$f":"IF(P40=$AD$11,Accueil!$D$24,IF(('IE1'!P40='IE1'!$AD$12)*AND('IE1'!R40='IE1'!$AD$14),'IE1'!V40,IF(('IE1'!P40='IE1'!$AD$12)*AND('IE1'!R40='IE1'!$AD$13),0,0)))","v":0},null,null,null,null,null,"Metallurgie ferreux/Siderurgie",null,null,{"$f":"(D1a!E145+D1a!E160)/(D1b!E25+D1b!E40)","v":0}]
[null,null,"A02Z","Produits sylvicoles","0210","Arbres forestiers et services des pépinières",800683,15626,562407,19026,0,0,null,null,"Biens de consommation","Biens de consommation",null,null,null,null,"","",{"$f":"IF(O41=$AD$11,Accueil!$D$24,IF(('IE1'!O41='IE1'!$AD$12)*AND('IE1'!Q41='IE1'!$AD$14),'IE1'!U41,IF(('IE1'!O41='IE1'!$AD$12)*AND('IE1'!Q41='IE1'!$AD$13),0,0)))","v":0},{"$f":"IF(P41=$AD$11,Accueil!$D$24,IF(('IE1'!P41='IE1'!$AD$12)*AND('IE1'!R41='IE1'!$AD$14),'IE1'!V41,IF(('IE1'!P41='IE1'!$AD$12)*AND('IE1'!R41='IE1'!$AD$13),0,0)))","v":0},null,null,null,null,null,"Métallurgie globalisée",null,null,{"$f":"(D1a!K145+D1a!K146)/(D1b!K26+D1b!K25)","v":0}]
[null,null,null,null,"0220","Bois brut",7599677,4813766,109786534,259621731,0,0,null,null,"Biens de consommation","Biens de consommation",null,null,null,null,"","",{"$f":"IF(O42=$AD$11,Accueil!$D$24,IF(('IE1'!O42='IE1'!$AD$12)*AND('IE1'!Q42='IE1'!$AD$14),'IE1'!U42,IF(('IE1'!O42='IE1'!$AD$12)*AND('IE1'!Q42='IE1'!$AD$13),0,0)))","v":0},{"$f":"IF(P42=$AD$11,Accueil!$D$24,IF(('IE1'!P42='IE1'!$AD$12)*AND('IE1'!R42='IE1'!$AD$14),'IE1'!V42,IF(('IE1'!P42='IE1'!$AD$12)*AND('IE1'!R42='IE1'!$AD$13),0,0)))","v":0},null,null,null,null,null,"Chauffage urbain",null,null,{"$f":"D1a!K154/D1b!K34","v":0}]
[null,null,null,null,"0230","Autres produits forestiers",4586395,360660,1219617,65861,0,0,null,null,"Biens de consommation","Biens de consommation",null,null,null,null,"","",{"$f":"IF(O43=$AD$11,Accueil!$D$24,IF(('IE1'!O43='IE1'!$AD$12)*AND('IE1'!Q43='IE1'!$AD$14),'IE1'!U43,IF(('IE1'!O43='IE1'!$AD$12)*AND('IE1'!Q43='IE1'!$AD$13),0,0)))","v":0},{"$f":"IF(P43=$AD$11,Accueil!$D$24,IF(('IE1'!P43='IE1'!$AD$12)*AND('IE1'!R43='IE1'!$AD$14),'IE1'!V43,IF(('IE1'!P43='IE1'!$AD$12)*AND('IE1'!R43='IE1'!$AD$13),0,0)))","v":0},null,null,null,null,null,"Extraction des combustibles gazeux et distribution d'énergie",null,null,{"$f":"D1a!K155/D1b!K35","v":0}]
[null,null,"A03Z","Produits de la pêche et de l'aquaculture","0300","Produits de la pêche et de l'aquaculture ; services de soutien à la pêche",608898505,114734266,109144440,27591818,0,0,null,null,"Industrie agroalimentaire","Industrie agroalimentaire","Industrie agroalimentaire","Industrie agroalimentaire","Industrie agroalimentaire","Industrie agroalimentaire","","",{"$f":"IF(O44=$AD$11,Accueil!$D$24,IF(('IE1'!O44='IE1'!$AD$12)*AND('IE1'!Q44='IE1'!$AD$14),'IE1'!U44,IF(('IE1'!O44='IE1'!$AD$12)*AND('IE1'!Q44='IE1'!$AD$13),0,0)))","v":0},{"$f":"IF(P44=$AD$11,Accueil!$D$24,IF(('IE1'!P44='IE1'!$AD$12)*AND('IE1'!R44='IE1'!$AD$14),'IE1'!V44,IF(('IE1'!P44='IE1'!$AD$12)*AND('IE1'!R44='IE1'!$AD$13),0,0)))","v":0},null,null,null,null,null,"Extraction des combustibles liquides et distribution d'énergie",null,null,{"$f":"IFERROR(D1a!K156/D1b!K36,0)","v":0}]
[null,null,"B05Z","Houille","0510","Houille",491143491,8335094,5450541340,206738694,0,0,null,null,"Amont de l'énergie","Amont de l'énergie","Amont de l'énergie","Amont de l'énergie","Amont de l'énergie","Amont de l'énergie","","",{"$f":"IF(O45=$AD$11,Accueil!$D$24,IF(('IE1'!O45='IE1'!$AD$12)*AND('IE1'!Q45='IE1'!$AD$14),'IE1'!U45,IF(('IE1'!O45='IE1'!$AD$12)*AND('IE1'!Q45='IE1'!$AD$13),0,0)))","v":0},{"$f":"IF(P45=$AD$11,Accueil!$D$24,IF(('IE1'!P45='IE1'!$AD$12)*AND('IE1'!R45='IE1'!$AD$14),'IE1'!V45,IF(('IE1'!P45='IE1'!$AD$12)*AND('IE1'!R45='IE1'!$AD$13),0,0)))","v":0},null,null,null,null,null,"Production d'électricité",null,null,{"$f":"D1a!K158/D1b!K38","v":0}]
[null,null,null,null,"0520","Lignite",1539171,0,11929320,0,0,0,null,null,null,null,null,null,null,null,"","",{"$f":"IF(O46=$AD$11,Accueil!$D$24,IF(('IE1'!O46='IE1'!$AD$12)*AND('IE1'!Q46='IE1'!$AD$14),'IE1'!U46,IF(('IE1'!O46='IE1'!$AD$12)*AND('IE1'!Q46='IE1'!$AD$13),0,0)))","v":0},{"$f":"IF(P46=$AD$11,Accueil!$D$24,IF(('IE1'!P46='IE1'!$AD$12)*AND('IE1'!R46='IE1'!$AD$14),'IE1'!V46,IF(('IE1'!P46='IE1'!$AD$12)*AND('IE1'!R46='IE1'!$AD$13),0,0)))","v":0},null,null,null,null,null,"Raffinage de pétrole",null,null,{"$f":"D1a!K159/D1b!K39","v":0}]
[null,null,"B06Z","Hydrocarbures naturels","0610","Pétrole brut",1084840,1660013,11667709,9862834,0,0,null,null,null,null,null,null,null,null,"","",{"$f":"IF(O47=$AD$11,Accueil!$D$24,IF(('IE1'!O47='IE1'!$AD$12)*AND('IE1'!Q47='IE1'!$AD$14),'IE1'!U47,IF(('IE1'!O47='IE1'!$AD$12)*AND('IE1'!Q47='IE1'!$AD$13),0,0)))","v":0},{"$f":"IF(P47=$AD$11,Accueil!$D$24,IF(('IE1'!P47='IE1'!$AD$12)*AND('IE1'!R47='IE1'!$AD$14),'IE1'!V47,IF(('IE1'!P47='IE1'!$AD$12)*AND('IE1'!R47='IE1'!$AD$13),0,0)))","v":0},null,null,null,null,null,"Transformation des combustibles minéraux solides – siderurgies",null,null,{"$f":"IFERROR(D1a!K160/D1b!K40,0)","v":0}]
[null,null,null,null,"0620","Gaz naturel, liquéfié ou gazeux",48401740,0,0,0,0,0,null,null,null,null,null,null,null,null,"","",{"$f":"IF(O48=$AD$11,Accueil!$D$24,IF(('IE1'!O48='IE1'!$AD$12)*AND('IE1'!Q48='IE1'!$AD$14),'IE1'!U48,IF(('IE1'!O48='IE1'!$AD$12)*AND('IE1'!Q48='IE1'!$AD$13),0,0)))","v":0},{"$f":"IF(P48=$AD$11,Accueil!$D$24,IF(('IE1'!P48='IE1'!$AD$12)*AND('IE1'!R48='IE1'!$AD$14),'IE1'!V48,IF(('IE1'!P48='IE1'!$AD$12)*AND('IE1'!R48='IE1'!$AD$13),0,0)))","v":0},null,null,null,null,null,"Aucun- Ratio par défaut",null,null,{"$f":"Accueil!D24","v":0}]
[null,null,"B07Z","Minerais métalliques","0710","Minerais de fer",{"$f":"I49*458062168/8603544471","v":505790446.09671313},3754408,{"$f":"8603544471*0+ 9500000000","v":9500000000},61694686,{"$f":"IF($M$11=$AG$11,M49,W49)","v":0},0,null,null,"Marchandises industrielles","Biens de consommation","Présente",null,"Transformation des combustibles minéraux solides – siderurgies",null,0,"",{"$f":"IF(O49=$AD$11,Accueil!$D$24,IF(('IE1'!O49='IE1'!$AD$12)*AND('IE1'!Q49='IE1'!$AD$14),'IE1'!U49,IF(('IE1'!O49='IE1'!$AD$12)*AND('IE1'!Q49='IE1'!$AD$13),0,0)))","v":0},{"$f":"IF(P49=$AD$11,Accueil!$D$24,IF(('IE1'!P49='IE1'!$AD$12)*AND('IE1'!R49='IE1'!$AD$14),'IE1'!V49,IF(('IE1'!P49='IE1'!$AD$12)*AND('IE1'!R49='IE1'!$AD$13),0,0)))","v":0},null,null,null,null,null,"Industrie hors métallurgie et sidérurgie",null,null,{"$f":"SUM(D1a!K140:K144,D1a!K147:K151)/SUM(D1b!K20:K24,D1b!K27:K31)","v":0}]
[null,null,null,null,"0721","Minerais d'uranium et de thorium",0,0,0,0,0,0,null,null,null,null,null,null,null,null,"","",{"$f":"IF(O50=$AD$11,Accueil!$D$24,IF(('IE1'!O50='IE1'!$AD$12)*AND('IE1'!Q50='IE1'!$AD$14),'IE1'!U50,IF(('IE1'!O50='IE1'!$AD$12)*AND('IE1'!Q50='IE1'!$AD$13),0,0)))","v":0},{"$f":"IF(P50=$AD$11,Accueil!$D$24,IF(('IE1'!P50='IE1'!$AD$12)*AND('IE1'!R50='IE1'!$AD$14),'IE1'!V50,IF(('IE1'!P50='IE1'!$AD$12)*AND('IE1'!R50='IE1'!$AD$13),0,0)))","v":0}]
[null,null,null,null,"0729","Autres minerais métalliques",231075816,70082028,985311105,186384606,0,0,null,null,"Marchandises industrielles","Marchandises industrielles","Présente","Présente","Métallurgie des métaux non-ferreux","Métallurgie / Sidérurgie",0,0,{"$f":"IF(O51=$AD$11,Accueil!$D$24,IF(('IE1'!O51='IE1'!$AD$12)*AND('IE1'!Q51='IE1'!$AD$14),'IE1'!U51,IF(('IE1'!O51='IE1'!$AD$12)*AND('IE1'!Q51='IE1'!$AD$13),0,0)))","v":0},{"$f":"IF(P51=$AD$11,Accueil!$D$24,IF(('IE1'!P51='IE1'!$AD$12)*AND('IE1'!R51='IE1'!$AD$14),'IE1'!V51,IF(('IE1'!P51='IE1'!$AD$12)*AND('IE1'!R51='IE1'!$AD$13),0,0)))","v":0}]
[null,null,"B08Z","Produits divers des industries extractives","0811","Pierres ornementales ou de construction, calcaire industriel, gypse, craie et ardoise",10631984,5985547,271317933,220994954,0,0,null,null,"Travaux","Travaux","Travaux","Travaux","Travaux","Travaux","","",{"$f":"IF(O52=$AD$11,Accueil!$D$24,IF(('IE1'!O52='IE1'!$AD$12)*AND('IE1'!Q52='IE1'!$AD$14),'IE1'!U52,IF(('IE1'!O52='IE1'!$AD$12)*AND('IE1'!Q52='IE1'!$AD$13),0,0)))","v":0},{"$f":"IF(P52=$AD$11,Accueil!$D$24,IF(('IE1'!P52='IE1'!$AD$12)*AND('IE1'!R52='IE1'!$AD$14),'IE1'!V52,IF(('IE1'!P52='IE1'!$AD$12)*AND('IE1'!R52='IE1'!$AD$13),0,0)))","v":0}]
[null,null,null,null,"0812","Sables et granulats, argiles et kaolin",100648666,14733729,7305923553,1146028186,0,0,null,null,"Travaux","Travaux","Travaux","Travaux","Travaux","Travaux","","",{"$f":"IF(O53=$AD$11,Accueil!$D$24,IF(('IE1'!O53='IE1'!$AD$12)*AND('IE1'!Q53='IE1'!$AD$14),'IE1'!U53,IF(('IE1'!O53='IE1'!$AD$12)*AND('IE1'!Q53='IE1'!$AD$13),0,0)))","v":0},{"$f":"IF(P53=$AD$11,Accueil!$D$24,IF(('IE1'!P53='IE1'!$AD$12)*AND('IE1'!R53='IE1'!$AD$14),'IE1'!V53,IF(('IE1'!P53='IE1'!$AD$12)*AND('IE1'!R53='IE1'!$AD$13),0,0)))","v":0}]
[null,null,null,null,"0891","Minéraux chimiques et engrais minéraux",17776506,1929498,143913434,14986082,0,0,null,null,"Industrie agroalimentaire","Industrie agroalimentaire","Industrie agroalimentaire","Industrie agroalimentaire","Industrie agroalimentaire","Industrie agroalimentaire","","",{"$f":"IF(O54=$AD$11,Accueil!$D$24,IF(('IE1'!O54='IE1'!$AD$12)*AND('IE1'!Q54='IE1'!$AD$14),'IE1'!U54,IF(('IE1'!O54='IE1'!$AD$12)*AND('IE1'!Q54='IE1'!$AD$13),0,0)))","v":0},{"$f":"IF(P54=$AD$11,Accueil!$D$24,IF(('IE1'!P54='IE1'!$AD$12)*AND('IE1'!R54='IE1'!$AD$14),'IE1'!V54,IF(('IE1'!P54='IE1'!$AD$12)*AND('IE1'!R54='IE1'!$AD$13),0,0)))","v":0}]
[null,null,null,null,"0892","Tourbe",8659281,281721,85262851,1987281,0,0,null,null,"Travaux","Travaux","Travaux","Travaux","Travaux","Travaux","","",{"$f":"IF(O55=$AD$11,Accueil!$D$24,IF(('IE1'!O55='IE1'!$AD$12)*AND('IE1'!Q55='IE1'!$AD$14),'IE1'!U55,IF(('IE1'!O55='IE1'!$AD$12)*AND('IE1'!Q55='IE1'!$AD$13),0,0)))","v":0},{"$f":"IF(P55=$AD$11,Accueil!$D$24,IF(('IE1'!P55='IE1'!$AD$12)*AND('IE1'!R55='IE1'!$AD$14),'IE1'!V55,IF(('IE1'!P55='IE1'!$AD$12)*AND('IE1'!R55='IE1'!$AD$13),0,0)))","v":0}]
[null,null,null,null,"0893","Sel et chlorure de sodium pur ; eau de mer",11930659,174364,45587367,533204,0,0,null,null,"Industrie agroalimentaire","Industrie agroalimentaire","Industrie agroalimentaire","Industrie agroalimentaire","Industrie agroalimentaire","Industrie agroalimentaire","","",{"$f":"IF(O56=$AD$11,Accueil!$D$24,IF(('IE1'!O56='IE1'!$AD$12)*AND('IE1'!Q56='IE1'!$AD$14),'IE1'!U56,IF(('IE1'!O56='IE1'!$AD$12)*AND('IE1'!Q56='IE1'!$AD$13),0,0)))","v":0},{"$f":"IF(P56=$AD$11,Accueil!$D$24,IF(('IE1'!P56='IE1'!$AD$12)*AND('IE1'!R56='IE1'!$AD$14),'IE1'!V56,IF(('IE1'!P56='IE1'!$AD$12)*AND('IE1'!R56='IE1'!$AD$13),0,0)))","v":0}]
[null,null,null,null,"0899","Autres produits des industries extractives n.c.a.",30075459,8453872,157831898,7200553,0,0,null,null,"Travaux","Travaux","Travaux","Travaux","Travaux","Travaux","","",{"$f":"IF(O57=$AD$11,Accueil!$D$24,IF(('IE1'!O57='IE1'!$AD$12)*AND('IE1'!Q57='IE1'!$AD$14),'IE1'!U57,IF(('IE1'!O57='IE1'!$AD$12)*AND('IE1'!Q57='IE1'!$AD$13),0,0)))","v":0},{"$f":"IF(P57=$AD$11,Accueil!$D$24,IF(('IE1'!P57='IE1'!$AD$12)*AND('IE1'!R57='IE1'!$AD$14),'IE1'!V57,IF(('IE1'!P57='IE1'!$AD$12)*AND('IE1'!R57='IE1'!$AD$13),0,0)))","v":0}]
[null,null,"C10A","Viande et produits à base de viande","1011","Viandes de boucherie et produits d'abattage",383657183,97494405,147791075,52065820,0,0,null,null,"Industrie agroalimentaire","Industrie agroalimentaire","Industrie agroalimentaire","Industrie agroalimentaire","Industrie agroalimentaire","Industrie agroalimentaire","","",{"$f":"IF(O58=$AD$11,Accueil!$D$24,IF(('IE1'!O58='IE1'!$AD$12)*AND('IE1'!Q58='IE1'!$AD$14),'IE1'!U58,IF(('IE1'!O58='IE1'!$AD$12)*AND('IE1'!Q58='IE1'!$AD$13),0,0)))","v":0},{"$f":"IF(P58=$AD$11,Accueil!$D$24,IF(('IE1'!P58='IE1'!$AD$12)*AND('IE1'!R58='IE1'!$AD$14),'IE1'!V58,IF(('IE1'!P58='IE1'!$AD$12)*AND('IE1'!R58='IE1'!$AD$13),0,0)))","v":0}]
[null,null,null,null,"1012","Viandes de volailles",155215776,14664054,66067726,12768040,0,0,null,null,null,null,null,null,null,null,"","",{"$f":"IF(O59=$AD$11,Accueil!$D$24,IF(('IE1'!O59='IE1'!$AD$12)*AND('IE1'!Q59='IE1'!$AD$14),'IE1'!U59,IF(('IE1'!O59='IE1'!$AD$12)*AND('IE1'!Q59='IE1'!$AD$13),0,0)))","v":0},{"$f":"IF(P59=$AD$11,Accueil!$D$24,IF(('IE1'!P59='IE1'!$AD$12)*AND('IE1'!R59='IE1'!$AD$14),'IE1'!V59,IF(('IE1'!P59='IE1'!$AD$12)*AND('IE1'!R59='IE1'!$AD$13),0,0)))","v":0}]
[null,null,null,null,"1013","Produits à base de viande",130460597,129578869,48585436,61327552,0,0,null,null,null,null,null,null,null,null,"","",{"$f":"IF(O60=$AD$11,Accueil!$D$24,IF(('IE1'!O60='IE1'!$AD$12)*AND('IE1'!Q60='IE1'!$AD$14),'IE1'!U60,IF(('IE1'!O60='IE1'!$AD$12)*AND('IE1'!Q60='IE1'!$AD$13),0,0)))","v":0},{"$f":"IF(P60=$AD$11,Accueil!$D$24,IF(('IE1'!P60='IE1'!$AD$12)*AND('IE1'!R60='IE1'!$AD$14),'IE1'!V60,IF(('IE1'!P60='IE1'!$AD$12)*AND('IE1'!R60='IE1'!$AD$13),0,0)))","v":0}]
[null,null,"C10B ","Préparations et conserves à base de poisson","1020","Préparations et conserves à base de poisson et de produits de la pêche",984679830,219490469,188202710,38154655,0,0,null,null,null,null,null,null,null,null,"","",{"$f":"IF(O61=$AD$11,Accueil!$D$24,IF(('IE1'!O61='IE1'!$AD$12)*AND('IE1'!Q61='IE1'!$AD$14),'IE1'!U61,IF(('IE1'!O61='IE1'!$AD$12)*AND('IE1'!Q61='IE1'!$AD$13),0,0)))","v":0},{"$f":"IF(P61=$AD$11,Accueil!$D$24,IF(('IE1'!P61='IE1'!$AD$12)*AND('IE1'!R61='IE1'!$AD$14),'IE1'!V61,IF(('IE1'!P61='IE1'!$AD$12)*AND('IE1'!R61='IE1'!$AD$13),0,0)))","v":0}]
[null,null,"C10C","Produits à base de fruits et légumes","1031","Préparations et conserves à base de pommes de terre",134523591,291604726,171340323,338762447,0,0,null,null,null,null,null,null,null,null,"","",{"$f":"IF(O62=$AD$11,Accueil!$D$24,IF(('IE1'!O62='IE1'!$AD$12)*AND('IE1'!Q62='IE1'!$AD$14),'IE1'!U62,IF(('IE1'!O62='IE1'!$AD$12)*AND('IE1'!Q62='IE1'!$AD$13),0,0)))","v":0},{"$f":"IF(P62=$AD$11,Accueil!$D$24,IF(('IE1'!P62='IE1'!$AD$12)*AND('IE1'!R62='IE1'!$AD$14),'IE1'!V62,IF(('IE1'!P62='IE1'!$AD$12)*AND('IE1'!R62='IE1'!$AD$13),0,0)))","v":0}]
[null,null,null,null,"1032","Jus de fruits et légumes",53294527,1781258,49201848,2269063,0,0,null,null,null,null,null,null,null,null,"","",{"$f":"IF(O63=$AD$11,Accueil!$D$24,IF(('IE1'!O63='IE1'!$AD$12)*AND('IE1'!Q63='IE1'!$AD$14),'IE1'!U63,IF(('IE1'!O63='IE1'!$AD$12)*AND('IE1'!Q63='IE1'!$AD$13),0,0)))","v":0},{"$f":"IF(P63=$AD$11,Accueil!$D$24,IF(('IE1'!P63='IE1'!$AD$12)*AND('IE1'!R63='IE1'!$AD$14),'IE1'!V63,IF(('IE1'!P63='IE1'!$AD$12)*AND('IE1'!R63='IE1'!$AD$13),0,0)))","v":0}]
[null,null,null,null,"1039","Autres préparations et conserves à base de fruits et légumes",373398181,225466027,325137745,268726229,0,0,null,null,null,null,null,null,null,null,"","",{"$f":"IF(O64=$AD$11,Accueil!$D$24,IF(('IE1'!O64='IE1'!$AD$12)*AND('IE1'!Q64='IE1'!$AD$14),'IE1'!U64,IF(('IE1'!O64='IE1'!$AD$12)*AND('IE1'!Q64='IE1'!$AD$13),0,0)))","v":0},{"$f":"IF(P64=$AD$11,Accueil!$D$24,IF(('IE1'!P64='IE1'!$AD$12)*AND('IE1'!R64='IE1'!$AD$14),'IE1'!V64,IF(('IE1'!P64='IE1'!$AD$12)*AND('IE1'!R64='IE1'!$AD$13),0,0)))","v":0}]
[null,null,"C10D","Huiles et graisses végétales et animales","1041","Huiles et graisses",499894290,158356975,812178183,166909344,0,0,null,null,null,null,null,null,null,null,"","",{"$f":"IF(O65=$AD$11,Accueil!$D$24,IF(('IE1'!O65='IE1'!$AD$12)*AND('IE1'!Q65='IE1'!$AD$14),'IE1'!U65,IF(('IE1'!O65='IE1'!$AD$12)*AND('IE1'!Q65='IE1'!$AD$13),0,0)))","v":0},{"$f":"IF(P65=$AD$11,Accueil!$D$24,IF(('IE1'!P65='IE1'!$AD$12)*AND('IE1'!R65='IE1'!$AD$14),'IE1'!V65,IF(('IE1'!P65='IE1'!$AD$12)*AND('IE1'!R65='IE1'!$AD$13),0,0)))","v":0}]
[null,null,null,null,"1042","Margarines et graisses comestibles similaires",93842483,1522057,84848551,743430,0,0,null,null,null,null,null,null,null,null,"","",{"$f":"IF(O66=$AD$11,Accueil!$D$24,IF(('IE1'!O66='IE1'!$AD$12)*AND('IE1'!Q66='IE1'!$AD$14),'IE1'!U66,IF(('IE1'!O66='IE1'!$AD$12)*AND('IE1'!Q66='IE1'!$AD$13),0,0)))","v":0},{"$f":"IF(P66=$AD$11,Accueil!$D$24,IF(('IE1'!P66='IE1'!$AD$12)*AND('IE1'!R66='IE1'!$AD$14),'IE1'!V66,IF(('IE1'!P66='IE1'!$AD$12)*AND('IE1'!R66='IE1'!$AD$13),0,0)))","v":0}]
[null,null,"C10E","Produits laitiers et glaces","1051","Produits laitiers et fromages",473427337,305688746,238488437,313822538,0,0,null,null,null,null,null,null,null,null,"","",{"$f":"IF(O67=$AD$11,Accueil!$D$24,IF(('IE1'!O67='IE1'!$AD$12)*AND('IE1'!Q67='IE1'!$AD$14),'IE1'!U67,IF(('IE1'!O67='IE1'!$AD$12)*AND('IE1'!Q67='IE1'!$AD$13),0,0)))","v":0},{"$f":"IF(P67=$AD$11,Accueil!$D$24,IF(('IE1'!P67='IE1'!$AD$12)*AND('IE1'!R67='IE1'!$AD$14),'IE1'!V67,IF(('IE1'!P67='IE1'!$AD$12)*AND('IE1'!R67='IE1'!$AD$13),0,0)))","v":0}]
[null,null,null,null,"1052","Glaces et sorbets",20431912,152452199,8166045,44815500,0,0,null,null,null,null,null,null,null,null,"","",{"$f":"IF(O68=$AD$11,Accueil!$D$24,IF(('IE1'!O68='IE1'!$AD$12)*AND('IE1'!Q68='IE1'!$AD$14),'IE1'!U68,IF(('IE1'!O68='IE1'!$AD$12)*AND('IE1'!Q68='IE1'!$AD$13),0,0)))","v":0},{"$f":"IF(P68=$AD$11,Accueil!$D$24,IF(('IE1'!P68='IE1'!$AD$12)*AND('IE1'!R68='IE1'!$AD$14),'IE1'!V68,IF(('IE1'!P68='IE1'!$AD$12)*AND('IE1'!R68='IE1'!$AD$13),0,0)))","v":0}]
[null,null,"C10F","Produits du travail des grains","1061","Produits du travail des grains",381057156,171608373,350659454,264655999,0,0,null,null,null,null,null,null,null,null,"","",{"$f":"IF(O69=$AD$11,Accueil!$D$24,IF(('IE1'!O69='IE1'!$AD$12)*AND('IE1'!Q69='IE1'!$AD$14),'IE1'!U69,IF(('IE1'!O69='IE1'!$AD$12)*AND('IE1'!Q69='IE1'!$AD$13),0,0)))","v":0},{"$f":"IF(P69=$AD$11,Accueil!$D$24,IF(('IE1'!P69='IE1'!$AD$12)*AND('IE1'!R69='IE1'!$AD$14),'IE1'!V69,IF(('IE1'!P69='IE1'!$AD$12)*AND('IE1'!R69='IE1'!$AD$13),0,0)))","v":0}]
[null,null,null,null,"1062","Produits amylacés",98029991,725558287,174479758,865368866,0,0,null,null,null,null,null,null,null,null,"","",{"$f":"IF(O70=$AD$11,Accueil!$D$24,IF(('IE1'!O70='IE1'!$AD$12)*AND('IE1'!Q70='IE1'!$AD$14),'IE1'!U70,IF(('IE1'!O70='IE1'!$AD$12)*AND('IE1'!Q70='IE1'!$AD$13),0,0)))","v":0},{"$f":"IF(P70=$AD$11,Accueil!$D$24,IF(('IE1'!P70='IE1'!$AD$12)*AND('IE1'!R70='IE1'!$AD$14),'IE1'!V70,IF(('IE1'!P70='IE1'!$AD$12)*AND('IE1'!R70='IE1'!$AD$13),0,0)))","v":0}]
[null,null,"C10G","Produits de boulangerier-pâtisserie et pâtes","1071","Pain ; pâtisseries et viennoiseries fraîches",58199083,183389009,21542821,146102362,0,0,null,null,null,null,null,null,null,null,"","",{"$f":"IF(O71=$AD$11,Accueil!$D$24,IF(('IE1'!O71='IE1'!$AD$12)*AND('IE1'!Q71='IE1'!$AD$14),'IE1'!U71,IF(('IE1'!O71='IE1'!$AD$12)*AND('IE1'!Q71='IE1'!$AD$13),0,0)))","v":0},{"$f":"IF(P71=$AD$11,Accueil!$D$24,IF(('IE1'!P71='IE1'!$AD$12)*AND('IE1'!R71='IE1'!$AD$14),'IE1'!V71,IF(('IE1'!P71='IE1'!$AD$12)*AND('IE1'!R71='IE1'!$AD$13),0,0)))","v":0}]
[null,null,null,null,"1072","Biscottes et biscuits ; pâtisseries de conservation",243131831,140045288,138800016,64354600,0,0,null,null,null,null,null,null,null,null,"","",{"$f":"IF(O72=$AD$11,Accueil!$D$24,IF(('IE1'!O72='IE1'!$AD$12)*AND('IE1'!Q72='IE1'!$AD$14),'IE1'!U72,IF(('IE1'!O72='IE1'!$AD$12)*AND('IE1'!Q72='IE1'!$AD$13),0,0)))","v":0},{"$f":"IF(P72=$AD$11,Accueil!$D$24,IF(('IE1'!P72='IE1'!$AD$12)*AND('IE1'!R72='IE1'!$AD$14),'IE1'!V72,IF(('IE1'!P72='IE1'!$AD$12)*AND('IE1'!R72='IE1'!$AD$13),0,0)))","v":0}]
[null,null,null,null,"1073","Pâtes alimentaires",29970854,2403390,32697998,8449203,0,0,null,null,null,null,null,null,null,null,"","",{"$f":"IF(O73=$AD$11,Accueil!$D$24,IF(('IE1'!O73='IE1'!$AD$12)*AND('IE1'!Q73='IE1'!$AD$14),'IE1'!U73,IF(('IE1'!O73='IE1'!$AD$12)*AND('IE1'!Q73='IE1'!$AD$13),0,0)))","v":0},{"$f":"IF(P73=$AD$11,Accueil!$D$24,IF(('IE1'!P73='IE1'!$AD$12)*AND('IE1'!R73='IE1'!$AD$14),'IE1'!V73,IF(('IE1'!P73='IE1'!$AD$12)*AND('IE1'!R73='IE1'!$AD$13),0,0)))","v":0}]
[null,null,"C10H","Produits alimentaires divers","1081","Sucre",52614340,309468798,131331775,1381419923,0,0,null,null,null,null,null,null,null,null,"","",{"$f":"IF(O74=$AD$11,Accueil!$D$24,IF(('IE1'!O74='IE1'!$AD$12)*AND('IE1'!Q74='IE1'!$AD$14),'IE1'!U74,IF(('IE1'!O74='IE1'!$AD$12)*AND('IE1'!Q74='IE1'!$AD$13),0,0)))","v":0},{"$f":"IF(P74=$AD$11,Accueil!$D$24,IF(('IE1'!P74='IE1'!$AD$12)*AND('IE1'!R74='IE1'!$AD$14),'IE1'!V74,IF(('IE1'!P74='IE1'!$AD$12)*AND('IE1'!R74='IE1'!$AD$13),0,0)))","v":0}]
[null,null,null,null,"1082","Cacao, chocolat et produits de confiserie",404869317,186553367,116844432,59621667,0,0,null,null,null,null,null,null,null,null,"","",{"$f":"IF(O75=$AD$11,Accueil!$D$24,IF(('IE1'!O75='IE1'!$AD$12)*AND('IE1'!Q75='IE1'!$AD$14),'IE1'!U75,IF(('IE1'!O75='IE1'!$AD$12)*AND('IE1'!Q75='IE1'!$AD$13),0,0)))","v":0},{"$f":"IF(P75=$AD$11,Accueil!$D$24,IF(('IE1'!P75='IE1'!$AD$12)*AND('IE1'!R75='IE1'!$AD$14),'IE1'!V75,IF(('IE1'!P75='IE1'!$AD$12)*AND('IE1'!R75='IE1'!$AD$13),0,0)))","v":0}]
[null,null,null,null,"1083","Café et thé transformés",39831037,19248771,7315916,1223116,0,0,null,null,null,null,null,null,null,null,"","",{"$f":"IF(O76=$AD$11,Accueil!$D$24,IF(('IE1'!O76='IE1'!$AD$12)*AND('IE1'!Q76='IE1'!$AD$14),'IE1'!U76,IF(('IE1'!O76='IE1'!$AD$12)*AND('IE1'!Q76='IE1'!$AD$13),0,0)))","v":0},{"$f":"IF(P76=$AD$11,Accueil!$D$24,IF(('IE1'!P76='IE1'!$AD$12)*AND('IE1'!R76='IE1'!$AD$14),'IE1'!V76,IF(('IE1'!P76='IE1'!$AD$12)*AND('IE1'!R76='IE1'!$AD$13),0,0)))","v":0}]
[null,null,null,null,"1084","Condiments et assaisonnements",107862843,34339303,93114983,35738672,0,0,null,null,null,null,null,null,null,null,"","",{"$f":"IF(O77=$AD$11,Accueil!$D$24,IF(('IE1'!O77='IE1'!$AD$12)*AND('IE1'!Q77='IE1'!$AD$14),'IE1'!U77,IF(('IE1'!O77='IE1'!$AD$12)*AND('IE1'!Q77='IE1'!$AD$13),0,0)))","v":0},{"$f":"IF(P77=$AD$11,Accueil!$D$24,IF(('IE1'!P77='IE1'!$AD$12)*AND('IE1'!R77='IE1'!$AD$14),'IE1'!V77,IF(('IE1'!P77='IE1'!$AD$12)*AND('IE1'!R77='IE1'!$AD$13),0,0)))","v":0}]
[null,null,null,null,"1085","Plats préparés",78272018,36415655,20976023,16265211,0,0,null,null,null,null,null,null,null,null,"","",{"$f":"IF(O78=$AD$11,Accueil!$D$24,IF(('IE1'!O78='IE1'!$AD$12)*AND('IE1'!Q78='IE1'!$AD$14),'IE1'!U78,IF(('IE1'!O78='IE1'!$AD$12)*AND('IE1'!Q78='IE1'!$AD$13),0,0)))","v":0},{"$f":"IF(P78=$AD$11,Accueil!$D$24,IF(('IE1'!P78='IE1'!$AD$12)*AND('IE1'!R78='IE1'!$AD$14),'IE1'!V78,IF(('IE1'!P78='IE1'!$AD$12)*AND('IE1'!R78='IE1'!$AD$13),0,0)))","v":0}]
[null,null,null,null,"1086","Aliments homogénéisés et diététiques",63162975,93930452,18533164,73945778,0,0,null,null,null,null,null,null,null,null,"","",{"$f":"IF(O79=$AD$11,Accueil!$D$24,IF(('IE1'!O79='IE1'!$AD$12)*AND('IE1'!Q79='IE1'!$AD$14),'IE1'!U79,IF(('IE1'!O79='IE1'!$AD$12)*AND('IE1'!Q79='IE1'!$AD$13),0,0)))","v":0},{"$f":"IF(P79=$AD$11,Accueil!$D$24,IF(('IE1'!P79='IE1'!$AD$12)*AND('IE1'!R79='IE1'!$AD$14),'IE1'!V79,IF(('IE1'!P79='IE1'!$AD$12)*AND('IE1'!R79='IE1'!$AD$13),0,0)))","v":0}]
[null,null,null,null,"1089","Autres produits alimentaires n.c.a.",108194996,322503468,57736216,109722346,0,0,null,null,null,null,null,null,null,null,"","",{"$f":"IF(O80=$AD$11,Accueil!$D$24,IF(('IE1'!O80='IE1'!$AD$12)*AND('IE1'!Q80='IE1'!$AD$14),'IE1'!U80,IF(('IE1'!O80='IE1'!$AD$12)*AND('IE1'!Q80='IE1'!$AD$13),0,0)))","v":0},{"$f":"IF(P80=$AD$11,Accueil!$D$24,IF(('IE1'!P80='IE1'!$AD$12)*AND('IE1'!R80='IE1'!$AD$14),'IE1'!V80,IF(('IE1'!P80='IE1'!$AD$12)*AND('IE1'!R80='IE1'!$AD$13),0,0)))","v":0}]
[null,null,"C10K","Aliments pour animaux","1091","Aliments pour animaux de ferme",116417424,63117875,283131956,293059585,0,0,null,null,null,null,null,null,null,null,"","",{"$f":"IF(O81=$AD$11,Accueil!$D$24,IF(('IE1'!O81='IE1'!$AD$12)*AND('IE1'!Q81='IE1'!$AD$14),'IE1'!U81,IF(('IE1'!O81='IE1'!$AD$12)*AND('IE1'!Q81='IE1'!$AD$13),0,0)))","v":0},{"$f":"IF(P81=$AD$11,Accueil!$D$24,IF(('IE1'!P81='IE1'!$AD$12)*AND('IE1'!R81='IE1'!$AD$14),'IE1'!V81,IF(('IE1'!P81='IE1'!$AD$12)*AND('IE1'!R81='IE1'!$AD$13),0,0)))","v":0}]
[null,null,null,null,"1092","Aliments pour animaux de compagnie",37236457,340712204,28914186,335653964,{"$f":"IF($M$11=$AG$11,M82,W82)","v":0},{"$f":"IF($M$11=$AG$11,N82,X82)","v":0},null,null,null,null,null,null,null,null,{"$f":"IFERROR(IF(S82=\"\",\"\",VLOOKUP(S82,$AD$20:$AG$49,4,FALSE)),\"\")","v":""},{"$f":"IFERROR(IF(T82=\"\",\"\",VLOOKUP(T82,$AD$20:$AG$49,4,FALSE)),\"\")","v":""},{"$f":"IF(O82=$AD$11,Accueil!$D$24,IF(('IE1'!O82='IE1'!$AD$12)*AND('IE1'!Q82='IE1'!$AD$14),'IE1'!U82,IF(('IE1'!O82='IE1'!$AD$12)*AND('IE1'!Q82='IE1'!$AD$13),0,0)))","v":0},{"$f":"IF(P82=$AD$11,Accueil!$D$24,IF(('IE1'!P82='IE1'!$AD$12)*AND('IE1'!R82='IE1'!$AD$14),'IE1'!V82,IF(('IE1'!P82='IE1'!$AD$12)*AND('IE1'!R82='IE1'!$AD$13),0,0)))","v":0}]
[null,null,"C11Z","Boissons","1101","Boissons alcoolisées distillées",63122339,37120446,23504715,16464306,0,0,null,null,null,null,null,null,null,null,"","",{"$f":"IF(O83=$AD$11,Accueil!$D$24,IF(('IE1'!O83='IE1'!$AD$12)*AND('IE1'!Q83='IE1'!$AD$14),'IE1'!U83,IF(('IE1'!O83='IE1'!$AD$12)*AND('IE1'!Q83='IE1'!$AD$13),0,0)))","v":0},{"$f":"IF(P83=$AD$11,Accueil!$D$24,IF(('IE1'!P83='IE1'!$AD$12)*AND('IE1'!R83='IE1'!$AD$14),'IE1'!V83,IF(('IE1'!P83='IE1'!$AD$12)*AND('IE1'!R83='IE1'!$AD$13),0,0)))","v":0}]
[null,null,null,null,"1102","Vins de raisin",36717483,84738169,31353084,35173069,0,0,null,null,null,null,null,null,null,null,"","",{"$f":"IF(O84=$AD$11,Accueil!$D$24,IF(('IE1'!O84='IE1'!$AD$12)*AND('IE1'!Q84='IE1'!$AD$14),'IE1'!U84,IF(('IE1'!O84='IE1'!$AD$12)*AND('IE1'!Q84='IE1'!$AD$13),0,0)))","v":0},{"$f":"IF(P84=$AD$11,Accueil!$D$24,IF(('IE1'!P84='IE1'!$AD$12)*AND('IE1'!R84='IE1'!$AD$14),'IE1'!V84,IF(('IE1'!P84='IE1'!$AD$12)*AND('IE1'!R84='IE1'!$AD$13),0,0)))","v":0}]
[null,null,null,null,"1103","Cidre et autres vins de fruits",2160335,2313610,3880039,4830554,0,0,null,null,null,null,null,null,null,null,"","",{"$f":"IF(O85=$AD$11,Accueil!$D$24,IF(('IE1'!O85='IE1'!$AD$12)*AND('IE1'!Q85='IE1'!$AD$14),'IE1'!U85,IF(('IE1'!O85='IE1'!$AD$12)*AND('IE1'!Q85='IE1'!$AD$13),0,0)))","v":0},{"$f":"IF(P85=$AD$11,Accueil!$D$24,IF(('IE1'!P85='IE1'!$AD$12)*AND('IE1'!R85='IE1'!$AD$14),'IE1'!V85,IF(('IE1'!P85='IE1'!$AD$12)*AND('IE1'!R85='IE1'!$AD$13),0,0)))","v":0}]
[null,null,null,null,"1104","Autres boissons fermentées non distillées",1164632,1673972,1131481,596778,0,0,null,null,null,null,null,null,null,null,"","",{"$f":"IF(O86=$AD$11,Accueil!$D$24,IF(('IE1'!O86='IE1'!$AD$12)*AND('IE1'!Q86='IE1'!$AD$14),'IE1'!U86,IF(('IE1'!O86='IE1'!$AD$12)*AND('IE1'!Q86='IE1'!$AD$13),0,0)))","v":0},{"$f":"IF(P86=$AD$11,Accueil!$D$24,IF(('IE1'!P86='IE1'!$AD$12)*AND('IE1'!R86='IE1'!$AD$14),'IE1'!V86,IF(('IE1'!P86='IE1'!$AD$12)*AND('IE1'!R86='IE1'!$AD$13),0,0)))","v":0}]
[null,null,null,null,"1105","Bière",413628351,99163526,489119656,240334625,0,0,null,null,null,null,null,null,null,null,"","",{"$f":"IF(O87=$AD$11,Accueil!$D$24,IF(('IE1'!O87='IE1'!$AD$12)*AND('IE1'!Q87='IE1'!$AD$14),'IE1'!U87,IF(('IE1'!O87='IE1'!$AD$12)*AND('IE1'!Q87='IE1'!$AD$13),0,0)))","v":0},{"$f":"IF(P87=$AD$11,Accueil!$D$24,IF(('IE1'!P87='IE1'!$AD$12)*AND('IE1'!R87='IE1'!$AD$14),'IE1'!V87,IF(('IE1'!P87='IE1'!$AD$12)*AND('IE1'!R87='IE1'!$AD$13),0,0)))","v":0}]
[null,null,null,null,"1106","Malt",995487,46113896,1830594,129492950,0,0,null,null,null,null,null,null,null,null,"","",{"$f":"IF(O88=$AD$11,Accueil!$D$24,IF(('IE1'!O88='IE1'!$AD$12)*AND('IE1'!Q88='IE1'!$AD$14),'IE1'!U88,IF(('IE1'!O88='IE1'!$AD$12)*AND('IE1'!Q88='IE1'!$AD$13),0,0)))","v":0},{"$f":"IF(P88=$AD$11,Accueil!$D$24,IF(('IE1'!P88='IE1'!$AD$12)*AND('IE1'!R88='IE1'!$AD$14),'IE1'!V88,IF(('IE1'!P88='IE1'!$AD$12)*AND('IE1'!R88='IE1'!$AD$13),0,0)))","v":0}]
[null,null,null,null,"1107","Boissons rafraîchissantes ; eaux minérales et autres eaux en bouteille",49149219,97884951,86890900,1276816825,0,0,null,null,null,null,null,null,null,null,"","",{"$f":"IF(O89=$AD$11,Accueil!$D$24,IF(('IE1'!O89='IE1'!$AD$12)*AND('IE1'!Q89='IE1'!$AD$14),'IE1'!U89,IF(('IE1'!O89='IE1'!$AD$12)*AND('IE1'!Q89='IE1'!$AD$13),0,0)))","v":0},{"$f":"IF(P89=$AD$11,Accueil!$D$24,IF(('IE1'!P89='IE1'!$AD$12)*AND('IE1'!R89='IE1'!$AD$14),'IE1'!V89,IF(('IE1'!P89='IE1'!$AD$12)*AND('IE1'!R89='IE1'!$AD$13),0,0)))","v":0}]
[null,null,"C12Z","Tabacs manufacturés","1200","Produits à base de tabac",1274609,43967,95955,763,0,0,null,null,"Biens de consommation","Biens de consommation",null,null,null,null,"","",{"$f":"IF(O90=$AD$11,Accueil!$D$24,IF(('IE1'!O90='IE1'!$AD$12)*AND('IE1'!Q90='IE1'!$AD$14),'IE1'!U90,IF(('IE1'!O90='IE1'!$AD$12)*AND('IE1'!Q90='IE1'!$AD$13),0,0)))","v":0},{"$f":"IF(P90=$AD$11,Accueil!$D$24,IF(('IE1'!P90='IE1'!$AD$12)*AND('IE1'!R90='IE1'!$AD$14),'IE1'!V90,IF(('IE1'!P90='IE1'!$AD$12)*AND('IE1'!R90='IE1'!$AD$13),0,0)))","v":0}]
[null,null,"C13Z","Produits de l'industrie textile","1310","Fils et filés",110920198,156069514,29942301,130336234,0,0,null,null,"Biens de consommation","Biens de consommation",null,null,null,null,"","",{"$f":"IF(O91=$AD$11,Accueil!$D$24,IF(('IE1'!O91='IE1'!$AD$12)*AND('IE1'!Q91='IE1'!$AD$14),'IE1'!U91,IF(('IE1'!O91='IE1'!$AD$12)*AND('IE1'!Q91='IE1'!$AD$13),0,0)))","v":0},{"$f":"IF(P91=$AD$11,Accueil!$D$24,IF(('IE1'!P91='IE1'!$AD$12)*AND('IE1'!R91='IE1'!$AD$14),'IE1'!V91,IF(('IE1'!P91='IE1'!$AD$12)*AND('IE1'!R91='IE1'!$AD$13),0,0)))","v":0}]
[null,null,null,null,"1320","Tissus",185050650,196325526,23665772,14297468,0,0,null,null,"Biens de consommation","Biens de consommation",null,null,null,null,"","",{"$f":"IF(O92=$AD$11,Accueil!$D$24,IF(('IE1'!O92='IE1'!$AD$12)*AND('IE1'!Q92='IE1'!$AD$14),'IE1'!U92,IF(('IE1'!O92='IE1'!$AD$12)*AND('IE1'!Q92='IE1'!$AD$13),0,0)))","v":0},{"$f":"IF(P92=$AD$11,Accueil!$D$24,IF(('IE1'!P92='IE1'!$AD$12)*AND('IE1'!R92='IE1'!$AD$14),'IE1'!V92,IF(('IE1'!P92='IE1'!$AD$12)*AND('IE1'!R92='IE1'!$AD$13),0,0)))","v":0}]
[null,null,null,null,"1391","Étoffes à maille",34377076,43446648,3265520,7565309,0,0,null,null,"Biens de consommation","Biens de consommation",null,null,null,null,"","",{"$f":"IF(O93=$AD$11,Accueil!$D$24,IF(('IE1'!O93='IE1'!$AD$12)*AND('IE1'!Q93='IE1'!$AD$14),'IE1'!U93,IF(('IE1'!O93='IE1'!$AD$12)*AND('IE1'!Q93='IE1'!$AD$13),0,0)))","v":0},{"$f":"IF(P93=$AD$11,Accueil!$D$24,IF(('IE1'!P93='IE1'!$AD$12)*AND('IE1'!R93='IE1'!$AD$14),'IE1'!V93,IF(('IE1'!P93='IE1'!$AD$12)*AND('IE1'!R93='IE1'!$AD$13),0,0)))","v":0}]
[null,null,null,null,"1392","Articles textiles confectionnés, sauf habillement",436697261,152600116,70259629,14229058,0,0,null,null,"Biens de consommation","Biens de consommation",null,null,null,null,"","",{"$f":"IF(O94=$AD$11,Accueil!$D$24,IF(('IE1'!O94='IE1'!$AD$12)*AND('IE1'!Q94='IE1'!$AD$14),'IE1'!U94,IF(('IE1'!O94='IE1'!$AD$12)*AND('IE1'!Q94='IE1'!$AD$13),0,0)))","v":0},{"$f":"IF(P94=$AD$11,Accueil!$D$24,IF(('IE1'!P94='IE1'!$AD$12)*AND('IE1'!R94='IE1'!$AD$14),'IE1'!V94,IF(('IE1'!P94='IE1'!$AD$12)*AND('IE1'!R94='IE1'!$AD$13),0,0)))","v":0}]
[null,null,null,null,"1393","Tapis et moquettes",75564301,40916621,22221781,13460872,0,0,null,null,"Biens de consommation","Biens de consommation",null,null,null,null,"","",{"$f":"IF(O95=$AD$11,Accueil!$D$24,IF(('IE1'!O95='IE1'!$AD$12)*AND('IE1'!Q95='IE1'!$AD$14),'IE1'!U95,IF(('IE1'!O95='IE1'!$AD$12)*AND('IE1'!Q95='IE1'!$AD$13),0,0)))","v":0},{"$f":"IF(P95=$AD$11,Accueil!$D$24,IF(('IE1'!P95='IE1'!$AD$12)*AND('IE1'!R95='IE1'!$AD$14),'IE1'!V95,IF(('IE1'!P95='IE1'!$AD$12)*AND('IE1'!R95='IE1'!$AD$13),0,0)))","v":0}]
[null,null,null,null,"1394","Ficelles, cordes et filets",15721186,6947337,6380631,4747313,0,0,null,null,"Biens de consommation","Biens de consommation",null,null,null,null,"","",{"$f":"IF(O96=$AD$11,Accueil!$D$24,IF(('IE1'!O96='IE1'!$AD$12)*AND('IE1'!Q96='IE1'!$AD$14),'IE1'!U96,IF(('IE1'!O96='IE1'!$AD$12)*AND('IE1'!Q96='IE1'!$AD$13),0,0)))","v":0},{"$f":"IF(P96=$AD$11,Accueil!$D$24,IF(('IE1'!P96='IE1'!$AD$12)*AND('IE1'!R96='IE1'!$AD$14),'IE1'!V96,IF(('IE1'!P96='IE1'!$AD$12)*AND('IE1'!R96='IE1'!$AD$13),0,0)))","v":0}]
[null,null,null,null,"1395","Non-tissés et articles en non-tissés, sauf habillement",62111988,92404297,22657721,39432684,0,0,null,null,"Biens de consommation","Biens de consommation",null,null,null,null,"","",{"$f":"IF(O97=$AD$11,Accueil!$D$24,IF(('IE1'!O97='IE1'!$AD$12)*AND('IE1'!Q97='IE1'!$AD$14),'IE1'!U97,IF(('IE1'!O97='IE1'!$AD$12)*AND('IE1'!Q97='IE1'!$AD$13),0,0)))","v":0},{"$f":"IF(P97=$AD$11,Accueil!$D$24,IF(('IE1'!P97='IE1'!$AD$12)*AND('IE1'!R97='IE1'!$AD$14),'IE1'!V97,IF(('IE1'!P97='IE1'!$AD$12)*AND('IE1'!R97='IE1'!$AD$13),0,0)))","v":0}]
[null,null,null,null,"1396","Autres textiles techniques et industriels",76854483,52981924,9069662,9055737,0,0,null,null,"Biens de consommation","Biens de consommation",null,null,null,null,"","",{"$f":"IF(O98=$AD$11,Accueil!$D$24,IF(('IE1'!O98='IE1'!$AD$12)*AND('IE1'!Q98='IE1'!$AD$14),'IE1'!U98,IF(('IE1'!O98='IE1'!$AD$12)*AND('IE1'!Q98='IE1'!$AD$13),0,0)))","v":0},{"$f":"IF(P98=$AD$11,Accueil!$D$24,IF(('IE1'!P98='IE1'!$AD$12)*AND('IE1'!R98='IE1'!$AD$14),'IE1'!V98,IF(('IE1'!P98='IE1'!$AD$12)*AND('IE1'!R98='IE1'!$AD$13),0,0)))","v":0}]
[null,null,null,null,"1399","Autres textiles n.c.a.",28805741,80603827,3883206,1587036,0,0,null,null,"Biens de consommation","Biens de consommation",null,null,null,null,"","",{"$f":"IF(O99=$AD$11,Accueil!$D$24,IF(('IE1'!O99='IE1'!$AD$12)*AND('IE1'!Q99='IE1'!$AD$14),'IE1'!U99,IF(('IE1'!O99='IE1'!$AD$12)*AND('IE1'!Q99='IE1'!$AD$13),0,0)))","v":0},{"$f":"IF(P99=$AD$11,Accueil!$D$24,IF(('IE1'!P99='IE1'!$AD$12)*AND('IE1'!R99='IE1'!$AD$14),'IE1'!V99,IF(('IE1'!P99='IE1'!$AD$12)*AND('IE1'!R99='IE1'!$AD$13),0,0)))","v":0}]
[null,null,"C14Z","Articles d'habillement","1411","Vêtements en cuir",12964124,2755650,273862,51775,0,0,null,null,"Biens de consommation","Biens de consommation",null,null,null,null,"","",{"$f":"IF(O100=$AD$11,Accueil!$D$24,IF(('IE1'!O100='IE1'!$AD$12)*AND('IE1'!Q100='IE1'!$AD$14),'IE1'!U100,IF(('IE1'!O100='IE1'!$AD$12)*AND('IE1'!Q100='IE1'!$AD$13),0,0)))","v":0},{"$f":"IF(P100=$AD$11,Accueil!$D$24,IF(('IE1'!P100='IE1'!$AD$12)*AND('IE1'!R100='IE1'!$AD$14),'IE1'!V100,IF(('IE1'!P100='IE1'!$AD$12)*AND('IE1'!R100='IE1'!$AD$13),0,0)))","v":0}]
[null,null,null,null,"1412","Vêtements de travail",52524700,7124692,3076154,402737,0,0,null,null,"Biens de consommation","Biens de consommation",null,null,null,null,"","",{"$f":"IF(O101=$AD$11,Accueil!$D$24,IF(('IE1'!O101='IE1'!$AD$12)*AND('IE1'!Q101='IE1'!$AD$14),'IE1'!U101,IF(('IE1'!O101='IE1'!$AD$12)*AND('IE1'!Q101='IE1'!$AD$13),0,0)))","v":0},{"$f":"IF(P101=$AD$11,Accueil!$D$24,IF(('IE1'!P101='IE1'!$AD$12)*AND('IE1'!R101='IE1'!$AD$14),'IE1'!V101,IF(('IE1'!P101='IE1'!$AD$12)*AND('IE1'!R101='IE1'!$AD$13),0,0)))","v":0}]
[null,null,null,null,"1413","Autres vêtements de dessus",1502362205,678077179,84272138,103984006,0,0,null,null,"Biens de consommation","Biens de consommation",null,null,null,null,"","",{"$f":"IF(O102=$AD$11,Accueil!$D$24,IF(('IE1'!O102='IE1'!$AD$12)*AND('IE1'!Q102='IE1'!$AD$14),'IE1'!U102,IF(('IE1'!O102='IE1'!$AD$12)*AND('IE1'!Q102='IE1'!$AD$13),0,0)))","v":0},{"$f":"IF(P102=$AD$11,Accueil!$D$24,IF(('IE1'!P102='IE1'!$AD$12)*AND('IE1'!R102='IE1'!$AD$14),'IE1'!V102,IF(('IE1'!P102='IE1'!$AD$12)*AND('IE1'!R102='IE1'!$AD$13),0,0)))","v":0}]
[null,null,null,null,"1414","Vêtements de dessous",1098777613,407862241,49975418,17469705,0,0,null,null,"Biens de consommation","Biens de consommation",null,null,null,null,"","",{"$f":"IF(O103=$AD$11,Accueil!$D$24,IF(('IE1'!O103='IE1'!$AD$12)*AND('IE1'!Q103='IE1'!$AD$14),'IE1'!U103,IF(('IE1'!O103='IE1'!$AD$12)*AND('IE1'!Q103='IE1'!$AD$13),0,0)))","v":0},{"$f":"IF(P103=$AD$11,Accueil!$D$24,IF(('IE1'!P103='IE1'!$AD$12)*AND('IE1'!R103='IE1'!$AD$14),'IE1'!V103,IF(('IE1'!P103='IE1'!$AD$12)*AND('IE1'!R103='IE1'!$AD$13),0,0)))","v":0}]
[null,null,null,null,"1419","Autres vêtements et accessoires",553039947,287664135,27267293,11916357,0,0,null,null,"Biens de consommation","Biens de consommation",null,null,null,null,"","",{"$f":"IF(O104=$AD$11,Accueil!$D$24,IF(('IE1'!O104='IE1'!$AD$12)*AND('IE1'!Q104='IE1'!$AD$14),'IE1'!U104,IF(('IE1'!O104='IE1'!$AD$12)*AND('IE1'!Q104='IE1'!$AD$13),0,0)))","v":0},{"$f":"IF(P104=$AD$11,Accueil!$D$24,IF(('IE1'!P104='IE1'!$AD$12)*AND('IE1'!R104='IE1'!$AD$14),'IE1'!V104,IF(('IE1'!P104='IE1'!$AD$12)*AND('IE1'!R104='IE1'!$AD$13),0,0)))","v":0}]
[null,null,null,null,"1420","Articles en fourrure",464357,519750,8763,7699,0,0,null,null,"Biens de consommation","Biens de consommation",null,null,null,null,"","",{"$f":"IF(O105=$AD$11,Accueil!$D$24,IF(('IE1'!O105='IE1'!$AD$12)*AND('IE1'!Q105='IE1'!$AD$14),'IE1'!U105,IF(('IE1'!O105='IE1'!$AD$12)*AND('IE1'!Q105='IE1'!$AD$13),0,0)))","v":0},{"$f":"IF(P105=$AD$11,Accueil!$D$24,IF(('IE1'!P105='IE1'!$AD$12)*AND('IE1'!R105='IE1'!$AD$14),'IE1'!V105,IF(('IE1'!P105='IE1'!$AD$12)*AND('IE1'!R105='IE1'!$AD$13),0,0)))","v":0}]
[null,null,null,null,"1431","Articles chaussants à mailles",92568928,23379535,7789677,2981686,0,0,null,null,"Biens de consommation","Biens de consommation",null,null,null,null,"","",{"$f":"IF(O106=$AD$11,Accueil!$D$24,IF(('IE1'!O106='IE1'!$AD$12)*AND('IE1'!Q106='IE1'!$AD$14),'IE1'!U106,IF(('IE1'!O106='IE1'!$AD$12)*AND('IE1'!Q106='IE1'!$AD$13),0,0)))","v":0},{"$f":"IF(P106=$AD$11,Accueil!$D$24,IF(('IE1'!P106='IE1'!$AD$12)*AND('IE1'!R106='IE1'!$AD$14),'IE1'!V106,IF(('IE1'!P106='IE1'!$AD$12)*AND('IE1'!R106='IE1'!$AD$13),0,0)))","v":0}]
[null,null,null,null,"1439","Autres articles à mailles",508734523,191397239,26433295,8590815,0,0,null,null,"Biens de consommation","Biens de consommation",null,null,null,null,"","",{"$f":"IF(O107=$AD$11,Accueil!$D$24,IF(('IE1'!O107='IE1'!$AD$12)*AND('IE1'!Q107='IE1'!$AD$14),'IE1'!U107,IF(('IE1'!O107='IE1'!$AD$12)*AND('IE1'!Q107='IE1'!$AD$13),0,0)))","v":0},{"$f":"IF(P107=$AD$11,Accueil!$D$24,IF(('IE1'!P107='IE1'!$AD$12)*AND('IE1'!R107='IE1'!$AD$14),'IE1'!V107,IF(('IE1'!P107='IE1'!$AD$12)*AND('IE1'!R107='IE1'!$AD$13),0,0)))","v":0}]
[null,null,"C15Z","Cuir, bagages et chaussures","1511","Cuirs et peaux tannés et apprêtés ; peaux apprêtées et teintées",36300892,1147589,247745,214544,0,0,null,null,"Biens de consommation","Biens de consommation",null,null,null,null,"","",{"$f":"IF(O108=$AD$11,Accueil!$D$24,IF(('IE1'!O108='IE1'!$AD$12)*AND('IE1'!Q108='IE1'!$AD$14),'IE1'!U108,IF(('IE1'!O108='IE1'!$AD$12)*AND('IE1'!Q108='IE1'!$AD$13),0,0)))","v":0},{"$f":"IF(P108=$AD$11,Accueil!$D$24,IF(('IE1'!P108='IE1'!$AD$12)*AND('IE1'!R108='IE1'!$AD$14),'IE1'!V108,IF(('IE1'!P108='IE1'!$AD$12)*AND('IE1'!R108='IE1'!$AD$13),0,0)))","v":0}]
[null,null,null,null,"1512","Articles de voyage, de maroquinerie, de sellerie et de bourrellerie",167164879,49042083,12885106,4224609,0,0,null,null,"Biens de consommation","Biens de consommation",null,null,null,null,"","",{"$f":"IF(O109=$AD$11,Accueil!$D$24,IF(('IE1'!O109='IE1'!$AD$12)*AND('IE1'!Q109='IE1'!$AD$14),'IE1'!U109,IF(('IE1'!O109='IE1'!$AD$12)*AND('IE1'!Q109='IE1'!$AD$13),0,0)))","v":0},{"$f":"IF(P109=$AD$11,Accueil!$D$24,IF(('IE1'!P109='IE1'!$AD$12)*AND('IE1'!R109='IE1'!$AD$14),'IE1'!V109,IF(('IE1'!P109='IE1'!$AD$12)*AND('IE1'!R109='IE1'!$AD$13),0,0)))","v":0}]
[null,null,null,null,"1520","Chaussures",505030517,241275292,28465766,10938640,0,0,null,null,"Biens de consommation","Biens de consommation",null,null,null,null,"","",{"$f":"IF(O110=$AD$11,Accueil!$D$24,IF(('IE1'!O110='IE1'!$AD$12)*AND('IE1'!Q110='IE1'!$AD$14),'IE1'!U110,IF(('IE1'!O110='IE1'!$AD$12)*AND('IE1'!Q110='IE1'!$AD$13),0,0)))","v":0},{"$f":"IF(P110=$AD$11,Accueil!$D$24,IF(('IE1'!P110='IE1'!$AD$12)*AND('IE1'!R110='IE1'!$AD$14),'IE1'!V110,IF(('IE1'!P110='IE1'!$AD$12)*AND('IE1'!R110='IE1'!$AD$13),0,0)))","v":0}]
[null,null,"C16Z","Bois, articles en bois","1610","Bois, sciés et rabotés",83748917,2856959,217473007,33630476,0,0,null,null,"Marchandises industrielles","Biens de consommation","Présente",null,"Papier, carton",null,0,"",{"$f":"IF(O111=$AD$11,Accueil!$D$24,IF(('IE1'!O111='IE1'!$AD$12)*AND('IE1'!Q111='IE1'!$AD$14),'IE1'!U111,IF(('IE1'!O111='IE1'!$AD$12)*AND('IE1'!Q111='IE1'!$AD$13),0,0)))","v":0},{"$f":"IF(P111=$AD$11,Accueil!$D$24,IF(('IE1'!P111='IE1'!$AD$12)*AND('IE1'!R111='IE1'!$AD$14),'IE1'!V111,IF(('IE1'!P111='IE1'!$AD$12)*AND('IE1'!R111='IE1'!$AD$13),0,0)))","v":0}]
[null,null,null,null,"1621","Panneaux et placages à base de bois",126167788,46938370,202819313,19987882,0,0,null,null,"Biens de consommation","Biens de consommation",null,null,null,null,"","",{"$f":"IF(O112=$AD$11,Accueil!$D$24,IF(('IE1'!O112='IE1'!$AD$12)*AND('IE1'!Q112='IE1'!$AD$14),'IE1'!U112,IF(('IE1'!O112='IE1'!$AD$12)*AND('IE1'!Q112='IE1'!$AD$13),0,0)))","v":0},{"$f":"IF(P112=$AD$11,Accueil!$D$24,IF(('IE1'!P112='IE1'!$AD$12)*AND('IE1'!R112='IE1'!$AD$14),'IE1'!V112,IF(('IE1'!P112='IE1'!$AD$12)*AND('IE1'!R112='IE1'!$AD$13),0,0)))","v":0}]
[null,null,null,null,"1622","Parquets assemblés",7804332,63235,2739623,31923,0,0,null,null,"Biens de consommation","Biens de consommation",null,null,null,null,"","",{"$f":"IF(O113=$AD$11,Accueil!$D$24,IF(('IE1'!O113='IE1'!$AD$12)*AND('IE1'!Q113='IE1'!$AD$14),'IE1'!U113,IF(('IE1'!O113='IE1'!$AD$12)*AND('IE1'!Q113='IE1'!$AD$13),0,0)))","v":0},{"$f":"IF(P113=$AD$11,Accueil!$D$24,IF(('IE1'!P113='IE1'!$AD$12)*AND('IE1'!R113='IE1'!$AD$14),'IE1'!V113,IF(('IE1'!P113='IE1'!$AD$12)*AND('IE1'!R113='IE1'!$AD$13),0,0)))","v":0}]
[null,null,null,null,"1623","Autres éléments de menuiserie et de charpente",76785734,7381324,37713869,2225357,0,0,null,null,"Biens de consommation","Biens de consommation",null,null,null,null,"","",{"$f":"IF(O114=$AD$11,Accueil!$D$24,IF(('IE1'!O114='IE1'!$AD$12)*AND('IE1'!Q114='IE1'!$AD$14),'IE1'!U114,IF(('IE1'!O114='IE1'!$AD$12)*AND('IE1'!Q114='IE1'!$AD$13),0,0)))","v":0},{"$f":"IF(P114=$AD$11,Accueil!$D$24,IF(('IE1'!P114='IE1'!$AD$12)*AND('IE1'!R114='IE1'!$AD$14),'IE1'!V114,IF(('IE1'!P114='IE1'!$AD$12)*AND('IE1'!R114='IE1'!$AD$13),0,0)))","v":0}]
[null,null,null,null,"1624","Emballages en bois",63020913,14448736,156667039,42042781,0,0,null,null,"Biens de consommation","Biens de consommation",null,null,null,null,"","",{"$f":"IF(O115=$AD$11,Accueil!$D$24,IF(('IE1'!O115='IE1'!$AD$12)*AND('IE1'!Q115='IE1'!$AD$14),'IE1'!U115,IF(('IE1'!O115='IE1'!$AD$12)*AND('IE1'!Q115='IE1'!$AD$13),0,0)))","v":0},{"$f":"IF(P115=$AD$11,Accueil!$D$24,IF(('IE1'!P115='IE1'!$AD$12)*AND('IE1'!R115='IE1'!$AD$14),'IE1'!V115,IF(('IE1'!P115='IE1'!$AD$12)*AND('IE1'!R115='IE1'!$AD$13),0,0)))","v":0}]
[null,null,null,null,"1629","Autres objets en bois ; objets en liège, vannerie et sparterie",93553949,8190075,93317159,14092449,0,0,null,null,"Biens de consommation","Biens de consommation",null,null,null,null,"","",{"$f":"IF(O116=$AD$11,Accueil!$D$24,IF(('IE1'!O116='IE1'!$AD$12)*AND('IE1'!Q116='IE1'!$AD$14),'IE1'!U116,IF(('IE1'!O116='IE1'!$AD$12)*AND('IE1'!Q116='IE1'!$AD$13),0,0)))","v":0},{"$f":"IF(P116=$AD$11,Accueil!$D$24,IF(('IE1'!P116='IE1'!$AD$12)*AND('IE1'!R116='IE1'!$AD$14),'IE1'!V116,IF(('IE1'!P116='IE1'!$AD$12)*AND('IE1'!R116='IE1'!$AD$13),0,0)))","v":0}]
[null,null,"C17A","Pâtes à papier, papier et carton","1711","Pâte à papier",77169324,194609,128565093,32239688,0,0,null,null,"Marchandises industrielles","Biens de consommation","Présente",null,"Papier, carton",null,0,"",{"$f":"IF(O117=$AD$11,Accueil!$D$24,IF(('IE1'!O117='IE1'!$AD$12)*AND('IE1'!Q117='IE1'!$AD$14),'IE1'!U117,IF(('IE1'!O117='IE1'!$AD$12)*AND('IE1'!Q117='IE1'!$AD$13),0,0)))","v":0},{"$f":"IF(P117=$AD$11,Accueil!$D$24,IF(('IE1'!P117='IE1'!$AD$12)*AND('IE1'!R117='IE1'!$AD$14),'IE1'!V117,IF(('IE1'!P117='IE1'!$AD$12)*AND('IE1'!R117='IE1'!$AD$13),0,0)))","v":0}]
[null,null,null,null,"1712","Papier et carton",512619362,134338219,760071963,294539762,0,0,null,null,"Biens de consommation","Marchandises industrielles",null,"Présente",null,"Papier, carton","",0,{"$f":"IF(O118=$AD$11,Accueil!$D$24,IF(('IE1'!O118='IE1'!$AD$12)*AND('IE1'!Q118='IE1'!$AD$14),'IE1'!U118,IF(('IE1'!O118='IE1'!$AD$12)*AND('IE1'!Q118='IE1'!$AD$13),0,0)))","v":0},{"$f":"IF(P118=$AD$11,Accueil!$D$24,IF(('IE1'!P118='IE1'!$AD$12)*AND('IE1'!R118='IE1'!$AD$14),'IE1'!V118,IF(('IE1'!P118='IE1'!$AD$12)*AND('IE1'!R118='IE1'!$AD$13),0,0)))","v":0}]
[null,null,"C17B","Articles en papier ou en carton","1721","Papier et carton ondulés et emballages en papier ou en carton",240323451,104520054,146597343,131529128,0,0,null,null,"Biens de consommation","Marchandises industrielles",null,"Présente",null,"Papier, carton","",0,{"$f":"IF(O119=$AD$11,Accueil!$D$24,IF(('IE1'!O119='IE1'!$AD$12)*AND('IE1'!Q119='IE1'!$AD$14),'IE1'!U119,IF(('IE1'!O119='IE1'!$AD$12)*AND('IE1'!Q119='IE1'!$AD$13),0,0)))","v":0},{"$f":"IF(P119=$AD$11,Accueil!$D$24,IF(('IE1'!P119='IE1'!$AD$12)*AND('IE1'!R119='IE1'!$AD$14),'IE1'!V119,IF(('IE1'!P119='IE1'!$AD$12)*AND('IE1'!R119='IE1'!$AD$13),0,0)))","v":0}]
[null,null,null,null,"1722","Articles en papier à usage sanitaire ou domestique",356955768,215944437,158411654,127079997,0,0,null,null,"Biens de consommation","Marchandises industrielles",null,"Présente",null,"Papier, carton","",0,{"$f":"IF(O120=$AD$11,Accueil!$D$24,IF(('IE1'!O120='IE1'!$AD$12)*AND('IE1'!Q120='IE1'!$AD$14),'IE1'!U120,IF(('IE1'!O120='IE1'!$AD$12)*AND('IE1'!Q120='IE1'!$AD$13),0,0)))","v":0},{"$f":"IF(P120=$AD$11,Accueil!$D$24,IF(('IE1'!P120='IE1'!$AD$12)*AND('IE1'!R120='IE1'!$AD$14),'IE1'!V120,IF(('IE1'!P120='IE1'!$AD$12)*AND('IE1'!R120='IE1'!$AD$13),0,0)))","v":0}]
[null,null,null,null,"1723","Articles de papeterie",32735142,16632502,13249231,5421830,0,0,null,null,"Biens de consommation","Biens de consommation",null,null,null,null,"","",{"$f":"IF(O121=$AD$11,Accueil!$D$24,IF(('IE1'!O121='IE1'!$AD$12)*AND('IE1'!Q121='IE1'!$AD$14),'IE1'!U121,IF(('IE1'!O121='IE1'!$AD$12)*AND('IE1'!Q121='IE1'!$AD$13),0,0)))","v":0},{"$f":"IF(P121=$AD$11,Accueil!$D$24,IF(('IE1'!P121='IE1'!$AD$12)*AND('IE1'!R121='IE1'!$AD$14),'IE1'!V121,IF(('IE1'!P121='IE1'!$AD$12)*AND('IE1'!R121='IE1'!$AD$13),0,0)))","v":0}]
[null,null,null,null,"1724","Papiers peints",35979932,11930174,8604742,7683284,0,0,null,null,"Biens de consommation","Biens de consommation",null,null,null,null,"","",{"$f":"IF(O122=$AD$11,Accueil!$D$24,IF(('IE1'!O122='IE1'!$AD$12)*AND('IE1'!Q122='IE1'!$AD$14),'IE1'!U122,IF(('IE1'!O122='IE1'!$AD$12)*AND('IE1'!Q122='IE1'!$AD$13),0,0)))","v":0},{"$f":"IF(P122=$AD$11,Accueil!$D$24,IF(('IE1'!P122='IE1'!$AD$12)*AND('IE1'!R122='IE1'!$AD$14),'IE1'!V122,IF(('IE1'!P122='IE1'!$AD$12)*AND('IE1'!R122='IE1'!$AD$13),0,0)))","v":0}]
[null,null,null,null,"1729","Autres articles en papier ou en carton",87180922,25988658,27861505,5903571,0,0,null,null,"Biens de consommation","Biens de consommation",null,null,null,null,"","",{"$f":"IF(O123=$AD$11,Accueil!$D$24,IF(('IE1'!O123='IE1'!$AD$12)*AND('IE1'!Q123='IE1'!$AD$14),'IE1'!U123,IF(('IE1'!O123='IE1'!$AD$12)*AND('IE1'!Q123='IE1'!$AD$13),0,0)))","v":0},{"$f":"IF(P123=$AD$11,Accueil!$D$24,IF(('IE1'!P123='IE1'!$AD$12)*AND('IE1'!R123='IE1'!$AD$14),'IE1'!V123,IF(('IE1'!P123='IE1'!$AD$12)*AND('IE1'!R123='IE1'!$AD$13),0,0)))","v":0}]
[null,null,"C18Z","Matériel d'impression et de reproduction","1813","Travaux de préparation d'impression",3942487,86555469,164525,17633721,0,0,null,null,"Biens de consommation","Biens de consommation",null,null,null,null,"","",{"$f":"IF(O124=$AD$11,Accueil!$D$24,IF(('IE1'!O124='IE1'!$AD$12)*AND('IE1'!Q124='IE1'!$AD$14),'IE1'!U124,IF(('IE1'!O124='IE1'!$AD$12)*AND('IE1'!Q124='IE1'!$AD$13),0,0)))","v":0},{"$f":"IF(P124=$AD$11,Accueil!$D$24,IF(('IE1'!P124='IE1'!$AD$12)*AND('IE1'!R124='IE1'!$AD$14),'IE1'!V124,IF(('IE1'!P124='IE1'!$AD$12)*AND('IE1'!R124='IE1'!$AD$13),0,0)))","v":0}]
[null,null,"C19Z","Produits pétroliers raffinés et coke","1910","Produits de la cokéfaction",37486006,9693526,152970749,58647090,0,0,null,null,"Amont de l'énergie","Amont de l'énergie","Amont de l'énergie","Amont de l'énergie","Amont de l'énergie","Amont de l'énergie","","",{"$f":"IF(O125=$AD$11,Accueil!$D$24,IF(('IE1'!O125='IE1'!$AD$12)*AND('IE1'!Q125='IE1'!$AD$14),'IE1'!U125,IF(('IE1'!O125='IE1'!$AD$12)*AND('IE1'!Q125='IE1'!$AD$13),0,0)))","v":0},{"$f":"IF(P125=$AD$11,Accueil!$D$24,IF(('IE1'!P125='IE1'!$AD$12)*AND('IE1'!R125='IE1'!$AD$14),'IE1'!V125,IF(('IE1'!P125='IE1'!$AD$12)*AND('IE1'!R125='IE1'!$AD$13),0,0)))","v":0}]
[null,null,null,null,"1920","Produits du raffinage du pétrole",2096854339,233783307,5084339417,527072215,0,0,null,null,null,null,null,null,null,null,"","",{"$f":"IF(O126=$AD$11,Accueil!$D$24,IF(('IE1'!O126='IE1'!$AD$12)*AND('IE1'!Q126='IE1'!$AD$14),'IE1'!U126,IF(('IE1'!O126='IE1'!$AD$12)*AND('IE1'!Q126='IE1'!$AD$13),0,0)))","v":0},{"$f":"IF(P126=$AD$11,Accueil!$D$24,IF(('IE1'!P126='IE1'!$AD$12)*AND('IE1'!R126='IE1'!$AD$14),'IE1'!V126,IF(('IE1'!P126='IE1'!$AD$12)*AND('IE1'!R126='IE1'!$AD$13),0,0)))","v":0}]
[null,null,"C20A","Produits chimiques de base, matières plastiques","2011","Gaz industriels",20439094,1316904,155035897,5020303,0,0,null,null,"Marchandises industrielles","Marchandises industrielles","Présente","Présente","Industrie total (IDEC)","Chimie organique, non-organique et divers",0,0,{"$f":"IF(O127=$AD$11,Accueil!$D$24,IF(('IE1'!O127='IE1'!$AD$12)*AND('IE1'!Q127='IE1'!$AD$14),'IE1'!U127,IF(('IE1'!O127='IE1'!$AD$12)*AND('IE1'!Q127='IE1'!$AD$13),0,0)))","v":0},{"$f":"IF(P127=$AD$11,Accueil!$D$24,IF(('IE1'!P127='IE1'!$AD$12)*AND('IE1'!R127='IE1'!$AD$14),'IE1'!V127,IF(('IE1'!P127='IE1'!$AD$12)*AND('IE1'!R127='IE1'!$AD$13),0,0)))","v":0}]
[null,null,null,null,"2012","Colorants, pigments et agents tannants",254822152,139112929,98135555,62484945,0,0,null,null,"Biens de consommation","Marchandises industrielles",null,"Présente",null,"Chimie organique, non-organique et divers","",0,{"$f":"IF(O128=$AD$11,Accueil!$D$24,IF(('IE1'!O128='IE1'!$AD$12)*AND('IE1'!Q128='IE1'!$AD$14),'IE1'!U128,IF(('IE1'!O128='IE1'!$AD$12)*AND('IE1'!Q128='IE1'!$AD$13),0,0)))","v":0},{"$f":"IF(P128=$AD$11,Accueil!$D$24,IF(('IE1'!P128='IE1'!$AD$12)*AND('IE1'!R128='IE1'!$AD$14),'IE1'!V128,IF(('IE1'!P128='IE1'!$AD$12)*AND('IE1'!R128='IE1'!$AD$13),0,0)))","v":0}]
[null,null,null,null,"2013","Autres produits chimiques inorganiques de base",422023295,94686530,976782552,336415893,0,0,null,null,"Marchandises industrielles","Biens de consommation","Présente",null,"Chimie organique, non-organique et divers",null,0,"",{"$f":"IF(O129=$AD$11,Accueil!$D$24,IF(('IE1'!O129='IE1'!$AD$12)*AND('IE1'!Q129='IE1'!$AD$14),'IE1'!U129,IF(('IE1'!O129='IE1'!$AD$12)*AND('IE1'!Q129='IE1'!$AD$13),0,0)))","v":0},{"$f":"IF(P129=$AD$11,Accueil!$D$24,IF(('IE1'!P129='IE1'!$AD$12)*AND('IE1'!R129='IE1'!$AD$14),'IE1'!V129,IF(('IE1'!P129='IE1'!$AD$12)*AND('IE1'!R129='IE1'!$AD$13),0,0)))","v":0}]
[null,null,null,null,"2014","Autres produits chimiques organiques de base",1389244900,1150578811,1232722094,527275295,0,0,null,null,"Marchandises industrielles","Marchandises industrielles","Présente","Présente","Chimie organique, non-organique et divers","Chimie organique, non-organique et divers",0,0,{"$f":"IF(O130=$AD$11,Accueil!$D$24,IF(('IE1'!O130='IE1'!$AD$12)*AND('IE1'!Q130='IE1'!$AD$14),'IE1'!U130,IF(('IE1'!O130='IE1'!$AD$12)*AND('IE1'!Q130='IE1'!$AD$13),0,0)))","v":0},{"$f":"IF(P130=$AD$11,Accueil!$D$24,IF(('IE1'!P130='IE1'!$AD$12)*AND('IE1'!R130='IE1'!$AD$14),'IE1'!V130,IF(('IE1'!P130='IE1'!$AD$12)*AND('IE1'!R130='IE1'!$AD$13),0,0)))","v":0}]
[null,null,null,null,"2015","Engrais et composés azotés",282399106,29046300,1730010230,125573406,0,0,null,null,"Industrie agroalimentaire","Industrie agroalimentaire","Industrie agroalimentaire","Industrie agroalimentaire","Industrie agroalimentaire","Industrie agroalimentaire","","",{"$f":"IF(O131=$AD$11,Accueil!$D$24,IF(('IE1'!O131='IE1'!$AD$12)*AND('IE1'!Q131='IE1'!$AD$14),'IE1'!U131,IF(('IE1'!O131='IE1'!$AD$12)*AND('IE1'!Q131='IE1'!$AD$13),0,0)))","v":0},{"$f":"IF(P131=$AD$11,Accueil!$D$24,IF(('IE1'!P131='IE1'!$AD$12)*AND('IE1'!R131='IE1'!$AD$14),'IE1'!V131,IF(('IE1'!P131='IE1'!$AD$12)*AND('IE1'!R131='IE1'!$AD$13),0,0)))","v":0}]
[null,null,null,null,"2016","Matières plastiques sous formes primaires",1121720598,1014670219,722976045,995039143,0,0,null,null,"Marchandises industrielles","Marchandises industrielles","Présente","Présente","Chimie organique, non-organique et divers","Chimie organique, non-organique et divers",0,0,{"$f":"IF(O132=$AD$11,Accueil!$D$24,IF(('IE1'!O132='IE1'!$AD$12)*AND('IE1'!Q132='IE1'!$AD$14),'IE1'!U132,IF(('IE1'!O132='IE1'!$AD$12)*AND('IE1'!Q132='IE1'!$AD$13),0,0)))","v":0},{"$f":"IF(P132=$AD$11,Accueil!$D$24,IF(('IE1'!P132='IE1'!$AD$12)*AND('IE1'!R132='IE1'!$AD$14),'IE1'!V132,IF(('IE1'!P132='IE1'!$AD$12)*AND('IE1'!R132='IE1'!$AD$13),0,0)))","v":0}]
[null,null,null,null,"2017","Caoutchouc synthétique sous formes primaires",74321374,526045,49265887,1899386,0,0,null,null,"Marchandises industrielles","Marchandises industrielles","Présente","Présente","Chimie organique, non-organique et divers","Chimie organique, non-organique et divers",0,0,{"$f":"IF(O133=$AD$11,Accueil!$D$24,IF(('IE1'!O133='IE1'!$AD$12)*AND('IE1'!Q133='IE1'!$AD$14),'IE1'!U133,IF(('IE1'!O133='IE1'!$AD$12)*AND('IE1'!Q133='IE1'!$AD$13),0,0)))","v":0},{"$f":"IF(P133=$AD$11,Accueil!$D$24,IF(('IE1'!P133='IE1'!$AD$12)*AND('IE1'!R133='IE1'!$AD$14),'IE1'!V133,IF(('IE1'!P133='IE1'!$AD$12)*AND('IE1'!R133='IE1'!$AD$13),0,0)))","v":0}]
[null,null,"C20B","Parfums, cosmétiques et produits d'entretien","2041","Savons, détergents et produits d'entretien",410721297,288587346,314941131,527676640,0,0,null,null,"Biens de consommation","Marchandises industrielles",null,"Présente",null,"Chimie organique, non-organique et divers","",0,{"$f":"IF(O134=$AD$11,Accueil!$D$24,IF(('IE1'!O134='IE1'!$AD$12)*AND('IE1'!Q134='IE1'!$AD$14),'IE1'!U134,IF(('IE1'!O134='IE1'!$AD$12)*AND('IE1'!Q134='IE1'!$AD$13),0,0)))","v":0},{"$f":"IF(P134=$AD$11,Accueil!$D$24,IF(('IE1'!P134='IE1'!$AD$12)*AND('IE1'!R134='IE1'!$AD$14),'IE1'!V134,IF(('IE1'!P134='IE1'!$AD$12)*AND('IE1'!R134='IE1'!$AD$13),0,0)))","v":0}]
[null,null,null,null,"2042","Parfums et produits pour la toilette",520481639,147096865,103435208,170411671,0,0,null,null,"Biens de consommation","Marchandises industrielles",null,"Présente",null,"Chimie organique, non-organique et divers","",0,{"$f":"IF(O135=$AD$11,Accueil!$D$24,IF(('IE1'!O135='IE1'!$AD$12)*AND('IE1'!Q135='IE1'!$AD$14),'IE1'!U135,IF(('IE1'!O135='IE1'!$AD$12)*AND('IE1'!Q135='IE1'!$AD$13),0,0)))","v":0},{"$f":"IF(P135=$AD$11,Accueil!$D$24,IF(('IE1'!P135='IE1'!$AD$12)*AND('IE1'!R135='IE1'!$AD$14),'IE1'!V135,IF(('IE1'!P135='IE1'!$AD$12)*AND('IE1'!R135='IE1'!$AD$13),0,0)))","v":0}]
[null,null,"C20C","Produits chimiques divers","2020","Pesticides et autres produits agrochimiques",548782795,132035716,57740482,132451859,0,0,null,null,"Industrie agroalimentaire","Industrie agroalimentaire","Industrie agroalimentaire","Industrie agroalimentaire","Industrie agroalimentaire","Industrie agroalimentaire","","",{"$f":"IF(O136=$AD$11,Accueil!$D$24,IF(('IE1'!O136='IE1'!$AD$12)*AND('IE1'!Q136='IE1'!$AD$14),'IE1'!U136,IF(('IE1'!O136='IE1'!$AD$12)*AND('IE1'!Q136='IE1'!$AD$13),0,0)))","v":0},{"$f":"IF(P136=$AD$11,Accueil!$D$24,IF(('IE1'!P136='IE1'!$AD$12)*AND('IE1'!R136='IE1'!$AD$14),'IE1'!V136,IF(('IE1'!P136='IE1'!$AD$12)*AND('IE1'!R136='IE1'!$AD$13),0,0)))","v":0}]
[null,null,null,null,"2030","Peintures, vernis et revêtements similaires, encres d'imprimerie et mastics",314022153,92450438,110205062,164464790,0,0,null,null,"Biens de consommation","Marchandises industrielles",null,"Présente",null,"Chimie organique, non-organique et divers","",0,{"$f":"IF(O137=$AD$11,Accueil!$D$24,IF(('IE1'!O137='IE1'!$AD$12)*AND('IE1'!Q137='IE1'!$AD$14),'IE1'!U137,IF(('IE1'!O137='IE1'!$AD$12)*AND('IE1'!Q137='IE1'!$AD$13),0,0)))","v":0},{"$f":"IF(P137=$AD$11,Accueil!$D$24,IF(('IE1'!P137='IE1'!$AD$12)*AND('IE1'!R137='IE1'!$AD$14),'IE1'!V137,IF(('IE1'!P137='IE1'!$AD$12)*AND('IE1'!R137='IE1'!$AD$13),0,0)))","v":0}]
[null,null,null,null,"2051","Produits explosifs",2986089,64576,1306359,19893,0,0,null,null,"Biens de consommation","Marchandises industrielles",null,"Présente",null,"Chimie organique, non-organique et divers","",0,{"$f":"IF(O138=$AD$11,Accueil!$D$24,IF(('IE1'!O138='IE1'!$AD$12)*AND('IE1'!Q138='IE1'!$AD$14),'IE1'!U138,IF(('IE1'!O138='IE1'!$AD$12)*AND('IE1'!Q138='IE1'!$AD$13),0,0)))","v":0},{"$f":"IF(P138=$AD$11,Accueil!$D$24,IF(('IE1'!P138='IE1'!$AD$12)*AND('IE1'!R138='IE1'!$AD$14),'IE1'!V138,IF(('IE1'!P138='IE1'!$AD$12)*AND('IE1'!R138='IE1'!$AD$13),0,0)))","v":0}]
[null,null,null,null,"2052","Colles",57252839,21332531,21582245,6127270,0,0,null,null,"Biens de consommation","Marchandises industrielles",null,"Présente",null,"Chimie organique, non-organique et divers","",0,{"$f":"IF(O139=$AD$11,Accueil!$D$24,IF(('IE1'!O139='IE1'!$AD$12)*AND('IE1'!Q139='IE1'!$AD$14),'IE1'!U139,IF(('IE1'!O139='IE1'!$AD$12)*AND('IE1'!Q139='IE1'!$AD$13),0,0)))","v":0},{"$f":"IF(P139=$AD$11,Accueil!$D$24,IF(('IE1'!P139='IE1'!$AD$12)*AND('IE1'!R139='IE1'!$AD$14),'IE1'!V139,IF(('IE1'!P139='IE1'!$AD$12)*AND('IE1'!R139='IE1'!$AD$13),0,0)))","v":0}]
[null,null,null,null,"2053","Huiles essentielles",358146845,3133666,13160617,4314829,0,0,null,null,"Marchandises industrielles","Marchandises industrielles","Présente","Présente","Chimie organique, non-organique et divers","Chimie organique, non-organique et divers",0,0,{"$f":"IF(O140=$AD$11,Accueil!$D$24,IF(('IE1'!O140='IE1'!$AD$12)*AND('IE1'!Q140='IE1'!$AD$14),'IE1'!U140,IF(('IE1'!O140='IE1'!$AD$12)*AND('IE1'!Q140='IE1'!$AD$13),0,0)))","v":0},{"$f":"IF(P140=$AD$11,Accueil!$D$24,IF(('IE1'!P140='IE1'!$AD$12)*AND('IE1'!R140='IE1'!$AD$14),'IE1'!V140,IF(('IE1'!P140='IE1'!$AD$12)*AND('IE1'!R140='IE1'!$AD$13),0,0)))","v":0}]
[null,null,null,null,"2059","Autres produits chimiques n.c.a.",621876411,358161610,285499435,512186972,0,0,null,null,"Marchandises industrielles","Marchandises industrielles","Présente","Présente","Chimie organique, non-organique et divers","Chimie organique, non-organique et divers",0,0,{"$f":"IF(O141=$AD$11,Accueil!$D$24,IF(('IE1'!O141='IE1'!$AD$12)*AND('IE1'!Q141='IE1'!$AD$14),'IE1'!U141,IF(('IE1'!O141='IE1'!$AD$12)*AND('IE1'!Q141='IE1'!$AD$13),0,0)))","v":0},{"$f":"IF(P141=$AD$11,Accueil!$D$24,IF(('IE1'!P141='IE1'!$AD$12)*AND('IE1'!R141='IE1'!$AD$14),'IE1'!V141,IF(('IE1'!P141='IE1'!$AD$12)*AND('IE1'!R141='IE1'!$AD$13),0,0)))","v":0}]
[null,null,null,null,"2060","Fibres artificielles ou synthétiques",128401470,65144606,49004012,22935229,0,0,null,null,"Biens de consommation","Marchandises industrielles",null,"Présente",null,"Chimie organique, non-organique et divers","",0,{"$f":"IF(O142=$AD$11,Accueil!$D$24,IF(('IE1'!O142='IE1'!$AD$12)*AND('IE1'!Q142='IE1'!$AD$14),'IE1'!U142,IF(('IE1'!O142='IE1'!$AD$12)*AND('IE1'!Q142='IE1'!$AD$13),0,0)))","v":0},{"$f":"IF(P142=$AD$11,Accueil!$D$24,IF(('IE1'!P142='IE1'!$AD$12)*AND('IE1'!R142='IE1'!$AD$14),'IE1'!V142,IF(('IE1'!P142='IE1'!$AD$12)*AND('IE1'!R142='IE1'!$AD$13),0,0)))","v":0}]
[null,null,"C21Z ","Produits pharmaceutiques","2110","Produits pharmaceutiques de base",226072741,105305115,44507237,28245644,0,0,null,null,"Marchandises industrielles","Marchandises industrielles",null,"Présente","Chimie organique, non-organique et divers","Chimie organique, non-organique et divers",0,0,{"$f":"IF(O143=$AD$11,Accueil!$D$24,IF(('IE1'!O143='IE1'!$AD$12)*AND('IE1'!Q143='IE1'!$AD$14),'IE1'!U143,IF(('IE1'!O143='IE1'!$AD$12)*AND('IE1'!Q143='IE1'!$AD$13),0,0)))","v":0},{"$f":"IF(P143=$AD$11,Accueil!$D$24,IF(('IE1'!P143='IE1'!$AD$12)*AND('IE1'!R143='IE1'!$AD$14),'IE1'!V143,IF(('IE1'!P143='IE1'!$AD$12)*AND('IE1'!R143='IE1'!$AD$13),0,0)))","v":0}]
[null,null,null,null,"2120","Préparations pharmaceutiques",948893375,1413040136,13776942,17960839,0,0,null,null,"Biens de consommation","Marchandises industrielles",null,"Présente",null,"Chimie organique, non-organique et divers","",0,{"$f":"IF(O144=$AD$11,Accueil!$D$24,IF(('IE1'!O144='IE1'!$AD$12)*AND('IE1'!Q144='IE1'!$AD$14),'IE1'!U144,IF(('IE1'!O144='IE1'!$AD$12)*AND('IE1'!Q144='IE1'!$AD$13),0,0)))","v":0},{"$f":"IF(P144=$AD$11,Accueil!$D$24,IF(('IE1'!P144='IE1'!$AD$12)*AND('IE1'!R144='IE1'!$AD$14),'IE1'!V144,IF(('IE1'!P144='IE1'!$AD$12)*AND('IE1'!R144='IE1'!$AD$13),0,0)))","v":0}]
[null,null,"C22A","Produits en caoutchouc","2211","Pneumatiques ; rechapage et resculptage de pneumatiques",723927018,281284277,199378421,103077625,0,0,null,null,"Marchandises industrielles","Marchandises industrielles",null,"Présente","Biens d'équipement, matériels de transport…","Chimie organique, non-organique et divers",0,0,{"$f":"IF(O145=$AD$11,Accueil!$D$24,IF(('IE1'!O145='IE1'!$AD$12)*AND('IE1'!Q145='IE1'!$AD$14),'IE1'!U145,IF(('IE1'!O145='IE1'!$AD$12)*AND('IE1'!Q145='IE1'!$AD$13),0,0)))","v":0},{"$f":"IF(P145=$AD$11,Accueil!$D$24,IF(('IE1'!P145='IE1'!$AD$12)*AND('IE1'!R145='IE1'!$AD$14),'IE1'!V145,IF(('IE1'!P145='IE1'!$AD$12)*AND('IE1'!R145='IE1'!$AD$13),0,0)))","v":0}]
[null,null,null,null,"2219","Autres produits en caoutchouc",262808457,61358986,45797630,22338992,{"$f":"IF($M$11=$AG$11,M146,W146)","v":0},{"$f":"IF($M$11=$AG$11,N146,X146)","v":0},null,null,"Biens de consommation","Marchandises industrielles",null,"Présente",null,"Chimie organique, non-organique et divers",{"$f":"IFERROR(IF(S146=\"\",\"\",VLOOKUP(S146,$AD$20:$AG$49,4,FALSE)),\"\")","v":""},{"$f":"IFERROR(IF(T146=\"\",\"\",VLOOKUP(T146,$AD$20:$AG$49,4,FALSE)),\"\")","v":0},{"$f":"IF(O146=$AD$11,Accueil!$D$24,IF(('IE1'!O146='IE1'!$AD$12)*AND('IE1'!Q146='IE1'!$AD$14),'IE1'!U146,IF(('IE1'!O146='IE1'!$AD$12)*AND('IE1'!Q146='IE1'!$AD$13),0,0)))","v":0},{"$f":"IF(P146=$AD$11,Accueil!$D$24,IF(('IE1'!P146='IE1'!$AD$12)*AND('IE1'!R146='IE1'!$AD$14),'IE1'!V146,IF(('IE1'!P146='IE1'!$AD$12)*AND('IE1'!R146='IE1'!$AD$13),0,0)))","v":0}]
[null,null,"C22B ","Produits en plastique","2221","Plaques, feuilles, tubes et profilés en matières plastiques",561419329,134955989,178697687,88637781,0,0,null,null,"Biens de consommation","Marchandises industrielles",null,"Présente",null,"Chimie organique, non-organique et divers","",0,{"$f":"IF(O147=$AD$11,Accueil!$D$24,IF(('IE1'!O147='IE1'!$AD$12)*AND('IE1'!Q147='IE1'!$AD$14),'IE1'!U147,IF(('IE1'!O147='IE1'!$AD$12)*AND('IE1'!Q147='IE1'!$AD$13),0,0)))","v":0},{"$f":"IF(P147=$AD$11,Accueil!$D$24,IF(('IE1'!P147='IE1'!$AD$12)*AND('IE1'!R147='IE1'!$AD$14),'IE1'!V147,IF(('IE1'!P147='IE1'!$AD$12)*AND('IE1'!R147='IE1'!$AD$13),0,0)))","v":0}]
[null,null,null,null,"2222","Emballages en matières plastiques",382200892,215780398,131242150,81945387,0,0,null,null,"Biens de consommation","Marchandises industrielles",null,"Présente",null,"Chimie organique, non-organique et divers","",0,{"$f":"IF(O148=$AD$11,Accueil!$D$24,IF(('IE1'!O148='IE1'!$AD$12)*AND('IE1'!Q148='IE1'!$AD$14),'IE1'!U148,IF(('IE1'!O148='IE1'!$AD$12)*AND('IE1'!Q148='IE1'!$AD$13),0,0)))","v":0},{"$f":"IF(P148=$AD$11,Accueil!$D$24,IF(('IE1'!P148='IE1'!$AD$12)*AND('IE1'!R148='IE1'!$AD$14),'IE1'!V148,IF(('IE1'!P148='IE1'!$AD$12)*AND('IE1'!R148='IE1'!$AD$13),0,0)))","v":0}]
[null,null,null,null,"2223","Éléments en matières plastiques pour la construction",155743677,18020182,59117456,8215883,0,0,null,null,"Biens de consommation","Marchandises industrielles",null,"Présente",null,"Chimie organique, non-organique et divers","",0,{"$f":"IF(O149=$AD$11,Accueil!$D$24,IF(('IE1'!O149='IE1'!$AD$12)*AND('IE1'!Q149='IE1'!$AD$14),'IE1'!U149,IF(('IE1'!O149='IE1'!$AD$12)*AND('IE1'!Q149='IE1'!$AD$13),0,0)))","v":0},{"$f":"IF(P149=$AD$11,Accueil!$D$24,IF(('IE1'!P149='IE1'!$AD$12)*AND('IE1'!R149='IE1'!$AD$14),'IE1'!V149,IF(('IE1'!P149='IE1'!$AD$12)*AND('IE1'!R149='IE1'!$AD$13),0,0)))","v":0}]
[null,null,null,null,"2229","Autres produits en matières plastiques",458629665,184529640,84185584,77479419,0,0,null,null,"Biens de consommation","Marchandises industrielles",null,"Présente",null,"Chimie organique, non-organique et divers","",0,{"$f":"IF(O150=$AD$11,Accueil!$D$24,IF(('IE1'!O150='IE1'!$AD$12)*AND('IE1'!Q150='IE1'!$AD$14),'IE1'!U150,IF(('IE1'!O150='IE1'!$AD$12)*AND('IE1'!Q150='IE1'!$AD$13),0,0)))","v":0},{"$f":"IF(P150=$AD$11,Accueil!$D$24,IF(('IE1'!P150='IE1'!$AD$12)*AND('IE1'!R150='IE1'!$AD$14),'IE1'!V150,IF(('IE1'!P150='IE1'!$AD$12)*AND('IE1'!R150='IE1'!$AD$13),0,0)))","v":0}]
[null,null,"C23A","Verre et articles en verre","2311","Verre plat",57292591,80817803,152243297,258409268,0,0,null,null,"Biens de consommation","Marchandises industrielles",null,"Présente",null,"Minéraux non-métalliques et matériaux de construction","",0,{"$f":"IF(O151=$AD$11,Accueil!$D$24,IF(('IE1'!O151='IE1'!$AD$12)*AND('IE1'!Q151='IE1'!$AD$14),'IE1'!U151,IF(('IE1'!O151='IE1'!$AD$12)*AND('IE1'!Q151='IE1'!$AD$13),0,0)))","v":0},{"$f":"IF(P151=$AD$11,Accueil!$D$24,IF(('IE1'!P151='IE1'!$AD$12)*AND('IE1'!R151='IE1'!$AD$14),'IE1'!V151,IF(('IE1'!P151='IE1'!$AD$12)*AND('IE1'!R151='IE1'!$AD$13),0,0)))","v":0}]
[null,null,null,null,"2312","Verre plat travaillé",157692894,105854030,57436543,87695939,0,0,null,null,"Biens de consommation","Marchandises industrielles",null,"Présente",null,"Minéraux non-métalliques et matériaux de construction","",0,{"$f":"IF(O152=$AD$11,Accueil!$D$24,IF(('IE1'!O152='IE1'!$AD$12)*AND('IE1'!Q152='IE1'!$AD$14),'IE1'!U152,IF(('IE1'!O152='IE1'!$AD$12)*AND('IE1'!Q152='IE1'!$AD$13),0,0)))","v":0},{"$f":"IF(P152=$AD$11,Accueil!$D$24,IF(('IE1'!P152='IE1'!$AD$12)*AND('IE1'!R152='IE1'!$AD$14),'IE1'!V152,IF(('IE1'!P152='IE1'!$AD$12)*AND('IE1'!R152='IE1'!$AD$13),0,0)))","v":0}]
[null,null,null,null,"2313","Verre creux",184351434,387677802,145285265,344007733,0,0,null,null,"Biens de consommation","Marchandises industrielles",null,"Présente",null,"Minéraux non-métalliques et matériaux de construction","",0,{"$f":"IF(O153=$AD$11,Accueil!$D$24,IF(('IE1'!O153='IE1'!$AD$12)*AND('IE1'!Q153='IE1'!$AD$14),'IE1'!U153,IF(('IE1'!O153='IE1'!$AD$12)*AND('IE1'!Q153='IE1'!$AD$13),0,0)))","v":0},{"$f":"IF(P153=$AD$11,Accueil!$D$24,IF(('IE1'!P153='IE1'!$AD$12)*AND('IE1'!R153='IE1'!$AD$14),'IE1'!V153,IF(('IE1'!P153='IE1'!$AD$12)*AND('IE1'!R153='IE1'!$AD$13),0,0)))","v":0}]
[null,null,null,null,"2314","Fibres de verre",31188478,7314850,14284584,2713096,0,0,null,null,"Biens de consommation","Marchandises industrielles",null,"Présente",null,"Minéraux non-métalliques et matériaux de construction","",0,{"$f":"IF(O154=$AD$11,Accueil!$D$24,IF(('IE1'!O154='IE1'!$AD$12)*AND('IE1'!Q154='IE1'!$AD$14),'IE1'!U154,IF(('IE1'!O154='IE1'!$AD$12)*AND('IE1'!Q154='IE1'!$AD$13),0,0)))","v":0},{"$f":"IF(P154=$AD$11,Accueil!$D$24,IF(('IE1'!P154='IE1'!$AD$12)*AND('IE1'!R154='IE1'!$AD$14),'IE1'!V154,IF(('IE1'!P154='IE1'!$AD$12)*AND('IE1'!R154='IE1'!$AD$13),0,0)))","v":0}]
[null,null,null,null,"2319","Autres articles en verre travaillé, y compris verre technique",76983342,92409346,19459217,30427290,0,0,null,null,"Biens de consommation","Marchandises industrielles",null,"Présente",null,"Minéraux non-métalliques et matériaux de construction","",0,{"$f":"IF(O155=$AD$11,Accueil!$D$24,IF(('IE1'!O155='IE1'!$AD$12)*AND('IE1'!Q155='IE1'!$AD$14),'IE1'!U155,IF(('IE1'!O155='IE1'!$AD$12)*AND('IE1'!Q155='IE1'!$AD$13),0,0)))","v":0},{"$f":"IF(P155=$AD$11,Accueil!$D$24,IF(('IE1'!P155='IE1'!$AD$12)*AND('IE1'!R155='IE1'!$AD$14),'IE1'!V155,IF(('IE1'!P155='IE1'!$AD$12)*AND('IE1'!R155='IE1'!$AD$13),0,0)))","v":0}]
[null,null,"C23B ","Matériaux de construction et produits minéraux","2320","Produits réfractaires",61105507,96153554,106548002,120372408,0,0,null,null,"Travaux","Travaux","Travaux","Travaux","Travaux","Travaux","","",{"$f":"IF(O156=$AD$11,Accueil!$D$24,IF(('IE1'!O156='IE1'!$AD$12)*AND('IE1'!Q156='IE1'!$AD$14),'IE1'!U156,IF(('IE1'!O156='IE1'!$AD$12)*AND('IE1'!Q156='IE1'!$AD$13),0,0)))","v":0},{"$f":"IF(P156=$AD$11,Accueil!$D$24,IF(('IE1'!P156='IE1'!$AD$12)*AND('IE1'!R156='IE1'!$AD$14),'IE1'!V156,IF(('IE1'!P156='IE1'!$AD$12)*AND('IE1'!R156='IE1'!$AD$13),0,0)))","v":0}]
[null,null,null,null,"2331","Carreaux et dalles en céramique",60556934,12945571,102893259,25353966,0,0,null,null,"Travaux","Travaux","Travaux","Travaux","Travaux","Travaux","","",{"$f":"IF(O157=$AD$11,Accueil!$D$24,IF(('IE1'!O157='IE1'!$AD$12)*AND('IE1'!Q157='IE1'!$AD$14),'IE1'!U157,IF(('IE1'!O157='IE1'!$AD$12)*AND('IE1'!Q157='IE1'!$AD$13),0,0)))","v":0},{"$f":"IF(P157=$AD$11,Accueil!$D$24,IF(('IE1'!P157='IE1'!$AD$12)*AND('IE1'!R157='IE1'!$AD$14),'IE1'!V157,IF(('IE1'!P157='IE1'!$AD$12)*AND('IE1'!R157='IE1'!$AD$13),0,0)))","v":0}]
[null,null,null,null,"2332","Tuiles, briques et produits de construction en terre cuite",18376373,10156901,80968967,49473199,0,0,null,null,"Travaux","Travaux","Travaux","Travaux","Travaux","Travaux","","",{"$f":"IF(O158=$AD$11,Accueil!$D$24,IF(('IE1'!O158='IE1'!$AD$12)*AND('IE1'!Q158='IE1'!$AD$14),'IE1'!U158,IF(('IE1'!O158='IE1'!$AD$12)*AND('IE1'!Q158='IE1'!$AD$13),0,0)))","v":0},{"$f":"IF(P158=$AD$11,Accueil!$D$24,IF(('IE1'!P158='IE1'!$AD$12)*AND('IE1'!R158='IE1'!$AD$14),'IE1'!V158,IF(('IE1'!P158='IE1'!$AD$12)*AND('IE1'!R158='IE1'!$AD$13),0,0)))","v":0}]
[null,null,null,null,"2341","Articles céramiques à usage domestique ou ornemental",36157888,7783879,18529353,1819362,0,0,null,null,"Travaux","Travaux","Travaux","Travaux","Travaux","Travaux","","",{"$f":"IF(O159=$AD$11,Accueil!$D$24,IF(('IE1'!O159='IE1'!$AD$12)*AND('IE1'!Q159='IE1'!$AD$14),'IE1'!U159,IF(('IE1'!O159='IE1'!$AD$12)*AND('IE1'!Q159='IE1'!$AD$13),0,0)))","v":0},{"$f":"IF(P159=$AD$11,Accueil!$D$24,IF(('IE1'!P159='IE1'!$AD$12)*AND('IE1'!R159='IE1'!$AD$14),'IE1'!V159,IF(('IE1'!P159='IE1'!$AD$12)*AND('IE1'!R159='IE1'!$AD$13),0,0)))","v":0}]
[null,null,null,null,"2342","Appareils sanitaires en céramique",53828760,1084660,28493288,3947840,0,0,null,null,"Travaux","Travaux","Travaux","Travaux","Travaux","Travaux","","",{"$f":"IF(O160=$AD$11,Accueil!$D$24,IF(('IE1'!O160='IE1'!$AD$12)*AND('IE1'!Q160='IE1'!$AD$14),'IE1'!U160,IF(('IE1'!O160='IE1'!$AD$12)*AND('IE1'!Q160='IE1'!$AD$13),0,0)))","v":0},{"$f":"IF(P160=$AD$11,Accueil!$D$24,IF(('IE1'!P160='IE1'!$AD$12)*AND('IE1'!R160='IE1'!$AD$14),'IE1'!V160,IF(('IE1'!P160='IE1'!$AD$12)*AND('IE1'!R160='IE1'!$AD$13),0,0)))","v":0}]
[null,null,null,null,"2343","Isolateurs et pièces isolantes en céramique",515667,40671,26581,1673,0,0,null,null,"Travaux","Travaux","Travaux","Travaux","Travaux","Travaux","","",{"$f":"IF(O161=$AD$11,Accueil!$D$24,IF(('IE1'!O161='IE1'!$AD$12)*AND('IE1'!Q161='IE1'!$AD$14),'IE1'!U161,IF(('IE1'!O161='IE1'!$AD$12)*AND('IE1'!Q161='IE1'!$AD$13),0,0)))","v":0},{"$f":"IF(P161=$AD$11,Accueil!$D$24,IF(('IE1'!P161='IE1'!$AD$12)*AND('IE1'!R161='IE1'!$AD$14),'IE1'!V161,IF(('IE1'!P161='IE1'!$AD$12)*AND('IE1'!R161='IE1'!$AD$13),0,0)))","v":0}]
[null,null,null,null,"2344","Autres produits céramiques à usage technique",4206529,203089,417290,19925,0,0,null,null,"Travaux","Travaux","Travaux","Travaux","Travaux","Travaux","","",{"$f":"IF(O162=$AD$11,Accueil!$D$24,IF(('IE1'!O162='IE1'!$AD$12)*AND('IE1'!Q162='IE1'!$AD$14),'IE1'!U162,IF(('IE1'!O162='IE1'!$AD$12)*AND('IE1'!Q162='IE1'!$AD$13),0,0)))","v":0},{"$f":"IF(P162=$AD$11,Accueil!$D$24,IF(('IE1'!P162='IE1'!$AD$12)*AND('IE1'!R162='IE1'!$AD$14),'IE1'!V162,IF(('IE1'!P162='IE1'!$AD$12)*AND('IE1'!R162='IE1'!$AD$13),0,0)))","v":0}]
[null,null,null,null,"2349","Autres produits céramiques",3020631,1456152,906556,582268,0,0,null,null,"Travaux","Travaux","Travaux","Travaux","Travaux","Travaux","","",{"$f":"IF(O163=$AD$11,Accueil!$D$24,IF(('IE1'!O163='IE1'!$AD$12)*AND('IE1'!Q163='IE1'!$AD$14),'IE1'!U163,IF(('IE1'!O163='IE1'!$AD$12)*AND('IE1'!Q163='IE1'!$AD$13),0,0)))","v":0},{"$f":"IF(P163=$AD$11,Accueil!$D$24,IF(('IE1'!P163='IE1'!$AD$12)*AND('IE1'!R163='IE1'!$AD$14),'IE1'!V163,IF(('IE1'!P163='IE1'!$AD$12)*AND('IE1'!R163='IE1'!$AD$13),0,0)))","v":0}]
[null,null,null,null,"2351","Ciment",46913559,56776413,554797393,62550803,0,0,null,null,"Travaux","Travaux","Travaux","Travaux","Travaux","Travaux","","",{"$f":"IF(O164=$AD$11,Accueil!$D$24,IF(('IE1'!O164='IE1'!$AD$12)*AND('IE1'!Q164='IE1'!$AD$14),'IE1'!U164,IF(('IE1'!O164='IE1'!$AD$12)*AND('IE1'!Q164='IE1'!$AD$13),0,0)))","v":0},{"$f":"IF(P164=$AD$11,Accueil!$D$24,IF(('IE1'!P164='IE1'!$AD$12)*AND('IE1'!R164='IE1'!$AD$14),'IE1'!V164,IF(('IE1'!P164='IE1'!$AD$12)*AND('IE1'!R164='IE1'!$AD$13),0,0)))","v":0}]
[null,null,null,null,"2352","Chaux et plâtre",27917031,21313368,230467076,149785124,0,0,null,null,"Travaux","Travaux","Travaux","Travaux","Travaux","Travaux","","",{"$f":"IF(O165=$AD$11,Accueil!$D$24,IF(('IE1'!O165='IE1'!$AD$12)*AND('IE1'!Q165='IE1'!$AD$14),'IE1'!U165,IF(('IE1'!O165='IE1'!$AD$12)*AND('IE1'!Q165='IE1'!$AD$13),0,0)))","v":0},{"$f":"IF(P165=$AD$11,Accueil!$D$24,IF(('IE1'!P165='IE1'!$AD$12)*AND('IE1'!R165='IE1'!$AD$14),'IE1'!V165,IF(('IE1'!P165='IE1'!$AD$12)*AND('IE1'!R165='IE1'!$AD$13),0,0)))","v":0}]
[null,null,null,null,"2361","Éléments en béton pour la construction",58266589,9816572,338137132,47205029,0,0,null,null,"Travaux","Travaux","Travaux","Travaux","Travaux","Travaux","","",{"$f":"IF(O166=$AD$11,Accueil!$D$24,IF(('IE1'!O166='IE1'!$AD$12)*AND('IE1'!Q166='IE1'!$AD$14),'IE1'!U166,IF(('IE1'!O166='IE1'!$AD$12)*AND('IE1'!Q166='IE1'!$AD$13),0,0)))","v":0},{"$f":"IF(P166=$AD$11,Accueil!$D$24,IF(('IE1'!P166='IE1'!$AD$12)*AND('IE1'!R166='IE1'!$AD$14),'IE1'!V166,IF(('IE1'!P166='IE1'!$AD$12)*AND('IE1'!R166='IE1'!$AD$13),0,0)))","v":0}]
[null,null,null,null,"2362","Éléments en plâtre pour la construction",8063122,159251,36794878,40057631,0,0,null,null,"Travaux","Travaux","Travaux","Travaux","Travaux","Travaux","","",{"$f":"IF(O167=$AD$11,Accueil!$D$24,IF(('IE1'!O167='IE1'!$AD$12)*AND('IE1'!Q167='IE1'!$AD$14),'IE1'!U167,IF(('IE1'!O167='IE1'!$AD$12)*AND('IE1'!Q167='IE1'!$AD$13),0,0)))","v":0},{"$f":"IF(P167=$AD$11,Accueil!$D$24,IF(('IE1'!P167='IE1'!$AD$12)*AND('IE1'!R167='IE1'!$AD$14),'IE1'!V167,IF(('IE1'!P167='IE1'!$AD$12)*AND('IE1'!R167='IE1'!$AD$13),0,0)))","v":0}]
[null,null,null,null,"2363","Béton prêt à l'emploi",5726035,6618,173609744,91828,0,0,null,null,"Travaux","Travaux","Travaux","Travaux","Travaux","Travaux","","",{"$f":"IF(O168=$AD$11,Accueil!$D$24,IF(('IE1'!O168='IE1'!$AD$12)*AND('IE1'!Q168='IE1'!$AD$14),'IE1'!U168,IF(('IE1'!O168='IE1'!$AD$12)*AND('IE1'!Q168='IE1'!$AD$13),0,0)))","v":0},{"$f":"IF(P168=$AD$11,Accueil!$D$24,IF(('IE1'!P168='IE1'!$AD$12)*AND('IE1'!R168='IE1'!$AD$14),'IE1'!V168,IF(('IE1'!P168='IE1'!$AD$12)*AND('IE1'!R168='IE1'!$AD$13),0,0)))","v":0}]
[null,null,null,null,"2364","Mortiers et bétons secs",4624492,1460646,64296463,11867426,0,0,null,null,"Travaux","Travaux","Travaux","Travaux","Travaux","Travaux","","",{"$f":"IF(O169=$AD$11,Accueil!$D$24,IF(('IE1'!O169='IE1'!$AD$12)*AND('IE1'!Q169='IE1'!$AD$14),'IE1'!U169,IF(('IE1'!O169='IE1'!$AD$12)*AND('IE1'!Q169='IE1'!$AD$13),0,0)))","v":0},{"$f":"IF(P169=$AD$11,Accueil!$D$24,IF(('IE1'!P169='IE1'!$AD$12)*AND('IE1'!R169='IE1'!$AD$14),'IE1'!V169,IF(('IE1'!P169='IE1'!$AD$12)*AND('IE1'!R169='IE1'!$AD$13),0,0)))","v":0}]
[null,null,null,null,"2365","Fibre-ciment",10167368,4405913,17926303,12655939,0,0,null,null,"Travaux","Travaux","Travaux","Travaux","Travaux","Travaux","","",{"$f":"IF(O170=$AD$11,Accueil!$D$24,IF(('IE1'!O170='IE1'!$AD$12)*AND('IE1'!Q170='IE1'!$AD$14),'IE1'!U170,IF(('IE1'!O170='IE1'!$AD$12)*AND('IE1'!Q170='IE1'!$AD$13),0,0)))","v":0},{"$f":"IF(P170=$AD$11,Accueil!$D$24,IF(('IE1'!P170='IE1'!$AD$12)*AND('IE1'!R170='IE1'!$AD$14),'IE1'!V170,IF(('IE1'!P170='IE1'!$AD$12)*AND('IE1'!R170='IE1'!$AD$13),0,0)))","v":0}]
[null,null,null,null,"2369","Autres ouvrages en béton, plâtre ou ciment",11763943,844300,38342834,3456796,0,0,null,null,"Travaux","Travaux","Travaux","Travaux","Travaux","Travaux","","",{"$f":"IF(O171=$AD$11,Accueil!$D$24,IF(('IE1'!O171='IE1'!$AD$12)*AND('IE1'!Q171='IE1'!$AD$14),'IE1'!U171,IF(('IE1'!O171='IE1'!$AD$12)*AND('IE1'!Q171='IE1'!$AD$13),0,0)))","v":0},{"$f":"IF(P171=$AD$11,Accueil!$D$24,IF(('IE1'!P171='IE1'!$AD$12)*AND('IE1'!R171='IE1'!$AD$14),'IE1'!V171,IF(('IE1'!P171='IE1'!$AD$12)*AND('IE1'!R171='IE1'!$AD$13),0,0)))","v":0}]
[null,null,null,null,"2370","Pierre taillée, façonnée et finie",28042618,1336827,66775553,2316699,0,0,null,null,"Travaux","Travaux","Travaux","Travaux","Travaux","Travaux","","",{"$f":"IF(O172=$AD$11,Accueil!$D$24,IF(('IE1'!O172='IE1'!$AD$12)*AND('IE1'!Q172='IE1'!$AD$14),'IE1'!U172,IF(('IE1'!O172='IE1'!$AD$12)*AND('IE1'!Q172='IE1'!$AD$13),0,0)))","v":0},{"$f":"IF(P172=$AD$11,Accueil!$D$24,IF(('IE1'!P172='IE1'!$AD$12)*AND('IE1'!R172='IE1'!$AD$14),'IE1'!V172,IF(('IE1'!P172='IE1'!$AD$12)*AND('IE1'!R172='IE1'!$AD$13),0,0)))","v":0}]
[null,null,null,null,"2391","Produits abrasifs",28492372,15150532,10587420,5424498,0,0,null,null,"Travaux","Travaux","Travaux","Travaux","Travaux","Travaux","","",{"$f":"IF(O173=$AD$11,Accueil!$D$24,IF(('IE1'!O173='IE1'!$AD$12)*AND('IE1'!Q173='IE1'!$AD$14),'IE1'!U173,IF(('IE1'!O173='IE1'!$AD$12)*AND('IE1'!Q173='IE1'!$AD$13),0,0)))","v":0},{"$f":"IF(P173=$AD$11,Accueil!$D$24,IF(('IE1'!P173='IE1'!$AD$12)*AND('IE1'!R173='IE1'!$AD$14),'IE1'!V173,IF(('IE1'!P173='IE1'!$AD$12)*AND('IE1'!R173='IE1'!$AD$13),0,0)))","v":0}]
[null,null,null,null,"2399","Autres produits minéraux non métalliques n.c.a.",65908568,25428363,246812266,45152118,0,0,null,null,"Travaux","Travaux","Travaux","Travaux","Travaux","Travaux","","",{"$f":"IF(O174=$AD$11,Accueil!$D$24,IF(('IE1'!O174='IE1'!$AD$12)*AND('IE1'!Q174='IE1'!$AD$14),'IE1'!U174,IF(('IE1'!O174='IE1'!$AD$12)*AND('IE1'!Q174='IE1'!$AD$13),0,0)))","v":0},{"$f":"IF(P174=$AD$11,Accueil!$D$24,IF(('IE1'!P174='IE1'!$AD$12)*AND('IE1'!R174='IE1'!$AD$14),'IE1'!V174,IF(('IE1'!P174='IE1'!$AD$12)*AND('IE1'!R174='IE1'!$AD$13),0,0)))","v":0}]
[null,null,"C24A ","Produits sidérurgiques et acier","2410","Produits sidérurgiques de base et ferroalliages",1893015470,{"$f":"J175*2707761449/4766290520","v":1278240013.8399453},3725676940,2250000000,0,0,null,null,"Marchandises industrielles","Marchandises industrielles","Présente","Présente","Métallurgie / Sidérurgie","Transformation des combustibles minéraux solides – siderurgies",0,0,{"$f":"IF(O175=$AD$11,Accueil!$D$24,IF(('IE1'!O175='IE1'!$AD$12)*AND('IE1'!Q175='IE1'!$AD$14),'IE1'!U175,IF(('IE1'!O175='IE1'!$AD$12)*AND('IE1'!Q175='IE1'!$AD$13),0,0)))","v":0},{"$f":"IF(P175=$AD$11,Accueil!$D$24,IF(('IE1'!P175='IE1'!$AD$12)*AND('IE1'!R175='IE1'!$AD$14),'IE1'!V175,IF(('IE1'!P175='IE1'!$AD$12)*AND('IE1'!R175='IE1'!$AD$13),0,0)))","v":0}]
[null,null,null,null,"2420","Tubes, tuyaux, profilés creux et accessoires correspondants en acier",286379171,564461029,220057318,224331117,0,0,null,null,"Biens de consommation","Marchandises industrielles",null,"Présente",null,"Transformation des combustibles minéraux solides – siderurgies","",0,{"$f":"IF(O176=$AD$11,Accueil!$D$24,IF(('IE1'!O176='IE1'!$AD$12)*AND('IE1'!Q176='IE1'!$AD$14),'IE1'!U176,IF(('IE1'!O176='IE1'!$AD$12)*AND('IE1'!Q176='IE1'!$AD$13),0,0)))","v":0},{"$f":"IF(P176=$AD$11,Accueil!$D$24,IF(('IE1'!P176='IE1'!$AD$12)*AND('IE1'!R176='IE1'!$AD$14),'IE1'!V176,IF(('IE1'!P176='IE1'!$AD$12)*AND('IE1'!R176='IE1'!$AD$13),0,0)))","v":0}]
[null,null,null,null,"2431","Barres étirées à froid",24650072,5461736,17624420,42312078,0,0,null,null,"Biens de consommation","Marchandises industrielles",null,"Présente",null,"Transformation des combustibles minéraux solides – siderurgies","",0,{"$f":"IF(O177=$AD$11,Accueil!$D$24,IF(('IE1'!O177='IE1'!$AD$12)*AND('IE1'!Q177='IE1'!$AD$14),'IE1'!U177,IF(('IE1'!O177='IE1'!$AD$12)*AND('IE1'!Q177='IE1'!$AD$13),0,0)))","v":0},{"$f":"IF(P177=$AD$11,Accueil!$D$24,IF(('IE1'!P177='IE1'!$AD$12)*AND('IE1'!R177='IE1'!$AD$14),'IE1'!V177,IF(('IE1'!P177='IE1'!$AD$12)*AND('IE1'!R177='IE1'!$AD$13),0,0)))","v":0}]
[null,null,null,null,"2432","Feuillards laminés à froid",62535919,38277436,76204453,42610499,0,0,null,null,"Biens de consommation","Marchandises industrielles",null,"Présente",null,"Transformation des combustibles minéraux solides – siderurgies","",0,{"$f":"IF(O178=$AD$11,Accueil!$D$24,IF(('IE1'!O178='IE1'!$AD$12)*AND('IE1'!Q178='IE1'!$AD$14),'IE1'!U178,IF(('IE1'!O178='IE1'!$AD$12)*AND('IE1'!Q178='IE1'!$AD$13),0,0)))","v":0},{"$f":"IF(P178=$AD$11,Accueil!$D$24,IF(('IE1'!P178='IE1'!$AD$12)*AND('IE1'!R178='IE1'!$AD$14),'IE1'!V178,IF(('IE1'!P178='IE1'!$AD$12)*AND('IE1'!R178='IE1'!$AD$13),0,0)))","v":0}]
[null,null,null,null,"2433","Produits formés à froid ou pliés",22437472,6836150,22784955,17419542,0,0,null,null,"Biens de consommation","Marchandises industrielles",null,"Présente",null,"Transformation des combustibles minéraux solides – siderurgies","",0,{"$f":"IF(O179=$AD$11,Accueil!$D$24,IF(('IE1'!O179='IE1'!$AD$12)*AND('IE1'!Q179='IE1'!$AD$14),'IE1'!U179,IF(('IE1'!O179='IE1'!$AD$12)*AND('IE1'!Q179='IE1'!$AD$13),0,0)))","v":0},{"$f":"IF(P179=$AD$11,Accueil!$D$24,IF(('IE1'!P179='IE1'!$AD$12)*AND('IE1'!R179='IE1'!$AD$14),'IE1'!V179,IF(('IE1'!P179='IE1'!$AD$12)*AND('IE1'!R179='IE1'!$AD$13),0,0)))","v":0}]
[null,null,null,null,"2434","Fils tréfilés à froid",51133914,{"$f":"J180*2317700/1726719","v":671128307.50110471},50180772,{"$f":"1726719*0+1*500000000","v":500000000},0,0,null,null,"Biens de consommation","Marchandises industrielles",null,"Présente",null,"Transformation des combustibles minéraux solides – siderurgies","",0,{"$f":"IF(O180=$AD$11,Accueil!$D$24,IF(('IE1'!O180='IE1'!$AD$12)*AND('IE1'!Q180='IE1'!$AD$14),'IE1'!U180,IF(('IE1'!O180='IE1'!$AD$12)*AND('IE1'!Q180='IE1'!$AD$13),0,0)))","v":0},{"$f":"IF(P180=$AD$11,Accueil!$D$24,IF(('IE1'!P180='IE1'!$AD$12)*AND('IE1'!R180='IE1'!$AD$14),'IE1'!V180,IF(('IE1'!P180='IE1'!$AD$12)*AND('IE1'!R180='IE1'!$AD$13),0,0)))","v":0}]
[null,null,"C24B","Métaux non ferreux","2441","Métaux précieux",5437513,6553336,11436,21084,0,0,null,null,"Biens de consommation","Biens de consommation",null,null,null,null,"","",{"$f":"IF(O181=$AD$11,Accueil!$D$24,IF(('IE1'!O181='IE1'!$AD$12)*AND('IE1'!Q181='IE1'!$AD$14),'IE1'!U181,IF(('IE1'!O181='IE1'!$AD$12)*AND('IE1'!Q181='IE1'!$AD$13),0,0)))","v":0},{"$f":"IF(P181=$AD$11,Accueil!$D$24,IF(('IE1'!P181='IE1'!$AD$12)*AND('IE1'!R181='IE1'!$AD$14),'IE1'!V181,IF(('IE1'!P181='IE1'!$AD$12)*AND('IE1'!R181='IE1'!$AD$13),0,0)))","v":0}]
[null,null,null,null,"2442","Aluminium",547513540,246737429,696529941,157128257,0,0,null,null,"Marchandises industrielles","Marchandises industrielles","Présente","Présente","Métallurgie des métaux non-ferreux","Métallurgie des métaux non-ferreux",0,0,{"$f":"IF(O182=$AD$11,Accueil!$D$24,IF(('IE1'!O182='IE1'!$AD$12)*AND('IE1'!Q182='IE1'!$AD$14),'IE1'!U182,IF(('IE1'!O182='IE1'!$AD$12)*AND('IE1'!Q182='IE1'!$AD$13),0,0)))","v":0},{"$f":"IF(P182=$AD$11,Accueil!$D$24,IF(('IE1'!P182='IE1'!$AD$12)*AND('IE1'!R182='IE1'!$AD$14),'IE1'!V182,IF(('IE1'!P182='IE1'!$AD$12)*AND('IE1'!R182='IE1'!$AD$13),0,0)))","v":0}]
[null,null,null,null,"2443","Plomb, zinc et étain",250616969,187823292,137039032,81585920,0,0,null,null,"Marchandises industrielles","Marchandises industrielles","Présente","Présente","Métallurgie des métaux non-ferreux","Métallurgie des métaux non-ferreux",0,0,{"$f":"IF(O183=$AD$11,Accueil!$D$24,IF(('IE1'!O183='IE1'!$AD$12)*AND('IE1'!Q183='IE1'!$AD$14),'IE1'!U183,IF(('IE1'!O183='IE1'!$AD$12)*AND('IE1'!Q183='IE1'!$AD$13),0,0)))","v":0},{"$f":"IF(P183=$AD$11,Accueil!$D$24,IF(('IE1'!P183='IE1'!$AD$12)*AND('IE1'!R183='IE1'!$AD$14),'IE1'!V183,IF(('IE1'!P183='IE1'!$AD$12)*AND('IE1'!R183='IE1'!$AD$13),0,0)))","v":0}]
[null,null,null,null,"2444","Cuivre",783778533,415839458,179549160,98247994,0,0,null,null,"Marchandises industrielles","Marchandises industrielles","Présente","Présente","Métallurgie des métaux non-ferreux","Métallurgie des métaux non-ferreux",0,0,{"$f":"IF(O184=$AD$11,Accueil!$D$24,IF(('IE1'!O184='IE1'!$AD$12)*AND('IE1'!Q184='IE1'!$AD$14),'IE1'!U184,IF(('IE1'!O184='IE1'!$AD$12)*AND('IE1'!Q184='IE1'!$AD$13),0,0)))","v":0},{"$f":"IF(P184=$AD$11,Accueil!$D$24,IF(('IE1'!P184='IE1'!$AD$12)*AND('IE1'!R184='IE1'!$AD$14),'IE1'!V184,IF(('IE1'!P184='IE1'!$AD$12)*AND('IE1'!R184='IE1'!$AD$13),0,0)))","v":0}]
[null,null,null,null,"2445","Autres métaux non ferreux",112734220,103318938,21092586,10666869,0,0,null,null,"Marchandises industrielles","Marchandises industrielles","Présente","Présente","Métallurgie des métaux non-ferreux","Métallurgie des métaux non-ferreux",0,0,{"$f":"IF(O185=$AD$11,Accueil!$D$24,IF(('IE1'!O185='IE1'!$AD$12)*AND('IE1'!Q185='IE1'!$AD$14),'IE1'!U185,IF(('IE1'!O185='IE1'!$AD$12)*AND('IE1'!Q185='IE1'!$AD$13),0,0)))","v":0},{"$f":"IF(P185=$AD$11,Accueil!$D$24,IF(('IE1'!P185='IE1'!$AD$12)*AND('IE1'!R185='IE1'!$AD$14),'IE1'!V185,IF(('IE1'!P185='IE1'!$AD$12)*AND('IE1'!R185='IE1'!$AD$13),0,0)))","v":0}]
[null,null,null,null,"2446","Combustibles nucléaires traités",0,0,0,0,0,0,null,null,"Energie","Energie","Energie","Energie","Energie","Energie","","",{"$f":"IF(O186=$AD$11,Accueil!$D$24,IF(('IE1'!O186='IE1'!$AD$12)*AND('IE1'!Q186='IE1'!$AD$14),'IE1'!U186,IF(('IE1'!O186='IE1'!$AD$12)*AND('IE1'!Q186='IE1'!$AD$13),0,0)))","v":0},{"$f":"IF(P186=$AD$11,Accueil!$D$24,IF(('IE1'!P186='IE1'!$AD$12)*AND('IE1'!R186='IE1'!$AD$14),'IE1'!V186,IF(('IE1'!P186='IE1'!$AD$12)*AND('IE1'!R186='IE1'!$AD$13),0,0)))","v":0}]
[null,null,"C24C","Produits de fonderie","2451","Travaux de fonderie de fonte",12794176,1274750,6414650,11561,0,0,null,null,"Biens de consommation","Marchandises industrielles",null,"Présente",null,"Métallurgie / Sidérurgie","",0,{"$f":"IF(O187=$AD$11,Accueil!$D$24,IF(('IE1'!O187='IE1'!$AD$12)*AND('IE1'!Q187='IE1'!$AD$14),'IE1'!U187,IF(('IE1'!O187='IE1'!$AD$12)*AND('IE1'!Q187='IE1'!$AD$13),0,0)))","v":0},{"$f":"IF(P187=$AD$11,Accueil!$D$24,IF(('IE1'!P187='IE1'!$AD$12)*AND('IE1'!R187='IE1'!$AD$14),'IE1'!V187,IF(('IE1'!P187='IE1'!$AD$12)*AND('IE1'!R187='IE1'!$AD$13),0,0)))","v":0}]
[null,null,null,null,"2452","Travaux de fonderie d'acier",2348889,75251,1134921,7314,0,0,null,null,"Biens de consommation","Marchandises industrielles",null,"Présente",null,"Métallurgie / Sidérurgie","",0,{"$f":"IF(O188=$AD$11,Accueil!$D$24,IF(('IE1'!O188='IE1'!$AD$12)*AND('IE1'!Q188='IE1'!$AD$14),'IE1'!U188,IF(('IE1'!O188='IE1'!$AD$12)*AND('IE1'!Q188='IE1'!$AD$13),0,0)))","v":0},{"$f":"IF(P188=$AD$11,Accueil!$D$24,IF(('IE1'!P188='IE1'!$AD$12)*AND('IE1'!R188='IE1'!$AD$14),'IE1'!V188,IF(('IE1'!P188='IE1'!$AD$12)*AND('IE1'!R188='IE1'!$AD$13),0,0)))","v":0}]
[null,null,"C25A","Éléments en métal pour la construction","2511","Structures métalliques et parties de structures",167053099,42224948,84179663,25640545,0,0,null,null,"Travaux","Travaux","Travaux","Travaux","Travaux","Travaux","","",{"$f":"IF(O189=$AD$11,Accueil!$D$24,IF(('IE1'!O189='IE1'!$AD$12)*AND('IE1'!Q189='IE1'!$AD$14),'IE1'!U189,IF(('IE1'!O189='IE1'!$AD$12)*AND('IE1'!Q189='IE1'!$AD$13),0,0)))","v":0},{"$f":"IF(P189=$AD$11,Accueil!$D$24,IF(('IE1'!P189='IE1'!$AD$12)*AND('IE1'!R189='IE1'!$AD$14),'IE1'!V189,IF(('IE1'!P189='IE1'!$AD$12)*AND('IE1'!R189='IE1'!$AD$13),0,0)))","v":0}]
[null,null,null,null,"2512","Portes et fenêtres en métal",38935594,813203,8530730,297647,0,0,null,null,"Travaux","Travaux","Travaux","Travaux","Travaux","Travaux","","",{"$f":"IF(O190=$AD$11,Accueil!$D$24,IF(('IE1'!O190='IE1'!$AD$12)*AND('IE1'!Q190='IE1'!$AD$14),'IE1'!U190,IF(('IE1'!O190='IE1'!$AD$12)*AND('IE1'!Q190='IE1'!$AD$13),0,0)))","v":0},{"$f":"IF(P190=$AD$11,Accueil!$D$24,IF(('IE1'!P190='IE1'!$AD$12)*AND('IE1'!R190='IE1'!$AD$14),'IE1'!V190,IF(('IE1'!P190='IE1'!$AD$12)*AND('IE1'!R190='IE1'!$AD$13),0,0)))","v":0}]
[null,null,"C25B","Produits pour la chaudronnerie","2521","Radiateurs et chaudières pour le chauffage central",113357128,9039839,29387186,2157208,0,0,null,null,"Biens de consommation","Marchandises industrielles",null,"Présente",null,"Métallurgie / Sidérurgie","",0,{"$f":"IF(O191=$AD$11,Accueil!$D$24,IF(('IE1'!O191='IE1'!$AD$12)*AND('IE1'!Q191='IE1'!$AD$14),'IE1'!U191,IF(('IE1'!O191='IE1'!$AD$12)*AND('IE1'!Q191='IE1'!$AD$13),0,0)))","v":0},{"$f":"IF(P191=$AD$11,Accueil!$D$24,IF(('IE1'!P191='IE1'!$AD$12)*AND('IE1'!R191='IE1'!$AD$14),'IE1'!V191,IF(('IE1'!P191='IE1'!$AD$12)*AND('IE1'!R191='IE1'!$AD$13),0,0)))","v":0}]
[null,null,null,null,"2529","Autres réservoirs, citernes et conteneurs métalliques",9335384,7261032,3869739,3597436,0,0,null,null,"Biens de consommation","Marchandises industrielles",null,"Présente",null,"Métallurgie / Sidérurgie","",0,{"$f":"IF(O192=$AD$11,Accueil!$D$24,IF(('IE1'!O192='IE1'!$AD$12)*AND('IE1'!Q192='IE1'!$AD$14),'IE1'!U192,IF(('IE1'!O192='IE1'!$AD$12)*AND('IE1'!Q192='IE1'!$AD$13),0,0)))","v":0},{"$f":"IF(P192=$AD$11,Accueil!$D$24,IF(('IE1'!P192='IE1'!$AD$12)*AND('IE1'!R192='IE1'!$AD$14),'IE1'!V192,IF(('IE1'!P192='IE1'!$AD$12)*AND('IE1'!R192='IE1'!$AD$13),0,0)))","v":0}]
[null,null,null,null,"2530","Générateurs de vapeur, à l'exclusion des chaudières pour chauffage central",3939418,28653261,445595,356549,0,0,null,null,"Biens de consommation","Marchandises industrielles",null,"Présente",null,"Métallurgie / Sidérurgie","",0,{"$f":"IF(O193=$AD$11,Accueil!$D$24,IF(('IE1'!O193='IE1'!$AD$12)*AND('IE1'!Q193='IE1'!$AD$14),'IE1'!U193,IF(('IE1'!O193='IE1'!$AD$12)*AND('IE1'!Q193='IE1'!$AD$13),0,0)))","v":0},{"$f":"IF(P193=$AD$11,Accueil!$D$24,IF(('IE1'!P193='IE1'!$AD$12)*AND('IE1'!R193='IE1'!$AD$14),'IE1'!V193,IF(('IE1'!P193='IE1'!$AD$12)*AND('IE1'!R193='IE1'!$AD$13),0,0)))","v":0}]
[null,null,"C25C","Armes et munitions","2540","Armes et munitions",8811151,27003,955315,1536,0,0,null,null,"Biens de consommation","Biens de consommation",null,null,null,null,"","",{"$f":"IF(O194=$AD$11,Accueil!$D$24,IF(('IE1'!O194='IE1'!$AD$12)*AND('IE1'!Q194='IE1'!$AD$14),'IE1'!U194,IF(('IE1'!O194='IE1'!$AD$12)*AND('IE1'!Q194='IE1'!$AD$13),0,0)))","v":0},{"$f":"IF(P194=$AD$11,Accueil!$D$24,IF(('IE1'!P194='IE1'!$AD$12)*AND('IE1'!R194='IE1'!$AD$14),'IE1'!V194,IF(('IE1'!P194='IE1'!$AD$12)*AND('IE1'!R194='IE1'!$AD$13),0,0)))","v":0}]
[null,null,"C25E","Coutellerie, outillage, quincaillerie","2571","Articles de coutellerie",72167331,10988410,15459900,2113967,0,0,null,null,"Biens de consommation","Marchandises industrielles",null,"Présente",null,"Métallurgie / Sidérurgie","",0,{"$f":"IF(O195=$AD$11,Accueil!$D$24,IF(('IE1'!O195='IE1'!$AD$12)*AND('IE1'!Q195='IE1'!$AD$14),'IE1'!U195,IF(('IE1'!O195='IE1'!$AD$12)*AND('IE1'!Q195='IE1'!$AD$13),0,0)))","v":0},{"$f":"IF(P195=$AD$11,Accueil!$D$24,IF(('IE1'!P195='IE1'!$AD$12)*AND('IE1'!R195='IE1'!$AD$14),'IE1'!V195,IF(('IE1'!P195='IE1'!$AD$12)*AND('IE1'!R195='IE1'!$AD$13),0,0)))","v":0}]
[null,null,null,null,"2572","Serrures et ferrures",198143957,8974451,27039681,3265324,0,0,null,null,"Biens de consommation","Marchandises industrielles",null,"Présente",null,"Métallurgie / Sidérurgie","",0,{"$f":"IF(O196=$AD$11,Accueil!$D$24,IF(('IE1'!O196='IE1'!$AD$12)*AND('IE1'!Q196='IE1'!$AD$14),'IE1'!U196,IF(('IE1'!O196='IE1'!$AD$12)*AND('IE1'!Q196='IE1'!$AD$13),0,0)))","v":0},{"$f":"IF(P196=$AD$11,Accueil!$D$24,IF(('IE1'!P196='IE1'!$AD$12)*AND('IE1'!R196='IE1'!$AD$14),'IE1'!V196,IF(('IE1'!P196='IE1'!$AD$12)*AND('IE1'!R196='IE1'!$AD$13),0,0)))","v":0}]
[null,null,null,null,"2573","Outillage",158258722,28308039,12617775,4467228,0,0,null,null,"Biens de consommation","Marchandises industrielles",null,"Présente",null,"Métallurgie / Sidérurgie","",0,{"$f":"IF(O197=$AD$11,Accueil!$D$24,IF(('IE1'!O197='IE1'!$AD$12)*AND('IE1'!Q197='IE1'!$AD$14),'IE1'!U197,IF(('IE1'!O197='IE1'!$AD$12)*AND('IE1'!Q197='IE1'!$AD$13),0,0)))","v":0},{"$f":"IF(P197=$AD$11,Accueil!$D$24,IF(('IE1'!P197='IE1'!$AD$12)*AND('IE1'!R197='IE1'!$AD$14),'IE1'!V197,IF(('IE1'!P197='IE1'!$AD$12)*AND('IE1'!R197='IE1'!$AD$13),0,0)))","v":0}]
[null,null,null,null,"2591","Bidons métalliques et récipients similaires",48842462,1409829,16645182,15812181,0,0,null,null,"Biens de consommation","Marchandises industrielles",null,"Présente",null,"Métallurgie / Sidérurgie","",0,{"$f":"IF(O198=$AD$11,Accueil!$D$24,IF(('IE1'!O198='IE1'!$AD$12)*AND('IE1'!Q198='IE1'!$AD$14),'IE1'!U198,IF(('IE1'!O198='IE1'!$AD$12)*AND('IE1'!Q198='IE1'!$AD$13),0,0)))","v":0},{"$f":"IF(P198=$AD$11,Accueil!$D$24,IF(('IE1'!P198='IE1'!$AD$12)*AND('IE1'!R198='IE1'!$AD$14),'IE1'!V198,IF(('IE1'!P198='IE1'!$AD$12)*AND('IE1'!R198='IE1'!$AD$13),0,0)))","v":0}]
[null,null,null,null,"2592","Emballages légers métalliques",202662407,42359328,53627846,36683390,0,0,null,null,"Biens de consommation","Marchandises industrielles",null,"Présente",null,"Métallurgie / Sidérurgie","",0,{"$f":"IF(O199=$AD$11,Accueil!$D$24,IF(('IE1'!O199='IE1'!$AD$12)*AND('IE1'!Q199='IE1'!$AD$14),'IE1'!U199,IF(('IE1'!O199='IE1'!$AD$12)*AND('IE1'!Q199='IE1'!$AD$13),0,0)))","v":0},{"$f":"IF(P199=$AD$11,Accueil!$D$24,IF(('IE1'!P199='IE1'!$AD$12)*AND('IE1'!R199='IE1'!$AD$14),'IE1'!V199,IF(('IE1'!P199='IE1'!$AD$12)*AND('IE1'!R199='IE1'!$AD$13),0,0)))","v":0}]
[null,null,null,null,"2593","Articles en fils, chaînes et ressorts",104826560,26808491,70005547,16175137,0,0,null,null,"Biens de consommation","Marchandises industrielles",null,"Présente",null,"Métallurgie / Sidérurgie","",0,{"$f":"IF(O200=$AD$11,Accueil!$D$24,IF(('IE1'!O200='IE1'!$AD$12)*AND('IE1'!Q200='IE1'!$AD$14),'IE1'!U200,IF(('IE1'!O200='IE1'!$AD$12)*AND('IE1'!Q200='IE1'!$AD$13),0,0)))","v":0},{"$f":"IF(P200=$AD$11,Accueil!$D$24,IF(('IE1'!P200='IE1'!$AD$12)*AND('IE1'!R200='IE1'!$AD$14),'IE1'!V200,IF(('IE1'!P200='IE1'!$AD$12)*AND('IE1'!R200='IE1'!$AD$13),0,0)))","v":0}]
[null,null,null,null,"2594","Vis et boulons",98992272,39949101,31539874,10664505,0,0,null,null,"Biens de consommation","Marchandises industrielles",null,"Présente",null,"Métallurgie / Sidérurgie","",0,{"$f":"IF(O201=$AD$11,Accueil!$D$24,IF(('IE1'!O201='IE1'!$AD$12)*AND('IE1'!Q201='IE1'!$AD$14),'IE1'!U201,IF(('IE1'!O201='IE1'!$AD$12)*AND('IE1'!Q201='IE1'!$AD$13),0,0)))","v":0},{"$f":"IF(P201=$AD$11,Accueil!$D$24,IF(('IE1'!P201='IE1'!$AD$12)*AND('IE1'!R201='IE1'!$AD$14),'IE1'!V201,IF(('IE1'!P201='IE1'!$AD$12)*AND('IE1'!R201='IE1'!$AD$13),0,0)))","v":0}]
[null,null,null,null,"2599","Autres produits métalliques n.c.a.",409828770,176605074,102033029,64567672,0,0,null,null,"Biens de consommation","Marchandises industrielles",null,"Présente",null,"Métallurgie / Sidérurgie","",0,{"$f":"IF(O202=$AD$11,Accueil!$D$24,IF(('IE1'!O202='IE1'!$AD$12)*AND('IE1'!Q202='IE1'!$AD$14),'IE1'!U202,IF(('IE1'!O202='IE1'!$AD$12)*AND('IE1'!Q202='IE1'!$AD$13),0,0)))","v":0},{"$f":"IF(P202=$AD$11,Accueil!$D$24,IF(('IE1'!P202='IE1'!$AD$12)*AND('IE1'!R202='IE1'!$AD$14),'IE1'!V202,IF(('IE1'!P202='IE1'!$AD$12)*AND('IE1'!R202='IE1'!$AD$13),0,0)))","v":0}]
[null,null,"C26A","Composants et cartes électroniques","2611","Composants électroniques",58745986,9179050,1097650,210040,0,0,null,null,"Biens de consommation","Biens de consommation",null,null,null,null,"","",{"$f":"IF(O203=$AD$11,Accueil!$D$24,IF(('IE1'!O203='IE1'!$AD$12)*AND('IE1'!Q203='IE1'!$AD$14),'IE1'!U203,IF(('IE1'!O203='IE1'!$AD$12)*AND('IE1'!Q203='IE1'!$AD$13),0,0)))","v":0},{"$f":"IF(P203=$AD$11,Accueil!$D$24,IF(('IE1'!P203='IE1'!$AD$12)*AND('IE1'!R203='IE1'!$AD$14),'IE1'!V203,IF(('IE1'!P203='IE1'!$AD$12)*AND('IE1'!R203='IE1'!$AD$13),0,0)))","v":0}]
[null,null,null,null,"2612","Cartes électroniques assemblées",15197936,3263778,224764,92216,0,0,null,null,"Biens de consommation","Biens de consommation",null,null,null,null,"","",{"$f":"IF(O204=$AD$11,Accueil!$D$24,IF(('IE1'!O204='IE1'!$AD$12)*AND('IE1'!Q204='IE1'!$AD$14),'IE1'!U204,IF(('IE1'!O204='IE1'!$AD$12)*AND('IE1'!Q204='IE1'!$AD$13),0,0)))","v":0},{"$f":"IF(P204=$AD$11,Accueil!$D$24,IF(('IE1'!P204='IE1'!$AD$12)*AND('IE1'!R204='IE1'!$AD$14),'IE1'!V204,IF(('IE1'!P204='IE1'!$AD$12)*AND('IE1'!R204='IE1'!$AD$13),0,0)))","v":0}]
[null,null,"C26B","Ordinateurs et équipements périphériques","2620","Ordinateurs et équipements périphériques",942809203,80140100,15455434,3815760,0,0,null,null,"Biens de consommation","Biens de consommation",null,null,null,null,"","",{"$f":"IF(O205=$AD$11,Accueil!$D$24,IF(('IE1'!O205='IE1'!$AD$12)*AND('IE1'!Q205='IE1'!$AD$14),'IE1'!U205,IF(('IE1'!O205='IE1'!$AD$12)*AND('IE1'!Q205='IE1'!$AD$13),0,0)))","v":0},{"$f":"IF(P205=$AD$11,Accueil!$D$24,IF(('IE1'!P205='IE1'!$AD$12)*AND('IE1'!R205='IE1'!$AD$14),'IE1'!V205,IF(('IE1'!P205='IE1'!$AD$12)*AND('IE1'!R205='IE1'!$AD$13),0,0)))","v":0}]
[null,null,"C26C","Téléphones et équipements de communication","2630","Équipements de communication",737641864,172508540,5446720,3007649,0,0,null,null,"Biens de consommation","Biens de consommation",null,null,null,null,"","",{"$f":"IF(O206=$AD$11,Accueil!$D$24,IF(('IE1'!O206='IE1'!$AD$12)*AND('IE1'!Q206='IE1'!$AD$14),'IE1'!U206,IF(('IE1'!O206='IE1'!$AD$12)*AND('IE1'!Q206='IE1'!$AD$13),0,0)))","v":0},{"$f":"IF(P206=$AD$11,Accueil!$D$24,IF(('IE1'!P206='IE1'!$AD$12)*AND('IE1'!R206='IE1'!$AD$14),'IE1'!V206,IF(('IE1'!P206='IE1'!$AD$12)*AND('IE1'!R206='IE1'!$AD$13),0,0)))","v":0}]
[null,null,"C26D","Produits électroniques grand public","2640","Produits électroniques grand public",1056496194,170975900,29292142,4291833,0,0,null,null,"Biens de consommation","Biens de consommation",null,null,null,null,"","",{"$f":"IF(O207=$AD$11,Accueil!$D$24,IF(('IE1'!O207='IE1'!$AD$12)*AND('IE1'!Q207='IE1'!$AD$14),'IE1'!U207,IF(('IE1'!O207='IE1'!$AD$12)*AND('IE1'!Q207='IE1'!$AD$13),0,0)))","v":0},{"$f":"IF(P207=$AD$11,Accueil!$D$24,IF(('IE1'!P207='IE1'!$AD$12)*AND('IE1'!R207='IE1'!$AD$14),'IE1'!V207,IF(('IE1'!P207='IE1'!$AD$12)*AND('IE1'!R207='IE1'!$AD$13),0,0)))","v":0}]
[null,null,"C26E","Appareils de mesure et de navigation / horlogerie","2651","Instruments et appareils de mesure, d'essai et de navigation",395434545,100991957,6144428,1444562,0,0,null,null,"Biens de consommation","Biens de consommation",null,null,null,null,"","",{"$f":"IF(O208=$AD$11,Accueil!$D$24,IF(('IE1'!O208='IE1'!$AD$12)*AND('IE1'!Q208='IE1'!$AD$14),'IE1'!U208,IF(('IE1'!O208='IE1'!$AD$12)*AND('IE1'!Q208='IE1'!$AD$13),0,0)))","v":0},{"$f":"IF(P208=$AD$11,Accueil!$D$24,IF(('IE1'!P208='IE1'!$AD$12)*AND('IE1'!R208='IE1'!$AD$14),'IE1'!V208,IF(('IE1'!P208='IE1'!$AD$12)*AND('IE1'!R208='IE1'!$AD$13),0,0)))","v":0}]
[null,null,null,null,"2652","Articles d'horlogerie",23649552,14132187,924574,382422,0,0,null,null,"Biens de consommation","Biens de consommation",null,null,null,null,"","",{"$f":"IF(O209=$AD$11,Accueil!$D$24,IF(('IE1'!O209='IE1'!$AD$12)*AND('IE1'!Q209='IE1'!$AD$14),'IE1'!U209,IF(('IE1'!O209='IE1'!$AD$12)*AND('IE1'!Q209='IE1'!$AD$13),0,0)))","v":0},{"$f":"IF(P209=$AD$11,Accueil!$D$24,IF(('IE1'!P209='IE1'!$AD$12)*AND('IE1'!R209='IE1'!$AD$14),'IE1'!V209,IF(('IE1'!P209='IE1'!$AD$12)*AND('IE1'!R209='IE1'!$AD$13),0,0)))","v":0}]
[null,null,"C26F","Équipements électromédicaux ","2660","Équipements d'irradiation médicale, électromédicaux et électrothérapeutiques",18985997,5011395,100413,92263,{"$f":"IF($M$11=$AG$11,M210,W210)","v":0},{"$f":"IF($M$11=$AG$11,N210,X210)","v":0},null,null,"Biens de consommation","Biens de consommation",null,null,null,null,{"$f":"IFERROR(IF(S210=\"\",\"\",VLOOKUP(S210,$AD$20:$AG$49,4,FALSE)),\"\")","v":""},{"$f":"IFERROR(IF(T210=\"\",\"\",VLOOKUP(T210,$AD$20:$AG$49,4,FALSE)),\"\")","v":""},{"$f":"IF(O210=$AD$11,Accueil!$D$24,IF(('IE1'!O210='IE1'!$AD$12)*AND('IE1'!Q210='IE1'!$AD$14),'IE1'!U210,IF(('IE1'!O210='IE1'!$AD$12)*AND('IE1'!Q210='IE1'!$AD$13),0,0)))","v":0},{"$f":"IF(P210=$AD$11,Accueil!$D$24,IF(('IE1'!P210='IE1'!$AD$12)*AND('IE1'!R210='IE1'!$AD$14),'IE1'!V210,IF(('IE1'!P210='IE1'!$AD$12)*AND('IE1'!R210='IE1'!$AD$13),0,0)))","v":0}]
[null,null,"C26G ","Matériels optique et photographique","2670","Matériel optique et photographique",53361208,5031272,757881,90693,0,0,null,null,"Biens de consommation","Biens de consommation",null,null,null,null,"","",{"$f":"IF(O211=$AD$11,Accueil!$D$24,IF(('IE1'!O211='IE1'!$AD$12)*AND('IE1'!Q211='IE1'!$AD$14),'IE1'!U211,IF(('IE1'!O211='IE1'!$AD$12)*AND('IE1'!Q211='IE1'!$AD$13),0,0)))","v":0},{"$f":"IF(P211=$AD$11,Accueil!$D$24,IF(('IE1'!P211='IE1'!$AD$12)*AND('IE1'!R211='IE1'!$AD$14),'IE1'!V211,IF(('IE1'!P211='IE1'!$AD$12)*AND('IE1'!R211='IE1'!$AD$13),0,0)))","v":0}]
[null,null,null,null,"2680","Supports magnétiques et optiques",2408214,1208553,120745,33640,0,0,null,null,"Biens de consommation","Biens de consommation",null,null,null,null,"","",{"$f":"IF(O212=$AD$11,Accueil!$D$24,IF(('IE1'!O212='IE1'!$AD$12)*AND('IE1'!Q212='IE1'!$AD$14),'IE1'!U212,IF(('IE1'!O212='IE1'!$AD$12)*AND('IE1'!Q212='IE1'!$AD$13),0,0)))","v":0},{"$f":"IF(P212=$AD$11,Accueil!$D$24,IF(('IE1'!P212='IE1'!$AD$12)*AND('IE1'!R212='IE1'!$AD$14),'IE1'!V212,IF(('IE1'!P212='IE1'!$AD$12)*AND('IE1'!R212='IE1'!$AD$13),0,0)))","v":0}]
[null,null,"C27A","Appareils ménagers","2751","Appareils électroménagers",802497934,196036544,166199197,44093827,0,0,null,null,"Biens de consommation","Biens de consommation",null,null,null,null,"","",{"$f":"IF(O213=$AD$11,Accueil!$D$24,IF(('IE1'!O213='IE1'!$AD$12)*AND('IE1'!Q213='IE1'!$AD$14),'IE1'!U213,IF(('IE1'!O213='IE1'!$AD$12)*AND('IE1'!Q213='IE1'!$AD$13),0,0)))","v":0},{"$f":"IF(P213=$AD$11,Accueil!$D$24,IF(('IE1'!P213='IE1'!$AD$12)*AND('IE1'!R213='IE1'!$AD$14),'IE1'!V213,IF(('IE1'!P213='IE1'!$AD$12)*AND('IE1'!R213='IE1'!$AD$13),0,0)))","v":0}]
[null,null,null,null,"2752","Appareils ménagers non électriques",60397530,74221765,10898193,2278875,0,0,null,null,"Biens de consommation","Biens de consommation",null,null,null,null,"","",{"$f":"IF(O214=$AD$11,Accueil!$D$24,IF(('IE1'!O214='IE1'!$AD$12)*AND('IE1'!Q214='IE1'!$AD$14),'IE1'!U214,IF(('IE1'!O214='IE1'!$AD$12)*AND('IE1'!Q214='IE1'!$AD$13),0,0)))","v":0},{"$f":"IF(P214=$AD$11,Accueil!$D$24,IF(('IE1'!P214='IE1'!$AD$12)*AND('IE1'!R214='IE1'!$AD$14),'IE1'!V214,IF(('IE1'!P214='IE1'!$AD$12)*AND('IE1'!R214='IE1'!$AD$13),0,0)))","v":0}]
[null,null,"C27B ","Matériel électrique","2711","Moteurs, génératrices et transformateurs électriques",398740157,192828727,35062741,6889541,0,0,null,null,"Marchandises industrielles","Biens de consommation","Présente",null,"Aucun- Ratio par défaut",null,0,"",{"$f":"IF(O215=$AD$11,Accueil!$D$24,IF(('IE1'!O215='IE1'!$AD$12)*AND('IE1'!Q215='IE1'!$AD$14),'IE1'!U215,IF(('IE1'!O215='IE1'!$AD$12)*AND('IE1'!Q215='IE1'!$AD$13),0,0)))","v":0},{"$f":"IF(P215=$AD$11,Accueil!$D$24,IF(('IE1'!P215='IE1'!$AD$12)*AND('IE1'!R215='IE1'!$AD$14),'IE1'!V215,IF(('IE1'!P215='IE1'!$AD$12)*AND('IE1'!R215='IE1'!$AD$13),0,0)))","v":0}]
[null,null,null,null,"2712","Matériel de distribution et de commande électrique",317691525,152176984,20637837,6255891,0,0,null,null,"Marchandises industrielles","Biens de consommation","Présente",null,"Aucun- Ratio par défaut",null,0,"",{"$f":"IF(O216=$AD$11,Accueil!$D$24,IF(('IE1'!O216='IE1'!$AD$12)*AND('IE1'!Q216='IE1'!$AD$14),'IE1'!U216,IF(('IE1'!O216='IE1'!$AD$12)*AND('IE1'!Q216='IE1'!$AD$13),0,0)))","v":0},{"$f":"IF(P216=$AD$11,Accueil!$D$24,IF(('IE1'!P216='IE1'!$AD$12)*AND('IE1'!R216='IE1'!$AD$14),'IE1'!V216,IF(('IE1'!P216='IE1'!$AD$12)*AND('IE1'!R216='IE1'!$AD$13),0,0)))","v":0}]
[null,null,null,null,"2720","Piles et accumulateurs électriques",266677140,39358925,60010984,64430536,0,0,null,null,"Marchandises industrielles","Biens de consommation","Présente",null,"Aucun- Ratio par défaut",null,0,"",{"$f":"IF(O217=$AD$11,Accueil!$D$24,IF(('IE1'!O217='IE1'!$AD$12)*AND('IE1'!Q217='IE1'!$AD$14),'IE1'!U217,IF(('IE1'!O217='IE1'!$AD$12)*AND('IE1'!Q217='IE1'!$AD$13),0,0)))","v":0},{"$f":"IF(P217=$AD$11,Accueil!$D$24,IF(('IE1'!P217='IE1'!$AD$12)*AND('IE1'!R217='IE1'!$AD$14),'IE1'!V217,IF(('IE1'!P217='IE1'!$AD$12)*AND('IE1'!R217='IE1'!$AD$13),0,0)))","v":0}]
[null,null,null,null,"2731","Câbles de fibres optiques",65917612,24428574,2352474,18086874,0,0,null,null,"Marchandises industrielles","Biens de consommation","Présente",null,"Aucun- Ratio par défaut",null,0,"",{"$f":"IF(O218=$AD$11,Accueil!$D$24,IF(('IE1'!O218='IE1'!$AD$12)*AND('IE1'!Q218='IE1'!$AD$14),'IE1'!U218,IF(('IE1'!O218='IE1'!$AD$12)*AND('IE1'!Q218='IE1'!$AD$13),0,0)))","v":0},{"$f":"IF(P218=$AD$11,Accueil!$D$24,IF(('IE1'!P218='IE1'!$AD$12)*AND('IE1'!R218='IE1'!$AD$14),'IE1'!V218,IF(('IE1'!P218='IE1'!$AD$12)*AND('IE1'!R218='IE1'!$AD$13),0,0)))","v":0}]
[null,null,null,null,"2732","Autres fils et câbles électroniques ou électriques",196895915,32901478,30495490,27436430,0,0,null,null,"Marchandises industrielles","Biens de consommation","Présente",null,"Aucun- Ratio par défaut",null,0,"",{"$f":"IF(O219=$AD$11,Accueil!$D$24,IF(('IE1'!O219='IE1'!$AD$12)*AND('IE1'!Q219='IE1'!$AD$14),'IE1'!U219,IF(('IE1'!O219='IE1'!$AD$12)*AND('IE1'!Q219='IE1'!$AD$13),0,0)))","v":0},{"$f":"IF(P219=$AD$11,Accueil!$D$24,IF(('IE1'!P219='IE1'!$AD$12)*AND('IE1'!R219='IE1'!$AD$14),'IE1'!V219,IF(('IE1'!P219='IE1'!$AD$12)*AND('IE1'!R219='IE1'!$AD$13),0,0)))","v":0}]
[null,null,null,null,"2733","Matériel d'installation électrique",163113471,113447653,9195250,6544346,0,0,null,null,"Marchandises industrielles","Biens de consommation","Présente",null,"Aucun- Ratio par défaut",null,0,"",{"$f":"IF(O220=$AD$11,Accueil!$D$24,IF(('IE1'!O220='IE1'!$AD$12)*AND('IE1'!Q220='IE1'!$AD$14),'IE1'!U220,IF(('IE1'!O220='IE1'!$AD$12)*AND('IE1'!Q220='IE1'!$AD$13),0,0)))","v":0},{"$f":"IF(P220=$AD$11,Accueil!$D$24,IF(('IE1'!P220='IE1'!$AD$12)*AND('IE1'!R220='IE1'!$AD$14),'IE1'!V220,IF(('IE1'!P220='IE1'!$AD$12)*AND('IE1'!R220='IE1'!$AD$13),0,0)))","v":0}]
[null,null,null,null,"2740","Appareils d'éclairage électrique",392216777,7133311,35294106,13770393,0,0,null,null,"Marchandises industrielles","Biens de consommation","Présente",null,"Aucun- Ratio par défaut",null,0,"",{"$f":"IF(O221=$AD$11,Accueil!$D$24,IF(('IE1'!O221='IE1'!$AD$12)*AND('IE1'!Q221='IE1'!$AD$14),'IE1'!U221,IF(('IE1'!O221='IE1'!$AD$12)*AND('IE1'!Q221='IE1'!$AD$13),0,0)))","v":0},{"$f":"IF(P221=$AD$11,Accueil!$D$24,IF(('IE1'!P221='IE1'!$AD$12)*AND('IE1'!R221='IE1'!$AD$14),'IE1'!V221,IF(('IE1'!P221='IE1'!$AD$12)*AND('IE1'!R221='IE1'!$AD$13),0,0)))","v":0}]
[null,null,null,null,"2790","Autres matériels électriques",179422932,112946152,11106095,42523999,0,0,null,null,"Marchandises industrielles","Biens de consommation","Présente",null,"Aucun- Ratio par défaut",null,0,"",{"$f":"IF(O222=$AD$11,Accueil!$D$24,IF(('IE1'!O222='IE1'!$AD$12)*AND('IE1'!Q222='IE1'!$AD$14),'IE1'!U222,IF(('IE1'!O222='IE1'!$AD$12)*AND('IE1'!Q222='IE1'!$AD$13),0,0)))","v":0},{"$f":"IF(P222=$AD$11,Accueil!$D$24,IF(('IE1'!P222='IE1'!$AD$12)*AND('IE1'!R222='IE1'!$AD$14),'IE1'!V222,IF(('IE1'!P222='IE1'!$AD$12)*AND('IE1'!R222='IE1'!$AD$13),0,0)))","v":0}]
[null,null,"C28A","Machines et équipements d'usage général","2811","Moteurs et turbines, à l'exclusion des moteurs pour avions, automobiles et motocycles",328909461,47819907,29938007,13408787,0,0,null,null,"Marchandises industrielles","Biens de consommation","Présente",null,"Aucun- Ratio par défaut",null,0,"",{"$f":"IF(O223=$AD$11,Accueil!$D$24,IF(('IE1'!O223='IE1'!$AD$12)*AND('IE1'!Q223='IE1'!$AD$14),'IE1'!U223,IF(('IE1'!O223='IE1'!$AD$12)*AND('IE1'!Q223='IE1'!$AD$13),0,0)))","v":0},{"$f":"IF(P223=$AD$11,Accueil!$D$24,IF(('IE1'!P223='IE1'!$AD$12)*AND('IE1'!R223='IE1'!$AD$14),'IE1'!V223,IF(('IE1'!P223='IE1'!$AD$12)*AND('IE1'!R223='IE1'!$AD$13),0,0)))","v":0}]
[null,null,null,null,"2812","Équipements hydrauliques et pneumatiques",152648695,8241729,9560970,4194909,0,0,null,null,"Marchandises industrielles","Biens de consommation","Présente",null,"Aucun- Ratio par défaut",null,0,"",{"$f":"IF(O224=$AD$11,Accueil!$D$24,IF(('IE1'!O224='IE1'!$AD$12)*AND('IE1'!Q224='IE1'!$AD$14),'IE1'!U224,IF(('IE1'!O224='IE1'!$AD$12)*AND('IE1'!Q224='IE1'!$AD$13),0,0)))","v":0},{"$f":"IF(P224=$AD$11,Accueil!$D$24,IF(('IE1'!P224='IE1'!$AD$12)*AND('IE1'!R224='IE1'!$AD$14),'IE1'!V224,IF(('IE1'!P224='IE1'!$AD$12)*AND('IE1'!R224='IE1'!$AD$13),0,0)))","v":0}]
[null,null,null,null,"2813","Autres pompes et compresseurs",219549704,110225480,14316317,8928082,0,0,null,null,"Marchandises industrielles","Biens de consommation","Présente",null,"Aucun- Ratio par défaut",null,0,"",{"$f":"IF(O225=$AD$11,Accueil!$D$24,IF(('IE1'!O225='IE1'!$AD$12)*AND('IE1'!Q225='IE1'!$AD$14),'IE1'!U225,IF(('IE1'!O225='IE1'!$AD$12)*AND('IE1'!Q225='IE1'!$AD$13),0,0)))","v":0},{"$f":"IF(P225=$AD$11,Accueil!$D$24,IF(('IE1'!P225='IE1'!$AD$12)*AND('IE1'!R225='IE1'!$AD$14),'IE1'!V225,IF(('IE1'!P225='IE1'!$AD$12)*AND('IE1'!R225='IE1'!$AD$13),0,0)))","v":0}]
[null,null,null,null,"2814","Autres articles de robinetterie",207148542,87574395,14448040,5241428,0,0,null,null,"Marchandises industrielles","Biens de consommation","Présente",null,"Aucun- Ratio par défaut",null,0,"",{"$f":"IF(O226=$AD$11,Accueil!$D$24,IF(('IE1'!O226='IE1'!$AD$12)*AND('IE1'!Q226='IE1'!$AD$14),'IE1'!U226,IF(('IE1'!O226='IE1'!$AD$12)*AND('IE1'!Q226='IE1'!$AD$13),0,0)))","v":0},{"$f":"IF(P226=$AD$11,Accueil!$D$24,IF(('IE1'!P226='IE1'!$AD$12)*AND('IE1'!R226='IE1'!$AD$14),'IE1'!V226,IF(('IE1'!P226='IE1'!$AD$12)*AND('IE1'!R226='IE1'!$AD$13),0,0)))","v":0}]
[null,null,null,null,"2815","Engrenages et organes mécaniques de transmission",304626724,196944169,40457444,13797352,0,0,null,null,"Marchandises industrielles","Biens de consommation","Présente",null,"Aucun- Ratio par défaut",null,0,"",{"$f":"IF(O227=$AD$11,Accueil!$D$24,IF(('IE1'!O227='IE1'!$AD$12)*AND('IE1'!Q227='IE1'!$AD$14),'IE1'!U227,IF(('IE1'!O227='IE1'!$AD$12)*AND('IE1'!Q227='IE1'!$AD$13),0,0)))","v":0},{"$f":"IF(P227=$AD$11,Accueil!$D$24,IF(('IE1'!P227='IE1'!$AD$12)*AND('IE1'!R227='IE1'!$AD$14),'IE1'!V227,IF(('IE1'!P227='IE1'!$AD$12)*AND('IE1'!R227='IE1'!$AD$13),0,0)))","v":0}]
[null,null,null,null,"2821","Fours et brûleurs",23784069,14352890,1670379,863273,0,0,null,null,"Marchandises industrielles","Biens de consommation","Présente",null,"Aucun- Ratio par défaut",null,0,"",{"$f":"IF(O228=$AD$11,Accueil!$D$24,IF(('IE1'!O228='IE1'!$AD$12)*AND('IE1'!Q228='IE1'!$AD$14),'IE1'!U228,IF(('IE1'!O228='IE1'!$AD$12)*AND('IE1'!Q228='IE1'!$AD$13),0,0)))","v":0},{"$f":"IF(P228=$AD$11,Accueil!$D$24,IF(('IE1'!P228='IE1'!$AD$12)*AND('IE1'!R228='IE1'!$AD$14),'IE1'!V228,IF(('IE1'!P228='IE1'!$AD$12)*AND('IE1'!R228='IE1'!$AD$13),0,0)))","v":0}]
[null,null,null,null,"2822","Matériel de levage et de manutention",259406690,75325768,36703417,26427844,0,0,null,null,"Marchandises industrielles","Biens de consommation","Présente",null,"Aucun- Ratio par défaut",null,0,"",{"$f":"IF(O229=$AD$11,Accueil!$D$24,IF(('IE1'!O229='IE1'!$AD$12)*AND('IE1'!Q229='IE1'!$AD$14),'IE1'!U229,IF(('IE1'!O229='IE1'!$AD$12)*AND('IE1'!Q229='IE1'!$AD$13),0,0)))","v":0},{"$f":"IF(P229=$AD$11,Accueil!$D$24,IF(('IE1'!P229='IE1'!$AD$12)*AND('IE1'!R229='IE1'!$AD$14),'IE1'!V229,IF(('IE1'!P229='IE1'!$AD$12)*AND('IE1'!R229='IE1'!$AD$13),0,0)))","v":0}]
[null,null,null,null,"2823","Machines et équipements de bureau (à l'exclusion des ordinateurs et équipements périphériques)",205824841,66369628,6661587,1744809,0,0,null,null,"Marchandises industrielles","Biens de consommation","Présente",null,"Aucun- Ratio par défaut",null,0,"",{"$f":"IF(O230=$AD$11,Accueil!$D$24,IF(('IE1'!O230='IE1'!$AD$12)*AND('IE1'!Q230='IE1'!$AD$14),'IE1'!U230,IF(('IE1'!O230='IE1'!$AD$12)*AND('IE1'!Q230='IE1'!$AD$13),0,0)))","v":0},{"$f":"IF(P230=$AD$11,Accueil!$D$24,IF(('IE1'!P230='IE1'!$AD$12)*AND('IE1'!R230='IE1'!$AD$14),'IE1'!V230,IF(('IE1'!P230='IE1'!$AD$12)*AND('IE1'!R230='IE1'!$AD$13),0,0)))","v":0}]
[null,null,null,null,"2824","Outillage portatif à moteur incorporé",45423423,3284154,2870153,368253,0,0,null,null,"Marchandises industrielles","Biens de consommation","Présente",null,"Aucun- Ratio par défaut",null,0,"",{"$f":"IF(O231=$AD$11,Accueil!$D$24,IF(('IE1'!O231='IE1'!$AD$12)*AND('IE1'!Q231='IE1'!$AD$14),'IE1'!U231,IF(('IE1'!O231='IE1'!$AD$12)*AND('IE1'!Q231='IE1'!$AD$13),0,0)))","v":0},{"$f":"IF(P231=$AD$11,Accueil!$D$24,IF(('IE1'!P231='IE1'!$AD$12)*AND('IE1'!R231='IE1'!$AD$14),'IE1'!V231,IF(('IE1'!P231='IE1'!$AD$12)*AND('IE1'!R231='IE1'!$AD$13),0,0)))","v":0}]
[null,null,null,null,"2825","Équipements aérauliques et frigorifiques industriels",347697506,136267003,29176024,36338441,0,0,null,null,"Marchandises industrielles","Biens de consommation","Présente",null,"Aucun- Ratio par défaut",null,0,"",{"$f":"IF(O232=$AD$11,Accueil!$D$24,IF(('IE1'!O232='IE1'!$AD$12)*AND('IE1'!Q232='IE1'!$AD$14),'IE1'!U232,IF(('IE1'!O232='IE1'!$AD$12)*AND('IE1'!Q232='IE1'!$AD$13),0,0)))","v":0},{"$f":"IF(P232=$AD$11,Accueil!$D$24,IF(('IE1'!P232='IE1'!$AD$12)*AND('IE1'!R232='IE1'!$AD$14),'IE1'!V232,IF(('IE1'!P232='IE1'!$AD$12)*AND('IE1'!R232='IE1'!$AD$13),0,0)))","v":0}]
[null,null,null,null,"2829","Autres machines d'usage général n.c.a.",387170109,96756005,31023481,16861664,0,0,null,null,"Marchandises industrielles","Biens de consommation","Présente",null,"Aucun- Ratio par défaut",null,0,"",{"$f":"IF(O233=$AD$11,Accueil!$D$24,IF(('IE1'!O233='IE1'!$AD$12)*AND('IE1'!Q233='IE1'!$AD$14),'IE1'!U233,IF(('IE1'!O233='IE1'!$AD$12)*AND('IE1'!Q233='IE1'!$AD$13),0,0)))","v":0},{"$f":"IF(P233=$AD$11,Accueil!$D$24,IF(('IE1'!P233='IE1'!$AD$12)*AND('IE1'!R233='IE1'!$AD$14),'IE1'!V233,IF(('IE1'!P233='IE1'!$AD$12)*AND('IE1'!R233='IE1'!$AD$13),0,0)))","v":0}]
[null,null,"C28B","Machines agricoles et forestières","2830","Machines agricoles et forestières",994874305,143076321,98262404,87485164,0,0,null,null,"Industrie agroalimentaire","Industrie agroalimentaire","Industrie agroalimentaire","Industrie agroalimentaire","Industrie agroalimentaire","Industrie agroalimentaire","","",{"$f":"IF(O234=$AD$11,Accueil!$D$24,IF(('IE1'!O234='IE1'!$AD$12)*AND('IE1'!Q234='IE1'!$AD$14),'IE1'!U234,IF(('IE1'!O234='IE1'!$AD$12)*AND('IE1'!Q234='IE1'!$AD$13),0,0)))","v":0},{"$f":"IF(P234=$AD$11,Accueil!$D$24,IF(('IE1'!P234='IE1'!$AD$12)*AND('IE1'!R234='IE1'!$AD$14),'IE1'!V234,IF(('IE1'!P234='IE1'!$AD$12)*AND('IE1'!R234='IE1'!$AD$13),0,0)))","v":0}]
[null,null,"C28C","Machines outils","2841","Machines de formage des métaux",85481897,26558974,5495922,2465928,0,0,null,null,"Marchandises industrielles","Marchandises industrielles","Présente","Présente","Métallurgie / Sidérurgie","Industrie total (IDEC)",0,0,{"$f":"IF(O235=$AD$11,Accueil!$D$24,IF(('IE1'!O235='IE1'!$AD$12)*AND('IE1'!Q235='IE1'!$AD$14),'IE1'!U235,IF(('IE1'!O235='IE1'!$AD$12)*AND('IE1'!Q235='IE1'!$AD$13),0,0)))","v":0},{"$f":"IF(P235=$AD$11,Accueil!$D$24,IF(('IE1'!P235='IE1'!$AD$12)*AND('IE1'!R235='IE1'!$AD$14),'IE1'!V235,IF(('IE1'!P235='IE1'!$AD$12)*AND('IE1'!R235='IE1'!$AD$13),0,0)))","v":0}]
[null,null,null,null,"2849","Autres machines-outils",41768727,2896061,5668716,580391,0,0,null,null,"Marchandises industrielles","Marchandises industrielles","Présente","Présente","Aucun- Ratio par défaut","Industrie total (IDEC)",0,0,{"$f":"IF(O236=$AD$11,Accueil!$D$24,IF(('IE1'!O236='IE1'!$AD$12)*AND('IE1'!Q236='IE1'!$AD$14),'IE1'!U236,IF(('IE1'!O236='IE1'!$AD$12)*AND('IE1'!Q236='IE1'!$AD$13),0,0)))","v":0},{"$f":"IF(P236=$AD$11,Accueil!$D$24,IF(('IE1'!P236='IE1'!$AD$12)*AND('IE1'!R236='IE1'!$AD$14),'IE1'!V236,IF(('IE1'!P236='IE1'!$AD$12)*AND('IE1'!R236='IE1'!$AD$13),0,0)))","v":0}]
[null,null,"C28D","Machines diverses d'usage spécifique","2891","Machines pour la métallurgie",17329293,14360604,3972839,2429474,0,0,null,null,"Marchandises industrielles","Marchandises industrielles","Présente","Présente","Métallurgie / Sidérurgie","Industrie total (IDEC)",0,0,{"$f":"IF(O237=$AD$11,Accueil!$D$24,IF(('IE1'!O237='IE1'!$AD$12)*AND('IE1'!Q237='IE1'!$AD$14),'IE1'!U237,IF(('IE1'!O237='IE1'!$AD$12)*AND('IE1'!Q237='IE1'!$AD$13),0,0)))","v":0},{"$f":"IF(P237=$AD$11,Accueil!$D$24,IF(('IE1'!P237='IE1'!$AD$12)*AND('IE1'!R237='IE1'!$AD$14),'IE1'!V237,IF(('IE1'!P237='IE1'!$AD$12)*AND('IE1'!R237='IE1'!$AD$13),0,0)))","v":0}]
[null,null,null,null,"2892","Machines pour l'extraction ou la construction",212134353,58119376,29526092,15388675,0,0,null,null,"Marchandises industrielles","Marchandises industrielles","Présente","Présente","Aucun- Ratio par défaut","Industrie total (IDEC)",0,0,{"$f":"IF(O238=$AD$11,Accueil!$D$24,IF(('IE1'!O238='IE1'!$AD$12)*AND('IE1'!Q238='IE1'!$AD$14),'IE1'!U238,IF(('IE1'!O238='IE1'!$AD$12)*AND('IE1'!Q238='IE1'!$AD$13),0,0)))","v":0},{"$f":"IF(P238=$AD$11,Accueil!$D$24,IF(('IE1'!P238='IE1'!$AD$12)*AND('IE1'!R238='IE1'!$AD$14),'IE1'!V238,IF(('IE1'!P238='IE1'!$AD$12)*AND('IE1'!R238='IE1'!$AD$13),0,0)))","v":0}]
[null,null,null,null,"2893","Machines pour l'industrie agroalimentaire",53984661,31216813,4095242,3322916,0,0,null,null,"Industrie agroalimentaire","Industrie agroalimentaire","Industrie agroalimentaire","Industrie agroalimentaire","Industrie agroalimentaire","Industrie agroalimentaire","","",{"$f":"IF(O239=$AD$11,Accueil!$D$24,IF(('IE1'!O239='IE1'!$AD$12)*AND('IE1'!Q239='IE1'!$AD$14),'IE1'!U239,IF(('IE1'!O239='IE1'!$AD$12)*AND('IE1'!Q239='IE1'!$AD$13),0,0)))","v":0},{"$f":"IF(P239=$AD$11,Accueil!$D$24,IF(('IE1'!P239='IE1'!$AD$12)*AND('IE1'!R239='IE1'!$AD$14),'IE1'!V239,IF(('IE1'!P239='IE1'!$AD$12)*AND('IE1'!R239='IE1'!$AD$13),0,0)))","v":0}]
[null,null,null,null,"2894","Machines pour les industries textiles",47295047,14020146,4727864,3702980,0,0,null,null,"Marchandises industrielles","Marchandises industrielles","Présente","Présente","Aucun- Ratio par défaut","Industrie hors métallurgie et sidérurgie",0,0,{"$f":"IF(O240=$AD$11,Accueil!$D$24,IF(('IE1'!O240='IE1'!$AD$12)*AND('IE1'!Q240='IE1'!$AD$14),'IE1'!U240,IF(('IE1'!O240='IE1'!$AD$12)*AND('IE1'!Q240='IE1'!$AD$13),0,0)))","v":0},{"$f":"IF(P240=$AD$11,Accueil!$D$24,IF(('IE1'!P240='IE1'!$AD$12)*AND('IE1'!R240='IE1'!$AD$14),'IE1'!V240,IF(('IE1'!P240='IE1'!$AD$12)*AND('IE1'!R240='IE1'!$AD$13),0,0)))","v":0}]
[null,null,null,null,"2895","Machines pour les industries du papier et du carton",23406139,5196669,873397,488867,0,0,null,null,"Marchandises industrielles","Marchandises industrielles","Présente","Présente","Papier, carton","Industrie hors métallurgie et sidérurgie",0,0,{"$f":"IF(O241=$AD$11,Accueil!$D$24,IF(('IE1'!O241='IE1'!$AD$12)*AND('IE1'!Q241='IE1'!$AD$14),'IE1'!U241,IF(('IE1'!O241='IE1'!$AD$12)*AND('IE1'!Q241='IE1'!$AD$13),0,0)))","v":0},{"$f":"IF(P241=$AD$11,Accueil!$D$24,IF(('IE1'!P241='IE1'!$AD$12)*AND('IE1'!R241='IE1'!$AD$14),'IE1'!V241,IF(('IE1'!P241='IE1'!$AD$12)*AND('IE1'!R241='IE1'!$AD$13),0,0)))","v":0}]
[null,null,null,null,"2896","Machines pour le travail du caoutchouc ou des matières plastiques",93990805,259755456,15731878,2814383,0,0,null,null,"Marchandises industrielles","Marchandises industrielles","Présente","Présente","Chimie organique, non-organique et divers","Industrie hors métallurgie et sidérurgie",0,0,{"$f":"IF(O242=$AD$11,Accueil!$D$24,IF(('IE1'!O242='IE1'!$AD$12)*AND('IE1'!Q242='IE1'!$AD$14),'IE1'!U242,IF(('IE1'!O242='IE1'!$AD$12)*AND('IE1'!Q242='IE1'!$AD$13),0,0)))","v":0},{"$f":"IF(P242=$AD$11,Accueil!$D$24,IF(('IE1'!P242='IE1'!$AD$12)*AND('IE1'!R242='IE1'!$AD$14),'IE1'!V242,IF(('IE1'!P242='IE1'!$AD$12)*AND('IE1'!R242='IE1'!$AD$13),0,0)))","v":0}]
[null,null,null,null,"2899","Autres machines d'usage spécifique n.c.a.",155275259,98041446,11401803,8039457,0,0,null,null,"Marchandises industrielles","Marchandises industrielles","Présente","Présente","Aucun- Ratio par défaut","Industrie hors métallurgie et sidérurgie",0,0,{"$f":"IF(O243=$AD$11,Accueil!$D$24,IF(('IE1'!O243='IE1'!$AD$12)*AND('IE1'!Q243='IE1'!$AD$14),'IE1'!U243,IF(('IE1'!O243='IE1'!$AD$12)*AND('IE1'!Q243='IE1'!$AD$13),0,0)))","v":0},{"$f":"IF(P243=$AD$11,Accueil!$D$24,IF(('IE1'!P243='IE1'!$AD$12)*AND('IE1'!R243='IE1'!$AD$14),'IE1'!V243,IF(('IE1'!P243='IE1'!$AD$12)*AND('IE1'!R243='IE1'!$AD$13),0,0)))","v":0}]
[null,null,"C29A","Produits de la construction automobile","2910","Véhicules automobiles",4688653948,4097146811,351644890,496725206,0,0,null,null,"Biens de consommation","Marchandises industrielles",null,"Présente",null,"Biens d'équipement, matériels de transport…","",0,{"$f":"IF(O244=$AD$11,Accueil!$D$24,IF(('IE1'!O244='IE1'!$AD$12)*AND('IE1'!Q244='IE1'!$AD$14),'IE1'!U244,IF(('IE1'!O244='IE1'!$AD$12)*AND('IE1'!Q244='IE1'!$AD$13),0,0)))","v":0},{"$f":"IF(P244=$AD$11,Accueil!$D$24,IF(('IE1'!P244='IE1'!$AD$12)*AND('IE1'!R244='IE1'!$AD$14),'IE1'!V244,IF(('IE1'!P244='IE1'!$AD$12)*AND('IE1'!R244='IE1'!$AD$13),0,0)))","v":0}]
[null,null,null,null,"2920","Carrosseries automobiles ; remorques et semi-remorques",114014717,181254982,24700019,25712871,0,0,null,null,"Marchandises industrielles","Biens de consommation","Présente",null,"Biens d'équipement, matériels de transport…",null,0,"",{"$f":"IF(O245=$AD$11,Accueil!$D$24,IF(('IE1'!O245='IE1'!$AD$12)*AND('IE1'!Q245='IE1'!$AD$14),'IE1'!U245,IF(('IE1'!O245='IE1'!$AD$12)*AND('IE1'!Q245='IE1'!$AD$13),0,0)))","v":0},{"$f":"IF(P245=$AD$11,Accueil!$D$24,IF(('IE1'!P245='IE1'!$AD$12)*AND('IE1'!R245='IE1'!$AD$14),'IE1'!V245,IF(('IE1'!P245='IE1'!$AD$12)*AND('IE1'!R245='IE1'!$AD$13),0,0)))","v":0}]
[null,null,"C29B ","Équipements pour automobiles","2931","Équipements électriques et électroniques automobiles",489963788,521414306,60631137,49954916,0,0,null,null,"Marchandises industrielles","Biens de consommation","Présente",null,"Biens d'équipement, matériels de transport…",null,0,"",{"$f":"IF(O246=$AD$11,Accueil!$D$24,IF(('IE1'!O246='IE1'!$AD$12)*AND('IE1'!Q246='IE1'!$AD$14),'IE1'!U246,IF(('IE1'!O246='IE1'!$AD$12)*AND('IE1'!Q246='IE1'!$AD$13),0,0)))","v":0},{"$f":"IF(P246=$AD$11,Accueil!$D$24,IF(('IE1'!P246='IE1'!$AD$12)*AND('IE1'!R246='IE1'!$AD$14),'IE1'!V246,IF(('IE1'!P246='IE1'!$AD$12)*AND('IE1'!R246='IE1'!$AD$13),0,0)))","v":0}]
[null,null,null,null,"2932","Autres parties et accessoires pour véhicules automobiles",2371443338,548595421,377500680,207334746,0,0,null,null,"Marchandises industrielles","Biens de consommation","Présente",null,"Biens d'équipement, matériels de transport…",null,0,"",{"$f":"IF(O247=$AD$11,Accueil!$D$24,IF(('IE1'!O247='IE1'!$AD$12)*AND('IE1'!Q247='IE1'!$AD$14),'IE1'!U247,IF(('IE1'!O247='IE1'!$AD$12)*AND('IE1'!Q247='IE1'!$AD$13),0,0)))","v":0},{"$f":"IF(P247=$AD$11,Accueil!$D$24,IF(('IE1'!P247='IE1'!$AD$12)*AND('IE1'!R247='IE1'!$AD$14),'IE1'!V247,IF(('IE1'!P247='IE1'!$AD$12)*AND('IE1'!R247='IE1'!$AD$13),0,0)))","v":0}]
[null,null,"C30A","Navires et bateaux","3011","Navires et structures flottantes",3236053,576290,731720,119435,0,0,null,null,"Biens de consommation","Biens de consommation",null,null,null,null,"","",{"$f":"IF(O248=$AD$11,Accueil!$D$24,IF(('IE1'!O248='IE1'!$AD$12)*AND('IE1'!Q248='IE1'!$AD$14),'IE1'!U248,IF(('IE1'!O248='IE1'!$AD$12)*AND('IE1'!Q248='IE1'!$AD$13),0,0)))","v":0},{"$f":"IF(P248=$AD$11,Accueil!$D$24,IF(('IE1'!P248='IE1'!$AD$12)*AND('IE1'!R248='IE1'!$AD$14),'IE1'!V248,IF(('IE1'!P248='IE1'!$AD$12)*AND('IE1'!R248='IE1'!$AD$13),0,0)))","v":0}]
[null,null,null,null,"3012","Bateaux de plaisance",15285656,10660053,545363,546287,0,0,null,null,"Biens de consommation","Biens de consommation",null,null,null,null,"","",{"$f":"IF(O249=$AD$11,Accueil!$D$24,IF(('IE1'!O249='IE1'!$AD$12)*AND('IE1'!Q249='IE1'!$AD$14),'IE1'!U249,IF(('IE1'!O249='IE1'!$AD$12)*AND('IE1'!Q249='IE1'!$AD$13),0,0)))","v":0},{"$f":"IF(P249=$AD$11,Accueil!$D$24,IF(('IE1'!P249='IE1'!$AD$12)*AND('IE1'!R249='IE1'!$AD$14),'IE1'!V249,IF(('IE1'!P249='IE1'!$AD$12)*AND('IE1'!R249='IE1'!$AD$13),0,0)))","v":0}]
[null,null,"C30B","Matériel ferroviaire roulant","3020","Locomotives et autre matériel ferroviaire roulant",264275558,214577476,23741310,15636200,0,0,null,null,"Biens de consommation","Biens de consommation",null,null,null,null,"","",{"$f":"IF(O250=$AD$11,Accueil!$D$24,IF(('IE1'!O250='IE1'!$AD$12)*AND('IE1'!Q250='IE1'!$AD$14),'IE1'!U250,IF(('IE1'!O250='IE1'!$AD$12)*AND('IE1'!Q250='IE1'!$AD$13),0,0)))","v":0},{"$f":"IF(P250=$AD$11,Accueil!$D$24,IF(('IE1'!P250='IE1'!$AD$12)*AND('IE1'!R250='IE1'!$AD$14),'IE1'!V250,IF(('IE1'!P250='IE1'!$AD$12)*AND('IE1'!R250='IE1'!$AD$13),0,0)))","v":0}]
[null,null,"C30C ","Produits de la construction aéronautique","3030","Aéronefs et engins spatiaux",216206396,4468964,4142182,809030,0,0,null,null,"Biens de consommation","Biens de consommation",null,null,null,null,"","",{"$f":"IF(O251=$AD$11,Accueil!$D$24,IF(('IE1'!O251='IE1'!$AD$12)*AND('IE1'!Q251='IE1'!$AD$14),'IE1'!U251,IF(('IE1'!O251='IE1'!$AD$12)*AND('IE1'!Q251='IE1'!$AD$13),0,0)))","v":0},{"$f":"IF(P251=$AD$11,Accueil!$D$24,IF(('IE1'!P251='IE1'!$AD$12)*AND('IE1'!R251='IE1'!$AD$14),'IE1'!V251,IF(('IE1'!P251='IE1'!$AD$12)*AND('IE1'!R251='IE1'!$AD$13),0,0)))","v":0}]
[null,null,"C30E","Cycles et motocycles","3091","Motocycles",326917889,167064273,14619039,16496297,0,0,null,null,"Biens de consommation","Biens de consommation",null,null,null,null,"","",{"$f":"IF(O252=$AD$11,Accueil!$D$24,IF(('IE1'!O252='IE1'!$AD$12)*AND('IE1'!Q252='IE1'!$AD$14),'IE1'!U252,IF(('IE1'!O252='IE1'!$AD$12)*AND('IE1'!Q252='IE1'!$AD$13),0,0)))","v":0},{"$f":"IF(P252=$AD$11,Accueil!$D$24,IF(('IE1'!P252='IE1'!$AD$12)*AND('IE1'!R252='IE1'!$AD$14),'IE1'!V252,IF(('IE1'!P252='IE1'!$AD$12)*AND('IE1'!R252='IE1'!$AD$13),0,0)))","v":0}]
[null,null,null,null,"3092","Cycles et véhicules pour invalides",92188656,28962905,7272960,2308960,0,0,null,null,"Biens de consommation","Biens de consommation",null,null,null,null,"","",{"$f":"IF(O253=$AD$11,Accueil!$D$24,IF(('IE1'!O253='IE1'!$AD$12)*AND('IE1'!Q253='IE1'!$AD$14),'IE1'!U253,IF(('IE1'!O253='IE1'!$AD$12)*AND('IE1'!Q253='IE1'!$AD$13),0,0)))","v":0},{"$f":"IF(P253=$AD$11,Accueil!$D$24,IF(('IE1'!P253='IE1'!$AD$12)*AND('IE1'!R253='IE1'!$AD$14),'IE1'!V253,IF(('IE1'!P253='IE1'!$AD$12)*AND('IE1'!R253='IE1'!$AD$13),0,0)))","v":0}]
[null,null,null,null,"3099","Autres équipements de transport n.c.a.",9240487,2062459,1696844,417087,0,0,null,null,"Biens de consommation","Biens de consommation",null,null,null,null,"","",{"$f":"IF(O254=$AD$11,Accueil!$D$24,IF(('IE1'!O254='IE1'!$AD$12)*AND('IE1'!Q254='IE1'!$AD$14),'IE1'!U254,IF(('IE1'!O254='IE1'!$AD$12)*AND('IE1'!Q254='IE1'!$AD$13),0,0)))","v":0},{"$f":"IF(P254=$AD$11,Accueil!$D$24,IF(('IE1'!P254='IE1'!$AD$12)*AND('IE1'!R254='IE1'!$AD$14),'IE1'!V254,IF(('IE1'!P254='IE1'!$AD$12)*AND('IE1'!R254='IE1'!$AD$13),0,0)))","v":0}]
[null,null,"C31Z ","Meubles","3100","Sièges et leurs parties ; parties de meubles",474404685,37255936,116473422,12794099,0,0,null,null,"Biens de consommation","Biens de consommation",null,null,null,null,"","",{"$f":"IF(O255=$AD$11,Accueil!$D$24,IF(('IE1'!O255='IE1'!$AD$12)*AND('IE1'!Q255='IE1'!$AD$14),'IE1'!U255,IF(('IE1'!O255='IE1'!$AD$12)*AND('IE1'!Q255='IE1'!$AD$13),0,0)))","v":0},{"$f":"IF(P255=$AD$11,Accueil!$D$24,IF(('IE1'!P255='IE1'!$AD$12)*AND('IE1'!R255='IE1'!$AD$14),'IE1'!V255,IF(('IE1'!P255='IE1'!$AD$12)*AND('IE1'!R255='IE1'!$AD$13),0,0)))","v":0}]
[null,null,null,null,"3101","Meubles de bureau et de magasin",26936376,9802519,8513278,6601340,0,0,null,null,"Biens de consommation","Biens de consommation",null,null,null,null,"","",{"$f":"IF(O256=$AD$11,Accueil!$D$24,IF(('IE1'!O256='IE1'!$AD$12)*AND('IE1'!Q256='IE1'!$AD$14),'IE1'!U256,IF(('IE1'!O256='IE1'!$AD$12)*AND('IE1'!Q256='IE1'!$AD$13),0,0)))","v":0},{"$f":"IF(P256=$AD$11,Accueil!$D$24,IF(('IE1'!P256='IE1'!$AD$12)*AND('IE1'!R256='IE1'!$AD$14),'IE1'!V256,IF(('IE1'!P256='IE1'!$AD$12)*AND('IE1'!R256='IE1'!$AD$13),0,0)))","v":0}]
[null,null,null,null,"3102","Meubles de cuisine",52085209,4165768,19257633,2916736,0,0,null,null,"Biens de consommation","Biens de consommation",null,null,null,null,"","",{"$f":"IF(O257=$AD$11,Accueil!$D$24,IF(('IE1'!O257='IE1'!$AD$12)*AND('IE1'!Q257='IE1'!$AD$14),'IE1'!U257,IF(('IE1'!O257='IE1'!$AD$12)*AND('IE1'!Q257='IE1'!$AD$13),0,0)))","v":0},{"$f":"IF(P257=$AD$11,Accueil!$D$24,IF(('IE1'!P257='IE1'!$AD$12)*AND('IE1'!R257='IE1'!$AD$14),'IE1'!V257,IF(('IE1'!P257='IE1'!$AD$12)*AND('IE1'!R257='IE1'!$AD$13),0,0)))","v":0}]
[null,null,null,null,"3103","Sommiers et matelas",24320501,2868066,5168821,730537,0,0,null,null,"Biens de consommation","Biens de consommation",null,null,null,null,"","",{"$f":"IF(O258=$AD$11,Accueil!$D$24,IF(('IE1'!O258='IE1'!$AD$12)*AND('IE1'!Q258='IE1'!$AD$14),'IE1'!U258,IF(('IE1'!O258='IE1'!$AD$12)*AND('IE1'!Q258='IE1'!$AD$13),0,0)))","v":0},{"$f":"IF(P258=$AD$11,Accueil!$D$24,IF(('IE1'!P258='IE1'!$AD$12)*AND('IE1'!R258='IE1'!$AD$14),'IE1'!V258,IF(('IE1'!P258='IE1'!$AD$12)*AND('IE1'!R258='IE1'!$AD$13),0,0)))","v":0}]
[null,null,null,null,"3109","Autres meubles",241389150,88354604,84928884,55547573,0,0,null,null,"Biens de consommation","Biens de consommation",null,null,null,null,"","",{"$f":"IF(O259=$AD$11,Accueil!$D$24,IF(('IE1'!O259='IE1'!$AD$12)*AND('IE1'!Q259='IE1'!$AD$14),'IE1'!U259,IF(('IE1'!O259='IE1'!$AD$12)*AND('IE1'!Q259='IE1'!$AD$13),0,0)))","v":0},{"$f":"IF(P259=$AD$11,Accueil!$D$24,IF(('IE1'!P259='IE1'!$AD$12)*AND('IE1'!R259='IE1'!$AD$14),'IE1'!V259,IF(('IE1'!P259='IE1'!$AD$12)*AND('IE1'!R259='IE1'!$AD$13),0,0)))","v":0}]
[null,null,"C32A ","Bijoux, instruments de musique","3211","Monnaies",2982099,27440,3834,15,0,0,null,null,"Biens de consommation","Biens de consommation",null,null,null,null,"","",{"$f":"IF(O260=$AD$11,Accueil!$D$24,IF(('IE1'!O260='IE1'!$AD$12)*AND('IE1'!Q260='IE1'!$AD$14),'IE1'!U260,IF(('IE1'!O260='IE1'!$AD$12)*AND('IE1'!Q260='IE1'!$AD$13),0,0)))","v":0},{"$f":"IF(P260=$AD$11,Accueil!$D$24,IF(('IE1'!P260='IE1'!$AD$12)*AND('IE1'!R260='IE1'!$AD$14),'IE1'!V260,IF(('IE1'!P260='IE1'!$AD$12)*AND('IE1'!R260='IE1'!$AD$13),0,0)))","v":0}]
[null,null,null,null,"3212","Articles de joaillerie et bijouterie",27821987,7314907,28981,18899,0,0,null,null,"Biens de consommation","Biens de consommation",null,null,null,null,"","",{"$f":"IF(O261=$AD$11,Accueil!$D$24,IF(('IE1'!O261='IE1'!$AD$12)*AND('IE1'!Q261='IE1'!$AD$14),'IE1'!U261,IF(('IE1'!O261='IE1'!$AD$12)*AND('IE1'!Q261='IE1'!$AD$13),0,0)))","v":0},{"$f":"IF(P261=$AD$11,Accueil!$D$24,IF(('IE1'!P261='IE1'!$AD$12)*AND('IE1'!R261='IE1'!$AD$14),'IE1'!V261,IF(('IE1'!P261='IE1'!$AD$12)*AND('IE1'!R261='IE1'!$AD$13),0,0)))","v":0}]
[null,null,null,null,"3213","Articles de bijouterie fantaisie et articles similaires",105995282,13893097,1165129,145893,0,0,null,null,"Biens de consommation","Biens de consommation",null,null,null,null,"","",{"$f":"IF(O262=$AD$11,Accueil!$D$24,IF(('IE1'!O262='IE1'!$AD$12)*AND('IE1'!Q262='IE1'!$AD$14),'IE1'!U262,IF(('IE1'!O262='IE1'!$AD$12)*AND('IE1'!Q262='IE1'!$AD$13),0,0)))","v":0},{"$f":"IF(P262=$AD$11,Accueil!$D$24,IF(('IE1'!P262='IE1'!$AD$12)*AND('IE1'!R262='IE1'!$AD$14),'IE1'!V262,IF(('IE1'!P262='IE1'!$AD$12)*AND('IE1'!R262='IE1'!$AD$13),0,0)))","v":0}]
[null,null,null,null,"3220","Instruments de musique",1400460,188510,114913,48037,0,0,null,null,"Biens de consommation","Biens de consommation",null,null,null,null,"","",{"$f":"IF(O263=$AD$11,Accueil!$D$24,IF(('IE1'!O263='IE1'!$AD$12)*AND('IE1'!Q263='IE1'!$AD$14),'IE1'!U263,IF(('IE1'!O263='IE1'!$AD$12)*AND('IE1'!Q263='IE1'!$AD$13),0,0)))","v":0},{"$f":"IF(P263=$AD$11,Accueil!$D$24,IF(('IE1'!P263='IE1'!$AD$12)*AND('IE1'!R263='IE1'!$AD$14),'IE1'!V263,IF(('IE1'!P263='IE1'!$AD$12)*AND('IE1'!R263='IE1'!$AD$13),0,0)))","v":0}]
[null,null,"C32B","Instruments à usage médical, optique et dentaire","3250","Instruments et fournitures à usage médical et dentaire",318136192,110294749,11375118,13600516,0,0,null,null,"Biens de consommation","Biens de consommation",null,null,null,null,"","",{"$f":"IF(O264=$AD$11,Accueil!$D$24,IF(('IE1'!O264='IE1'!$AD$12)*AND('IE1'!Q264='IE1'!$AD$14),'IE1'!U264,IF(('IE1'!O264='IE1'!$AD$12)*AND('IE1'!Q264='IE1'!$AD$13),0,0)))","v":0},{"$f":"IF(P264=$AD$11,Accueil!$D$24,IF(('IE1'!P264='IE1'!$AD$12)*AND('IE1'!R264='IE1'!$AD$14),'IE1'!V264,IF(('IE1'!P264='IE1'!$AD$12)*AND('IE1'!R264='IE1'!$AD$13),0,0)))","v":0}]
[null,null,"C32C","Articles de sport, jeux et jouets ","3230","Articles de sport",94958791,41392340,20944662,31884156,0,0,null,null,"Biens de consommation","Biens de consommation",null,null,null,null,"","",{"$f":"IF(O265=$AD$11,Accueil!$D$24,IF(('IE1'!O265='IE1'!$AD$12)*AND('IE1'!Q265='IE1'!$AD$14),'IE1'!U265,IF(('IE1'!O265='IE1'!$AD$12)*AND('IE1'!Q265='IE1'!$AD$13),0,0)))","v":0},{"$f":"IF(P265=$AD$11,Accueil!$D$24,IF(('IE1'!P265='IE1'!$AD$12)*AND('IE1'!R265='IE1'!$AD$14),'IE1'!V265,IF(('IE1'!P265='IE1'!$AD$12)*AND('IE1'!R265='IE1'!$AD$13),0,0)))","v":0}]
[null,null,null,null,"3240","Jeux et jouets",198738481,171728861,19890366,7218322,0,0,null,null,"Biens de consommation","Biens de consommation",null,null,null,null,"","",{"$f":"IF(O266=$AD$11,Accueil!$D$24,IF(('IE1'!O266='IE1'!$AD$12)*AND('IE1'!Q266='IE1'!$AD$14),'IE1'!U266,IF(('IE1'!O266='IE1'!$AD$12)*AND('IE1'!Q266='IE1'!$AD$13),0,0)))","v":0},{"$f":"IF(P266=$AD$11,Accueil!$D$24,IF(('IE1'!P266='IE1'!$AD$12)*AND('IE1'!R266='IE1'!$AD$14),'IE1'!V266,IF(('IE1'!P266='IE1'!$AD$12)*AND('IE1'!R266='IE1'!$AD$13),0,0)))","v":0}]
[null,null,null,null,"3291","Articles de brosserie",76893905,4295599,7218477,1215543,0,0,null,null,"Biens de consommation","Biens de consommation",null,null,null,null,"","",{"$f":"IF(O267=$AD$11,Accueil!$D$24,IF(('IE1'!O267='IE1'!$AD$12)*AND('IE1'!Q267='IE1'!$AD$14),'IE1'!U267,IF(('IE1'!O267='IE1'!$AD$12)*AND('IE1'!Q267='IE1'!$AD$13),0,0)))","v":0},{"$f":"IF(P267=$AD$11,Accueil!$D$24,IF(('IE1'!P267='IE1'!$AD$12)*AND('IE1'!R267='IE1'!$AD$14),'IE1'!V267,IF(('IE1'!P267='IE1'!$AD$12)*AND('IE1'!R267='IE1'!$AD$13),0,0)))","v":0}]
[null,null,null,null,"3299","Autres produits manufacturés n.c.a.",164549533,50808570,21794648,15940146,0,0,null,null,"Biens de consommation","Biens de consommation",null,null,null,null,"","",{"$f":"IF(O268=$AD$11,Accueil!$D$24,IF(('IE1'!O268='IE1'!$AD$12)*AND('IE1'!Q268='IE1'!$AD$14),'IE1'!U268,IF(('IE1'!O268='IE1'!$AD$12)*AND('IE1'!Q268='IE1'!$AD$13),0,0)))","v":0},{"$f":"IF(P268=$AD$11,Accueil!$D$24,IF(('IE1'!P268='IE1'!$AD$12)*AND('IE1'!R268='IE1'!$AD$14),'IE1'!V268,IF(('IE1'!P268='IE1'!$AD$12)*AND('IE1'!R268='IE1'!$AD$13),0,0)))","v":0}]
[null,null,"D35A","Electricité","3511","Électricité",0,0,0,0,0,0,null,null,"Amont de l'énergie","Amont de l'énergie","Amont de l'énergie","Amont de l'énergie","Amont de l'énergie","Amont de l'énergie","","",{"$f":"IF(O269=$AD$11,Accueil!$D$24,IF(('IE1'!O269='IE1'!$AD$12)*AND('IE1'!Q269='IE1'!$AD$14),'IE1'!U269,IF(('IE1'!O269='IE1'!$AD$12)*AND('IE1'!Q269='IE1'!$AD$13),0,0)))","v":0},{"$f":"IF(P269=$AD$11,Accueil!$D$24,IF(('IE1'!P269='IE1'!$AD$12)*AND('IE1'!R269='IE1'!$AD$14),'IE1'!V269,IF(('IE1'!P269='IE1'!$AD$12)*AND('IE1'!R269='IE1'!$AD$13),0,0)))","v":0}]
[null,null,"D35B","Gaz manufacturé","3521","Gaz manufacturé",0,0,0,0,0,0,null,null,null,null,null,null,null,null,"","",{"$f":"IF(O270=$AD$11,Accueil!$D$24,IF(('IE1'!O270='IE1'!$AD$12)*AND('IE1'!Q270='IE1'!$AD$14),'IE1'!U270,IF(('IE1'!O270='IE1'!$AD$12)*AND('IE1'!Q270='IE1'!$AD$13),0,0)))","v":0},{"$f":"IF(P270=$AD$11,Accueil!$D$24,IF(('IE1'!P270='IE1'!$AD$12)*AND('IE1'!R270='IE1'!$AD$14),'IE1'!V270,IF(('IE1'!P270='IE1'!$AD$12)*AND('IE1'!R270='IE1'!$AD$13),0,0)))","v":0}]
[null,null,"E37Z ","Boues d'épuration et ordures ménagères","3700","Collecte et traitement des eaux usées ; boues d'épuration",89151,14972,262397,340540,0,0,null,null,"Services","Services","Services","Services","Services","Services","","",{"$f":"IF(O271=$AD$11,Accueil!$D$24,IF(('IE1'!O271='IE1'!$AD$12)*AND('IE1'!Q271='IE1'!$AD$14),'IE1'!U271,IF(('IE1'!O271='IE1'!$AD$12)*AND('IE1'!Q271='IE1'!$AD$13),0,0)))","v":0},{"$f":"IF(P271=$AD$11,Accueil!$D$24,IF(('IE1'!P271='IE1'!$AD$12)*AND('IE1'!R271='IE1'!$AD$14),'IE1'!V271,IF(('IE1'!P271='IE1'!$AD$12)*AND('IE1'!R271='IE1'!$AD$13),0,0)))","v":0}]
[null,null,"E38Z ","Déchets industriels","3811","Déchets non dangereux ; collecte des déchets non dangereux",309684399,479714665,1158635826,2396673292,0,0,null,null,"Biens de consommation","Marchandises industrielles",null,"Présente",null,"Industrie total (IDEC)","",0,{"$f":"IF(O272=$AD$11,Accueil!$D$24,IF(('IE1'!O272='IE1'!$AD$12)*AND('IE1'!Q272='IE1'!$AD$14),'IE1'!U272,IF(('IE1'!O272='IE1'!$AD$12)*AND('IE1'!Q272='IE1'!$AD$13),0,0)))","v":0},{"$f":"IF(P272=$AD$11,Accueil!$D$24,IF(('IE1'!P272='IE1'!$AD$12)*AND('IE1'!R272='IE1'!$AD$14),'IE1'!V272,IF(('IE1'!P272='IE1'!$AD$12)*AND('IE1'!R272='IE1'!$AD$13),0,0)))","v":0}]
[null,null,null,null,"3812","Déchets dangereux ; collecte des déchets dangereux",8630990,29642474,17865517,35132679,0,0,null,null,"Biens de consommation","Marchandises industrielles",null,"Présente",null,"Industrie total (IDEC)","",0,{"$f":"IF(O273=$AD$11,Accueil!$D$24,IF(('IE1'!O273='IE1'!$AD$12)*AND('IE1'!Q273='IE1'!$AD$14),'IE1'!U273,IF(('IE1'!O273='IE1'!$AD$12)*AND('IE1'!Q273='IE1'!$AD$13),0,0)))","v":0},{"$f":"IF(P273=$AD$11,Accueil!$D$24,IF(('IE1'!P273='IE1'!$AD$12)*AND('IE1'!R273='IE1'!$AD$14),'IE1'!V273,IF(('IE1'!P273='IE1'!$AD$12)*AND('IE1'!R273='IE1'!$AD$13),0,0)))","v":0}]
[null,null,null,null,"3821","Traitement et élimination des déchets non dangereux",113127,0,1379807,0,{"$f":"IF($M$11=$AG$11,M274,W274)","v":0},{"$f":"IF($M$11=$AG$11,N274,X274)","v":0},null,null,"Biens de consommation","Marchandises industrielles",null,"Présente",null,"Industrie total (IDEC)",{"$f":"IFERROR(IF(S274=\"\",\"\",VLOOKUP(S274,$AD$20:$AG$49,4,FALSE)),\"\")","v":""},{"$f":"IFERROR(IF(T274=\"\",\"\",VLOOKUP(T274,$AD$20:$AG$49,4,FALSE)),\"\")","v":0},{"$f":"IF(O274=$AD$11,Accueil!$D$24,IF(('IE1'!O274='IE1'!$AD$12)*AND('IE1'!Q274='IE1'!$AD$14),'IE1'!U274,IF(('IE1'!O274='IE1'!$AD$12)*AND('IE1'!Q274='IE1'!$AD$13),0,0)))","v":0},{"$f":"IF(P274=$AD$11,Accueil!$D$24,IF(('IE1'!P274='IE1'!$AD$12)*AND('IE1'!R274='IE1'!$AD$14),'IE1'!V274,IF(('IE1'!P274='IE1'!$AD$12)*AND('IE1'!R274='IE1'!$AD$13),0,0)))","v":0}]
[null,null,null,null,"3832","Récupération de matériaux triés ; \nmatières premières secondaires",0,0,0,0,0,0,null,null,"Biens de consommation","Marchandises industrielles",null,"Présente",null,"Industrie total (IDEC)","",0,{"$f":"IF(O275=$AD$11,Accueil!$D$24,IF(('IE1'!O275='IE1'!$AD$12)*AND('IE1'!Q275='IE1'!$AD$14),'IE1'!U275,IF(('IE1'!O275='IE1'!$AD$12)*AND('IE1'!Q275='IE1'!$AD$13),0,0)))","v":0},{"$f":"IF(P275=$AD$11,Accueil!$D$24,IF(('IE1'!P275='IE1'!$AD$12)*AND('IE1'!R275='IE1'!$AD$14),'IE1'!V275,IF(('IE1'!P275='IE1'!$AD$12)*AND('IE1'!R275='IE1'!$AD$13),0,0)))","v":0}]
[null,null,"J58Z","Produits de l'édition, logiciels","5811","Édition de livres",33168478,6479030,11390522,2411005,0,0,null,null,"Biens de consommation","Biens de consommation",null,null,null,null,"","",{"$f":"IF(O276=$AD$11,Accueil!$D$24,IF(('IE1'!O276='IE1'!$AD$12)*AND('IE1'!Q276='IE1'!$AD$14),'IE1'!U276,IF(('IE1'!O276='IE1'!$AD$12)*AND('IE1'!Q276='IE1'!$AD$13),0,0)))","v":0},{"$f":"IF(P276=$AD$11,Accueil!$D$24,IF(('IE1'!P276='IE1'!$AD$12)*AND('IE1'!R276='IE1'!$AD$14),'IE1'!V276,IF(('IE1'!P276='IE1'!$AD$12)*AND('IE1'!R276='IE1'!$AD$13),0,0)))","v":0}]
[null,null,null,null,"5813","Édition de journaux",54001,0,18264,11656,0,0,null,null,"Biens de consommation","Biens de consommation",null,null,null,null,"","",{"$f":"IF(O277=$AD$11,Accueil!$D$24,IF(('IE1'!O277='IE1'!$AD$12)*AND('IE1'!Q277='IE1'!$AD$14),'IE1'!U277,IF(('IE1'!O277='IE1'!$AD$12)*AND('IE1'!Q277='IE1'!$AD$13),0,0)))","v":0},{"$f":"IF(P277=$AD$11,Accueil!$D$24,IF(('IE1'!P277='IE1'!$AD$12)*AND('IE1'!R277='IE1'!$AD$14),'IE1'!V277,IF(('IE1'!P277='IE1'!$AD$12)*AND('IE1'!R277='IE1'!$AD$13),0,0)))","v":0}]
[null,null,null,null,"5814","Édition de revues et périodiques",4088087,74294,3176488,207,0,0,null,null,"Biens de consommation","Biens de consommation",null,null,null,null,"","",{"$f":"IF(O278=$AD$11,Accueil!$D$24,IF(('IE1'!O278='IE1'!$AD$12)*AND('IE1'!Q278='IE1'!$AD$14),'IE1'!U278,IF(('IE1'!O278='IE1'!$AD$12)*AND('IE1'!Q278='IE1'!$AD$13),0,0)))","v":0},{"$f":"IF(P278=$AD$11,Accueil!$D$24,IF(('IE1'!P278='IE1'!$AD$12)*AND('IE1'!R278='IE1'!$AD$14),'IE1'!V278,IF(('IE1'!P278='IE1'!$AD$12)*AND('IE1'!R278='IE1'!$AD$13),0,0)))","v":0}]
[null,null,null,null,"5819","Autres activités d'édition",102098941,28117827,71958525,18407202,0,0,null,null,"Biens de consommation","Biens de consommation",null,null,null,null,"","",{"$f":"IF(O279=$AD$11,Accueil!$D$24,IF(('IE1'!O279='IE1'!$AD$12)*AND('IE1'!Q279='IE1'!$AD$14),'IE1'!U279,IF(('IE1'!O279='IE1'!$AD$12)*AND('IE1'!Q279='IE1'!$AD$13),0,0)))","v":0},{"$f":"IF(P279=$AD$11,Accueil!$D$24,IF(('IE1'!P279='IE1'!$AD$12)*AND('IE1'!R279='IE1'!$AD$14),'IE1'!V279,IF(('IE1'!P279='IE1'!$AD$12)*AND('IE1'!R279='IE1'!$AD$13),0,0)))","v":0}]
[null,null,null,null,"5829","Édition d'autres logiciels",33523641,12161485,53073,32862,0,0,null,null,"Biens de consommation","Biens de consommation",null,null,null,null,"","",{"$f":"IF(O280=$AD$11,Accueil!$D$24,IF(('IE1'!O280='IE1'!$AD$12)*AND('IE1'!Q280='IE1'!$AD$14),'IE1'!U280,IF(('IE1'!O280='IE1'!$AD$12)*AND('IE1'!Q280='IE1'!$AD$13),0,0)))","v":0},{"$f":"IF(P280=$AD$11,Accueil!$D$24,IF(('IE1'!P280='IE1'!$AD$12)*AND('IE1'!R280='IE1'!$AD$14),'IE1'!V280,IF(('IE1'!P280='IE1'!$AD$12)*AND('IE1'!R280='IE1'!$AD$13),0,0)))","v":0}]
[null,null,"J59Z","CD et DVD enregistrés","5911","Production de films cinématographiques, de vidéos et de programmes de télévision",10584291,2253051,175725,20573,0,0,null,null,"Biens de consommation","Biens de consommation",null,null,null,null,"","",{"$f":"IF(O281=$AD$11,Accueil!$D$24,IF(('IE1'!O281='IE1'!$AD$12)*AND('IE1'!Q281='IE1'!$AD$14),'IE1'!U281,IF(('IE1'!O281='IE1'!$AD$12)*AND('IE1'!Q281='IE1'!$AD$13),0,0)))","v":0},{"$f":"IF(P281=$AD$11,Accueil!$D$24,IF(('IE1'!P281='IE1'!$AD$12)*AND('IE1'!R281='IE1'!$AD$14),'IE1'!V281,IF(('IE1'!P281='IE1'!$AD$12)*AND('IE1'!R281='IE1'!$AD$13),0,0)))","v":0}]
[null,null,null,null,"5920","Enregistrement sonore et édition musicale",3751501,290480,88146,6777,0,0,null,null,"Biens de consommation","Biens de consommation",null,null,null,null,"","",{"$f":"IF(O282=$AD$11,Accueil!$D$24,IF(('IE1'!O282='IE1'!$AD$12)*AND('IE1'!Q282='IE1'!$AD$14),'IE1'!U282,IF(('IE1'!O282='IE1'!$AD$12)*AND('IE1'!Q282='IE1'!$AD$13),0,0)))","v":0},{"$f":"IF(P282=$AD$11,Accueil!$D$24,IF(('IE1'!P282='IE1'!$AD$12)*AND('IE1'!R282='IE1'!$AD$14),'IE1'!V282,IF(('IE1'!P282='IE1'!$AD$12)*AND('IE1'!R282='IE1'!$AD$13),0,0)))","v":0}]
[null,null,"M71Z ","Plans et dessins techniques","7111","Services d'architecture",248873,11691,8234,3096,0,0,null,null,"Services","Services","Services","Services","Services","Services","","",{"$f":"IF(O283=$AD$11,Accueil!$D$24,IF(('IE1'!O283='IE1'!$AD$12)*AND('IE1'!Q283='IE1'!$AD$14),'IE1'!U283,IF(('IE1'!O283='IE1'!$AD$12)*AND('IE1'!Q283='IE1'!$AD$13),0,0)))","v":0},{"$f":"IF(P283=$AD$11,Accueil!$D$24,IF(('IE1'!P283='IE1'!$AD$12)*AND('IE1'!R283='IE1'!$AD$14),'IE1'!V283,IF(('IE1'!P283='IE1'!$AD$12)*AND('IE1'!R283='IE1'!$AD$13),0,0)))","v":0}]
[null,null,"M74Z","Plaques et films photographiques exposés","7420","Services photographiques",750896,295174,28682,1775,0,0,null,null,null,null,null,null,null,null,"","",{"$f":"IF(O284=$AD$11,Accueil!$D$24,IF(('IE1'!O284='IE1'!$AD$12)*AND('IE1'!Q284='IE1'!$AD$14),'IE1'!U284,IF(('IE1'!O284='IE1'!$AD$12)*AND('IE1'!Q284='IE1'!$AD$13),0,0)))","v":0},{"$f":"IF(P284=$AD$11,Accueil!$D$24,IF(('IE1'!P284='IE1'!$AD$12)*AND('IE1'!R284='IE1'!$AD$14),'IE1'!V284,IF(('IE1'!P284='IE1'!$AD$12)*AND('IE1'!R284='IE1'!$AD$13),0,0)))","v":0}]
[null,null,"R90Z ","Tableaux, gravures, sculptures","9003","Création artistique",22628206,729828,104960,18466,0,0,null,null,null,null,null,null,null,null,"","",{"$f":"IF(O285=$AD$11,Accueil!$D$24,IF(('IE1'!O285='IE1'!$AD$12)*AND('IE1'!Q285='IE1'!$AD$14),'IE1'!U285,IF(('IE1'!O285='IE1'!$AD$12)*AND('IE1'!Q285='IE1'!$AD$13),0,0)))","v":0},{"$f":"IF(P285=$AD$11,Accueil!$D$24,IF(('IE1'!P285='IE1'!$AD$12)*AND('IE1'!R285='IE1'!$AD$14),'IE1'!V285,IF(('IE1'!P285='IE1'!$AD$12)*AND('IE1'!R285='IE1'!$AD$13),0,0)))","v":0}]
[null,null,"R97Z","Objets d'antiquité et de collection","9102","Services des musées",8571009,434405,643187,27283,0,0,null,null,null,null,null,null,null,null,"","",{"$f":"IF(O286=$AD$11,Accueil!$D$24,IF(('IE1'!O286='IE1'!$AD$12)*AND('IE1'!Q286='IE1'!$AD$14),'IE1'!U286,IF(('IE1'!O286='IE1'!$AD$12)*AND('IE1'!Q286='IE1'!$AD$13),0,0)))","v":0},{"$f":"IF(P286=$AD$11,Accueil!$D$24,IF(('IE1'!P286='IE1'!$AD$12)*AND('IE1'!R286='IE1'!$AD$14),'IE1'!V286,IF(('IE1'!P286='IE1'!$AD$12)*AND('IE1'!R286='IE1'!$AD$13),0,0)))","v":0}]
[null,null,"S96Z","Cheveux bruts","9602","Services de coiffure et soins de beauté",12934,2,49,0,0,0,null,null,null,null,null,null,null,null,"","",{"$f":"IF(O287=$AD$11,Accueil!$D$24,IF(('IE1'!O287='IE1'!$AD$12)*AND('IE1'!Q287='IE1'!$AD$14),'IE1'!U287,IF(('IE1'!O287='IE1'!$AD$12)*AND('IE1'!Q287='IE1'!$AD$13),0,0)))","v":0},{"$f":"IF(P287=$AD$11,Accueil!$D$24,IF(('IE1'!P287='IE1'!$AD$12)*AND('IE1'!R287='IE1'!$AD$14),'IE1'!V287,IF(('IE1'!P287='IE1'!$AD$12)*AND('IE1'!R287='IE1'!$AD$13),0,0)))","v":0}]
[null,null,"Total",null,null,null,{"$f":"SUM(G17:G287)","v":56420393347.09671},{"$f":"SUM(H17:H287)","v":30381727280.341053},{"$f":"SUM(I17:I47,I49:I268,I271:I287)","v":55418294074},{"$f":"SUM(J17:J45,J47,J49:J268,J271:J287)","v":30489627916}]
[]
[]
[]
[]
["B.","Imports / exports - données agrégées par poste"]
[]
[]
[]
[null,null,null,null,null,null,"Imports","Exports","Imports","Exports","Imports","Exports","Imports","Exports"]
[null,null,null,null,null,null,"(euros)","(euros)","(kg)","(kg)","(%€)","(%€)","(% kg)","(% kg)"]
[null,null,"Consommation",null,null,null,{"$f":"G384","v":46080524841.09671},{"$f":"H384","v":23959795165.341049},{"$f":"I384","v":36988349332},{"$f":"J384","v":15305079867},{"$f":"G299/G$304","v":0.8167352637478188},{"$f":"H299/$H$304","v":0.78862518066392473},{"$f":"I299/I$304","v":0.66743933479095352},0.50197660362291185]
[null,null,"Alimentation",null,null,null,{"$f":"G420","v":7097403864},{"$f":"H420","v":5900450823},{"$f":"I420","v":5600118340},{"$f":"J420","v":13799701524},{"$f":"G300/G$304","v":0.12579500855899686},{"$f":"H300/$H$304","v":0.19421051240947629},0.10105179947477573,0.45260314629022907]
[null,null,"Services",null,null,null,{"$f":"G434","v":32301069},{"$f":"H434","v":1486072},{"$f":"I434","v":1047509},{"$f":"J434","v":391160},{"$f":"G301/G$304","v":5.7250697990148187E-4},{"$f":"H301/$H$304","v":4.8913348022894836E-5},1.8901862958850053E-5,1.2829280864878364E-5]
[null,null,"Energie",null,null,null,{"$f":"G448","v":2676509587},{"$f":"H448","v":253471940},{"$f":"I448","v":10711448535},{"$f":"J448","v":802320833},{"$f":"G302/G$304","v":4.7438690661622769E-2},{"$f":"H302/$H$304","v":8.342907487159653E-3},0.19328362076062847,2.6314549826925476E-2]
[null,null,"Travaux",null,null,null,{"$f":"G457","v":533653986},{"$f":"H457","v":266523280},{"$f":"I457","v":2117330358},{"$f":"J457","v":582134532},{"$f":"G303/G$304","v":9.4585300516601394E-3},{"$f":"H303/$H$304","v":8.7724860914164642E-3},3.8206343110683459E-2,1.9092870979068723E-2]
[null,null,"Total",null,null,null,{"$f":"SUM(G299:G303)","v":56420393347.09671},30381727280.341049,55418294074,30489627916,1,1,1,1]
[]
[]
[]
[]
["C.","Imports / exports - données détaillées par poste"]
[]
[null,"Imports / exports - produits de consommation"]
[]
[null,null,null,null,null,null,null,null,null,null,null,null,null,null,"Facteur de modulation territorial",null,"Prix "]
[null,null,"Nomenclature\nA129",null,"Nomenclature\nCPF4",null,"Imports","Exports","Imports","Exports","Imports","Exports","Imports","Exports","Imports","Exports","Imports","Exports"]
[null,null,null,null,null,null,"(euros)","(euros)","(kg)","(kg)","(%euros)","(%euros)","(% kg)","(% kg)","%","%","euro/kg","euro/kg"]
[null,null,"A01Z : Produits de la culture et de l'élevage",null,"0115, 0116, 0130 : Tabac brut / plantes textiles / plants de pépinières",null,{"$f":"SUMIFSEVERAL(G$17:G$288,$E$17:$E$287,$E316)","v":86506472},{"$f":"SUMIFSEVERAL(H$17:H$288,$E$17:$E$287,$E316)","v":2665131},{"$f":"SUMIFSEVERAL(I$17:I$288,$E$17:$E$287,$E316)","v":31141405},{"$f":"SUMIFSEVERAL(J$17:J$288,$E$17:$E$287,$E316)","v":2347854},{"$f":"G316/$G$384","v":1.8772892083653004E-3},{"$f":"H316/$H$384","v":1.1123346345862068E-4},{"$f":"I316/$I$384","v":8.4192470230236554E-4},0,{"$f":"SumProductIFseveral($I$17:$I$287,K$17:K$287,$E$17:$E$287,$E316)/$I316","v":0},{"$f":"SumProductIFseveral($J$17:$J$287,L$17:L$287,$E$17:$E$287,$E316)/$J316","v":0},{"$f":"G316/I316","v":2.7778602795859726},{"$f":"H316/J316","v":1.1351348933962675}]
[null,null,"A02Z : Produits sylvicoles",null,"0210, 0220, 0230 : Bois brut",null,{"$f":"SUMIFSEVERAL(G$17:G$288,$E$17:$E$287,$E317)","v":12986755},5190052,111568558,259706618,2.8182741070730645E-4,2.1661504049532319E-4,{"$f":"I317/$I$384","v":3.0163162188878182E-3},1,{"$f":"SumProductIFseveral($I$17:$I$287,K$17:K$287,$E$17:$E$287,$E317)/$I317","v":0},{"$f":"SumProductIFseveral($J$17:$J$287,L$17:L$287,$E$17:$E$287,$E317)/$J317","v":0},{"$f":"G317/I317","v":0.11640156718705641},{"$f":"H317/J317","v":1.9984288579045759E-2}]
[null,null,"B07Z : minerais métalliques",null,"0710, 0721, 0729",null,736866262.09671307,73836436,10485311105,248079292,1.5990839180710505E-2,3.0816806024622371E-3,0.28347604838718138,1,0,0,7.0276051393967018E-2,0.29763240375581207]
[null,null,"B08Z : produits divers des industries extractives",null,"0811, 0812, 0891, 0892, 0893, 0899",null,{"$f":"SUMIFSEVERAL(G$17:G$288,$E$17:$E$287,$E319)","v":179722555},31558731,8009837036,1391730260,3.9001846359118558E-3,1.3171536226507963E-3,0.21655027003517541,1,{"$f":"SumProductIFseveral($I$17:$I$287,K$17:K$287,$E$17:$E$287,$E319)/$I319","v":0},0,2.2437729281162867E-2,2.2675896261679328E-2]
[null,null,"C12Z : Tabacs manufacturés",null,"1200 : Produits à base de tabac",null,1274609,43967,95955,763,2.7660470543582996E-5,1.8350323822300575E-6,2.5941952461497317E-6,1,0,0,13.283403678807774,57.623853211009177]
[null,null,"C13Z : produits de l'industrie textile",null,"1310, 1320, 1391, 1392, 1393, 1394, 1395, 1396, 1399",null,1026102884,822295810,191346223,234711711,2.2267604102566008E-2,3.4319818025384828E-2,5.1731484766328641E-3,1,0,0,5.362545797415609,3.5034289788803936]
[null,null,"C14Z : articles d'habillement",null,"1411, 1412, 1413, 1414, 1419, 1420, 1431, 1439",null,3821436397,1598780421,199096600,145404780,8.2929532816255355E-2,6.672763310233594E-2,5.3826841044716236E-3,0,0,0,19.193880744322104,10.995377325284629]
[null,null,"C15Z : cuir, bagages et chaussures",null,"1511, 1512, 1520",null,708496288,291464964,41598617,15377793,1.5375178352311881E-2,1.2164751909966975E-2,1.1246410762107593E-3,1,0,0,17.031726992269959,18.95362774098988]
[null,null,"C16Z : bois, articles en bois",null,"1610, 1621, 1622, 1623, 1624, 1629",null,451081633,79878699,710730010,112010868,9.7889864439587478E-3,3.3338640188188347E-3,1.9214969654921071E-2,0,0,0,0.6346736829080849,0.71313347022719265]
[null,null,"C17A : pâtes à papier, papier et carton",null,"1711, 1712",null,589788686,134532828,888637056,326779450,1.2799087858348341E-2,5.6149406566967635E-3,2.402478272344008E-2,1,0,0,0.66370030601109664,0.41169304862958794]
[null,null,"C17B : articles en papier ou en carton",null,"1721, 1722, 1723, 1724, 1729",null,753175215,375015825,354724475,277617810,1.63447620789311E-2,1.5651879426017704E-2,9.5901677529879551E-3,1,0,0,2.1232682492517609,1.3508348942022128]
[null,null,"C18Z : matériel d'impression et de reproduction",null,1813,null,3942487,86555469,164525,17633721,8.5556469106964474E-5,3.612529589785746E-3,4.448022227844141E-6,1,0,0,23.962844552499622,4.908519818363918]
[null,null,"C20A : produits chimiques de base, matières plastiques",null,"2011, 2012, 2013 : produits chimiques inorganiques",null,697284541,235116363,1229954004,403921141,1.5131870641762524E-2,9.8129537993758269E-3,3.325247074315698E-2,{"$f":"J328/$J$384","v":2.6391312198959072E-2},0,0,0.5669192008256595,0.58208481590717231]
[null,null,null,null,"2014 : Autres produits chimiques organiques de base",null,1389244900,1150578811,1232722094,527275295,3.0148200455412524E-2,4.8021229023876025E-2,3.3327307551232789E-2,3.4450999248745048E-2,0,0,1.1269733111476137,2.1821216012026508]
[null,null,null,null,"2015 : Engrais et composés azotés",null,282399106,29046300,1730010230,125573406,6.1283830202416359E-3,1.2122933355464081E-3,4.6771760871829542E-2,8.2046880572478886E-3,0,0,0.16323551219694232,0.2313093267534688]
[null,null,null,null,"2016 : Matières plastiques sous formes primaires",null,1121720598,1014670219,722976045,995039143,2.4342617664797048E-2,4.2348868677632406E-2,1.9546047824700478E-2,6.5013652437413971E-2,0,0,1.5515321783586895,1.0197289484922303]
[null,null,null,null,"2017 : Caoutchouc synthétique sous formes primaires",null,74321374,526045,49265887,1899386,1.6128586698239342E-3,2.1955321252535098E-5,1.3319298614220194E-3,1.2410167189622808E-4,0,0,1.5085767967599975,0.27695528976205996]
[null,null,"C20B : parfums, cosmétiques et produits d'entretien",null,"2041, 2042",null,931202936,435684211,418376339,698088311,2.0208166882021074E-2,1.8183970605484864E-2,1.1311030271849602E-2,4.5611543165167072E-2,0,0,2.2257543010815439,0.62411045155001887]
[null,null,"C20C : produits chimiques divers",null,"2020, 2030, 2051, 2052, 2053, 2059, 2060",null,2031468602,672323143,538498212,842500842,4.4085188026943736E-2,2.8060471233599962E-2,1.4558589981038303E-2,5.5047137899394798E-2,0,0,3.7724704682956309,0.79800886774662716]
[null,null,"C21Z : produits pharmaceutiques",null,"2110, 2120",null,1174966116,1518345251,58284179,46206483,2.549810619674435E-2,6.3370543884964284E-2,1.5757442560318901E-3,3.0190291982486132E-3,0,0,20.159263391185455,32.860004753012689]
[null,null,"C22A : produits en caoutchouc",null,"2211, 2219",null,986735475,342643263,245176051,125416617,2.1413286380800603E-2,1.430075927759388E-2,6.6284669477772304E-3,8.1944438114574386E-3,0,0,4.024599755870935,2.7320403882365922]
[null,null,"C22B : produits en plastique",null,"2221, 2222, 2223, 2229",null,1557993563,553286209,453242877,256278470,3.3810239105838275E-2,2.3092276256199137E-2,1.2253665956590354E-2,1.6744667275639249E-2,0,0,3.4374363990280647,2.1589258317329585]
[null,null,"C23A : verre et articles en verre",null,"2311, 2312: verre plat",null,214985485,186671833,209679840,346105207,4.665430477221174E-3,7.7910446108499891E-3,5.6688077134222949E-3,2.2613747200774408E-2,0,0,1.0253035532648251,0.53934996996447959]
[null,null,null,null,"2313 : verre creux",null,184351434,387677802,145285265,344007733,4.000636595084677E-3,1.6180347090812942E-2,3.9278656015695268E-3,2.2476702897952932E-2,0,0,1.2688928502143697,1.1269450213202039]
[null,null,null,null,"2314 : fibre de verre",null,31188478,7314850,14284584,2713096,6.7682558103558524E-4,3.0529685039132841E-4,3.8619144292664808E-4,1.7726767998446278E-4,0,0,2.1833662079343719,2.6961264916538155]
[null,null,null,null,"2319 : autres articles en verre travaillé",null,76983342,92409346,19459217,30427290,1.6706264146397645E-3,3.8568504180567617E-3,5.2609044067735962E-4,1.9880516968490774E-3,0,0,3.956137700710157,3.0370547623531374]
[null,null,"C24A : produits sidérurgiques et acier",null,"2410, 2420, 2431, 2432, 2433, 2434",null,2340152018,{"$f":"SUMIFSEVERAL(H$17:H$288,$E$17:$E$287,$E342)","v":2564404672.3410501},4112528858,3076673236,5.0783970583445824E-2,0.10702949063815788,0.111184438675183,0.20102301083928084,0,0,{"$f":"G342/I342","v":0.56902993238521848},{"$f":"H342/J342","v":0.83349919722870769}]
[null,null,"C24B : métaux non ferreux",null,"2441 : Métaux précieux",null,5437513,6553336,11436,21084,1.1800024020452516E-4,2.7351385747569762E-4,3.0917843608950371E-7,1.3775818344770745E-6,0,0,475.47332983560688,310.8203376968317]
[null,null,null,null,"2442 : Aluminium",null,547513540,246737429,696529941,157128257,1.1881668923868299E-2,1.0297977394936876E-2,1.8831063120662322E-2,1.0266412090981086E-2,{"$f":"SumProductIFseveral($I$17:$I$287,K$17:K$287,$E$17:$E$287,$E344)/$I344","v":0},0,0.78605887237803607,1.5702931713930997]
[null,null,null,null,"2443 : Plomb, zinc et étain",null,250616969,187823292,137039032,81585920,5.4386743611150971E-3,7.8391025759558686E-3,3.7049242389803651E-3,5.3306432053263067E-3,0,0,1.8287999071680541,2.3021532637004034]
[null,null,null,null,"2444, 2445 : Cuivre et autres métaux non ferreux",null,896512753,519158396,200641746,108914863,1.9455350304527112E-2,2.166789792723214E-2,5.4244579610482199E-3,7.1162557756288772E-3,0,0,4.4682264327982875,4.7666441631570526]
[null,null,"C24C : produits de fonderie",null,"2451, 2452",null,15143065,1350001,7549571,18875,3.2862179960447684E-4,5.6344429937065524E-5,2.0410672918211531E-4,1.2332506699750893E-6,0,0,2.0058179464766939,71.523231788079471]
[null,null,"C25A : éléments en métal pour la construction",null,"2511, 2512",null,205988693,43038151,92710393,25938192,{"$f":"G348/$G$384","v":4.4701898190250191E-3},{"$f":"H348/$H$384","v":1.7962653980555174E-3},2.5064755436326751E-3,1.694743982089669E-3,0,0,2.2218511467209505,1.6592579390267448]
[null,null,"C25B : produits pour la chaudronnerie",null,"2521, 2529, 2530",null,{"$f":"SUMIFSEVERAL(G$17:G$288,$E$17:$E$287,$E349)","v":126631930},44954132,33702520,6111193,2.748057458908625E-3,1.876231899721256E-3,9.1116582947492312E-4,3.9929180723693119E-4,0,0,3.7573430710819249,7.356032120078682]
[null,null,"C25C : armes et munitions",null,2540,null,8811151,27003,955315,1536,1.9121203654655022E-4,1.1270129737611901E-6,2.582745694935679E-5,1.0035883597784038E-7,0,0,9.223293887356526,17.580078125]
[null,null,"C25E : coutellerie, outillage, quincaillerie",null,"2571, 2572, 2573, 2591, 2592, 2593, 2594, 2599",null,1293722481,335402723,328968834,153749404,2.8075254903481468E-2,1.399856387274861E-2,8.8938500890440326E-3,1.004564532404083E-2,0,0,3.9326597151145326,2.1814895815791262]
[null,null,"C26A : composants et cartes électroniques",null,"2611, 2612",null,73943922,12442828,1322414,302256,1.6046675304803265E-3,5.1932113418060955E-4,3.5752176668666051E-5,1.9748737192264401E-5,0,0,55.915864472094214,41.166521094701181]
[null,null,"C26B : ordinateurs et équipements périphériques",null,2620,null,942809203,80140100,15455434,3815760,2.0460036127000876E-2,3.344774003574386E-3,4.1784600500214614E-4,2.4931330206432562E-4,0,0,61.001794126260059,21.002395328846678]
[null,null,"C26C : téléphones et équipements de communication",null,2630,null,737641864,172508540,5446720,3007649,1.600767062753021E-2,7.199917144932089E-3,1.4725501673814461E-4,1.9651312022780966E-4,0,0,135.42863668409612,57.356606439115737]
[null,null,"C26D : produits électroniques grand public",null,2640,null,1056496194,170975900,29292142,4291833,2.2927173630144258E-2,7.1359499870568398E-3,7.919288783903172E-4,2.8041885683026212E-4,0,0,36.067563580703656,39.837500666964445]
[null,null,"C26E : appareils de mesure et de navigation / horlogerie",null,"2651, 2652",null,419084097,115124144,7069002,1826984,9.09460338060737E-3,4.8048884894697427E-3,1.9111428673256156E-4,1.1937108567066322E-4,0,0,59.284761413280123,63.01321960126635]
[null,null,"C26F : équipements électromédicaux ",null,2660,null,18985997,5011395,100413,92263,4.1201781154774137E-4,2.0915850763403914E-4,2.7147196837229223E-6,6.0282599504059161E-6,0,0,189.07907342674753,54.316410695511742]
[null,null,"C26G : matériels optique et photographique",null,"2670, 2680",null,55769422,6239825,878626,124333,1.2102601303330273E-3,2.6042897933560783E-4,2.3754128417941266E-5,8.1236426781463728E-6,0,0,63.473448315893222,50.18639460159411]
[null,null,"C27A : appareils ménagers",null,"2751, 2752",null,862895464,270258309,177097390,46372702,1.8725816751775155E-2,1.1279658575334615E-2,4.7879235812987864E-3,3.0298895793406709E-3,0,0,4.8724346756324302,5.8279612216687307]
[null,null,"C27B : matériel électrique",null,"2720 : Piles et accumulateurs électriques",null,266677140,39358925,60010984,64430536,5.787198407995674E-3,1.6427070735952911E-3,1.6224293617796634E-3,4.2097484338465751E-3,0,0,4.4438054873421171,0.61087377885541727]
[null,null,null,null,"2731, 2732 : Câbles électroniques et optiques",null,262813527,57330052,32847964,45523304,5.7033535947405472E-3,2.3927605225494818E-3,8.880624465061489E-4,2.9743917964227635E-3,0,0,8.0009076666060643,1.2593561310927694]
[null,null,null,null,"2740 : Appareils d'éclairage électriques",null,392216777,7133311,35294106,13770393,8.5115518617141107E-3,2.9772003269538228E-4,9.5419521653175674E-4,8.9972696122226649E-4,0,0,11.112812348894742,0.51801796796939636]
[null,null,null,null,"2711, 2712, 2733, 2790 : Autres matériels électriques",null,1058968085,571399516,76001923,62213777,2.2980816487045825E-2,2.3848263812645435E-2,2.0547530336599232E-3,4.0649103134797774E-3,0,0,13.933438039455922,9.1844530834384166]
[null,null,"C28A : machines et équipements d'usage général",null,"2811, 2812, 2813, 2814, 2815, 2821, 2822, 2823, 2824, 2825, 2829",null,2482189764,843161128,216825819,128174842,5.3866351838646381E-2,3.5190665119694826E-2,5.8620031149218084E-3,8.3746601202888057E-3,0,0,11.447851438762466,6.5782107849214277]
[null,null,"C28B : machines agricoles et forestières",null,2830,null,994874305,143076321,98262404,87485164,2.1589908284046406E-2,5.9715168686820209E-3,2.6565771594189397E-3,5.7160867346161886E-3,0,0,10.12466889167499,1.6354352493412483]
[null,null,"C28C : machines outils",null,"2841, 2849",null,127250624,29455035,11164638,3046319,2.7614838250824805E-3,1.2293525381472405E-3,3.0184201786861184E-4,1.9903973232889238E-4,0,0,11.397648898244618,9.6690579679935027]
[null,null,"C28D : machines diverses d'usage spécifique",null,"2891, 2892, 2893, 2894, 2895, 2896, 2899",null,603415557,480710510,70329115,36186752,1.3094806517087377E-2,2.0063214509252983E-2,1.9013856057414182E-3,2.364362180038273E-3,0,0,8.5798826986519021,13.284157417609627]
[null,null,"C29A : produits de la construction automobile",null,"2910, 2920",null,4802668665,4278401793,376344909,522438077,0.10422339332204744,0.1785658751869843,1.0174687862440241E-2,3.4134946144675354E-2,0,0,12.761348832275555,8.1892993281957889]
[null,null,"C29B : équipements pour automobiles",null,"2931, 2932",null,2861407126,1070009727,438131817,257289662,6.2095801553199041E-2,4.4658550693614379E-2,1.1845130288659727E-2,1.6810736319955721E-2,0,0,6.5309274856886281,4.1587746615330392]
[null,null,"C30A : navires et bateaux",null,"3011, 3012",null,18521709,11236343,1277083,665722,4.0194223186194042E-4,4.6896657181167762E-4,3.4526628602351494E-5,4.349680013335928E-5,0,0,14.503136444538061,16.878431237062919]
[null,null,"C30B : matériel ferroviaire roulant",null,3020,null,264275558,214577476,23741310,15636200,5.7350813366671338E-3,8.9557308198692873E-3,6.418591375057796E-4,1.0216346556749399E-3,0,0,11.131464860195162,13.72312173034369]
[null,null,"C30C : produits de la construction aéronautique",null,3030,null,216206396,4468964,4142182,809030,4.6919256398568034E-3,1.8651929071850174E-4,1.1198612738353382E-4,5.2860227259864714E-5,0,0,52.196256948632389,5.5238544924168451]
[null,null,"C30E : cycles et motocycles",null,"3091 : Motocycles",null,326917889,167064273,14619039,16496297,7.094491439221624E-3,6.9726920387727766E-3,3.9523361447634333E-4,1.0778314875421486E-3,0,0,22.362474646931307,10.127380284193476]
[null,null,null,null,"3092, 3099 : Cycles et autres équipements de transports",null,101429143,31025364,8969804,2726047,2.2011282065420592E-3,1.2948927061312953E-3,2.4250349534359696E-4,1.7811386962297124E-4,0,0,11.307843850322705,11.381081837547189]
[null,null,"C31Z : meubles",null,"3100, 3101, 3102, 3103, 3109",null,819135921,142446893,234342038,78590285,1.7776184707632873E-2,5.9452466941810923E-3,6.3355635553398962E-3,5.1349150532335472E-3,0,0,3.4954715252583064,1.8125254667291255]
[null,null,"C32A : bijoux, instruments de musique",null,"3211, 3212, 3213, 3220",null,138199828,21423954,1312857,212844,2.9990940527818621E-3,8.9416265256686079E-4,3.5493798012343266E-5,1.3906755263585585E-5,0,0,105.26647456653696,100.65566330270057]
[null,null,"C32B : instruments à usage médical",null,3250,null,318136192,110294749,11375118,13600516,6.9039185881032252E-3,4.6033260400968057E-3,3.0753245833976594E-4,8.8862757451692298E-4,0,0,27.967726752373029,8.1096003269287724]
[null,null,"C32C : articles de sport, jeux et jouets ",null,"3230 : Articles de sport",null,94958791,41392340,20944662,31884156,2.0607141808270252E-3,1.7275748692491301E-3,5.66250248477025E-4,2.0832400926405438E-3,0,0,4.5337943863691859,1.2982103085933967]
[null,null,null,null,"3240 : Jeux et jouets",null,198738481,171728861,19890366,7218322,4.3128519409300643E-3,7.1673760069707829E-3,5.3774678673730657E-4,4.716291625216385E-4,0,0,9.9916955273723964,23.790689996927263]
[null,null,null,null,"3291, 3299 : Autres produits manufacturés",null,241443438,55104169,29013125,17155689,5.2395982648329072E-3,2.2998597700747761E-3,7.8438550311029059E-4,1.1209146995038023E-3,0,0,8.3218694297839342,3.2120055918476957]
[null,null,"E38Z : déchets industriels",null,"3811, 3812, 3821, 3832",null,318428516,509357139,1177881150,2431805971,6.9102623526546931E-3,2.1258826942594594E-2,{"$f":"I381/$I$384","v":3.1844653012968356E-2},{"$f":"J381/$J$384","v":0.15888881287338663},{"$f":"SumProductIFseveral($I$17:$I$287,K$17:K$287,$E$17:$E$287,$E381)/$I381","v":0},{"$f":"SumProductIFseveral($J$17:$J$287,L$17:L$287,$E$17:$E$287,$E381)/$J381","v":0},{"$f":"G381/I381","v":0.2703401068944859},0.20945632384912011]
[null,null,"J58Z : produits de l'édition, logiciels",null,"5811, 5813, 5814, 5819, 5829",null,172933148,46832636,86596872,20862932,3.7528467524260995E-3,1.9546342394339651E-3,{"$f":"I382/$I$384","v":2.3411932017491201E-3},{"$f":"J382/$J$384","v":1.363137741279191E-3},{"$f":"SumProductIFseveral($I$17:$I$287,K$17:K$287,$E$17:$E$287,$E382)/$I382","v":0},{"$f":"SumProductIFseveral($J$17:$J$287,L$17:L$287,$E$17:$E$287,$E382)/$J382","v":0},1.9969906996178799,2.2447772920891462]
[null,null,"J59Z : CD et DVD enregistrés",null,"5911, 5920",null,14335792,2543531,263871,27350,3.1110305382665019E-4,1.0615829486219211E-4,{"$f":"I383/$I$384","v":7.1338949903264637E-6},{"$f":"J383/$J$384","v":1.7869883880168843E-6},{"$f":"SumProductIFseveral($I$17:$I$287,K$17:K$287,$E$17:$E$287,$E383)/$I383","v":0},{"$f":"SumProductIFseveral($J$17:$J$287,L$17:L$287,$E$17:$E$287,$E383)/$J383","v":0},54.328789446358257,92.999305301645336]
[null,null,"Total",null,null,null,{"$f":"SUM(G316:G383)","v":46080524841.09671},23959795165.341049,{"$f":"SUM(I316:I383)","v":36988349332},{"$f":"SUM(J316:J383)","v":15305079867},1.0000000000000002,1,{"$f":"SUM(M316:M383)","v":1.0000000000000004},{"$f":"SUM(N316:N383)","v":9.8019349819574515}]
[]
[]
[]
[null,"Imports / exports - produits alimentaires"]
[]
[null,null,"Nomenclature\nA129",null,"Nomenclature\nCPF4",null,"Imports","Exports","Imports","Exports","Imports","Exports","Imports","Exports"]
[null,null,null,null,null,null,"(euros)","(euros)","(kg)","(kg)","(%€)","(%€)","(%kg)","(%kg)"]
[null,null,"A01Z : Produits de la culture et de l'élevage",null,"0111, 0112 : Céréales / riz",null,{"$f":"SUMIFSEVERAL(G$17:G$288,$E$17:$E$287,$E392)","v":137286082},794324731,{"$f":"I17+I18","v":507055828},{"$f":"J17+J18","v":5761978386},{"$f":"G392/G$420","v":1.9343140763956389E-2},{"$f":"H392/H$420","v":0.13462102385528177},{"$f":"I392/I$420","v":9.0543770187542144E-2},{"$f":"J392/J$420","v":0.41754369657770868}]
[null,null,null,null,"0113, 0121, 0122, 0123, 0124, 0125, 0126 : Fruits et légumes",null,440341269,221189092,{"$f":"I19+I24+I25+I26+I27+I28+I29","v":653364074},{"$f":"J19+J24+J25+J26+J27+J28+J29","v":1184006270},6.2042583096268901E-2,3.748681221743317E-2,0.11666969059085991,8.5799411526460492E-2]
[null,null,null,null,"0127 : Plantes à boissons",null,46013861,355375,{"$f":"I30","v":19186968},{"$f":"J30","v":616487},6.4831960927847236E-3,6.022844875085573E-5,3.4261718833605934E-3,4.4673937253485195E-5]
[null,null,null,null,"0114, 0119, 0128, 0129 : Épices, autres plantes",null,119218853,18310102,{"$f":"I20+I23+I31+I32","v":39331823},{"$f":"J20+J23+J31+J32","v":7852756},1.6797529812937809E-2,3.10317000332027E-3,7.0233914021181204E-3,5.690525977205186E-4]
[null,null,null,null,"0147 : Oeufs",null,18157557,83205546,{"$f":"I39","v":7157240},{"$f":"J39","v":103799103},2.5583378581709522E-3,1.4101557405692491E-2,1.2780515634603536E-3,7.5218368179540635E-3]
[null,null,null,null,"0141, 0142, 0143, 0145, 0146, 0149 : Animaux d'élevage",null,38873862,71929116,{"$f":"I34+I35+I36+I37+I38+I40","v":11080721},{"$f":"J34+J35+J36+J37+J38+J40","v":54201687},5.4771945833854835E-3,1.2190444113120948E-2,1.9786583652801879E-3,3.9277434302281214E-3]
[null,null,"A03Z : Produits de la pêche et de l'aquaculture",null,"0300 : Produits de la pêche / de l'aquaculture",null,608898505,114734266,{"$f":"I44","v":109144440},{"$f":"J44","v":27591818},8.5791722814098553E-2,1.9444999957082092E-2,1.9489666713007354E-2,1.9994503469523014E-3]
[null,null,"C10A : Viande et produits à base de viande",null,"1011 : Viandes de boucherie",null,383657183,97494405,{"$f":"I58","v":147791075},52065820,5.4055988689894849E-2,1.6523212873830948E-2,2.6390705700694177E-2,3.7729671116037392E-3]
[null,null,null,null,"1012 : Viandes de volailles",null,155215776,14664054,66067726,12768040,2.1869373502513709E-2,2.4852429822547475E-3,1.1797558906585535E-2,9.252403015959608E-4]
[null,null,null,null,"1013 : Produits à base de viande",null,130460597,129578869,48585436,61327552,1.8381453204562914E-2,2.196084212665592E-2,8.6757873763074807E-3,4.4441216278005057E-3]
[null,null,"C10B : Préparations et conserves à base de poisson",null,"1020 : Préparations et conserves à base de poisson et de produits de la pêche",null,984679830,219490469,188202710,38154655,0.13873802997101081,3.7198932011165073E-2,3.3606916599551714E-2,2.7648898734253524E-3]
[null,null,"C10C : Produits à base de fruits et légumes",null,"1031 : Préparations et conserves à base de pommes de terre",null,134523591,291604726,171340323,338762447,1.8953915203042192E-2,4.9420753557223571E-2,3.0595839694344745E-2,2.4548534358575451E-2]
[null,null,null,null,"1032 : Jus de fruits et légumes",null,53294527,1781258,49201848,2269063,7.5090171027640991E-3,3.0188506835047984E-4,8.7858586216947691E-3,1.6442841144453149E-4]
[null,null,null,null,"1039 : Autres préparations et conserves à base de fruits et légumes",null,373398181,225466027,325137745,268726229,5.261053029460238E-2,3.8211661068529169E-2,5.8059084694270943E-2,1.9473336327792301E-2]
[null,null,"C10D : Huiles et graisses végétales et animales",null,"1041, 1042",null,593736773,159879032,{"$f":"I65+I66","v":897026734},{"$f":"J65+J66","v":167652774},8.3655486481697558E-2,2.709607058782532E-2,0.16017996041133659,1.214901450646767E-2]
[null,null,"C10E : Produits laitiers et glaces",null,"1051 : Produits laitiers et fromages",null,473427337,305688746,{"$f":"I67","v":238488437},{"$f":"J67","v":313822538},6.6704297243299723E-2,5.1807693203445242E-2,4.2586320952639013E-2,2.2741255486882078E-2]
[null,null,null,null,"1052 : Glaces et sorbets",null,20431912,152452199,{"$f":"I68","v":8166045},{"$f":"J68","v":44815500},2.8787867213864384E-3,2.5837381510873749E-2,1.4581915067173384E-3,3.2475702407083452E-3]
[null,null,"C10F : Produits du travail des grains / produits amylacés",null,"1061, 1062",null,479087147,897166660,{"$f":"I69+I70","v":525139212},{"$f":"J69+J70","v":1130024865},6.7501745170521127E-2,0.15205052747882211,9.3772877663867368E-2,8.1887630905255221E-2]
[null,null,"C10G : Produits de boulangerier-pâtisserie et pâtes",null,"1071, 1072, 1073 : pain / pâtes / pâtisseries",null,331301768,325837687,{"$f":"I71+I72+I73","v":193040835},{"$f":"J71+J72+J73","v":218906165},4.6679289265255768E-2,5.5222507020969029E-2,3.4470849235660975E-2,1.5863108678059842E-2]
[null,null,"C10H : Produits alimentaires divers",null,"1081 : Sucre",null,52614340,309468798,{"$f":"I74","v":131331775},{"$f":"J74","v":1381419923},7.4131810741212738E-3,5.2448331031535483E-2,2.3451607095860048E-2,0.10010505811284966]
[null,null,null,null,"1082 : Cacao / chocolat / confiserie",null,404869317,186553367,{"$f":"I75","v":116844432},{"$f":"J75","v":59621667},5.704470603027248E-2,3.1616798884724809E-2,2.0864636228383703E-2,4.3205040990421349E-3]
[null,null,null,null,"1085 : Plats préparés",null,78272018,36415655,{"$f":"I78","v":20976023},{"$f":"J78","v":16265211},1.1028260403359229E-2,6.1716733335106383E-3,3.745639239473643E-3,1.1786639712251794E-3]
[null,null,null,null,"1083, 1084, 1086, 1089 : Autres produits alimentaires",null,319051851,470021994,{"$f":"I76+I77+I79+I80","v":176700279},{"$f":"J76+J77+J79+J80","v":220629912},4.4953317736125945E-2,7.9658657973701072E-2,3.1552954468458606E-2,1.5988020582639959E-2]
[null,null,"C10K : Aliments pour animaux",null,"1091, 1092",null,153653881,403830079,{"$f":"I81+I82","v":312046142},{"$f":"J81+J82","v":628713549},2.1649307823579701E-2,6.844054651313547E-2,5.5721347845659991E-2,4.5559938228124826E-2]
[null,null,"C11Z : Boissons",null,"1101 : Boissons alcoolisées distillées",null,63122339,37120446,{"$f":"I83","v":23504715},{"$f":"J83","v":16464306},8.8937222975536169E-3,6.2911203081812382E-3,4.1971818402680395E-3,1.1930914571859257E-3]
[null,null,null,null,"1102, 1103, 1104 : Vins de raisin / cidre / autres boissons fermentées non distillées",null,40042450,88725751,{"$f":"I84+I85+I86","v":36364604},{"$f":"J84+J85+J86","v":40600401},5.6418446473232853E-3,1.5037113885289303E-2,6.4935420632557563E-3,2.9421216777326003E-3]
[null,null,null,null,"1105, 1106 : Bière / malt",null,414623838,145277422,{"$f":"I87+I88","v":490950250},{"$f":"J87+J88","v":369827575},5.8419084773107963E-2,2.4621410525736027E-2,8.7667834890789109E-2,2.6799679279787877E-2]
[null,null,null,null,"1107 : Boissons rafraîchissantes ; eaux minérales et autres eaux en bouteille",null,49149219,97884951,{"$f":"I89","v":86890900},{"$f":"J89","v":1276816825},6.924957342402123E-3,1.6589402053558983E-2,1.5515904258551793E-2,9.2524959527523182E-2]
[null,null,"Total",null,null,null,{"$f":"SUM(G392:G419)","v":7097403864},5900450823,5600118340,13799701524,0.99999999999999989,1,{"$f":"SUM(M392:M419)","v":1.0000000000000002},{"$f":"SUM(N392:N419)","v":0.99999999999999978}]
[]
[]
[]
[null,"Imports / exports - services"]
[]
[null,null,"Nomenclature\nA129",null,"Nomenclature\nCPF4",null,"Imports","Exports","Imports","Exports","Imports","Exports","Imports","Exports"]
[null,null,null,null,null,null,"(euros)","(euros)","(kg)","(kg)","(%)","(%)","(%)","(%)"]
[null,null,"E37Z : boues d'épuration et ordures ménagères",null,"3700",null,{"$f":"SUMIFSEVERAL(G$17:G$288,$E$17:$E$287,$E428)","v":89151},14972,{"$f":"I271","v":262397},{"$f":"J271","v":340540},{"$f":"G428/G$434","v":2.7600015343145455E-3},1.0074881970725509E-2,0.25049617712115124,0.87059003988137851]
[null,null,"M71Z : plans et dessins techniques",null,7111,null,248873,11691,{"$f":"I283","v":8234},3096,7.7047914420417477E-3,7.8670481645573033E-3,7.8605529880888848E-3,7.9149197259433483E-3]
[null,null,"M74Z : plaques et films photographiques exposés",null,7420,null,750896,295174,28682,1775,2.3246784804552445E-2,0.19862698442605742,2.7381148992514624E-2,4.5377850495960728E-3]
[null,null,"R90Z : tableaux, gravures, sculptures",null,9003,null,22628206,729828,104960,18466,0.70054046818078997,0.49111213992323388,0.10019961642334338,4.7208303507516106E-2]
[null,null,"R97Z : objets d'antiquité et de collection",null,9102,null,8571009,434405,643187,27283,0.26534753385406534,0.29231759968561416,0.61401572683385064,6.9748951835566009E-2]
[null,null,"S96Z : cheveux bruts",null,9602,null,12934,2,49,0,4.0042018423600782E-4,1.345829811745326E-6,4.6777641051294069E-5,0]
[null,null,"Total",null,null,null,{"$f":"SUM(G428:G433)","v":32301069},1486072,1047509,391160,1,0.99999999999999989,{"$f":"SUM(M428:M433)","v":1},{"$f":"SUM(N428:N433)","v":1.0000000000000002}]
[]
[]
[]
[null,"Imports / exports - produits énergétiques"]
[]
[null,null,"Nomenclature\nA129",null,"Nomenclature\nCPF4",null,"Imports","Exports","Imports","Exports","Imports","Exports","Imports","Exports"]
[null,null,null,null,null,null,"(euros)","(euros)","(kg)","(kg)","(%)","(%)","(%)","(%)"]
[null,null,"B05Z : houille",null,"0510, 0520",null,{"$f":"SUMIFSEVERAL(G$17:G$288,$E$17:$E$287,$E442)","v":492682662},8335094,{"$f":"I45+I46","v":5462470660},{"$f":"J45+J46","v":206738694},{"$f":"G442/G$448","v":0.18407655417824587},3.2883695134064937E-2,0.50996563556751473,0.25767583926117499]
[null,null,"B06Z : hydrocarbures naturels",null,"0610, 0620",null,49486580,1660013,{"$f":"I47+I48","v":11667709},{"$f":"J47+J48","v":9862834},1.8489222022726869E-2,6.5490996754907068E-3,1.0892746169554369E-3,1.2292880347031946E-2]
[null,null,"C19Z : produits pétroliers raffinés et coke",null,"1910, 1920",null,2134340345,243476833,{"$f":"I125+I126","v":5237310166},{"$f":"J125+J126","v":585719305},0.79743422379902729,0.96056720519044436,0.48894508981552981,0.7300312803917931]
[null,null,"C24B : métaux non ferreux",null,"2446 : combustibles nucléaires traités",null,0,0,{"$f":"I186","v":0},{"$f":"J186","v":0},0,0,0,0]
[null,null,"D35A : électricité",null,"3511",null,0,0,{"$f":"I269","v":0},{"$f":"J269","v":0},0,0,0,0]
[null,null,"D35B : gaz manufacturé",null,"3521",null,0,0,{"$f":"I270","v":0},{"$f":"J270","v":0},0,0,0,0]
[null,null,"Total",null,null,null,{"$f":"SUM(G442:G447)","v":2676509587},253471940,10711448535,802320833,1,1,{"$f":"SUM(M442:M447)","v":1},{"$f":"SUM(N442:N447)","v":1}]
[]
[]
[null,null,null,null,null,null,null,null,null,null,null,null,null,null,null,null,"²"]
[null,"Imports / exports - matériaux de construction"]
[]
[null,null,"Nomenclature\nA129",null,"Nomenclature\nCPF4",null,"Imports","Exports","Imports","Exports","Imports","Exports","Imports","Exports"]
[null,null,null,null,null,null,"(euros)","(euros)","(kg)","(kg)","(%)","(%)","(%)","(%)"]
[null,null,"C23B : matériaux de construction et produits minéraux",null,"2320, 2331, 2332, 2341, 2342, 2343, 2344, 2349, 2351, 2352, 2361, 2362, 2363, 2364, 2365, 2369, 2370, 2391, 2399",null,{"$f":"SUMIFSEVERAL(G$17:G$288,$E$17:$E$287,$E456)","v":533653986},{"$f":"SUMIFSEVERAL(H$17:H$288,$E$17:$E$287,$E456)","v":266523280},{"$f":"SUM(I156:I174)","v":2117330358},{"$f":"SUM(J156:J174)","v":582134532},{"$f":"G456/G457","v":1},{"$f":"H456/H457","v":1},{"$f":"I456/I457","v":1},{"$f":"J456/J457","v":1}]
[null,null,"Total",null,null,null,{"$f":"G456","v":533653986},266523280,2117330358,582134532,1,1,1,1]

{"sheet":"IE2","index":19,"n_rows":118,"n_cols":35,"rows_kept":118,"cut":false,"hidden":false,"merged":[[85,11,85,12],[86,11,86,12],[74,2,74,3],[75,2,75,3],[71,11,71,12],[68,11,68,12],[69,11,69,12],[78,11,78,12],[75,11,75,12],[72,11,72,12],[83,11,83,12],[69,2,69,3],[70,11,70,12],[82,11,82,12],[84,11,84,12],[74,11,74,12],[79,11,79,12],[76,11,76,12],[77,11,77,12],[73,11,73,12],[84,2,84,3],[97,2,97,3],[86,2,86,3],[82,2,82,3],[83,2,83,3],[55,3,55,4],[36,3,36,4],[37,3,37,4],[39,3,39,4],[42,3,42,4],[49,3,49,4],[50,3,50,4],[52,3,52,4],[48,3,48,4],[51,3,51,4],[71,2,71,3],[72,2,72,3],[73,2,73,3],[76,2,76,3],[70,2,70,3],[78,2,78,3],[77,2,77,3],[95,2,95,3],[96,2,96,3],[98,2,98,3],[99,2,99,3],[67,11,67,12],[115,2,115,3],[103,2,103,3],[104,2,104,3],[105,2,105,3],[106,2,106,3],[107,2,107,3],[113,2,113,3],[85,2,85,3],[114,2,114,3],[94,2,94,3],[67,2,67,3],[68,2,68,3],[108,2,108,3],[110,2,110,3],[111,2,111,3],[112,2,112,3],[100,2,100,3],[101,2,101,3],[102,2,102,3],[81,2,81,3],[79,2,79,3],[33,9,33,12],[34,2,35,4],[34,5,35,5],[34,6,34,7],[34,8,35,8],[34,9,35,9],[34,12,35,12],[54,3,54,4],[38,3,38,4],[40,3,40,4],[41,3,41,4],[43,3,43,4],[44,3,44,4],[6,2,6,3],[65,2,65,3],[66,2,66,3],[31,21,31,22],[31,23,31,24],[20,5,20,12],[65,11,65,12],[21,5,21,8],[21,9,21,12],[22,5,23,5],[22,6,22,7],[22,8,23,8],[22,9,23,9],[22,10,22,11],[22,12,23,12],[32,5,32,12],[33,5,33,8],[34,10,34,11],[66,11,66,12],[53,3,53,4],[45,3,45,4],[46,3,46,4],[47,3,47,4],[32,13,32,20],[33,25,33,26],[33,27,33,28],[33,29,33,30],[33,31,33,32],[33,33,33,34],[33,35,33,36],[33,37,33,38],[33,21,33,22],[33,23,33,24],[33,13,33,16],[33,17,33,20],[20,13,20,20],[21,13,21,16],[21,17,21,20],[34,13,35,13],[34,14,34,15],[34,16,35,16],[34,17,35,17],[34,18,34,19],[34,20,35,20],[22,13,23,13],[22,14,22,15],[22,16,23,16],[22,17,23,17],[22,18,22,19],[22,20,23,20],[6,9,6,10],[13,5,13,12],[14,5,14,8],[14,9,14,12],[15,5,16,5],[15,6,15,7],[15,8,16,8],[15,9,16,9],[15,10,15,11],[15,12,16,12]]}
[]
[null,"SitraM données ex-régions"]
[]
[null,"Source:","http://www.statistiques.developpement-durable.gouv.fr/donnees-ligne/r/flux-marchandises-sitram-i.html "]
[]
[]
[null,null,"Année des données: ",null,2012,null,null,"Ex-région",null,{"$f":"Accueil!D18","v":0}]
[]
[]
["A.","Transport international"]
[]
[null,"Données SITRAM - transport international"]
[]
[null,null,null,null,null,"Données à retenir"]
[null,null,null,null,null,"Imports",null,null,null,"Exports"]
[null,null,null,null,null,"Voie navigable","Route",null,"Total","Voie navigable","Route",null,"Total"]
[null,null,null,null,null,null,"Compte d'autrui","Compte propre",null,null,"Compte d'autrui","Compte propre"]
[null,null,"Flux transportés (millions de tonnes kilomètre)",null,null,{"$f":"IF($J$7=\"Nord Pas-de-Calais\",F25,IF($J$7=\"Picardie\",N25,IF($J$7=\"Hauts-de-France total\",F25+N25,0)))","v":0},{"$f":"IF($J$7=\"Nord Pas-de-Calais\",G25,IF($J$7=\"Picardie\",O25,IF($J$7=\"Hauts-de-France total\",G25+O25,0)))","v":0},0,{"$f":"IF($J$7=\"Nord Pas-de-Calais\",I25,IF($J$7=\"Picardie\",Q25,IF($J$7=\"Hauts-de-France total\",(I25+Q25),0)))","v":0},0,0,0,0]
[]
[]
[null,null,null,null,null,"Données NPDC",null,null,null,null,null,null,null,"Données Picardie"]
[null,null,null,null,null,"Imports",null,null,null,"Exports",null,null,null,"Imports",null,null,null,"Exports"]
[null,null,null,null,null,"Voie navigable","Route",null,"Total","Voie navigable","Route",null,"Total","Voie navigable","Route",null,"Total","Voie navigable","Route",null,"Total"]
[null,null,null,null,null,null,"Compte d'autrui","Compte propre",null,null,"Compte d'autrui","Compte propre",null,null,"Compte d'autrui","Compte propre",null,null,"Compte d'autrui","Compte propre"]
[null,null,"Flux transportés (millions de tonnes kilomètre)",null,null,284.52783799999997,463.16436800000002,11.499919999999999,{"$f":"SUM(F25:H25)","v":759.19212599999992},266.81207499999999,277.89488799999998,22.098956999999999,{"$f":"J25+K25+L25","v":566.80592000000001},81,209,27,{"$f":"SUM(N25:P25)","v":317},131,250,4,{"$f":"R25+S25+T25","v":385}]
[]
[]
[]
["B.","Transport national"]
[]
[null,"Données SITRAM - transport national par catégories de produits"]
[null,null,null,null,null,null,null,null,null,null,null,null,null,null,null,null,null,null,null,null,null,"Mode de modulation",null,"Automatique - présaisi régional"]
[null,null,null,null,null,"Données NPDC",null,null,null,null,null,null,null,"Données Picardie"]
[null,null,null,null,null,"Imports (milliers de tonnes)",null,null,null,"Exports (milliers de tonnes)",null,null,null,"Imports (milliers de tonnes)",null,null,null,"Exports (milliers de tonnes)",null,null,null,"Facteur de modulation territoire appliqué",null,"Facteur de modulation territoire base de données",null,"Catégorie de marchandise",null,"Présence industrie",null,"Ratio territoire pertinent",null,"Valeur du ratio territoire pertinent",null,"Facteur de modulation manuel"]
[null,null,"Divison NST 2007",null,null,"Voie navigable","Route",null,"Total","Voie navigable","Route",null,"Total","Voie navigable","Route",null,"Total","Voie navigable","Route",null,"Total","Imports","Exports","Imports","Exports","Imports","Exports","Imports","Exports","Imports","Exports","Imports","Exports","Imports","Exports"]
[null,null,null,null,null,null,"Compte d'autrui","Compte propre",null,null,"Compte d'autrui","Compte propre",null,null,"Compte d'autrui","Compte propre",null,null,"Compte d'autrui","Compte propre",null,"%","%","%","%","-","-","-","-","-","-","%","%","%","%"]
[null,null,"01","Produits de l'agriculture, de la chasse, de la forêt et de la pêche",null,122.41200000000001,3929.9009999999998,763.274,{"$f":"SUM(F37:H37)","v":4815.5869999999995},2,2405.415,269.00599999999997,{"$f":"SUM(J37:L37)","v":2676.4209999999998},15,1760,889,{"$f":"SUM(N37:P37)","v":2664},332,5011,869,{"$f":"SUM(R37:T37)","v":6212},{"$f":"IF($X$32='IE1'!$AG$11,'IE2'!X37,'IE2'!AH37)","v":0},{"$f":"IF($X$32='IE1'!$AG$11,'IE2'!Y37,'IE2'!AI37)","v":0},null,null,"Industrie agro-alimentaire","Industrie agro-alimentaire","Industrie agro-alimentaire","Industrie agro-alimentaire","Industrie agro-alimentaire","Industrie agro-alimentaire",{"$f":"IFERROR(IF(AD37=\"\",\"\",VLOOKUP(AD37,'IE1'!$AD$20:$AG$48,4,FALSE)),\"\")","v":""},{"$f":"IFERROR(IF(AE37=\"\",\"\",VLOOKUP(AE37,'IE1'!$AD$20:$AG$48,4,FALSE)),\"\")","v":""},{"$f":"IF(Z37='IE1'!$AD$11,Accueil!$D$24,IF((Z37='IE1'!$AD$12)*AND(AB37='IE1'!$AD$14),AF37,IF((Z37='IE1'!$AD$12)*AND(AB37='IE1'!$AD$13),0,0)))","v":0},{"$f":"IF(AA37='IE1'!$AD$11,Accueil!$D$24,IF((AA37='IE1'!$AD$12)*AND(AC37='IE1'!$AD$14),AG37,IF((AA37='IE1'!$AD$12)*AND(AC37='IE1'!$AD$13),0,0)))","v":0}]
[null,null,"02","Houille et lignite ; pétrole brut et gaz naturel",null,3.0920000000000001,52.755000000000003,"",{"$f":"SUM(F38:H38)","v":55.847000000000001},54.366,34.42,"",{"$f":"SUM(J38:L38)","v":88.786000000000001},18,30,null,{"$f":"SUM(N38:P38)","v":48},null,7,null,{"$f":"SUM(R38:T38)","v":7},{"$f":"IF($X$32='IE1'!$AG$11,'IE2'!X38,'IE2'!AH38)","v":0},{"$f":"IF($X$32='IE1'!$AG$11,'IE2'!Y38,'IE2'!AI38)","v":0},null,null,"Amont de l'énergie","Amont de l'énergie","Amont de l'énergie","Amont de l'énergie","Amont de l'énergie","Amont de l'énergie",{"$f":"IFERROR(IF(AD38=\"\",\"\",VLOOKUP(AD38,'IE1'!$AD$20:$AG$48,4,FALSE)),\"\")","v":""},{"$f":"IFERROR(IF(AE38=\"\",\"\",VLOOKUP(AE38,'IE1'!$AD$20:$AG$48,4,FALSE)),\"\")","v":""},{"$f":"IF(Z38='IE1'!$AD$11,Accueil!$D$24,IF((Z38='IE1'!$AD$12)*AND(AB38='IE1'!$AD$14),AF38,IF((Z38='IE1'!$AD$12)*AND(AB38='IE1'!$AD$13),0,0)))","v":0},{"$f":"IF(AA38='IE1'!$AD$11,Accueil!$D$24,IF((AA38='IE1'!$AD$12)*AND(AC38='IE1'!$AD$14),AG38,IF((AA38='IE1'!$AD$12)*AND(AC38='IE1'!$AD$13),0,0)))","v":0}]
[null,null,"03","Minerais, tourbe et autres produits d'extraction",null,95.41,941.95899999999995,8.6980000000000004,1046.067,313.75200000000001,2286.0419999999999,329.16,2928.9539999999997,189,2402,418,3009,648,1915,261,2824,{"$f":"IF($X$32='IE1'!$AG$11,'IE2'!X39,'IE2'!AH39)","v":0},{"$f":"IF($X$32='IE1'!$AG$11,'IE2'!Y39,'IE2'!AI39)","v":0},null,null,"Marchandises industrielles","Biens de consommation","Présente",null,"Metallurgie ferreux/Siderurgie",null,{"$f":"IFERROR(IF(AD39=\"\",\"\",VLOOKUP(AD39,'IE1'!$AD$20:$AG$48,4,FALSE)),\"\")","v":0},{"$f":"IFERROR(IF(AE39=\"\",\"\",VLOOKUP(AE39,'IE1'!$AD$20:$AG$48,4,FALSE)),\"\")","v":""},{"$f":"IF(Z39='IE1'!$AD$11,Accueil!$D$24,IF((Z39='IE1'!$AD$12)*AND(AB39='IE1'!$AD$14),AF39,IF((Z39='IE1'!$AD$12)*AND(AB39='IE1'!$AD$13),0,0)))","v":0},{"$f":"IF(AA39='IE1'!$AD$11,Accueil!$D$24,IF((AA39='IE1'!$AD$12)*AND(AC39='IE1'!$AD$14),AG39,IF((AA39='IE1'!$AD$12)*AND(AC39='IE1'!$AD$13),0,0)))","v":0}]
[null,null,"04","Produits alimentaires, boissons et tabac",null,7.5739999999999998,2688.4580000000001,229.58699999999999,2925.6190000000001,5.7140000000000004,2920.1550000000002,499.303,3425.172,null,2744,627,3371,12,3375,363,3750,{"$f":"IF($X$32='IE1'!$AG$11,'IE2'!X40,'IE2'!AH40)","v":0},{"$f":"IF($X$32='IE1'!$AG$11,'IE2'!Y40,'IE2'!AI40)","v":0},null,null,"Industrie agro-alimentaire","Industrie agro-alimentaire","Industrie agro-alimentaire","Industrie agro-alimentaire","Industrie agro-alimentaire","Industrie agro-alimentaire",{"$f":"IFERROR(IF(AD40=\"\",\"\",VLOOKUP(AD40,'IE1'!$AD$20:$AG$48,4,FALSE)),\"\")","v":""},{"$f":"IFERROR(IF(AE40=\"\",\"\",VLOOKUP(AE40,'IE1'!$AD$20:$AG$48,4,FALSE)),\"\")","v":""},{"$f":"IF(Z40='IE1'!$AD$11,Accueil!$D$24,IF((Z40='IE1'!$AD$12)*AND(AB40='IE1'!$AD$14),AF40,IF((Z40='IE1'!$AD$12)*AND(AB40='IE1'!$AD$13),0,0)))","v":0},{"$f":"IF(AA40='IE1'!$AD$11,Accueil!$D$24,IF((AA40='IE1'!$AD$12)*AND(AC40='IE1'!$AD$14),AG40,IF((AA40='IE1'!$AD$12)*AND(AC40='IE1'!$AD$13),0,0)))","v":0}]
[null,null,"05","Textiles, cuirs et produits dérivés",null,"",98.198999999999998,"",98.198999999999998,"",73.84,12.308,86.147999999999996,null,101,49,150,9,125,2,136,{"$f":"IF($X$32='IE1'!$AG$11,'IE2'!X41,'IE2'!AH41)","v":0},{"$f":"IF($X$32='IE1'!$AG$11,'IE2'!Y41,'IE2'!AI41)","v":0},null,null,"Biens de consommation","Biens de consommation",null,null,null,null,{"$f":"IFERROR(IF(AD41=\"\",\"\",VLOOKUP(AD41,'IE1'!$AD$20:$AG$48,4,FALSE)),\"\")","v":""},{"$f":"IFERROR(IF(AE41=\"\",\"\",VLOOKUP(AE41,'IE1'!$AD$20:$AG$48,4,FALSE)),\"\")","v":""},{"$f":"IF(Z41='IE1'!$AD$11,Accueil!$D$24,IF((Z41='IE1'!$AD$12)*AND(AB41='IE1'!$AD$14),AF41,IF((Z41='IE1'!$AD$12)*AND(AB41='IE1'!$AD$13),0,0)))","v":0},{"$f":"IF(AA41='IE1'!$AD$11,Accueil!$D$24,IF((AA41='IE1'!$AD$12)*AND(AC41='IE1'!$AD$14),AG41,IF((AA41='IE1'!$AD$12)*AND(AC41='IE1'!$AD$13),0,0)))","v":0}]
[null,null,"06","Bois, pâte à papier, papier et produits de l'édition",null,"",712.49599999999998,114.352,826.84799999999996,0.503,479.72899999999998,128.42699999999999,608.65899999999999,null,484,142,626,null,697,73,770,{"$f":"IF($X$32='IE1'!$AG$11,'IE2'!X42,'IE2'!AH42)","v":0},{"$f":"IF($X$32='IE1'!$AG$11,'IE2'!Y42,'IE2'!AI42)","v":0},null,null,"Biens de consommation","Biens de consommation",null,"Présente",null,"Papier, carton",{"$f":"IFERROR(IF(AD42=\"\",\"\",VLOOKUP(AD42,'IE1'!$AD$20:$AG$48,4,FALSE)),\"\")","v":""},{"$f":"IFERROR(IF(AE42=\"\",\"\",VLOOKUP(AE42,'IE1'!$AD$20:$AG$48,4,FALSE)),\"\")","v":0},{"$f":"IF(Z42='IE1'!$AD$11,Accueil!$D$24,IF((Z42='IE1'!$AD$12)*AND(AB42='IE1'!$AD$14),AF42,IF((Z42='IE1'!$AD$12)*AND(AB42='IE1'!$AD$13),0,0)))","v":0},{"$f":"IF(AA42='IE1'!$AD$11,Accueil!$D$24,IF((AA42='IE1'!$AD$12)*AND(AC42='IE1'!$AD$14),AG42,IF((AA42='IE1'!$AD$12)*AND(AC42='IE1'!$AD$13),0,0)))","v":0}]
[null,null,"07","Coke et produits pétroliers raffinés ",null,55.201999999999998,201.23099999999999,"",256.43299999999999,4.3209999999999997,484.38,50.735999999999997,539.43700000000001,4,1177,167,1348,40,115,14,169,{"$f":"IF($X$32='IE1'!$AG$11,'IE2'!X43,'IE2'!AH43)","v":0},{"$f":"IF($X$32='IE1'!$AG$11,'IE2'!Y43,'IE2'!AI43)","v":0},null,null,"Amont de l'énergie","Amont de l'énergie","Amont de l'énergie","Amont de l'énergie","Amont de l'énergie","Amont de l'énergie",{"$f":"IFERROR(IF(AD43=\"\",\"\",VLOOKUP(AD43,'IE1'!$AD$20:$AG$48,4,FALSE)),\"\")","v":""},{"$f":"IFERROR(IF(AE43=\"\",\"\",VLOOKUP(AE43,'IE1'!$AD$20:$AG$48,4,FALSE)),\"\")","v":""},{"$f":"IF(Z43='IE1'!$AD$11,Accueil!$D$24,IF((Z43='IE1'!$AD$12)*AND(AB43='IE1'!$AD$14),AF43,IF((Z43='IE1'!$AD$12)*AND(AB43='IE1'!$AD$13),0,0)))","v":0},{"$f":"IF(AA43='IE1'!$AD$11,Accueil!$D$24,IF((AA43='IE1'!$AD$12)*AND(AC43='IE1'!$AD$14),AG43,IF((AA43='IE1'!$AD$12)*AND(AC43='IE1'!$AD$13),0,0)))","v":0}]
[null,null,"08","Produits chimiques, caoutchouc, plastique et combustible nucléaire",null,21.152000000000001,954.30899999999997,100.145,1075.606,20.690999999999999,823.24599999999998,261.42099999999999,1105.3579999999999,52,996,322,1370,47,1522,219,1788,{"$f":"IF($X$32='IE1'!$AG$11,'IE2'!X44,'IE2'!AH44)","v":0},{"$f":"IF($X$32='IE1'!$AG$11,'IE2'!Y44,'IE2'!AI44)","v":0},null,null,"Marchandises industrielles","Marchandises industrielles","Présente","Présente","Chimie organique, non-organique et divers","Chimie organique, non-organique et divers",{"$f":"IFERROR(IF(AD44=\"\",\"\",VLOOKUP(AD44,'IE1'!$AD$20:$AG$48,4,FALSE)),\"\")","v":0},{"$f":"IFERROR(IF(AE44=\"\",\"\",VLOOKUP(AE44,'IE1'!$AD$20:$AG$48,4,FALSE)),\"\")","v":0},{"$f":"IF(Z44='IE1'!$AD$11,Accueil!$D$24,IF((Z44='IE1'!$AD$12)*AND(AB44='IE1'!$AD$14),AF44,IF((Z44='IE1'!$AD$12)*AND(AB44='IE1'!$AD$13),0,0)))","v":0},{"$f":"IF(AA44='IE1'!$AD$11,Accueil!$D$24,IF((AA44='IE1'!$AD$12)*AND(AC44='IE1'!$AD$14),AG44,IF((AA44='IE1'!$AD$12)*AND(AC44='IE1'!$AD$13),0,0)))","v":0}]
[null,null,"09","Autres produits minéraux non métalliques",null,"",947.79899999999998,183.05099999999999,1130.8499999999999,0.255,1639.729,253.761,1893.7450000000001,105,1525,579,2209,null,1788,830,2618,{"$f":"IF($X$32='IE1'!$AG$11,'IE2'!X45,'IE2'!AH45)","v":0},{"$f":"IF($X$32='IE1'!$AG$11,'IE2'!Y45,'IE2'!AI45)","v":0},null,null,"Travaux","Travaux","Travaux","Travaux","Travaux","Travaux",{"$f":"IFERROR(IF(AD45=\"\",\"\",VLOOKUP(AD45,'IE1'!$AD$20:$AG$48,4,FALSE)),\"\")","v":""},{"$f":"IFERROR(IF(AE45=\"\",\"\",VLOOKUP(AE45,'IE1'!$AD$20:$AG$48,4,FALSE)),\"\")","v":""},{"$f":"IF(Z45='IE1'!$AD$11,Accueil!$D$24,IF((Z45='IE1'!$AD$12)*AND(AB45='IE1'!$AD$14),AF45,IF((Z45='IE1'!$AD$12)*AND(AB45='IE1'!$AD$13),0,0)))","v":0},{"$f":"IF(AA45='IE1'!$AD$11,Accueil!$D$24,IF((AA45='IE1'!$AD$12)*AND(AC45='IE1'!$AD$14),AG45,IF((AA45='IE1'!$AD$12)*AND(AC45='IE1'!$AD$13),0,0)))","v":0}]
[null,null,"10","Métaux de base, produits métalliques",null,46.186,434.80700000000002,144.21,625.20299999999997,6.8040000000000003,529.48900000000003,182.22,4250,87,389,84,560,0,640,111,751,{"$f":"IF($X$32='IE1'!$AG$11,'IE2'!X46,'IE2'!AH46)","v":0},{"$f":"IF($X$32='IE1'!$AG$11,'IE2'!Y46,'IE2'!AI46)","v":0},null,null,"Marchandises industrielles","Marchandises industrielles","Présente","Présente","Métallurgie / Sidérurgie","Métallurgie / Sidérurgie",{"$f":"IFERROR(IF(AD46=\"\",\"\",VLOOKUP(AD46,'IE1'!$AD$20:$AG$48,4,FALSE)),\"\")","v":0},{"$f":"IFERROR(IF(AE46=\"\",\"\",VLOOKUP(AE46,'IE1'!$AD$20:$AG$48,4,FALSE)),\"\")","v":0},{"$f":"IF(Z46='IE1'!$AD$11,Accueil!$D$24,IF((Z46='IE1'!$AD$12)*AND(AB46='IE1'!$AD$14),AF46,IF((Z46='IE1'!$AD$12)*AND(AB46='IE1'!$AD$13),0,0)))","v":0},{"$f":"IF(AA46='IE1'!$AD$11,Accueil!$D$24,IF((AA46='IE1'!$AD$12)*AND(AC46='IE1'!$AD$14),AG46,IF((AA46='IE1'!$AD$12)*AND(AC46='IE1'!$AD$13),0,0)))","v":0}]
[null,null,"11","Machines et matériel n.c.a, produits des TIC et instruments de précision",null,0.17799999999999999,798.99900000000002,122.658,921.83500000000004,0.32,912.01300000000003,118.03,1030.3630000000001,0,838,178,1016,null,859,180,1039,{"$f":"IF($X$32='IE1'!$AG$11,'IE2'!X47,'IE2'!AH47)","v":0},{"$f":"IF($X$32='IE1'!$AG$11,'IE2'!Y47,'IE2'!AI47)","v":0},null,null,"Marchandises industrielles","Marchandises industrielles","Présente","Présente","Industrie total (IDEC)","Industrie total (IDEC)",{"$f":"IFERROR(IF(AD47=\"\",\"\",VLOOKUP(AD47,'IE1'!$AD$20:$AG$48,4,FALSE)),\"\")","v":0},{"$f":"IFERROR(IF(AE47=\"\",\"\",VLOOKUP(AE47,'IE1'!$AD$20:$AG$48,4,FALSE)),\"\")","v":0},{"$f":"IF(Z47='IE1'!$AD$11,Accueil!$D$24,IF((Z47='IE1'!$AD$12)*AND(AB47='IE1'!$AD$14),AF47,IF((Z47='IE1'!$AD$12)*AND(AB47='IE1'!$AD$13),0,0)))","v":0},{"$f":"IF(AA47='IE1'!$AD$11,Accueil!$D$24,IF((AA47='IE1'!$AD$12)*AND(AC47='IE1'!$AD$14),AG47,IF((AA47='IE1'!$AD$12)*AND(AC47='IE1'!$AD$13),0,0)))","v":0}]
[null,null,"12","Matériel de transport",null,"",672.81899999999996,85.177000000000007,757.99599999999998,"",926.17399999999998,43.808999999999997,969.98299999999995,null,200,48,248,null,484,80,564,{"$f":"IF($X$32='IE1'!$AG$11,'IE2'!X48,'IE2'!AH48)","v":0},{"$f":"IF($X$32='IE1'!$AG$11,'IE2'!Y48,'IE2'!AI48)","v":0},null,null,"Biens de consommation","Biens de consommation",null,"Présente",null,"Biens d'équipement, matériels de transport…",{"$f":"IFERROR(IF(AD48=\"\",\"\",VLOOKUP(AD48,'IE1'!$AD$20:$AG$48,4,FALSE)),\"\")","v":""},{"$f":"IFERROR(IF(AE48=\"\",\"\",VLOOKUP(AE48,'IE1'!$AD$20:$AG$48,4,FALSE)),\"\")","v":0},{"$f":"IF(Z48='IE1'!$AD$11,Accueil!$D$24,IF((Z48='IE1'!$AD$12)*AND(AB48='IE1'!$AD$14),AF48,IF((Z48='IE1'!$AD$12)*AND(AB48='IE1'!$AD$13),0,0)))","v":0},{"$f":"IF(AA48='IE1'!$AD$11,Accueil!$D$24,IF((AA48='IE1'!$AD$12)*AND(AC48='IE1'!$AD$14),AG48,IF((AA48='IE1'!$AD$12)*AND(AC48='IE1'!$AD$13),0,0)))","v":0}]
[null,null,"13","Meubles; autres produits manufacturés n.c.a.",null,"",206.10599999999999,"",206.10599999999999,"",260.56400000000002,"",260.56400000000002,null,149,null,149,null,121,8,129,{"$f":"IF($X$32='IE1'!$AG$11,'IE2'!X49,'IE2'!AH49)","v":0},{"$f":"IF($X$32='IE1'!$AG$11,'IE2'!Y49,'IE2'!AI49)","v":0},null,null,"Biens de consommation","Biens de consommation",null,null,null,null,{"$f":"IFERROR(IF(AD49=\"\",\"\",VLOOKUP(AD49,'IE1'!$AD$20:$AG$48,4,FALSE)),\"\")","v":""},{"$f":"IFERROR(IF(AE49=\"\",\"\",VLOOKUP(AE49,'IE1'!$AD$20:$AG$48,4,FALSE)),\"\")","v":""},{"$f":"IF(Z49='IE1'!$AD$11,Accueil!$D$24,IF((Z49='IE1'!$AD$12)*AND(AB49='IE1'!$AD$14),AF49,IF((Z49='IE1'!$AD$12)*AND(AB49='IE1'!$AD$13),0,0)))","v":0},{"$f":"IF(AA49='IE1'!$AD$11,Accueil!$D$24,IF((AA49='IE1'!$AD$12)*AND(AC49='IE1'!$AD$14),AG49,IF((AA49='IE1'!$AD$12)*AND(AC49='IE1'!$AD$13),0,0)))","v":0}]
[null,null,"14","Matières premières secondaires ; déchets",null,23.943000000000001,535.63199999999995,106.455,666.03,9.7899999999999991,414.28,110.923,534.99299999999994,null,684,233,917,23,470,281,774,{"$f":"IF($X$32='IE1'!$AG$11,'IE2'!X50,'IE2'!AH50)","v":0},{"$f":"IF($X$32='IE1'!$AG$11,'IE2'!Y50,'IE2'!AI50)","v":0},null,null,"Biens de consommation","Biens de consommation",null,null,null,null,{"$f":"IFERROR(IF(AD50=\"\",\"\",VLOOKUP(AD50,'IE1'!$AD$20:$AG$48,4,FALSE)),\"\")","v":""},{"$f":"IFERROR(IF(AE50=\"\",\"\",VLOOKUP(AE50,'IE1'!$AD$20:$AG$48,4,FALSE)),\"\")","v":""},{"$f":"IF(Z50='IE1'!$AD$11,Accueil!$D$24,IF((Z50='IE1'!$AD$12)*AND(AB50='IE1'!$AD$14),AF50,IF((Z50='IE1'!$AD$12)*AND(AB50='IE1'!$AD$13),0,0)))","v":0},{"$f":"IF(AA50='IE1'!$AD$11,Accueil!$D$24,IF((AA50='IE1'!$AD$12)*AND(AC50='IE1'!$AD$14),AG50,IF((AA50='IE1'!$AD$12)*AND(AC50='IE1'!$AD$13),0,0)))","v":0}]
[null,null,"15","Courrier ; colis",null,"",534.98599999999999,"",534.98599999999999,"",618.15,"",618.15,null,141,null,141,null,195,null,195,{"$f":"IF($X$32='IE1'!$AG$11,'IE2'!X51,'IE2'!AH51)","v":0},{"$f":"IF($X$32='IE1'!$AG$11,'IE2'!Y51,'IE2'!AI51)","v":0},null,null,"Services","Services","Services","Services","Services","Services",{"$f":"IFERROR(IF(AD51=\"\",\"\",VLOOKUP(AD51,'IE1'!$AD$20:$AG$48,4,FALSE)),\"\")","v":""},{"$f":"IFERROR(IF(AE51=\"\",\"\",VLOOKUP(AE51,'IE1'!$AD$20:$AG$48,4,FALSE)),\"\")","v":""},{"$f":"IF(Z51='IE1'!$AD$11,Accueil!$D$24,IF((Z51='IE1'!$AD$12)*AND(AB51='IE1'!$AD$14),AF51,IF((Z51='IE1'!$AD$12)*AND(AB51='IE1'!$AD$13),0,0)))","v":0},{"$f":"IF(AA51='IE1'!$AD$11,Accueil!$D$24,IF((AA51='IE1'!$AD$12)*AND(AC51='IE1'!$AD$14),AG51,IF((AA51='IE1'!$AD$12)*AND(AC51='IE1'!$AD$13),0,0)))","v":0}]
[null,null,"16","Equipement pour le transport de fret",null,"",379.577,64.2,443.77699999999999,"",292.55599999999998,13.96,306.51599999999996,null,604,35,639,null,210,49,259,{"$f":"IF($X$32='IE1'!$AG$11,'IE2'!X52,'IE2'!AH52)","v":0},{"$f":"IF($X$32='IE1'!$AG$11,'IE2'!Y52,'IE2'!AI52)","v":0},null,null,"Marchandises industrielles","Biens de consommation","Présente",null,"Biens d'équipement, matériels de transport…",null,{"$f":"IFERROR(IF(AD52=\"\",\"\",VLOOKUP(AD52,'IE1'!$AD$20:$AG$48,4,FALSE)),\"\")","v":0},{"$f":"IFERROR(IF(AE52=\"\",\"\",VLOOKUP(AE52,'IE1'!$AD$20:$AG$48,4,FALSE)),\"\")","v":""},{"$f":"IF(Z52='IE1'!$AD$11,Accueil!$D$24,IF((Z52='IE1'!$AD$12)*AND(AB52='IE1'!$AD$14),AF52,IF((Z52='IE1'!$AD$12)*AND(AB52='IE1'!$AD$13),0,0)))","v":0},{"$f":"IF(AA52='IE1'!$AD$11,Accueil!$D$24,IF((AA52='IE1'!$AD$12)*AND(AC52='IE1'!$AD$14),AG52,IF((AA52='IE1'!$AD$12)*AND(AC52='IE1'!$AD$13),0,0)))","v":0}]
[null,null,"17","Déménagements ; biens non marchands ; véhicules en réparation",null,"",47.328000000000003,23.795000000000002,71.123000000000005,"",52.018000000000001,17.881,69.899000000000001,null,26,55,81,null,40,87,127,{"$f":"IF($X$32='IE1'!$AG$11,'IE2'!X53,'IE2'!AH53)","v":0},{"$f":"IF($X$32='IE1'!$AG$11,'IE2'!Y53,'IE2'!AI53)","v":0},null,null,"Services","Services","Services","Services","Services","Services",{"$f":"IFERROR(IF(AD53=\"\",\"\",VLOOKUP(AD53,'IE1'!$AD$20:$AG$48,4,FALSE)),\"\")","v":""},{"$f":"IFERROR(IF(AE53=\"\",\"\",VLOOKUP(AE53,'IE1'!$AD$20:$AG$48,4,FALSE)),\"\")","v":""},{"$f":"IF(Z53='IE1'!$AD$11,Accueil!$D$24,IF((Z53='IE1'!$AD$12)*AND(AB53='IE1'!$AD$14),AF53,IF((Z53='IE1'!$AD$12)*AND(AB53='IE1'!$AD$13),0,0)))","v":0},{"$f":"IF(AA53='IE1'!$AD$11,Accueil!$D$24,IF((AA53='IE1'!$AD$12)*AND(AC53='IE1'!$AD$14),AG53,IF((AA53='IE1'!$AD$12)*AND(AC53='IE1'!$AD$13),0,0)))","v":0}]
[null,null,"18","Marchandises groupées",null,"",3112.0120000000002,6.04,3118.0520000000001,"",3303.8,18.954999999999998,3322.7550000000001,null,3469,70,3539,null,4250,5,4255,{"$f":"IF($X$32='IE1'!$AG$11,'IE2'!X54,'IE2'!AH54)","v":0},{"$f":"IF($X$32='IE1'!$AG$11,'IE2'!Y54,'IE2'!AI54)","v":0},null,null,"Biens de consommation","Biens de consommation",null,null,null,null,{"$f":"IFERROR(IF(AD54=\"\",\"\",VLOOKUP(AD54,'IE1'!$AD$20:$AG$48,4,FALSE)),\"\")","v":""},{"$f":"IFERROR(IF(AE54=\"\",\"\",VLOOKUP(AE54,'IE1'!$AD$20:$AG$48,4,FALSE)),\"\")","v":""},{"$f":"IF(Z54='IE1'!$AD$11,Accueil!$D$24,IF((Z54='IE1'!$AD$12)*AND(AB54='IE1'!$AD$14),AF54,IF((Z54='IE1'!$AD$12)*AND(AB54='IE1'!$AD$13),0,0)))","v":0},{"$f":"IF(AA54='IE1'!$AD$11,Accueil!$D$24,IF((AA54='IE1'!$AD$12)*AND(AC54='IE1'!$AD$14),AG54,IF((AA54='IE1'!$AD$12)*AND(AC54='IE1'!$AD$13),0,0)))","v":0}]
[null,null,"19","Marchandises non identifiables",null,9.9000000000000005E-2,106.627,"",106.726,0.5,64.576999999999998,"",65.076999999999998,null,141,null,141,0,181,17,198,{"$f":"IF($X$32='IE1'!$AG$11,'IE2'!X55,'IE2'!AH55)","v":0},{"$f":"IF($X$32='IE1'!$AG$11,'IE2'!Y55,'IE2'!AI55)","v":0},null,null,"Biens de consommation","Biens de consommation",null,null,null,null,{"$f":"IFERROR(IF(AD55=\"\",\"\",VLOOKUP(AD55,'IE1'!$AD$20:$AG$48,4,FALSE)),\"\")","v":""},{"$f":"IFERROR(IF(AE55=\"\",\"\",VLOOKUP(AE55,'IE1'!$AD$20:$AG$48,4,FALSE)),\"\")","v":""},{"$f":"IF(Z55='IE1'!$AD$11,Accueil!$D$24,IF((Z55='IE1'!$AD$12)*AND(AB55='IE1'!$AD$14),AF55,IF((Z55='IE1'!$AD$12)*AND(AB55='IE1'!$AD$13),0,0)))","v":0},{"$f":"IF(AA55='IE1'!$AD$11,Accueil!$D$24,IF((AA55='IE1'!$AD$12)*AND(AC55='IE1'!$AD$14),AG55,IF((AA55='IE1'!$AD$12)*AND(AC55='IE1'!$AD$13),0,0)))","v":0}]
[null,null,"20","Autres marchandises",null,"",24.481999999999999,"",24.481999999999999,"",11.708,"",11.708,null,20,null,20,null,9,null,9,{"$f":"IF($X$32='IE1'!$AG$11,'IE2'!X56,'IE2'!AH56)","v":0},{"$f":"IF($X$32='IE1'!$AG$11,'IE2'!Y56,'IE2'!AI56)","v":0},null,null,"Biens de consommation","Biens de consommation",null,null,null,null,{"$f":"IFERROR(IF(AD56=\"\",\"\",VLOOKUP(AD56,'IE1'!$AD$20:$AG$48,4,FALSE)),\"\")","v":""},{"$f":"IFERROR(IF(AE56=\"\",\"\",VLOOKUP(AE56,'IE1'!$AD$20:$AG$48,4,FALSE)),\"\")","v":""},{"$f":"IF(Z56='IE1'!$AD$11,Accueil!$D$24,IF((Z56='IE1'!$AD$12)*AND(AB56='IE1'!$AD$14),AF56,IF((Z56='IE1'!$AD$12)*AND(AB56='IE1'!$AD$13),0,0)))","v":0},{"$f":"IF(AA56='IE1'!$AD$11,Accueil!$D$24,IF((AA56='IE1'!$AD$12)*AND(AC56='IE1'!$AD$14),AG56,IF((AA56='IE1'!$AD$12)*AND(AC56='IE1'!$AD$13),0,0)))","v":0}]
[null,null,"Total",null,null,{"$f":"SUM(F37:F56)","v":375.24799999999993},17380.482,1951.6419999999998,19707.371999999996,419.01599999999996,18532.285,2309.9,24792.688000000002,470,17880,3896,22246,1111,22014,3449,26574]
[]
[]
[]
["C.","Transport national - France métropolitaine par région"]
[]
[null,"Flux entrant"]
[]
[null,null,null,null,"Flux déchargés \nen NPdC\n(milliers de tonnes)","Flux déchargés \nen Picardie\n(milliers de tonnes)","Ville de départ\nconsidérée","Distance considérée NPdC\n(km)","Distance considérée Picardie\n(km)"]
[null,null,"Alsace",null,360.22899999999998,259,"Strasbourg",521,526]
[null,null,"Aquitaine",null,187.41499999999999,135,"Bordeaux",800,728]
[null,null,"Auvergne",null,163.59100000000001,99,"Clermont-Ferrand",638,561]
[null,null,"Basse-Normandie",null,339.392,286,"Caen",388,602]
[null,null,"Bourgogne",null,341.10500000000002,335,"Dijon",502,474]
[null,null,"Bretagne",null,862.25099999999998,366,"Rennes",569,435]
[null,null,"Centre",null,986.86699999999996,684,"Orléans",348,348]
[null,null,"Champagne-Ardenne",null,1439.06,1655,"Châlon-en-Champ.",250,223]
[null,null,"Franche-Comté",null,251.792,137,"Besançon",585,557]
[null,null,"Haute-Normandie",null,1442.3430000000001,3429,"Rouen",256,120]
[null,null,"Ile-de-France",null,2863.9050000000002,5171,"Paris",220,148]
[null,null,"Languedoc-Roussillon",null,47.82,95,"Montpellier",990,881]
[null,null,"Limousin",null,99.846000000000004,44,"Limoges",608,533]
[null,null,"Lorraine",null,997.30100000000004,609,"Metz",364,366]
[null,null,"Midi-Pyrénées",null,128.43600000000001,125,"Toulouse",895,820]
[null,null,"Nord-Pas-de_Calais",null,0,7003,"Lille",0,145]
[null,null,"PACA-Corse",null,250.249,232,"Marseille",1000,930]
[null,null,"Pays de la Loire",null,744.46900000000005,542,"Nantes",597,505]
[null,null,"Picardie",null,7190.0820000000003,0,"Amiens",144,0]
[null,null,"Poitou-Charentes",null,182.726,161,"Poitiers",563,481]
[null,null,"Rhône-Alpes",null,828.49300000000005,884,"Lyon",691,618]
[null,null,"Total ",null,{"$f":"SUM(E66:E86)","v":19707.371999999996},{"$f":"SUM(F66:F86)","v":22251}]
[]
[null,null,"Distance moyenne flux entrants:",null,{"$f":"IF(J7=\"Nord Pas-de-Calais\",IF(E87>0,SUMPRODUCT(E66:E86,H66:H86)/SUM(E66:E86),0),IF(J7=\"Picardie\",IF(F87>0,SUMPRODUCT(F66:F86,I66:I86)/SUM(F66:F86),0),AVERAGE(SUMPRODUCT(E66:E86,H66:H86)/SUM(E66:E86),SUMPRODUCT(F66:F86,I66:I86)/SUM(F66:F86))))","v":271.05988496778434},"km"]
[]
[]
[null,"Flux sortants"]
[]
[null,null,null,null,"Flux chargés \nen NPdC\n(milliers de tonnes)","Flux chargés \nen Picardie\n(milliers de tonnes)","Ville d'arrivée\nconsidérée","Distance considérée NPdC\n(km)","Distance considérée Picardie (km)"]
[null,null,"Alsace",null,289.62400000000002,266,"Strasbourg",521,526]
[null,null,"Aquitaine",null,230.489,156,"Bordeaux",800,728]
[null,null,"Auvergne",null,150.35400000000001,119,"Clermont-Ferrand",638,561]
[null,null,"Basse-Normandie",null,387.202,547,"Caen",388,602]
[null,null,"Bourgogne",null,281.18200000000002,478,"Dijon",502,474]
[null,null,"Bretagne",null,697.16800000000001,609,"Rennes",569,435]
[null,null,"Centre",null,902.47199999999998,772,"Orléans",348,348]
[null,null,"Champagne-Ardenne",null,1803.5309999999999,2284,"Châlon-en-Champ.",250,223]
[null,null,"Franche-Comté",null,141.54900000000001,98,"Besançon",585,557]
[null,null,"Haute-Normandie",null,1568.548,3687,"Rouen",256,120]
[null,null,"Ile-de-France",null,4145.4709999999995,7117,"Paris",220,148]
[null,null,"Languedoc-Roussillon",null,101.735,46,"Montpellier",990,881]
[null,null,"Limousin",null,125.55800000000001,57,"Limoges",608,533]
[null,null,"Lorraine",null,769.90599999999995,592,"Metz",364,366]
[null,null,"Midi-Pyrénées",null,144.63200000000001,142,"Toulouse",895,820]
[null,null,"Nord-Pas-de-Calais",null,0,7190,"Lille",0,145]
[null,null,"PACA-Corse",null,258.93200000000002,169,"Marseille",1000,930]
[null,null,"Pays de la Loire",null,1038.8820000000001,768,"Nantes",597,505]
[null,null,"Picardie",null,7003.3940000000002,0,"Amiens",144,0]
[null,null,"Poitou-Charentes",null,229.792,277,"Poitiers",563,481]
[null,null,"Rhône-Alpes",null,990.78,1199,"Lyon",691,618]
[null,null,"Total ",null,{"$f":"SUM(E95:E115)","v":21261.201000000001},{"$f":"SUM(F95:F115)","v":26573}]
[]
[null,null,"Distance moyenne flux entrants:",null,{"$f":"IF(J7=\"Nord Pas-de-Calais\",IF(E116>0,SUMPRODUCT(E95:E115,H95:H115)/SUM(E95:E115),0),IF(J7=\"Picardie\",IF(F116>0,SUMPRODUCT(F95:F115,I95:I115)/SUM(F95:F115),0),AVERAGE(SUMPRODUCT(E95:E115,H95:H115)/SUM(E95:E115,SUMPRODUCT(F95:F115,I95:I115)/SUM(F95:F115)))))","v":305.53917535873347},"km"]

{"sheet":"Resid","index":20,"n_rows":95,"n_cols":13,"rows_kept":95,"cut":false,"hidden":false,"merged":[[65,2,65,4],[42,4,42,5],[26,2,26,4],[30,2,30,4],[31,2,31,4],[28,2,28,4],[29,2,29,4],[27,2,27,4],[41,4,41,5],[74,9,80,12],[74,8,78,8],[94,2,94,5],[52,2,52,5],[40,2,40,5],[83,4,84,4],[83,5,84,5],[72,5,73,5],[79,4,79,5],[85,2,90,3],[72,2,80,3],[72,4,73,4],[80,4,80,5],[57,1,57,2],[63,2,63,4],[64,2,64,4]]}
[]
[null,"Résidentiel"]
[]
[]
[]
[]
[]
[]
[]
[]
[]
[]
[]
[]
[]
[]
[]
[]
[]
[]
[null,"Récapitulatif"]
[]
[null,"Résidentiel - émissions liées à la consommation"]
[]
[null,null,null,null,null,"GES","PM10","NOx","COVNM","PM2.5","SO2","NH3"]
[null,null,null,null,null,"kt eq CO2","tonnes","tonnes","tonnes","tonnes","tonnes","tonnes"]
[null,null,"Emissions directes",null,null,{"$f":"G41","v":0},0,0,0,0,0,0]
[null,null,"Emissions indirectes liées aux réseaux de chaleur et de froid (scope 2)",null,null,{"$f":"G53","v":0},{"$f":"D1a!L154*D3b!$F29/1000","v":0},{"$f":"D1a!M154*D3b!$F29/1000","v":0},{"$f":"D1a!N154*D3b!$F29/1000","v":0},{"$f":"D1a!O154*D3b!$F29/1000","v":0},{"$f":"D1a!P154*D3b!$F29/1000","v":0},{"$f":"D1a!Q154*D3b!$F29/1000","v":0}]
[null,null,"Emissions indirectes liées à l'électricité (scope 2)",null,null,{"$f":"F64","v":0},{"$f":"G64","v":0},0,0,0,0,0]
[null,null,"Emissions indirectes liées à l'électricité- Amont des combustibles (scope 3)",null,null,{"$f":"F65","v":0},{"$f":"G65","v":0},0,0,0,0,0]
[null,null,"Emissions indirectes liées à l'énergie (hors électricité)- Amont des combustibles (scope 3)",null,null,{"$f":"G95","v":0},{"$f":"H95","v":0},0,0,0,0,0]
[null,null,"Emissions liées à la consommation",null,null,{"$f":"SUM(F27:F31)","v":0},0,0,0,0,0,0]
[]
[]
[]
["1)","Emissions directes"]
[]
[null,"Résidentiel - émissions directes"]
[null,null,null,null,null,null,"GES","PM10","NOx","COVNM","PM2.5","SO2","NH3"]
[null,null,null,null,null,null,"kt eq CO2","tonnes","tonnes","tonnes","tonnes","tonnes","tonnes"]
[null,null,"Résidentiel - Emissions directes",null,null,null,{"$f":"SUM(G42:G43)","v":0},{"$f":"SUM(H42:H43)","v":0},0,0,0,0,0]
[null,null,null,null,"Chauffage urbain",null,{"$f":"D2b!D123","v":0},{"$f":"D1a!L154*D3b!$F$29/1000","v":0},{"$f":"D1a!M154*D3b!$F$29/1000","v":0},{"$f":"D1a!N154*D3b!$F$29/1000","v":0},{"$f":"D1a!O154*D3b!$F$29/1000","v":0},{"$f":"D1a!P154*D3b!$F$29/1000","v":0},{"$f":"D1a!Q154*D3b!$F$29/1000","v":0}]
[null,null,null,null,"Résidentiel hors chauffage urbain",null,{"$f":"D1a!K152*D3b!$F$27","v":0},{"$f":"D1a!L152*D3b!$F$27/1000","v":0},{"$f":"D1a!M152*D3b!$F$27/1000","v":0},{"$f":"D1a!N152*D3b!$F$27/1000","v":0},{"$f":"D1a!O152*D3b!$F$27/1000","v":0},{"$f":"D1a!P152*D3b!$F$27/1000","v":0},{"$f":"D1a!Q152*D3b!$F$27/1000","v":0}]
[]
[]
[]
["2)","Emissions indirectes liées aux réseaux de chaleur et de froid"]
[]
[null,"Résidentiel - émissions indirectes liées aux réseaux de chaleur et de froid"]
[]
[null,null,null,null,null,null,"GES"]
[null,null,null,null,null,null,"kt eq CO2"]
[null,null,"Emissions indirectes liées aux réseaux de chaleur et de froid- Résidentiel",null,null,null,{"$f":"'I2'!E139","v":0}]
[]
[]
["3)","Émissions indirectes liées à l'électricité"]
[]
[null,"Consommation d'électricité",null,"Résidentiel",{"$f":"I1a!D20","v":0},"MWh"]
[]
[null,"Résidentiel - émissions indirectes de GES liées à la consommation d'électricité (Imports)"]
[]
[null,null,null,null,null,"GES","PM10","NOx","COVNM","PM2.5","SO2","NH3"]
[null,null,null,null,null,"kt eq CO2","tonnes","tonnes","tonnes","tonnes","tonnes","tonnes"]
[null,null,"Emissions indirectes (scope 2 - périmètre réglementaire)",null,null,{"$f":"I1b!O16","v":0},{"$f":"'FE2'!$F$6*Resid!E58/1000","v":0},{"$f":"'FE2'!$F$7*Resid!E58/1000","v":0},{"$f":"'FE2'!$F$8*Resid!E58/1000","v":0},{"$f":"'FE2'!$F$9*Resid!E58/1000","v":0},{"$f":"'FE2'!$F$10*Resid!E58/1000","v":0},{"$f":"'FE2'!$F$11*Resid!E58/1000","v":0}]
[null,null,"Emissions indirectes (amont des combustibles, transport et distribution)",null,null,{"$f":"I1b!O17","v":0},{"$f":"'FE2'!$E$6*Resid!E58/1000","v":0},{"$f":"'FE2'!$E$7*Resid!E58/1000","v":0},{"$f":"'FE2'!$E$8*Resid!E58/1000","v":0},{"$f":"'FE2'!$E$9*Resid!E58/1000","v":0},{"$f":"'FE2'!$E$10*Resid!E58/1000","v":0},{"$f":"'FE2'!$E$11*Resid!E58/1000","v":0}]
[null,null," Scope 3",null,null,{"$f":"I1b!O18","v":0},{"$f":"G64+G65","v":0},0,0,0,0,0]
[]
[]
["4)","Emissions indirectes liées à l'énergie (hors électricité)"]
[]
[null,"Résidentiel - émissions indirectes liées à l'énergie (hors électricité)- Amont des combustibles"]
[]
[null,null,"Mix énergétique du résidentiel\n(hors électricité)",null,"ID","Source","Valeur","Valeur","Source"]
[null,null,null,null,null,null,"kWh énergie finale","%"]
[null,null,null,null,301,"Gaz naturel",null,{"$f":"G75/$G$81","v":{"$error":"#DIV/0!"}},"Observatoire Climat Hauts de France, année 2012"]
[null,null,null,null,204,"Fioul",null,{"$f":"G76/$G$81","v":{"$error":"#DIV/0!"}}]
[null,null,null,null,104,"Charbon",null,{"$f":"G77/$G$81","v":{"$error":"#DIV/0!"}}]
[null,null,null,null,303,"GPL",null,{"$f":"G78/$G$81","v":{"$error":"#DIV/0!"}}]
[null,null,null,null,111,"Bois",null,{"$f":"G79/$G$81","v":{"$error":"#DIV/0!"}}]
[null,null,null,null,"Réseaux de chaleur et de froid",null,{"$f":"'I2'!E108","v":0},{"$f":"G80/$G$81","v":{"$error":"#DIV/0!"}},"Onglet \"D2b\""]
[null,null,null,null,"Total",null,{"$f":"SUM(G75:G80)","v":0},{"$f":"SUM(H75:H80)","v":{"$error":"#DIV/0!"}}]
[]
[]
[null,null,null,null,"ID","Source","GES","PM10","NOx","COVNM","PM2.5","SO2","NH3"]
[null,null,null,null,null,null,"kt eq CO2","tonnes","tonnes","tonnes","tonnes","tonnes","tonnes"]
[null,null,"Emissions indirectes du résidentiel\n(hors électricité)",null,301,"Gaz naturel",{"$f":"Resid!G75*'FE2'!E19/1000000","v":0},{"$f":"'FE2'!E24*Resid!G75/1000000","v":0},{"$f":"G75*'FE2'!E29/1000000","v":0},{"$f":"'FE2'!E34*Resid!G75/100000","v":0},{"$f":"'FE2'!E39*Resid!G75/1000000","v":0},{"$f":"'FE2'!E44*Resid!G75/1000000","v":0},{"$f":"'FE2'!E49*Resid!G75/1000000","v":0}]
[null,null,null,null,204,"Fioul",{"$f":"Resid!G76*'FE2'!E20/1000000","v":0},{"$f":"'FE2'!E25*Resid!G76/1000000","v":0},{"$f":"G76*'FE2'!E30/1000000","v":0},{"$f":"'FE2'!E35*Resid!G76/100000","v":0},{"$f":"'FE2'!E40*Resid!G76/1000000","v":0},{"$f":"'FE2'!E45*Resid!G76/1000000","v":0},{"$f":"'FE2'!E50*Resid!G76/1000000","v":0}]
[null,null,null,null,104,"Charbon",{"$f":"Resid!G77*'FE2'!E21/1000000","v":0},{"$f":"'FE2'!E26*Resid!G77/1000000","v":0},{"$f":"G77*'FE2'!E31/1000000","v":0},{"$f":"'FE2'!E36*Resid!G77/100000","v":0},{"$f":"'FE2'!E41*Resid!G77/1000000","v":0},{"$f":"'FE2'!E46*Resid!G77/1000000","v":0},{"$f":"'FE2'!E51*Resid!G77/1000000","v":0}]
[null,null,null,null,303,"GPL",{"$f":"Resid!G78*'FE2'!E22/1000000","v":0},{"$f":"'FE2'!E27*Resid!G78/1000000","v":0},{"$f":"G78*'FE2'!E32/1000000","v":0},{"$f":"'FE2'!E37*Resid!G78/100000","v":0},{"$f":"'FE2'!E42*Resid!G78/1000000","v":0},{"$f":"'FE2'!E47*Resid!G78/1000000","v":0},{"$f":"'FE2'!E52*Resid!G78/1000000","v":0}]
[null,null,null,null,111,"Bois",{"$f":"Resid!G79*'FE2'!E23/1000000","v":0},{"$f":"'FE2'!E28*Resid!G79/1000000","v":0},{"$f":"G79*'FE2'!E33/1000000","v":0},{"$f":"'FE2'!E38*Resid!G79/100000","v":0},{"$f":"'FE2'!E43*Resid!G79/1000000","v":0},{"$f":"'FE2'!E48*Resid!G79/1000000","v":0},{"$f":"'FE2'!E53*Resid!G79/1000000","v":0}]
[null,null,null,null,null,"Total",{"$f":"SUM(G86:G90)","v":0},{"$f":"SUM(H86:H90)","v":0},0,0,0,0,0]
[]
[null,null,null,null,null,null,"GES","PM10","NOx","COVNM","PM2.5","SO2","NH3"]
[null,null,null,null,null,null,"kt eq CO2","tonnes","tonnes","tonnes","tonnes","tonnes","tonnes"]
[null,null,"Emissions indirectes liées à l'énergie (hors électricité)",null,null,null,{"$f":"G91","v":0},{"$f":"H91","v":0},0,0,0,0,0]

{"sheet":"Depl","index":21,"n_rows":95,"n_cols":12,"rows_kept":95,"cut":false,"hidden":false,"merged":[[24,2,24,4],[55,2,55,4],[56,2,56,4],[87,7,87,8],[27,2,27,4],[67,3,67,4],[69,3,69,4],[70,3,70,4],[67,2,70,2],[72,2,72,4],[86,2,86,3],[77,2,77,4],[78,2,78,4],[48,2,50,3],[54,2,54,4],[94,2,94,4],[22,2,22,4],[71,2,71,4],[87,2,87,3],[25,2,25,4],[26,2,26,4],[36,2,36,4],[40,2,40,4],[66,2,66,4],[73,2,73,4],[74,2,76,2],[74,3,74,4],[76,3,76,4],[93,2,93,4],[92,2,92,4],[23,2,23,4]]}
[]
[null,"Déplacements"]
[]
[]
[]
[]
[]
[]
[]
[]
[]
[]
[]
[]
[]
[]
[null,"Récapitulatif"]
[]
[null,"Déplacements - émissions liées à la consommation "]
[]
[null,null,null,null,null,"GES","PM10","NOx","COVNM","PM2.5","SO2","NH3"]
[null,null,null,null,null,"kt eq CO2","tonnes","tonnes","tonnes","tonnes","tonnes","tonnes"]
[null,null,"Emissions directes",null,null,{"$f":"F41","v":0},{"$f":"G41","v":0},0,0,0,0,0]
[null,null,"Emissions indirectes liées à l'électricité (scope 2)",null,null,{"$f":"F55","v":0},0,0,0,0,0,0]
[null,null,"Emissions indirectes liées à l'électricité- Amont des combustibles - (scope3)",null,null,0,0,0,0,0,0,0]
[null,null,"Emissions indirectes liées à l'énergie (hors avion) - Amont des déplacements (scope 3)",null,null,{"$f":"F79","v":{"$error":"#DIV/0!"}},{"$error":"#DIV/0!"},{"$error":"#DIV/0!"},{"$f":"I79","v":{"$error":"#DIV/0!"}},{"$f":"J79","v":{"$error":"#DIV/0!"}},{"$error":"#DIV/0!"},{"$f":"L79","v":{"$error":"#DIV/0!"}}]
[null,null,"Emissions indirectes liées à l'avion - (scope 3)",null,null,{"$f":"F95","v":0},"-","-","-","-","-","-"]
[null,null,"Emissions liées à la consommation",null,null,{"$f":"SUM(F23:F27)","v":{"$error":"#DIV/0!"}},{"$f":"SUM(G23:G27)","v":{"$error":"#DIV/0!"}},{"$error":"#DIV/0!"},{"$error":"#DIV/0!"},{"$error":"#DIV/0!"},{"$error":"#DIV/0!"},{"$error":"#DIV/0!"}]
[]
[]
[]
["1)","Emissions directes (MyEmiss'Air)"]
[]
[null,"Déplacements - émissions directes"]
[null,null,null,null,null,"GES","PM10","NOx","COVNM","PM2.5","SO2","NH3"]
[null,null,null,null,null,"kt eq CO2","tonnes","tonnes","tonnes","tonnes","tonnes","tonnes"]
[null,null,"Routier",null,null,{"$f":"SUMPRODUCT(D1a!K161:K167,D3b!G36:G42)","v":0},{"$f":"SUMPRODUCT(D1a!L161:L167,D3b!G36:G42)/1000","v":0},{"$f":"SUMPRODUCT(D1a!M161:M167,D3b!G36:G42)/1000","v":0},{"$f":"SUMPRODUCT(D1a!N161:N167,D3b!$G$36:$G$42)/1000","v":0},{"$f":"SUMPRODUCT(D1a!O161:O167,D3b!$G$36:$G$42)/1000","v":0},{"$f":"SUMPRODUCT(D1a!P161:P167,D3b!$G$36:$G$42)/1000","v":0},{"$f":"SUMPRODUCT(D1a!Q161:Q167,D3b!G36:G42)/1000","v":0}]
[null,null,"Train",null,null,{"$f":"D1a!K138*D3b!G13","v":0},{"$f":"D1a!L138*D3b!G13/1000","v":0},{"$f":"D1a!M138*D3b!G13/1000","v":0},{"$f":"D1a!N138*D3b!$G$13/1000","v":0},{"$f":"D1a!O138*D3b!$G$13/1000","v":0},{"$f":"D1a!P138*D3b!$G$13/1000","v":0},{"$f":"D1a!Q138*D3b!G13/1000","v":0}]
[null,null,"Bateau",null,null,{"$f":"D1a!K139*D3b!G14","v":0},{"$f":"D1a!L139*D3b!G14/1000","v":0},{"$f":"D1a!M139*D3b!G14/1000","v":0},{"$f":"D1a!N139*D3b!$G$14/1000","v":0},{"$f":"D1a!O139*D3b!$G$14/1000","v":0},{"$f":"D1a!P139*D3b!$G$14/1000","v":0},{"$f":"D1a!Q139*D3b!G14/1000","v":0}]
[null,null,"Avion",null,null,{"$f":"D1a!K137*D3b!G12","v":0},{"$f":"D1a!L137*D3b!G12/1000","v":0},{"$f":"D1a!M137*D3b!G12/1000","v":0},{"$f":"D1a!N137*D3b!$G$12/1000","v":0},{"$f":"D1a!O137*D3b!$G$12/1000","v":0},{"$f":"D1a!P137*D3b!$G$12/1000","v":0},{"$f":"D1a!Q137*D3b!G12/1000","v":0}]
[null,null,"Emissions directes",null,null,{"$f":"SUM(F37:F40)","v":0},0,0,0,0,0,0]
[]
[]
[]
["2)","Émissions indirectes de GES liées à l'électricité"]
[]
[null,"Déplacements - émissions indirectes de GES liées à la consommation d'électricité (Imports)"]
[]
[null,null,"Consommation d'électricité",null,"Déplacements",{"$f":"I1a!D55","v":0},"MWh"]
[null,null,null,null,"Transport routier",{"$f":"I1a!D56","v":0},"MWh"]
[null,null,null,null,"Autres transports",{"$f":"I1a!D57","v":0},"MWh"]
[]
[null,null,null,null,null,"GES","PM10","NOx","COVNM","PM2.5","SO2","NH3"]
[null,null,null,null,null,"kt eq CO2","tonnes","tonnes","tonnes","tonnes","tonnes","tonnes"]
[null,null,"Emissions indirectes (scope 2 - périmètre réglementaire)",null,null,{"$f":"I1b!O43","v":0},{"$f":"'FE2'!$F$6*F49/1000","v":0},{"$f":"'FE2'!$F$7*F49/1000","v":0},{"$f":"'FE2'!$F$8*F49/1000","v":0},{"$f":"'FE2'!$F$9*F49/1000","v":0},{"$f":"'FE2'!$F$10*F49/1000","v":0},{"$f":"'FE2'!$F$11*F49/1000","v":0}]
[null,null,"Emissions indirectes (amont des combustibles, transport et distribution)",null,null,{"$f":"I1b!O44","v":0},{"$f":"'FE2'!$E$6*F49/1000","v":0},{"$f":"'FE2'!$E$7*F49/1000","v":0},{"$f":"'FE2'!$E$8*F49/1000","v":0},{"$f":"'FE2'!$E$9*F49/1000","v":0},{"$f":"'FE2'!$E$10*F49/1000","v":0},{"$f":"'FE2'!$E$11*F49/1000","v":0}]
[null,null,"Scope 3",null,null,{"$f":"I1b!O45","v":0},{"$f":"G55+G56","v":0},0,0,0,0,0]
[]
[]
[]
["3)","Emissions indirectes liées à l'énergie (hors électricité)"]
[]
[null,"Déplacements - émissions indirectes liées à l'énergie"]
[]
[null,null,null,null,null,"GES","PM10","NOx","COVNM","PM2.5","SO2","NH3"]
[null,null,null,null,null,"kt eq CO2","tonnes","tonnes","tonnes","tonnes","tonnes","tonnes"]
[null,null,"Emissions directes",null,null,{"$f":"F41","v":0},0,0,0,0,0,0]
[null,null,"Ratio d'émissions directes","% routier",null,{"$f":"F37/F$41","v":{"$error":"#DIV/0!"}},{"$error":"#DIV/0!"},{"$error":"#DIV/0!"},{"$error":"#DIV/0!"},{"$error":"#DIV/0!"},{"$error":"#DIV/0!"},{"$error":"#DIV/0!"}]
[null,null,null,"% train",null,{"$error":"#DIV/0!"},{"$error":"#DIV/0!"},{"$error":"#DIV/0!"},{"$error":"#DIV/0!"},{"$error":"#DIV/0!"},{"$error":"#DIV/0!"},{"$error":"#DIV/0!"}]
[null,null,null,"% bateau",null,{"$error":"#DIV/0!"},{"$error":"#DIV/0!"},{"$error":"#DIV/0!"},{"$error":"#DIV/0!"},{"$error":"#DIV/0!"},{"$error":"#DIV/0!"},{"$error":"#DIV/0!"}]
[null,null,null,"% avion",null,{"$error":"#DIV/0!"},{"$error":"#DIV/0!"},{"$error":"#DIV/0!"},{"$error":"#DIV/0!"},{"$error":"#DIV/0!"},{"$error":"#DIV/0!"},{"$error":"#DIV/0!"}]
[null,null,"Ratio pondéré émissions indirectes / directes",null,null,{"$f":"SUMPRODUCT(F68:F71,'FE2'!I61:I64)","v":{"$error":"#DIV/0!"}},{"$f":"SUMPRODUCT(G68:G71,'FE2'!I65:I68)","v":{"$error":"#DIV/0!"}},{"$f":"SUMPRODUCT(H68:H71,'FE2'!I69:I72)","v":{"$error":"#DIV/0!"}},{"$f":"SUMPRODUCT(I68:I71,'FE2'!I73:I76)","v":{"$error":"#DIV/0!"}},{"$f":"SUMPRODUCT(J68:J71,'FE2'!I77:I80)","v":{"$error":"#DIV/0!"}},{"$f":"SUMPRODUCT(K68:K71,'FE2'!I81:I84)","v":{"$error":"#DIV/0!"}},{"$f":"SUMPRODUCT(L68:L71,'FE2'!I85:I88)","v":{"$error":"#DIV/0!"}}]
[null,null,"Emissions indirectes liées à l'énergie",null,null,{"$f":"F72*F67","v":{"$error":"#DIV/0!"}},{"$error":"#DIV/0!"},{"$error":"#DIV/0!"},{"$error":"#DIV/0!"},{"$error":"#DIV/0!"},{"$error":"#DIV/0!"},{"$f":"L72*L67","v":{"$error":"#DIV/0!"}}]
[null,null,"Emissions directes (hors avion)",null,null,{"$f":"SUM(F37:F39)","v":0},0,0,0,0,0,0]
[null,null,"Ratio d'émissions directes","% routier",null,{"$f":"F68/SUM(F$68:F$70)","v":{"$error":"#DIV/0!"}},{"$error":"#DIV/0!"},{"$error":"#DIV/0!"},{"$error":"#DIV/0!"},{"$f":"J68/SUM(J$68:J$70)","v":{"$error":"#DIV/0!"}},{"$error":"#DIV/0!"},{"$f":"L68/SUM(L$68:L$70)","v":{"$error":"#DIV/0!"}}]
[null,null,null,"% train",null,{"$f":"F69/SUM(F$68:F$70)","v":{"$error":"#DIV/0!"}},{"$error":"#DIV/0!"},{"$error":"#DIV/0!"},{"$error":"#DIV/0!"},{"$error":"#DIV/0!"},{"$error":"#DIV/0!"},{"$f":"L69/SUM(L$68:L$70)","v":{"$error":"#DIV/0!"}}]
[null,null,null,"% bateau",null,{"$f":"F70/SUM(F$68:F$70)","v":{"$error":"#DIV/0!"}},{"$error":"#DIV/0!"},{"$error":"#DIV/0!"},{"$error":"#DIV/0!"},{"$error":"#DIV/0!"},{"$error":"#DIV/0!"},{"$f":"L70/SUM(L$68:L$70)","v":{"$error":"#DIV/0!"}}]
[null,null,"Ratio pondéré émissions indirectes / directes",null,null,{"$f":"SUMPRODUCT(F75:F77,'FE2'!$I61:$I63)","v":{"$error":"#DIV/0!"}},{"$f":"SUMPRODUCT(G75:G77,'FE2'!$I65:$I67)","v":{"$error":"#DIV/0!"}},{"$f":"SUMPRODUCT(H75:H77,'FE2'!$I69:$I71)","v":{"$error":"#DIV/0!"}},{"$f":"SUMPRODUCT(I75:I77,'FE2'!$I73:$I75)","v":{"$error":"#DIV/0!"}},{"$f":"SUMPRODUCT(J75:J77,'FE2'!I78:I80)","v":{"$error":"#DIV/0!"}},{"$f":"SUMPRODUCT(K75:K77,'FE2'!$I81:$I83)","v":{"$error":"#DIV/0!"}},{"$f":"SUMPRODUCT(L75:L77,'FE2'!I85:I87)","v":{"$error":"#DIV/0!"}}]
[null,null,"Emissions indirectes liées à l'énergie (hors avion)",null,null,{"$f":"F78*F74","v":{"$error":"#DIV/0!"}},{"$error":"#DIV/0!"},{"$error":"#DIV/0!"},{"$error":"#DIV/0!"},{"$error":"#DIV/0!"},{"$error":"#DIV/0!"},{"$f":"L78*L74","v":{"$error":"#DIV/0!"}}]
[]
[]
[]
["4)","Émissions indirectes liées à l'avion"]
[]
[null,"Déplacements - émissions indirectes liées à l'utilisation de l'avion"]
[]
[null,null,"Nombre d'habitants sur le territoire",null,{"$f":"Accueil!D22","v":0},"habitants"]
[null,null,"Nombre de km parcourus / habitant",null,1379,"km / habitant / an","Source:","Bilan Carbone Territoire v6"]
[]
[]
[null,null,null,null,null,"GES"]
[null,null,null,null,null,"kt eq CO2"]
[null,null,"Emissions liées à l'utilisation de l'avion",null,null,{"$f":"E87*E88*'FE2'!G64/1000000","v":0}]
[null,null,"Emissions liées à l'avion sur le territoire",null,null,{"$f":"F40","v":0}]
[null,null,"Emissions indirectes liées à l'avion",null,null,{"$f":"F93-F94","v":0}]

{"sheet":"Biens de conso","index":22,"n_rows":315,"n_cols":15,"rows_kept":315,"cut":false,"hidden":false,"merged":[[168,2,168,3],[169,2,169,3],[170,2,170,3],[171,2,171,3],[177,2,177,3],[178,2,178,3],[179,2,179,3],[180,2,180,3],[182,2,182,3],[46,6,46,10],[55,2,57,4],[244,9,244,10],[237,9,237,10],[238,9,238,10],[173,2,173,3],[173,4,173,5],[174,2,174,3],[93,4,93,7],[83,2,83,4],[157,4,157,5],[97,3,97,4],[98,3,98,4],[99,3,99,4],[100,3,100,4],[76,2,76,4],[77,2,77,4],[78,2,78,4],[96,2,96,4],[146,2,146,4],[153,2,154,3],[153,4,154,5],[111,2,111,4],[135,2,135,4],[302,9,302,11],[299,9,299,11],[158,2,158,3],[158,4,158,5],[159,2,159,3],[159,4,159,5],[160,2,160,3],[160,4,160,5],[164,4,164,5],[165,2,165,3],[165,4,165,5],[166,2,166,3],[166,4,166,5],[161,2,161,3],[161,4,161,5],[162,2,162,3],[230,9,230,10],[282,3,282,5],[283,3,283,5],[285,3,285,5],[172,4,172,5],[163,2,163,3],[163,4,163,5],[164,2,164,3],[34,2,34,4],[51,2,54,4],[33,2,33,4],[38,2,38,4],[39,2,39,4],[40,2,40,4],[75,2,75,4],[35,2,35,4],[36,2,36,4],[85,2,85,4],[82,2,82,4],[81,2,81,4],[84,2,84,4],[105,3,105,4],[79,2,79,4],[103,3,103,4],[104,3,104,4],[112,2,112,4],[106,3,106,4],[107,3,107,4],[108,3,108,4],[109,3,109,4],[110,3,110,4],[97,2,110,2],[101,3,101,4],[102,3,102,4],[80,2,80,4],[162,4,162,5],[157,2,157,3],[118,2,121,2],[118,3,118,4],[134,2,134,4],[117,2,117,4],[174,4,174,5],[167,4,167,5],[168,4,168,5],[169,4,169,5],[170,4,170,5],[171,4,171,5],[130,3,130,4],[156,4,156,5],[136,2,136,4],[156,2,156,3],[172,2,172,3],[155,2,155,3],[155,4,155,5],[120,3,120,4],[122,2,122,4],[123,2,123,4],[121,3,121,4],[167,2,167,3],[188,4,188,5],[175,2,175,3],[175,4,175,5],[176,2,176,3],[176,4,176,5],[177,4,177,5],[178,4,178,5],[179,4,179,5],[180,4,180,5],[186,2,186,3],[186,4,186,5],[187,2,187,3],[187,4,187,5],[181,2,181,3],[181,4,181,5],[182,4,182,5],[183,4,183,5],[184,4,184,5],[185,4,185,5],[183,2,183,3],[184,2,184,3],[185,2,185,3],[188,2,188,3],[191,4,191,5],[192,2,192,3],[192,4,192,5],[193,2,193,3],[193,4,193,5],[189,2,189,3],[189,4,189,5],[190,2,190,3],[190,4,190,5],[191,2,191,3],[197,4,197,5],[198,4,198,5],[199,4,199,5],[200,4,200,5],[201,4,201,5],[194,2,194,3],[194,4,194,5],[195,2,195,3],[195,4,195,5],[196,2,196,3],[196,4,196,5],[198,2,198,3],[199,2,199,3],[200,2,200,3],[201,2,201,3],[197,2,197,3],[204,4,204,5],[205,2,205,3],[205,4,205,5],[206,2,206,3],[206,4,206,5],[202,2,202,3],[202,4,202,5],[203,2,203,3],[203,4,203,5],[204,2,204,3],[216,4,216,5],[217,4,217,5],[210,4,210,5],[211,4,211,5],[212,2,212,3],[212,4,212,5],[207,2,207,3],[207,4,207,5],[208,2,208,3],[208,4,208,5],[209,2,209,3],[209,4,209,5],[211,2,211,3],[215,2,215,3],[216,2,216,3],[217,2,217,3],[210,2,210,3],[230,4,230,5],[231,4,231,5],[232,4,232,5],[234,4,234,5],[229,2,232,2],[152,12,152,13],[147,2,147,4],[148,2,148,4],[152,8,152,9],[152,6,152,7],[152,10,152,11],[221,2,221,5],[218,2,218,3],[218,4,218,5],[219,2,219,3],[219,4,219,5],[220,2,220,3],[220,4,220,5],[213,2,213,3],[213,4,213,5],[214,2,214,3],[214,4,214,5],[215,4,215,5],[229,3,232,3],[266,10,266,11],[266,12,266,13],[267,2,268,5],[260,2,260,4],[261,2,261,4],[262,2,262,4],[266,6,266,7],[266,8,266,9],[271,3,271,5],[269,3,269,5],[270,3,270,5],[278,3,278,5],[279,3,279,5],[272,3,272,5],[275,3,275,5],[277,3,277,5],[311,3,314,4],[296,3,296,5],[297,3,297,5],[298,3,298,5],[299,3,299,5],[300,3,300,5],[307,3,307,5],[305,3,305,5],[301,3,301,5],[238,4,238,5],[238,3,240,3],[247,3,250,4],[237,2,240,2],[235,4,235,5],[237,4,237,5],[240,4,240,5],[239,4,239,5],[234,2,235,2],[234,3,235,3],[229,4,229,5],[37,2,37,4],[296,2,298,2],[299,2,301,2],[302,2,304,2],[305,2,307,2],[302,3,302,5],[303,3,303,5],[304,3,304,5],[306,3,306,5],[48,2,50,4],[62,2,65,4],[58,2,61,4],[66,2,66,5],[286,3,286,5],[287,3,287,5],[288,3,288,5],[289,2,289,5],[284,3,284,5],[273,3,273,5],[274,3,274,5],[276,3,276,5],[280,3,280,5],[281,3,281,5]]}
[]
[null,"Biens de consommation"]
[]
[]
[]
[]
[]
[]
[]
[]
[]
[]
[]
[]
[]
[]
[]
[]
[]
[]
[]
[]
[]
[]
[]
[]
[]
[null,"Récapitulatif"]
[]
[null,"Biens de consommation - émissions liées à la consommation "]
[]
[null,null,null,null,null,"GES","PM10","NOx","COVNM","PM2.5","SO2","NH3"]
[null,null,null,null,null,"kt eq CO2","tonnes","tonnes","tonnes","tonnes","tonnes","tonnes"]
[null,null,"Emissions directes",null,null,{"$f":"F86","v":0},0,0,0,0,0,0]
[null,null,"Emissions indirectes liées aux réseaux de chaleur et de froid - (scope 2)",null,null,{"$f":"'I2'!E141","v":0},{"$f":"D1a!L154*D3b!$H29/1000","v":0},{"$f":"D1a!M154*D3b!$H29/1000","v":0},{"$f":"D1a!N154*D3b!$H29/1000","v":0},{"$f":"D1a!O154*D3b!$H29/1000","v":0},{"$f":"D1a!P154*D3b!$H29/1000","v":0},{"$f":"D1a!Q154*D3b!$H29/1000","v":0}]
[null,null,"Emissions indirectes liées à l'électricité - (scope 2)",null,null,{"$f":"F135","v":0},{"$f":"G135","v":0},0,0,0,0,0]
[null,null,"Emissions indirectes liées à l'électricité- Amont des combustibles - (scope 3)",null,null,{"$f":"F136","v":0},{"$f":"G136","v":0},0,0,0,0,0]
[null,null,"Emissions indirectes liées à l'export d'électricité (scope 3)",null,null,{"$f":"-F84","v":0},{"$f":"-G84","v":0},0,0,0,0,0]
[null,null,"Autres émissions indirectes liées à l'énergie (hors électricité) - (scope 3)",null,null,{"$f":"SUM(J52:J54)","v":{"$error":"#DIV/0!"}},{"$f":"-(D1a!L155*D3b!$H$30+D1a!L156*D3b!$H$31+D1a!L157*D3b!$H$32+D1a!L159*D3b!$H$34+D1a!L160*D3b!$H$35)/1000","v":0},{"$f":"-(D1a!M155*D3b!$H$30+D1a!M156*D3b!$H$31+D1a!M157*D3b!$H$32+D1a!M159*D3b!$H$34+D1a!M160*D3b!$H$35)/1000","v":0},{"$f":"-(D1a!N155*D3b!$H$30+D1a!N156*D3b!$H$31+D1a!N157*D3b!$H$32+D1a!N159*D3b!$H$34+D1a!N160*D3b!$H$35)/1000","v":0},{"$f":"-(D1a!O155*D3b!$H$30+D1a!O156*D3b!$H$31+D1a!O157*D3b!$H$32+D1a!O159*D3b!$H$34+D1a!O160*D3b!$H$35)/1000","v":0},{"$f":"-(D1a!P155*D3b!$H$30+D1a!P156*D3b!$H$31+D1a!P157*D3b!$H$32+D1a!P159*D3b!$H$34+D1a!P160*D3b!$H$35)/1000","v":0},{"$f":"-(D1a!Q155*D3b!$H$30+D1a!Q156*D3b!$H$31+D1a!Q157*D3b!$H$32+D1a!Q159*D3b!$H$34+D1a!Q160*D3b!$H$35)/1000","v":0}]
[null,null,"Emissions indirectes liées à l'import export de produits- (scope 3)",null,null,{"$f":"SUM(J59:J66)","v":0},"-","-","-","-","-","-"]
[null,null,"Emissions liées à la consommation",null,null,{"$f":"SUM(F34:F40)","v":{"$error":"#DIV/0!"}},{"$f":"SUM(G34:G39)","v":0},0,0,0,0,0]
[]
[]
[]
[null,"Biens de consommation - bilan des émissions de GES"]
[]
[null,null,null,null,null,null,"Emissions de GES (kt eq CO2)"]
[null,null,null,null,null,null,"Emissions directes","Emissions importées","Emissions exportées","Emissions indirectes","Emissions liées à la consommation"]
[null,null,"Emissions directes",null,null,"Industrie hors travaux hors électricité",{"$f":"SUM(F76:F83)","v":0},null,null,null,{"$f":"G49+J49","v":0}]
[null,null,null,null,null,"Fret",{"$f":"F85","v":0},null,null,null,{"$f":"G50+J50","v":0}]
[null,null,null,null,null,"Prod électricité",{"$f":"F84","v":0},null,null,null,0]
[null,null,"Emissions indirectes liées à l'énergie (hors électricité)",null,null,"Amont combustion",null,{"$f":"L113","v":0},null,{"$f":"H52","v":0},0]
[null,null,null,null,null,"Amont fret",null,{"$f":"F124","v":{"$error":"#DIV/0!"}},null,{"$f":"H53","v":{"$error":"#DIV/0!"}},{"$error":"#DIV/0!"}]
[null,null,null,null,null,"Exports énergie - production",null,null,{"$f":"-F83","v":0},{"$f":"I54","v":0},{"$f":"G54+J54","v":0}]
[null,null,null,null,null,"Réseaux de chaleur et de froid - Scope 2",null,null,null,{"$f":"'I2'!E141","v":0},{"$f":"G55+J55","v":0}]
[null,null,"Emissions indirectes liées à l'électricité",null,null,"Import électricité - Scope 2",null,{"$f":"F135","v":0},null,{"$f":"H56","v":0},0]
[null,null,null,null,null,"Import électricité - Scope 3",null,{"$f":"F136","v":0},null,{"$f":"H57","v":0},0]
[null,null,null,null,null,"Exports électricité - Production",null,null,{"$f":"-F84","v":0},{"$f":"I58","v":0},0]
[null,null,"Emissions indirectes liées à l'import / export de biens et services avec l'étranger",null,null,"Imports produits",null,{"$f":"M222","v":0},null,{"$f":"H59","v":0},0]
[null,null,null,null,null,"Imports fret",null,{"$f":"G251","v":0},null,{"$f":"H60","v":0},0]
[null,null,null,null,null,"Export produits",null,null,{"$f":"-N222","v":0},{"$f":"I61","v":0},0]
[null,null,null,null,null,"Exports fret",null,null,{"$f":"-H251","v":0},{"$f":"I62","v":0},0]
[null,null,"Emissions indirectes liées à l'import / export de biens et services avec les régions",null,null,"Imports produits",null,{"$f":"M290","v":0},null,{"$f":"H63","v":0},0]
[null,null,null,null,null,"Imports fret",null,{"$f":"G315","v":0},null,{"$f":"H64","v":0},0]
[null,null,null,null,null,"Exports produits",null,null,{"$f":"-N290","v":0},{"$f":"I65","v":0},0]
[null,null,null,null,null,"Exports fret",null,null,{"$f":"-H315","v":0},{"$f":"I66","v":0},0]
[null,null,"Emissions de GES",null,null,null,{"$f":"SUM(G49:G66)","v":0},{"$f":"SUM(H49:H66)","v":{"$error":"#DIV/0!"}},{"$f":"SUM(I49:I66)","v":0},{"$f":"SUM(J49:J66)","v":{"$error":"#DIV/0!"}},{"$f":"SUM(K49:K66)","v":{"$error":"#DIV/0!"}}]
[]
[]
[]
["1)","Emissions directes (MyEmiss'Air)"]
[]
[null,"Biens de consommation - émissions directes"]
[null,null,null,null,null,"GES","PM10","NOx","COVNM","PM2.5","SO2","NH3"]
[null,null,null,null,null,"kt eq CO2","tonnes","tonnes","tonnes","tonnes","tonnes","tonnes"]
[null,null,"Industrie - sidérurgie",null,null,{"$f":"(D1a!K145*D3b!H20+D1a!K160*D3b!H35)","v":0},{"$f":"(D1a!L145*D3b!H20+D1a!L160*D3b!H35)/1000","v":0},{"$f":"(D1a!M145*D3b!H20+D1a!M160*D3b!H35)/1000","v":0},{"$f":"(D1a!N145*D3b!$H$20+D1a!N160*D3b!$H$35)/1000","v":0},{"$f":"(D1a!O145*D3b!$H$20+D1a!O160*D3b!$H$35)/1000","v":0},{"$f":"(D1a!P145*D3b!$H$20+D1a!P160*D3b!$H$35)/1000","v":0},{"$f":"(D1a!Q145*D3b!$H$20+D1a!Q160*D3b!$H$35)/1000","v":0}]
[null,null,"Industrie - métallurgie non-ferreux",null,null,{"$f":"D1a!K146*D3b!H21","v":0},{"$f":"D1a!L146*D3b!H21/1000","v":0},{"$f":"D1a!M146*D3b!H21/1000","v":0},{"$f":"D1a!N146*D3b!$H$21/1000","v":0},{"$f":"D1a!O146*D3b!$H$21/1000","v":0},{"$f":"D1a!P146*D3b!$H$21/1000","v":0},{"$f":"D1a!Q146*D3b!$H$21/1000","v":0}]
[null,null,"Industrie - chimie",null,null,{"$f":"D1a!K143*D3b!H18","v":0},{"$f":"D1a!L143*D3b!H18/1000","v":0},{"$f":"D1a!M143*D3b!H18/1000","v":0},{"$f":"D1a!N143*D3b!$H$18/1000","v":0},{"$f":"D1a!O143*D3b!$H$18/1000","v":0},{"$f":"D1a!P143*D3b!$H$18/1000","v":0},{"$f":"D1a!Q143*D3b!$H$18/1000","v":0}]
[null,null,"Industrie - papier carton",null,null,{"$f":"D1a!K148*D3b!H23","v":0},{"$f":"D1a!L148*D3b!H23/1000","v":0},{"$f":"D1a!M148*D3b!H23/1000","v":0},{"$f":"D1a!N148*D3b!$H$23/1000","v":0},{"$f":"D1a!O148*D3b!$H$23/1000","v":0},{"$f":"D1a!P148*D3b!$H$23/1000","v":0},{"$f":"D1a!Q148*D3b!$H$23/1000","v":0}]
[null,null,"Industrie-verre",null,null,{"$f":"D1a!K147*D3b!$H22","v":0},{"$f":"D1a!L147*D3b!$H22/1000","v":0},{"$f":"D1a!M147*D3b!$H22/1000","v":0},{"$f":"D1a!N147*D3b!$H22/1000","v":0},{"$f":"D1a!O147*D3b!$H22/1000","v":0},{"$f":"D1a!P147*D3b!$H22/1000","v":0},{"$f":"D1a!Q147*D3b!$H22/1000","v":0}]
[null,null,"Industrie - biens d'équipement et matériels de transport",null,null,{"$f":"D1a!K142*D3b!$H$17","v":0},{"$f":"(D1a!L142*D3b!$H$17)/1000","v":0},{"$f":"(D1a!M142*D3b!$H$17)/1000","v":0},{"$f":"(D1a!N142*D3b!$H$17)/1000","v":0},{"$f":"(D1a!O142*D3b!$H$17)/1000","v":0},{"$f":"(D1a!P142*D3b!$H$17)/1000","v":0},{"$f":"(D1a!Q142*D3b!$H$17)/1000","v":0}]
[null,null,"Industrie - divers",null,null,{"$f":"(D1a!K141*D3b!$H$16)+(D1a!K149*D3b!$H$24)","v":0},{"$f":"(D1a!L141*D3b!$H$16+D1a!L149*D3b!$H$24)/1000","v":0},{"$f":"(D1a!M141*D3b!$H$16+D1a!M149*D3b!$H$24)/1000","v":0},{"$f":"(D1a!N141*D3b!$H$16+D1a!N149*D3b!$H$24)/1000","v":0},{"$f":"(D1a!O141*D3b!$H$16+D1a!O149*D3b!$H$24)/1000","v":0},{"$f":"(D1a!P141*D3b!$H$16+D1a!P149*D3b!$H$24)/1000","v":0},{"$f":"(D1a!Q141*D3b!$H$16+D1a!Q149*D3b!$H$24)/1000","v":0}]
[null,null,"Industrie - énergie (hors électricité)",null,null,{"$f":"D2b!D125+(D1a!K155*D3b!$H$30)+(D1a!K156*D3b!$H$31)+(D1a!K157*D3b!$H$32)+(D1a!K159*D3b!$H$34)","v":0},{"$f":"((D1a!L155*D3b!$H$30)+(D1a!L156*D3b!$H$31)+(D1a!L157*D3b!$H$32)+(D1a!L159*D3b!$H$34)+(D1a!L154*D3b!$H$29))/1000","v":0},{"$f":"((D1a!M155*D3b!$H$30)+(D1a!M156*D3b!$H$31)+(D1a!M157*D3b!$H$32)+(D1a!M159*D3b!$H$34)+(D1a!M154*D3b!$H$29))/1000","v":0},{"$f":"((D1a!N155*D3b!$H$30)+(D1a!N156*D3b!$H$31)+(D1a!N157*D3b!$H$32)+(D1a!N159*D3b!$H$34)+(D1a!N154*D3b!$H$29))/1000","v":0},{"$f":"((D1a!O155*D3b!$H$30)+(D1a!O156*D3b!$H$31)+(D1a!O157*D3b!$H$32)+(D1a!O159*D3b!$H$34)+(D1a!O154*D3b!$H$29))/1000","v":0},{"$f":"((D1a!P155*D3b!$H$30)+(D1a!P156*D3b!$H$31)+(D1a!P157*D3b!$H$32)+(D1a!P159*D3b!$H$34)+(D1a!P154*D3b!$H$29))/1000","v":0},{"$f":"((D1a!Q155*D3b!$H$30)+(D1a!Q156*D3b!$H$31)+(D1a!Q157*D3b!$H$32)+(D1a!Q159*D3b!$H$34)+(D1a!Q154*D3b!$H$29))/1000","v":0}]
[null,null,"Production d'électrictié",null,null,{"$f":"D1a!K158*D3b!$H$33","v":0},{"$f":"(D1a!L158*D3b!$H$33)/1000","v":0},{"$f":"(D1a!M158*D3b!$H$33)/1000","v":0},{"$f":"(D1a!N158*D3b!$H$33)/1000","v":0},{"$f":"(D1a!O158*D3b!$H$33)/1000","v":0},{"$f":"(D1a!P158*D3b!$H$33)/1000","v":0},{"$f":"(D1a!Q158*D3b!$H$33)/1000","v":0}]
[null,null,"Fret",null,null,{"$f":"(D1a!K138*D3b!H13+D1a!K139*D3b!H14+D1a!K163*D3b!H38+D1a!K167*D3b!H42)","v":0},{"$f":"(D1a!L138*D3b!H13+D1a!L139*D3b!H14+D1a!L163*D3b!H38+D1a!L167*D3b!H42)/1000","v":0},{"$f":"(D1a!M138*D3b!H13+D1a!M139*D3b!H14+D1a!M163*D3b!H38+D1a!M167*D3b!H42)/1000","v":0},{"$f":"(D1a!N138*D3b!$H$13+D1a!N139*D3b!$H$14+D1a!N163*D3b!$H$38+D1a!N167*D3b!$H$42)/1000","v":0},{"$f":"(D1a!O138*D3b!$H$13+D1a!O139*D3b!$H$14+D1a!O163*D3b!$H$38+D1a!O167*D3b!$H$42)/1000","v":0},{"$f":"(D1a!P138*D3b!$H$13+D1a!P139*D3b!$H$14+D1a!P163*D3b!$H$38+D1a!P167*D3b!$H$42)/1000","v":0},{"$f":"(D1a!Q138*D3b!$H$13+D1a!Q139*D3b!$H$14+D1a!Q163*D3b!$H$38+D1a!Q167*D3b!$H$42)/1000","v":0}]
[null,null,"Emissions directes",null,null,{"$f":"SUM(F76:F85)","v":0},0,0,0,0,0,0]
[]
[]
[]
["2)","Emissions indirectes de GES liées à l'énergie (hors électricité)"]
[]
[null,"Biens de consommation - émissions indirectes liées à l'amont des combustibles dans l'industrie"]
[]
[null,null,"Source mix énergétique de l'industrie:",null,"SESSI 2011"]
[]
[null,null,null,null,null,"Industrie - \nsidérurgie","Industrie - \nmétallurgie non-ferreux","Industrie - \nchimie","Industrie - \npapier carton","Industrie - \nbiens d'équipement et matériels de transport","Industrie - \ndivers","Total"]
[null,null,"Emissions directes de GES liées à l'énergie\n(kt eq CO2)",null,null,{"$f":"I1a!G68","v":0},{"$f":"I1a!H68","v":0},{"$f":"I1a!I68","v":0},{"$f":"I1a!J68","v":0},{"$f":"I1a!L68","v":0},{"$f":"I1a!M68","v":0}]
[null,null,"Mix énergétique de l'industrie (hors électricité)","Vapeur",null,0,0,6.8000000000000005E-2,0.14399999999999999,0.04,0.04]
[null,null,null,"Gaz naturel",null,5.2999999999999999E-2,0.48899999999999999,0.13100000000000001,0.51400000000000001,0.86,0.86]
[null,null,null,"Houille",null,0.76500000000000001,0,0,0.32700000000000001,0,0]
[null,null,null,"Coke",null,0.17399999999999999,0,1.7000000000000001E-2,0,0,0]
[null,null,null,"Aggloméré",null,0,0,0,0,0.02,0.02]
[null,null,null,"FOL",null,0,0,0.105,1.0999999999999999E-2,0,0]
[null,null,null,"FOD",null,0,0,0.27,0,0.04,0.04]
[null,null,null,"GPL",null,0,0,0,4.0000000000000001E-3,0.04,0.04]
[null,null,null,"petcoke",null,0,0.51100000000000001,1.7000000000000001E-2,0,0,0]
[null,null,null,"Autres gaz",null,8.0000000000000002E-3,0,0.39200000000000002,0,0,0]
[null,null,null,"Comb. spéciaux",null,0,0,0,0,0,0]
[null,null,null,"Comb. spé. renouv",null,0,0,0,0,0,0]
[null,null,null,"Bois",null,0,0,0,0,0,0]
[null,null,null,"Total",null,{"$f":"SUM(F98:F110)","v":1},{"$f":"SUM(G98:G110)","v":1},{"$f":"SUM(H98:H110)","v":1},{"$f":"SUM(I98:I110)","v":1},1,1]
[null,null,"Ratio pondéré émissions indirectes / directes pour l'énergie (hors électricité)",null,null,{"$f":"SUMPRODUCT(F98:F110,'FE2'!$I$97:$I$109)","v":8.5315343559811269E-2},{"$f":"SUMPRODUCT(G98:G110,'FE2'!$I$97:$I$109)","v":0.12169153149338921},{"$f":"SUMPRODUCT(H98:H110,'FE2'!$I$97:$I$109)","v":9.9076246334447546E-2},{"$f":"SUMPRODUCT(I98:I110,'FE2'!$I$97:$I$109)","v":0.12151005931915965},{"$f":"SUMPRODUCT(J98:J110,'FE2'!$I$97:$I$109)","v":0.16890343630529928},{"$f":"SUMPRODUCT(K98:K110,'FE2'!$I$97:$I$109)","v":0.16890343630529928}]
[null,null,"Emissions indirectes liées à l'amont des combustibles dans l'industrie (kt eq CO2)",null,null,{"$f":"F97*F112","v":0},0,0,0,0,0,{"$f":"SUM(F113:K113)","v":0}]
[]
[]
[null,"Biens de consommation - émissions indirectes liées à l'énergie pour le fret"]
[]
[null,null,"Emissions directes de GES du fret (kt eq CO2)",null,null,{"$f":"F85","v":0}]
[null,null,"Ratio d'émissions directes","% routier",null,{"$f":"SUMPRODUCT(D1a!K161:K167,D3b!H36:H42)/$F$118","v":{"$error":"#DIV/0!"}}]
[null,null,null,"% train",null,{"$f":"D1a!K138*D3b!H13/$F$118","v":{"$error":"#DIV/0!"}}]
[null,null,null,"% bateau",null,{"$f":"D1a!K139*D3b!H14/$F$118","v":{"$error":"#DIV/0!"}}]
[null,null,null,"Total",null,{"$f":"SUM(F119:F121)","v":{"$error":"#DIV/0!"}}]
[null,null,"Ratio pondéré émissions indirectes / directes",null,null,{"$f":"SUMPRODUCT(F119:F121,'FE2'!I115:I117)","v":{"$error":"#DIV/0!"}}]
[null,null,"Emissions indirectes liées à l'énergie pour le fret (kt eq CO2)",null,null,{"$f":"F123*F118","v":{"$error":"#DIV/0!"}}]
[]
[]
["3)","Émissions indirectes liées à l'électricité"]
[]
[null,"Biens de consommation - émissions indirectes de GES liées à la consommation d'électricité (Imports)"]
[]
[null,null,"Consommation d'électricité","Biens de consom. Hors énergie",null,{"$f":"I1a!F74","v":0},"MWh"]
[]
[null,null,null,null,null,"GES","PM10","NOx","COVNM","PM2.5","SO2","NH3"]
[null,null,null,null,null,"kt eq CO2","tonnes","tonnes","tonnes","tonnes","tonnes","tonnes"]
[null,null,"Emissions indirectes (scope 2 - périmètre réglementaire)",null,null,{"$f":"I1b!O67","v":0},{"$f":"'FE2'!$F$6*F131/1000","v":0},{"$f":"'FE2'!$F$7*F131/1000","v":0},{"$f":"'FE2'!$F$8*F131/1000","v":0},{"$f":"'FE2'!$F$9*F131/1000","v":0},{"$f":"'FE2'!$F$10*F131/1000","v":0},{"$f":"'FE2'!$F$11*F131/1000","v":0}]
[null,null,"Emissions indirectes (amont des combustibles, transport et distribution)",null,null,{"$f":"I1b!O68","v":0},{"$f":"'FE2'!$E$6*F131/1000","v":0},{"$f":"'FE2'!$E$7*F131/1000","v":0},{"$f":"'FE2'!$E$8*F131/1000","v":0},{"$f":"'FE2'!$E$9*F131/1000","v":0},{"$f":"'FE2'!$E$10*F131/1000","v":0},{"$f":"'FE2'!$E$11*F131/1000","v":0}]
[null,null,"Scope 3",null,null,{"$f":"I1b!O69","v":0},{"$f":"G135+G136","v":0},0,0,0,0,0]
[]
[]
[]
["4)","Émissions indirectes de GES liées à l'import / export de produits avec l'étranger"]
[]
[null,"Biens de consommation - imports / exports avec l'étranger - impact des produits"]
[]
[]
[null,null,null,null,null,"Industrie - \nsidérurgie","Industrie - \nmétallurgie non-ferreux","Industrie - \nmétallurgie","Industrie - \nchimie","Industrie - \npapier carton"]
[null,null,"Emissions directes de GES sur le territoire\n(kt eq CO2)",null,null,{"$f":"$F$76","v":0},{"$f":"$F$77","v":0},{"$f":"$F$147+$G$147","v":0},{"$f":"$F$78","v":0},{"$f":"$F$79","v":0}]
[null,null,"Emissions directes de GES en NPdC (kt eq CO2)",null,null,{"$f":"(D1b!$K$25+D1b!$K$40)","v":12517.7146686},{"$f":"D1b!$K$26","v":836.89873637000005},{"$f":"$F$148+$G$148","v":13354.613404969999},{"$f":"D1b!$K$23","v":1411.0754548},{"$f":"D1b!$K$28","v":796.10373574999994}]
[null,null,"Ratio territoire d'imports / exports (%)",null,null,{"$f":"F147/F148","v":0},{"$f":"G147/G148","v":0},{"$f":"H147/H148","v":0},{"$f":"I147/I148","v":0},{"$f":"J147/J148","v":0}]
[]
[]
[]
[null,null,null,null,null,null,"Données régionales",null,"Modulation",null,"Données territoriales",null,"Impact territorial"]
[null,null,"Nomenclature\nA129",null,"Nomenclature\nCPF4",null,"Imports","Exports","Imports","Exports","Imports","Exports","Imports","Exports"]
[null,null,null,null,null,null,"(euros)","(euros)","(%)","(%)","(euros)","(euros)","(kt eq CO2)","(kt eq CO2)"]
[null,null,"A01Z : Produits de la culture et de l'élevage",null,"0115, 0116, 0130 : Tabac brut / plantes textiles / pépinières",null,{"$f":"'IE1'!G316","v":86506472},{"$f":"'IE1'!H316","v":2665131},{"$f":"'IE1'!O316","v":0},{"$f":"'IE1'!P316","v":0},{"$f":"G156*I156","v":0},{"$f":"H156*J156","v":0},{"$f":"K156*'FE3'!$O19/1000000000","v":0},{"$f":"L156*'FE3'!$Q19/1000000000","v":0},{"$f":"SUM(M183:M207)","v":0}]
[null,null,"A02Z : Produits sylvicoles",null,"0210, 0220, 0230 : Bois brut",null,{"$f":"'IE1'!G317","v":12986755},{"$f":"'IE1'!H317","v":5190052},{"$f":"'IE1'!O317","v":0},{"$f":"'IE1'!P317","v":0},{"$f":"G157*I157","v":0},0,{"$f":"K157*'FE3'!$O20/1000000000","v":0},{"$f":"L157*'FE3'!$Q20/1000000000","v":0}]
[null,null,"B07Z : minerais métalliques",null,"0710, 0721, 0729",null,{"$f":"'IE1'!G318","v":736866262.09671307},{"$f":"'IE1'!H318","v":73836436},{"$f":"'IE1'!O318","v":0},{"$f":"'IE1'!P318","v":0},0,0,{"$f":"K158*'FE3'!$O21/1000000000","v":0},{"$f":"L158*'FE3'!$Q21/1000000000","v":0}]
[null,null,"B08Z : produits divers des industries extractives",null,"0811, 0812, 0891, 0892, 0893, 0899",null,{"$f":"'IE1'!G319","v":179722555},{"$f":"'IE1'!H319","v":31558731},{"$f":"'IE1'!O319","v":0},{"$f":"'IE1'!P319","v":0},0,0,{"$f":"K159*'FE3'!$O22/1000000000","v":0},{"$f":"L159*'FE3'!$Q22/1000000000","v":0}]
[null,null,"C12Z : Tabacs manufacturés",null,"1200 : Produits à base de tabac",null,{"$f":"'IE1'!G320","v":1274609},{"$f":"'IE1'!H320","v":43967},{"$f":"'IE1'!O320","v":0},{"$f":"'IE1'!P320","v":0},0,0,{"$f":"K160*'FE3'!$O23/1000000000","v":0},{"$f":"L160*'FE3'!$Q23/1000000000","v":0}]
[null,null,"C13Z : produits de l'industrie textile",null,"1310, 1320, 1391, 1392, 1393, 1394, 1395, 1396, 1399",null,{"$f":"'IE1'!G321","v":1026102884},{"$f":"'IE1'!H321","v":822295810},{"$f":"'IE1'!O321","v":0},{"$f":"'IE1'!P321","v":0},0,0,{"$f":"K161*'FE3'!$O24/1000000000","v":0},{"$f":"L161*'FE3'!$Q24/1000000000","v":0}]
[null,null,"C14Z : articles d'habillement",null,"1411, 1412, 1413, 1414, 1419, 1420, 1431, 1439",null,{"$f":"'IE1'!G322","v":3821436397},{"$f":"'IE1'!H322","v":1598780421},{"$f":"'IE1'!O322","v":0},{"$f":"'IE1'!P322","v":0},0,0,{"$f":"K162*'FE3'!$O25/1000000000","v":0},{"$f":"L162*'FE3'!$Q25/1000000000","v":0}]
[null,null,"C15Z : cuir, bagages et chaussures",null,"1511, 1512, 1520",null,{"$f":"'IE1'!G323","v":708496288},{"$f":"'IE1'!H323","v":291464964},{"$f":"'IE1'!O323","v":0},{"$f":"'IE1'!P323","v":0},0,0,{"$f":"K163*'FE3'!$O26/1000000000","v":0},{"$f":"L163*'FE3'!$Q26/1000000000","v":0}]
[null,null,"C16Z : bois, articles en bois",null,"1610, 1621, 1622, 1623, 1624, 1629",null,{"$f":"'IE1'!G324","v":451081633},{"$f":"'IE1'!H324","v":79878699},{"$f":"'IE1'!O324","v":0},{"$f":"'IE1'!P324","v":0},0,0,{"$f":"K164*'FE3'!$O27/1000000000","v":0},{"$f":"L164*'FE3'!$Q27/1000000000","v":0}]
[null,null,"C17A : pâtes à papier, papier et carton",null,"1711, 1712",null,{"$f":"'IE1'!G325","v":589788686},{"$f":"'IE1'!H325","v":134532828},{"$f":"'IE1'!O325","v":0},{"$f":"'IE1'!P325","v":0},0,0,{"$f":"K165*'FE3'!$O28/1000000000","v":0},{"$f":"L165*'FE3'!$Q28/1000000000","v":0}]
[null,null,"C17B : articles en papier ou en carton",null,"1721, 1722, 1723, 1724, 1729",null,{"$f":"'IE1'!G326","v":753175215},{"$f":"'IE1'!H326","v":375015825},{"$f":"'IE1'!O326","v":0},{"$f":"'IE1'!P326","v":0},0,0,{"$f":"K166*'FE3'!$O29/1000000000","v":0},{"$f":"L166*'FE3'!$Q29/1000000000","v":0}]
[null,null,"C18Z : matériel d'impression et de reproduction",null,1813,null,{"$f":"'IE1'!G327","v":3942487},{"$f":"'IE1'!H327","v":86555469},{"$f":"'IE1'!O327","v":0},{"$f":"'IE1'!P327","v":0},0,0,{"$f":"K167*'FE3'!$O30/1000000000","v":0},{"$f":"L167*'FE3'!$Q30/1000000000","v":0}]
[null,null,"C20A : produits chimiques de base, matières plastiques",null,"2011, 2012, 2013 : produits chimiques inorganiques",null,{"$f":"'IE1'!G328","v":697284541},{"$f":"'IE1'!H328","v":235116363},{"$f":"'IE1'!O328","v":0},{"$f":"'IE1'!P328","v":0},0,0,{"$f":"K168*'FE3'!$O31/1000000000","v":0},{"$f":"L168*'FE3'!$Q31/1000000000","v":0}]
[null,null,"C20A : produits chimiques de base, matières plastiques",null,"2014 : Autres produits chimiques organiques de base",null,{"$f":"'IE1'!G329","v":1389244900},{"$f":"'IE1'!H329","v":1150578811},{"$f":"'IE1'!O329","v":0},{"$f":"'IE1'!P329","v":0},0,0,{"$f":"K169*'FE3'!$O32/1000000000","v":0},{"$f":"L169*'FE3'!$Q32/1000000000","v":0}]
[null,null,"C20A : produits chimiques de base, matières plastiques",null,"2015 : Engrais et composés azotés",null,{"$f":"'IE1'!G330","v":282399106},{"$f":"'IE1'!H330","v":29046300},{"$f":"'IE1'!O330","v":0},{"$f":"'IE1'!P330","v":0},0,0,{"$f":"K170*'FE3'!$O33/1000000000","v":0},{"$f":"L170*'FE3'!$Q33/1000000000","v":0}]
[null,null,"C20A : produits chimiques de base, matières plastiques",null,"2016 : Matières plastiques sous formes primaires",null,{"$f":"'IE1'!G331","v":1121720598},{"$f":"'IE1'!H331","v":1014670219},{"$f":"'IE1'!O331","v":0},{"$f":"'IE1'!P331","v":0},0,0,{"$f":"K171*'FE3'!$O34/1000000000","v":0},{"$f":"L171*'FE3'!$Q34/1000000000","v":0}]
[null,null,"C20A : produits chimiques de base, matières plastiques",null,"2017 : Caoutchouc synthétique sous formes primaires",null,{"$f":"'IE1'!G332","v":74321374},{"$f":"'IE1'!H332","v":526045},{"$f":"'IE1'!O332","v":0},{"$f":"'IE1'!P332","v":0},0,0,{"$f":"K172*'FE3'!$O35/1000000000","v":0},{"$f":"L172*'FE3'!$Q35/1000000000","v":0}]
[null,null,"C20B : parfums, cosmétiques et produits d'entretien",null,"2041, 2042",null,{"$f":"'IE1'!G333","v":931202936},{"$f":"'IE1'!H333","v":435684211},{"$f":"'IE1'!O333","v":0},{"$f":"'IE1'!P333","v":0},0,0,{"$f":"K173*'FE3'!$O36/1000000000","v":0},{"$f":"L173*'FE3'!$Q36/1000000000","v":0}]
[null,null,"C20C : produits chimiques divers",null,"2020, 2030, 2051, 2052, 2053, 2059, 2060",null,{"$f":"'IE1'!G334","v":2031468602},{"$f":"'IE1'!H334","v":672323143},{"$f":"'IE1'!O334","v":0},{"$f":"'IE1'!P334","v":0},0,0,{"$f":"K174*'FE3'!$O37/1000000000","v":0},{"$f":"L174*'FE3'!$Q37/1000000000","v":0}]
[null,null,"C21Z : produits pharmaceutiques",null,"2110, 2120",null,{"$f":"'IE1'!G335","v":1174966116},{"$f":"'IE1'!H335","v":1518345251},{"$f":"'IE1'!O335","v":0},{"$f":"'IE1'!P335","v":0},0,0,{"$f":"K175*'FE3'!$O38/1000000000","v":0},{"$f":"L175*'FE3'!$Q38/1000000000","v":0}]
[null,null,"C22A : produits en caoutchouc",null,"2211, 2219",null,{"$f":"'IE1'!G336","v":986735475},{"$f":"'IE1'!H336","v":342643263},{"$f":"'IE1'!O336","v":0},{"$f":"'IE1'!P336","v":0},0,0,{"$f":"K176*'FE3'!$O39/1000000000","v":0},{"$f":"L176*'FE3'!$Q39/1000000000","v":0}]
[null,null,"C22B : produits en plastique",null,"2221, 2222, 2223, 2229",null,{"$f":"'IE1'!G337","v":1557993563},{"$f":"'IE1'!H337","v":553286209},{"$f":"'IE1'!O337","v":0},{"$f":"'IE1'!P337","v":0},0,0,{"$f":"K177*'FE3'!$O40/1000000000","v":0},{"$f":"L177*'FE3'!$Q40/1000000000","v":0}]
[null,null,"C23A : verre et articles en verre",null,"2311, 2312: verre plat",null,{"$f":"'IE1'!G338","v":214985485},{"$f":"'IE1'!H338","v":186671833},{"$f":"'IE1'!O338","v":0},{"$f":"'IE1'!P338","v":0},0,0,{"$f":"K178*'FE3'!$O41/1000000000","v":0},{"$f":"L178*'FE3'!$Q41/1000000000","v":0}]
[null,null,"C23A : verre et articles en verre",null,"2313 : verre creux",null,{"$f":"'IE1'!G339","v":184351434},{"$f":"'IE1'!H339","v":387677802},{"$f":"'IE1'!O339","v":0},{"$f":"'IE1'!P339","v":0},0,0,{"$f":"K179*'FE3'!$O42/1000000000","v":0},{"$f":"L179*'FE3'!$Q42/1000000000","v":0}]
[null,null,"C23A : verre et articles en verre",null,"2314 : fibre de verre",null,{"$f":"'IE1'!G340","v":31188478},{"$f":"'IE1'!H340","v":7314850},{"$f":"'IE1'!O340","v":0},{"$f":"'IE1'!P340","v":0},0,0,{"$f":"K180*'FE3'!$O43/1000000000","v":0},{"$f":"L180*'FE3'!$Q43/1000000000","v":0}]
[null,null,"C23A : verre et articles en verre",null,"2319 : autres articles en verre travaillé",null,{"$f":"'IE1'!G341","v":76983342},{"$f":"'IE1'!H341","v":92409346},{"$f":"'IE1'!O341","v":0},{"$f":"'IE1'!P341","v":0},0,0,{"$f":"K181*'FE3'!$O44/1000000000","v":0},{"$f":"L181*'FE3'!$Q44/1000000000","v":0}]
[null,null,"C24A : produits sidérurgiques et acier",null,"2410, 2420, 2431, 2432, 2433, 2434",null,{"$f":"'IE1'!G342","v":2340152018},{"$f":"'IE1'!H342","v":2564404672.3410501},{"$f":"'IE1'!O342","v":0},{"$f":"'IE1'!P342","v":0},{"$f":"G182*I182","v":0},{"$f":"H182*J182","v":0},{"$f":"K182*'FE3'!$O46/1000000000","v":0},{"$f":"L182*'FE3'!$Q45/1000000000","v":0}]
[null,null,"C24B : métaux non ferreux",null,"2441 : Métaux précieux",null,{"$f":"'IE1'!G343","v":5437513},{"$f":"'IE1'!H343","v":6553336},{"$f":"'IE1'!O343","v":0},{"$f":"'IE1'!P343","v":0},0,0,{"$f":"K183*'FE3'!$O47/1000000000","v":0},{"$f":"L183*'FE3'!$Q47/1000000000","v":0}]
[null,null,"C24B : métaux non ferreux",null,"2442 : Aluminium",null,{"$f":"'IE1'!G344","v":547513540},{"$f":"'IE1'!H344","v":246737429},{"$f":"'IE1'!O344","v":0},{"$f":"'IE1'!P344","v":0},0,0,{"$f":"K184*'FE3'!$O48/1000000000","v":0},{"$f":"L184*'FE3'!$Q48/1000000000","v":0}]
[null,null,"C24B : métaux non ferreux",null,"2443 : Plomb, zinc et étain",null,{"$f":"'IE1'!G345","v":250616969},{"$f":"'IE1'!H345","v":187823292},{"$f":"'IE1'!O345","v":0},{"$f":"'IE1'!P345","v":0},0,0,{"$f":"K185*'FE3'!$O49/1000000000","v":0},{"$f":"L185*'FE3'!$Q49/1000000000","v":0}]
[null,null,"C24B : métaux non ferreux",null,"2444, 2445 : Cuivre et autres métaux non ferreux",null,{"$f":"'IE1'!G346","v":896512753},{"$f":"'IE1'!H346","v":519158396},{"$f":"'IE1'!O346","v":0},{"$f":"'IE1'!P346","v":0},0,0,{"$f":"K186*'FE3'!$O50/1000000000","v":0},{"$f":"L186*'FE3'!$Q50/1000000000","v":0}]
[null,null,"C24C : produits de fonderie",null,"2451, 2452",null,{"$f":"'IE1'!G347","v":15143065},{"$f":"'IE1'!H347","v":1350001},{"$f":"'IE1'!O347","v":0},{"$f":"'IE1'!P347","v":0},0,0,{"$f":"K187*'FE3'!$O51/1000000000","v":0},{"$f":"L187*'FE3'!$Q51/1000000000","v":0}]
[null,null,"C25B : produits pour la chaudronnerie",null,"2521, 2529, 2530",null,{"$f":"'IE1'!G349","v":126631930},{"$f":"'IE1'!H349","v":44954132},{"$f":"'IE1'!O349","v":0},{"$f":"'IE1'!P349","v":0},0,0,{"$f":"K188*'FE3'!$O53/1000000000","v":0},{"$f":"L188*'FE3'!$Q53/1000000000","v":0}]
[null,null,"C25C : armes et munitions",null,2540,null,{"$f":"'IE1'!G350","v":8811151},{"$f":"'IE1'!H350","v":27003},{"$f":"'IE1'!O350","v":0},{"$f":"'IE1'!P350","v":0},0,0,{"$f":"K189*'FE3'!$O54/1000000000","v":0},{"$f":"L189*'FE3'!$Q54/1000000000","v":0}]
[null,null,"C25E : coutellerie, outillage, quincaillerie",null,"2571, 2572, 2573, 2591, 2592, 2593, 2594, 2599",null,{"$f":"'IE1'!G351","v":1293722481},{"$f":"'IE1'!H351","v":335402723},{"$f":"'IE1'!O351","v":0},{"$f":"'IE1'!P351","v":0},0,0,{"$f":"K190*'FE3'!$O55/1000000000","v":0},{"$f":"L190*'FE3'!$Q55/1000000000","v":0}]
[null,null,"C26A : composants et cartes électroniques",null,"2611, 2612",null,{"$f":"'IE1'!G352","v":73943922},{"$f":"'IE1'!H352","v":12442828},{"$f":"'IE1'!O352","v":0},{"$f":"'IE1'!P352","v":0},0,0,{"$f":"K191*'FE3'!$O56/1000000000","v":0},{"$f":"L191*'FE3'!$Q56/1000000000","v":0}]
[null,null,"C26B : ordinateurs et équipements périphériques",null,2620,null,{"$f":"'IE1'!G353","v":942809203},{"$f":"'IE1'!H353","v":80140100},{"$f":"'IE1'!O353","v":0},{"$f":"'IE1'!P353","v":0},0,0,{"$f":"K192*'FE3'!$O57/1000000000","v":0},{"$f":"L192*'FE3'!$Q57/1000000000","v":0}]
[null,null,"C26C : téléphones et équipements de communication",null,2630,null,{"$f":"'IE1'!G354","v":737641864},{"$f":"'IE1'!H354","v":172508540},{"$f":"'IE1'!O354","v":0},{"$f":"'IE1'!P354","v":0},0,0,{"$f":"K193*'FE3'!$O58/1000000000","v":0},{"$f":"L193*'FE3'!$Q58/1000000000","v":0}]
[null,null,"C26D : produits électroniques grand public",null,2640,null,{"$f":"'IE1'!G355","v":1056496194},{"$f":"'IE1'!H355","v":170975900},{"$f":"'IE1'!O355","v":0},{"$f":"'IE1'!P355","v":0},0,0,{"$f":"K194*'FE3'!$O59/1000000000","v":0},{"$f":"L194*'FE3'!$Q59/1000000000","v":0}]
[null,null,"C26E : appareils de mesure et de navigation / horlogerie",null,"2651, 2652",null,{"$f":"'IE1'!G356","v":419084097},{"$f":"'IE1'!H356","v":115124144},{"$f":"'IE1'!O356","v":0},{"$f":"'IE1'!P356","v":0},0,0,{"$f":"K195*'FE3'!$O60/1000000000","v":0},{"$f":"L195*'FE3'!$Q60/1000000000","v":0}]
[null,null,"C26F : équipements électromédicaux ",null,2660,null,{"$f":"'IE1'!G357","v":18985997},{"$f":"'IE1'!H357","v":5011395},{"$f":"'IE1'!O357","v":0},{"$f":"'IE1'!P357","v":0},0,0,{"$f":"K196*'FE3'!$O61/1000000000","v":0},{"$f":"L196*'FE3'!$Q61/1000000000","v":0}]
[null,null,"C26G : matériels optique et photographique",null,"2670, 2680",null,{"$f":"'IE1'!G358","v":55769422},{"$f":"'IE1'!H358","v":6239825},{"$f":"'IE1'!O358","v":0},{"$f":"'IE1'!P358","v":0},0,0,{"$f":"K197*'FE3'!$O62/1000000000","v":0},{"$f":"L197*'FE3'!$Q62/1000000000","v":0}]
[null,null,"C27A : appareils ménagers",null,"2751, 2752",null,{"$f":"'IE1'!G359","v":862895464},{"$f":"'IE1'!H359","v":270258309},{"$f":"'IE1'!O359","v":0},{"$f":"'IE1'!P359","v":0},0,0,{"$f":"K198*'FE3'!$O63/1000000000","v":0},{"$f":"L198*'FE3'!$Q63/1000000000","v":0}]
[null,null,"C27B : matériel électrique",null,"2720 : Piles et accumulateurs électriques",null,{"$f":"'IE1'!G360","v":266677140},{"$f":"'IE1'!H360","v":39358925},{"$f":"'IE1'!O360","v":0},{"$f":"'IE1'!P360","v":0},0,0,{"$f":"K199*'FE3'!$O64/1000000000","v":0},{"$f":"L199*'FE3'!$Q64/1000000000","v":0}]
[null,null,"C27B : matériel électrique",null,"2731, 2732 : Câbles électroniques et optiques",null,{"$f":"'IE1'!G361","v":262813527},{"$f":"'IE1'!H361","v":57330052},{"$f":"'IE1'!O361","v":0},{"$f":"'IE1'!P361","v":0},0,0,{"$f":"K200*'FE3'!$O65/1000000000","v":0},{"$f":"L200*'FE3'!$Q65/1000000000","v":0}]
[null,null,"C27B : matériel électrique",null,"2740 : Appareils d'éclairage électriques",null,{"$f":"'IE1'!G362","v":392216777},{"$f":"'IE1'!H362","v":7133311},{"$f":"'IE1'!O362","v":0},{"$f":"'IE1'!P362","v":0},0,0,{"$f":"K201*'FE3'!$O66/1000000000","v":0},{"$f":"L201*'FE3'!$Q66/1000000000","v":0}]
[null,null,"C27B : matériel électrique",null,"2711, 2712, 2733, 2790 : Autres matériels électriques",null,{"$f":"'IE1'!G363","v":1058968085},{"$f":"'IE1'!H363","v":571399516},{"$f":"'IE1'!O363","v":0},{"$f":"'IE1'!P363","v":0},0,0,{"$f":"K202*'FE3'!$O67/1000000000","v":0},{"$f":"L202*'FE3'!$Q67/1000000000","v":0}]
[null,null,"C28A : machines et équipements d'usage général",null,"2811, 2812, 2813, 2814, 2815, 2821, 2822, 2823, 2824, 2825, 2829",null,{"$f":"'IE1'!G364","v":2482189764},{"$f":"'IE1'!H364","v":843161128},{"$f":"'IE1'!O364","v":0},{"$f":"'IE1'!P364","v":0},0,0,{"$f":"K203*'FE3'!$O68/1000000000","v":0},{"$f":"L203*'FE3'!$Q68/1000000000","v":0}]
[null,null,"C28C : machines outils",null,"2841, 2849",null,{"$f":"'IE1'!G366","v":127250624},{"$f":"'IE1'!H366","v":29455035},{"$f":"'IE1'!O366","v":0},{"$f":"'IE1'!P366","v":0},0,0,{"$f":"K204*'FE3'!$O70/1000000000","v":0},{"$f":"L204*'FE3'!$Q70/1000000000","v":0}]
[null,null,"C28D : machines diverses d'usage spécifique",null,"2891, 2892, 2893, 2894, 2895, 2896, 2899",null,{"$f":"'IE1'!G367","v":603415557},{"$f":"'IE1'!H367","v":480710510},{"$f":"'IE1'!O367","v":0},{"$f":"'IE1'!P367","v":0},0,0,{"$f":"K205*'FE3'!$O71/1000000000","v":0},{"$f":"L205*'FE3'!$Q71/1000000000","v":0}]
[null,null,"C29A : produits de la construction automobile",null,"2910, 2920",null,{"$f":"'IE1'!G368","v":4802668665},{"$f":"'IE1'!H368","v":4278401793},{"$f":"'IE1'!O368","v":0},{"$f":"'IE1'!P368","v":0},0,0,{"$f":"K206*'FE3'!$O72/1000000000","v":0},{"$f":"L206*'FE3'!$Q72/1000000000","v":0}]
[null,null,"C29B : équipements pour automobiles",null,"2931, 2932",null,{"$f":"'IE1'!G369","v":2861407126},{"$f":"'IE1'!H369","v":1070009727},{"$f":"'IE1'!O369","v":0},{"$f":"'IE1'!P369","v":0},0,0,{"$f":"K207*'FE3'!$O73/1000000000","v":0},{"$f":"L207*'FE3'!$Q73/1000000000","v":0}]
[null,null,"C30A : navires et bateaux",null,"3011, 3012",null,{"$f":"'IE1'!G370","v":18521709},{"$f":"'IE1'!H370","v":11236343},{"$f":"'IE1'!O370","v":0},{"$f":"'IE1'!P370","v":0},0,0,{"$f":"K208*'FE3'!$O74/1000000000","v":0},{"$f":"L208*'FE3'!$Q74/1000000000","v":0}]
[null,null,"C30B : matériel ferroviaire roulant",null,3020,null,{"$f":"'IE1'!G371","v":264275558},{"$f":"'IE1'!H371","v":214577476},{"$f":"'IE1'!O371","v":0},{"$f":"'IE1'!P371","v":0},0,0,{"$f":"K209*'FE3'!$O75/1000000000","v":0},{"$f":"L209*'FE3'!$Q75/1000000000","v":0}]
[null,null,"C30C : produits de la construction aéronautique",null,3030,null,{"$f":"'IE1'!G372","v":216206396},{"$f":"'IE1'!H372","v":4468964},{"$f":"'IE1'!O372","v":0},{"$f":"'IE1'!P372","v":0},0,0,{"$f":"K210*'FE3'!$O76/1000000000","v":0},{"$f":"L210*'FE3'!$Q76/1000000000","v":0}]
[null,null,"C30E : cycles et motocycles",null,"3091 : Motocycles",null,{"$f":"'IE1'!G373","v":326917889},{"$f":"'IE1'!H373","v":167064273},{"$f":"'IE1'!O373","v":0},{"$f":"'IE1'!P373","v":0},0,0,{"$f":"K211*'FE3'!$O77/1000000000","v":0},{"$f":"L211*'FE3'!$Q77/1000000000","v":0}]
[null,null,"C30E : cycles et motocycles",null,"3092, 3099 : Cycles et autres équipements de transports",null,{"$f":"'IE1'!G374","v":101429143},{"$f":"'IE1'!H374","v":31025364},{"$f":"'IE1'!O374","v":0},{"$f":"'IE1'!P374","v":0},{"$f":"G212*I212","v":0},{"$f":"H212*J212","v":0},{"$f":"K212*'FE3'!$O78/1000000000","v":0},{"$f":"L212*'FE3'!$Q78/1000000000","v":0}]
[null,null,"C31Z : meubles",null,"3100, 3101, 3102, 3103, 3109",null,{"$f":"'IE1'!G375","v":819135921},{"$f":"'IE1'!H375","v":142446893},{"$f":"'IE1'!O375","v":0},{"$f":"'IE1'!P375","v":0},0,0,{"$f":"K213*'FE3'!$O79/1000000000","v":0},{"$f":"L213*'FE3'!$Q79/1000000000","v":0}]
[null,null,"C32A : bijoux, instruments de musique",null,"3211, 3212, 3213, 3220",null,{"$f":"'IE1'!G376","v":138199828},{"$f":"'IE1'!H376","v":21423954},{"$f":"'IE1'!O376","v":0},{"$f":"'IE1'!P376","v":0},0,0,{"$f":"K214*'FE3'!$O80/1000000000","v":0},{"$f":"L214*'FE3'!$Q80/1000000000","v":0}]
[null,null,"C32B : instruments à usage médical",null,3250,null,{"$f":"'IE1'!G377","v":318136192},{"$f":"'IE1'!H377","v":110294749},{"$f":"'IE1'!O377","v":0},{"$f":"'IE1'!P377","v":0},0,0,{"$f":"K215*'FE3'!$O81/1000000000","v":0},{"$f":"L215*'FE3'!$Q81/1000000000","v":0}]
[null,null,"C32C : articles de sport, jeux et jouets ",null,"3230 : Articles de sport",null,{"$f":"'IE1'!G378","v":94958791},{"$f":"'IE1'!H378","v":41392340},{"$f":"'IE1'!O378","v":0},{"$f":"'IE1'!P378","v":0},0,0,{"$f":"K216*'FE3'!$O82/1000000000","v":0},{"$f":"L216*'FE3'!$Q82/1000000000","v":0}]
[null,null,"C32C : articles de sport, jeux et jouets ",null,"3240 : Jeux et jouets",null,{"$f":"'IE1'!G379","v":198738481},{"$f":"'IE1'!H379","v":171728861},{"$f":"'IE1'!O379","v":0},{"$f":"'IE1'!P379","v":0},0,0,{"$f":"K217*'FE3'!$O83/1000000000","v":0},{"$f":"L217*'FE3'!$Q83/1000000000","v":0}]
[null,null,"C32C : articles de sport, jeux et jouets ",null,"3291, 3299 : Autres produits manufacturés",null,{"$f":"'IE1'!G380","v":241443438},{"$f":"'IE1'!H380","v":55104169},{"$f":"'IE1'!O380","v":0},{"$f":"'IE1'!P380","v":0},0,0,{"$f":"K218*'FE3'!$O84/1000000000","v":0},{"$f":"L218*'FE3'!$Q84/1000000000","v":0}]
[null,null,"E38Z : déchets industriels",null,"3811, 3812, 3821, 3832",null,{"$f":"'IE1'!G381","v":318428516},{"$f":"'IE1'!H381","v":509357139},{"$f":"'IE1'!O381","v":0},{"$f":"'IE1'!P381","v":0},0,0,{"$f":"K219*'FE3'!$O85/1000000000","v":0},{"$f":"L219*'FE3'!$Q85/1000000000","v":0}]
[null,null,"J58Z : produits de l'édition, logiciels",null,"5811, 5813, 5814, 5819, 5829",null,{"$f":"'IE1'!G382","v":172933148},{"$f":"'IE1'!H382","v":46832636},{"$f":"'IE1'!O382","v":0},{"$f":"'IE1'!P382","v":0},0,0,{"$f":"K220*'FE3'!$O86/1000000000","v":0},{"$f":"L220*'FE3'!$Q86/1000000000","v":0}]
[null,null,"J59Z : CD et DVD enregistrés",null,"5911, 5920",null,{"$f":"'IE1'!G383","v":14335792},{"$f":"'IE1'!H383","v":2543531},{"$f":"'IE1'!O383","v":0},{"$f":"'IE1'!P383","v":0},0,0,{"$f":"K221*'FE3'!$O87/1000000000","v":0},{"$f":"L221*'FE3'!$Q87/1000000000","v":0}]
[null,null,"Total",null,null,null,{"$f":"SUM(G156:G221)","v":44879661843.09671},{"$f":"SUM(H156:H221)","v":23773680693.341049},null,null,{"$f":"SUM(K156:K221)","v":0},{"$f":"SUM(L156:L221)","v":0},{"$f":"SUM(M156:M221)","v":0},{"$f":"SUM(N156:N221)","v":0}]
[]
[]
[]
[null,"Biens de consommation - imports / exports avec l'étranger - impact du transport de marchandises"]
[]
[]
[null,null,null,null,null,null,"Imports","Exports"]
[null,null,"Routier",{"$f":"'IE2'!$J$7","v":0},"millions t.km sous pavillon français",null,{"$f":"'IE2'!G18+'IE2'!H18","v":0},{"$f":"'IE2'!H18+'IE2'!I18","v":0}]
[null,null,null,null,"% t.km sous pavillon français",null,0.66439999999999999,0.66439999999999999,"Source:","SOeS comptes des transports 2012 (France-Rapport Juillet 2013 | Les comptes des transports en 2012)"]
[null,null,null,null,"millions t.km totaux",null,{"$f":"G230/G231","v":0},{"$f":"H230/H231","v":0}]
[null,null,null,null,"Emissions de GES (kt eq CO2)",null,{"$f":"G232*'FE2'!$G$115","v":0},{"$f":"H232*'FE2'!$G$115","v":0}]
[]
[null,null,"Bateau",{"$f":"'IE2'!$J$7","v":0},"millions t.km totaux",null,{"$f":"'IE2'!F18","v":0},{"$f":"'IE2'!J18","v":0}]
[null,null,null,null,"Emissions de GES (kt eq CO2)",null,{"$f":"G235*'FE2'!$G$117","v":0},{"$f":"H235*'FE2'!$G$117","v":0}]
[]
[null,null,"Train","France","millions t.km totaux",null,3028,4333,"Source:","SitraM international 2012"]
[null,null,null,{"$f":"'IE2'!$J$7","v":0},"Ratio hab./ hab. France",null,{"$f":"Accueil!$D$19/Accueil!$D$26","v":9.3655681318129555E-2},{"$f":"Accueil!$D$19/Accueil!$D$26","v":9.3655681318129555E-2},"Source:","Pop. Légale 2014, INSEE 2017"]
[null,null,null,null,"millions t.km totaux",null,{"$f":"G238*G239","v":283.58940303129629},{"$f":"H238*H239","v":405.81006715145537}]
[null,null,null,null,"Emissions de GES (kt eq CO2)",null,{"$f":"G240*'FE2'!$G$116","v":1.1343576121251853},{"$f":"H240*'FE2'!$G$116","v":1.6232402686058216}]
[]
[]
[null,null,null,null,null,null,"Imports","Exports"]
[null,null,"Modulation : (euros) imports-exports territoire / (euros) imports-exports en HdF",null,null,null,{"$f":"$K$222/$G$222","v":0},{"$f":"$L$222/$H$222","v":0},"Source:","Calcul sur base de Douanes 2012"]
[]
[null,null,null,null,null,null,"Imports","Exports"]
[null,null,null,"Emissions de GES du fret\n(kt eq CO2)",null,"Routier",{"$f":"G233*$G$245","v":0},{"$f":"H233*$H$245","v":0}]
[null,null,null,null,null,"Bateau",{"$f":"G236*G$245","v":0},{"$f":"H236*H$245","v":0}]
[null,null,null,null,null,"Train",{"$f":"G241*G$245","v":0},{"$f":"H241*H$245","v":0}]
[null,null,null,null,null,"Total fret",{"$f":"SUM(G248:G250)","v":0},{"$f":"SUM(H248:H250)","v":0}]
[]
[]
[]
["5)","Émissions indirectes de GES liées à l'import / export de produits avec les régions"]
[]
[null,"Biens de consommation - imports / exports avec les régions - impact des produits"]
[]
[]
[null,null,null,null,null,"Industrie - \nsidérurgie","Industrie - \nmétallurgie non-ferreux","Industrie - \nmétallurgie","Industrie - \nchimie","Industrie - \npapier carton"]
[null,null,"Emissions directes de GES sur le territoire\n(kt eq CO2)",null,null,{"$f":"$F$76","v":0},{"$f":"$F$77","v":0},{"$f":"F261+G261","v":0},{"$f":"$F$78","v":0},{"$f":"$F$79","v":0}]
[null,null,"Emissions directes de GES en NPdC (kt eq CO2)",null,null,{"$f":"(D1b!$K$25+D1b!$K$40)","v":12517.7146686},{"$f":"D1b!$K$26","v":836.89873637000005},{"$f":"F262+G262","v":13354.613404969999},{"$f":"D1b!$K$23","v":1411.0754548},{"$f":"D1b!$K$28","v":796.10373574999994}]
[null,null,"Ratio d'imports / exports (%)",null,null,{"$f":"F261/F262","v":0},{"$f":"G261/G262","v":0},{"$f":"H261/H262","v":0},{"$f":"I261/I262","v":0},{"$f":"J261/J262","v":0}]
[]
[]
[]
[null,null,null,null,null,null,"Données régionales",null,"Modulation",null,"Données territoriales",null,"Impact territorial"]
[null,null,"NST 2007",null,null,null,"Imports","Exports","Imports","Exports","Imports","Exports","Imports","Exports"]
[null,null,null,null,null,null,"(milliers de tonnes)","(milliers de tonnes)","(%)","(%)","(milliers de tonnes)","(milliers de tonnes)","(kt eq CO2)","(kt eq CO2)"]
[null,null,"01","Produits de l'agriculture, de la chasse, de la forêt et de la pêche",null,null,{"$f":"IF(ex_region=\"Nord Pas-de-Calais\",'IE2'!I37,IF(ex_region=\"Picardie\",'IE2'!Q37,IF(ex_region=\"Hauts-de-France total\", 'IE2'!I37+'IE2'!Q37,0)))","v":0},{"$f":"IF(ex_region=\"Nord Pas-de-Calais\",'IE2'!M37,IF(ex_region=\"Picardie\",'IE2'!U37,IF(ex_region=\"Hauts-de-France total\", 'IE2'!M37+'IE2'!U37,0)))","v":0}]
[null,null,"02","Houille et lignite ; pétrole brut et gaz naturel",null,null,{"$f":"IF(ex_region=\"Nord Pas-de-Calais\",'IE2'!I38,IF(ex_region=\"Picardie\",'IE2'!Q38,IF(ex_region=\"Hauts-de-France total\", 'IE2'!I38+'IE2'!Q38,0)))","v":0},{"$f":"IF(ex_region=\"Nord Pas-de-Calais\",'IE2'!M38,IF(ex_region=\"Picardie\",'IE2'!U38,IF(ex_region=\"Hauts-de-France total\", 'IE2'!M38+'IE2'!U38,0)))","v":0}]
[null,null,"03","Minerais, tourbe et autres produits d'extraction",null,null,{"$f":"IF(ex_region=\"Nord Pas-de-Calais\",'IE2'!I39,IF(ex_region=\"Picardie\",'IE2'!Q39,IF(ex_region=\"Hauts-de-France total\", 'IE2'!I39+'IE2'!Q39,0)))","v":0},{"$f":"IF(ex_region=\"Nord Pas-de-Calais\",'IE2'!M39,IF(ex_region=\"Picardie\",'IE2'!U39,IF(ex_region=\"Hauts-de-France total\", 'IE2'!M39+'IE2'!U39,0)))","v":0},{"$f":"'IE2'!V39","v":0},{"$f":"'IE2'!W39","v":0},{"$f":"G272*I272","v":0},{"$f":"H272*J272","v":0},{"$f":"K272*'FE3'!$L109/1000","v":0},{"$f":"L272*'FE3'!$L109/1000","v":0}]
[null,null,"04","Produits alimentaires, boissons et tabac",null,null,{"$f":"IF(ex_region=\"Nord Pas-de-Calais\",'IE2'!I40,IF(ex_region=\"Picardie\",'IE2'!Q40,IF(ex_region=\"Hauts-de-France total\", 'IE2'!I40+'IE2'!Q40,0)))","v":0},{"$f":"IF(ex_region=\"Nord Pas-de-Calais\",'IE2'!M40,IF(ex_region=\"Picardie\",'IE2'!U40,IF(ex_region=\"Hauts-de-France total\", 'IE2'!M40+'IE2'!U40,0)))","v":0}]
[null,null,"05","Textiles, cuirs et produits dérivés",null,null,{"$f":"IF(ex_region=\"Nord Pas-de-Calais\",'IE2'!I41,IF(ex_region=\"Picardie\",'IE2'!Q41,IF(ex_region=\"Hauts-de-France total\", 'IE2'!I41+'IE2'!Q41,0)))","v":0},{"$f":"IF(ex_region=\"Nord Pas-de-Calais\",'IE2'!M41,IF(ex_region=\"Picardie\",'IE2'!U41,IF(ex_region=\"Hauts-de-France total\", 'IE2'!M41+'IE2'!U41,0)))","v":0},{"$f":"'IE2'!V41","v":0},{"$f":"'IE2'!W41","v":0},{"$f":"G274*I274","v":0},{"$f":"H274*J274","v":0},{"$f":"K274*'FE3'!$L111/1000","v":0},{"$f":"L274*'FE3'!$L111/1000","v":0}]
[null,null,"06","Bois, pâte à papier, papier et produits de l'édition",null,null,{"$f":"IF(ex_region=\"Nord Pas-de-Calais\",'IE2'!I42,IF(ex_region=\"Picardie\",'IE2'!Q42,IF(ex_region=\"Hauts-de-France total\", 'IE2'!I42+'IE2'!Q42,0)))","v":0},{"$f":"IF(ex_region=\"Nord Pas-de-Calais\",'IE2'!M42,IF(ex_region=\"Picardie\",'IE2'!U42,IF(ex_region=\"Hauts-de-France total\", 'IE2'!M42+'IE2'!U42,0)))","v":0},{"$f":"'IE2'!V42","v":0},{"$f":"'IE2'!W42","v":0},{"$f":"G275*I275","v":0},{"$f":"H275*J275","v":0},{"$f":"K275*'FE3'!$L112/1000","v":0},{"$f":"L275*'FE3'!$L112/1000","v":0}]
[null,null,"07","Coke et produits pétroliers raffinés ",null,null,{"$f":"IF(ex_region=\"Nord Pas-de-Calais\",'IE2'!I43,IF(ex_region=\"Picardie\",'IE2'!Q43,IF(ex_region=\"Hauts-de-France total\", 'IE2'!I43+'IE2'!Q43,0)))","v":0},{"$f":"IF(ex_region=\"Nord Pas-de-Calais\",'IE2'!M43,IF(ex_region=\"Picardie\",'IE2'!U43,IF(ex_region=\"Hauts-de-France total\", 'IE2'!M43+'IE2'!U43,0)))","v":0}]
[null,null,"08","Produits chimiques, caoutchouc, plastique et combustible nucléaire",null,null,{"$f":"IF(ex_region=\"Nord Pas-de-Calais\",'IE2'!I44,IF(ex_region=\"Picardie\",'IE2'!Q44,IF(ex_region=\"Hauts-de-France total\", 'IE2'!I44+'IE2'!Q44,0)))","v":0},{"$f":"IF(ex_region=\"Nord Pas-de-Calais\",'IE2'!M44,IF(ex_region=\"Picardie\",'IE2'!U44,IF(ex_region=\"Hauts-de-France total\", 'IE2'!M44+'IE2'!U44,0)))","v":0},{"$f":"'IE2'!V44","v":0},{"$f":"'IE2'!W44","v":0},{"$f":"G277*I277","v":0},{"$f":"H277*J277","v":0},{"$f":"K277*'FE3'!$L114/1000","v":0},{"$f":"L277*'FE3'!$L114/1000","v":0}]
[null,null,"09","Autres produits minéraux non métalliques",null,null,{"$f":"IF(ex_region=\"Nord Pas-de-Calais\",'IE2'!I45,IF(ex_region=\"Picardie\",'IE2'!Q45,IF(ex_region=\"Hauts-de-France total\", 'IE2'!I45+'IE2'!Q45,0)))","v":0},{"$f":"IF(ex_region=\"Nord Pas-de-Calais\",'IE2'!M45,IF(ex_region=\"Picardie\",'IE2'!U45,IF(ex_region=\"Hauts-de-France total\", 'IE2'!M45+'IE2'!U45,0)))","v":0}]
[null,null,"10","Métaux de base, produits métalliques",null,null,{"$f":"IF(ex_region=\"Nord Pas-de-Calais\",'IE2'!I46,IF(ex_region=\"Picardie\",'IE2'!Q46,IF(ex_region=\"Hauts-de-France total\", 'IE2'!I46+'IE2'!Q46,0)))","v":0},{"$f":"IF(ex_region=\"Nord Pas-de-Calais\",'IE2'!M46,IF(ex_region=\"Picardie\",'IE2'!U46,IF(ex_region=\"Hauts-de-France total\", 'IE2'!M46+'IE2'!U46,0)))","v":0},{"$f":"'IE2'!V46","v":0},{"$f":"'IE2'!W46","v":0},{"$f":"G279*I279","v":0},0,{"$f":"K279*'FE3'!$L117/1000","v":0},{"$f":"L279*'FE3'!$L116/1000","v":0}]
[null,null,"11","Machines et matériel n.c.a, produits des TIC et instruments de précision",null,null,{"$f":"IF(ex_region=\"Nord Pas-de-Calais\",'IE2'!I47,IF(ex_region=\"Picardie\",'IE2'!Q47,IF(ex_region=\"Hauts-de-France total\", 'IE2'!I47+'IE2'!Q47,0)))","v":0},{"$f":"IF(ex_region=\"Nord Pas-de-Calais\",'IE2'!M47,IF(ex_region=\"Picardie\",'IE2'!U47,IF(ex_region=\"Hauts-de-France total\", 'IE2'!M47+'IE2'!U47,0)))","v":0},{"$f":"'IE2'!V47","v":0},{"$f":"'IE2'!W47","v":0},0,0,{"$f":"K280*'FE3'!$L118/1000","v":0},{"$f":"L280*'FE3'!$L118/1000","v":0}]
[null,null,"12","Matériel de transport",null,null,{"$f":"IF(ex_region=\"Nord Pas-de-Calais\",'IE2'!I48,IF(ex_region=\"Picardie\",'IE2'!Q48,IF(ex_region=\"Hauts-de-France total\", 'IE2'!I48+'IE2'!Q48,0)))","v":0},{"$f":"IF(ex_region=\"Nord Pas-de-Calais\",'IE2'!M48,IF(ex_region=\"Picardie\",'IE2'!U48,IF(ex_region=\"Hauts-de-France total\", 'IE2'!M48+'IE2'!U48,0)))","v":0},{"$f":"'IE2'!V48","v":0},{"$f":"'IE2'!W48","v":0},0,0,{"$f":"K281*'FE3'!$L119/1000","v":0},{"$f":"L281*'FE3'!$L119/1000","v":0}]
[null,null,"13","Meubles; autres produits manufacturés n.c.a.",null,null,{"$f":"IF(ex_region=\"Nord Pas-de-Calais\",'IE2'!I49,IF(ex_region=\"Picardie\",'IE2'!Q49,IF(ex_region=\"Hauts-de-France total\", 'IE2'!I49+'IE2'!Q49,0)))","v":0},{"$f":"IF(ex_region=\"Nord Pas-de-Calais\",'IE2'!M49,IF(ex_region=\"Picardie\",'IE2'!U49,IF(ex_region=\"Hauts-de-France total\", 'IE2'!M49+'IE2'!U49,0)))","v":0},{"$f":"'IE2'!V49","v":0},{"$f":"'IE2'!W49","v":0},0,0,{"$f":"K282*'FE3'!$L120/1000","v":0},{"$f":"L282*'FE3'!$L120/1000","v":0}]
[null,null,14,"Matières premières secondaires ; déchets",null,null,{"$f":"IF(ex_region=\"Nord Pas-de-Calais\",'IE2'!I50,IF(ex_region=\"Picardie\",'IE2'!Q50,IF(ex_region=\"Hauts-de-France total\", 'IE2'!I50+'IE2'!Q50,0)))","v":0},{"$f":"IF(ex_region=\"Nord Pas-de-Calais\",'IE2'!M50,IF(ex_region=\"Picardie\",'IE2'!U50,IF(ex_region=\"Hauts-de-France total\", 'IE2'!M50+'IE2'!U50,0)))","v":0}]
[null,null,15,"Courrier ; colis",null,null,{"$f":"IF(ex_region=\"Nord Pas-de-Calais\",'IE2'!I51,IF(ex_region=\"Picardie\",'IE2'!Q51,IF(ex_region=\"Hauts-de-France total\", 'IE2'!I51+'IE2'!Q51,0)))","v":0},{"$f":"IF(ex_region=\"Nord Pas-de-Calais\",'IE2'!M51,IF(ex_region=\"Picardie\",'IE2'!U51,IF(ex_region=\"Hauts-de-France total\", 'IE2'!M51+'IE2'!U51,0)))","v":0}]
[null,null,16,"Equipement pour le transport de fret",null,null,{"$f":"IF(ex_region=\"Nord Pas-de-Calais\",'IE2'!I52,IF(ex_region=\"Picardie\",'IE2'!Q52,IF(ex_region=\"Hauts-de-France total\", 'IE2'!I52+'IE2'!Q52,0)))","v":0},{"$f":"IF(ex_region=\"Nord Pas-de-Calais\",'IE2'!M52,IF(ex_region=\"Picardie\",'IE2'!U52,IF(ex_region=\"Hauts-de-France total\", 'IE2'!M52+'IE2'!U52,0)))","v":0},{"$f":"'IE2'!V52","v":0},{"$f":"'IE2'!W52","v":0},{"$f":"G285*I285","v":0},{"$f":"H285*J285","v":0},{"$f":"K285*'FE3'!$L123/1000","v":0},{"$f":"L285*'FE3'!$L123/1000","v":0}]
[null,null,17,"Déménagements ; biens non marchands ; véhicules en réparation",null,null,{"$f":"IF(ex_region=\"Nord Pas-de-Calais\",'IE2'!I53,IF(ex_region=\"Picardie\",'IE2'!Q53,IF(ex_region=\"Hauts-de-France total\", 'IE2'!I53+'IE2'!Q53,0)))","v":0},{"$f":"IF(ex_region=\"Nord Pas-de-Calais\",'IE2'!M53,IF(ex_region=\"Picardie\",'IE2'!U53,IF(ex_region=\"Hauts-de-France total\", 'IE2'!M53+'IE2'!U53,0)))","v":0}]
[null,null,"18","Marchandises groupées",null,null,{"$f":"IF(ex_region=\"Nord Pas-de-Calais\",'IE2'!I54,IF(ex_region=\"Picardie\",'IE2'!Q54,IF(ex_region=\"Hauts-de-France total\", 'IE2'!I54+'IE2'!Q54,0)))","v":0},{"$f":"IF(ex_region=\"Nord Pas-de-Calais\",'IE2'!M54,IF(ex_region=\"Picardie\",'IE2'!U54,IF(ex_region=\"Hauts-de-France total\", 'IE2'!M54+'IE2'!U54,0)))","v":0},{"$f":"'IE2'!V54","v":0},{"$f":"'IE2'!W54","v":0},{"$f":"G287*I287","v":0},0,{"$f":"K287*'FE3'!$L125/1000","v":0},{"$f":"L287*'FE3'!$L125/1000","v":0}]
[null,null,"19","Marchandises non identifiables",null,null,{"$f":"IF(ex_region=\"Nord Pas-de-Calais\",'IE2'!I55,IF(ex_region=\"Picardie\",'IE2'!Q55,IF(ex_region=\"Hauts-de-France total\", 'IE2'!I55+'IE2'!Q55,0)))","v":0},{"$f":"IF(ex_region=\"Nord Pas-de-Calais\",'IE2'!M55,IF(ex_region=\"Picardie\",'IE2'!U55,IF(ex_region=\"Hauts-de-France total\", 'IE2'!M55+'IE2'!U55,0)))","v":0},{"$f":"'IE2'!V55","v":0},{"$f":"'IE2'!W55","v":0},0,0,{"$f":"K288*'FE3'!$L126/1000","v":0},{"$f":"L288*'FE3'!$L126/1000","v":0}]
[null,null,"20","Autres marchandises",null,null,{"$f":"IF(ex_region=\"Nord Pas-de-Calais\",'IE2'!I56,IF(ex_region=\"Picardie\",'IE2'!Q56,IF(ex_region=\"Hauts-de-France total\", 'IE2'!I56+'IE2'!Q56,0)))","v":0},{"$f":"IF(ex_region=\"Nord Pas-de-Calais\",'IE2'!M56,IF(ex_region=\"Picardie\",'IE2'!U56,IF(ex_region=\"Hauts-de-France total\", 'IE2'!M56+'IE2'!U56,0)))","v":0},{"$f":"'IE2'!V56","v":0},{"$f":"'IE2'!W56","v":0},0,0,{"$f":"K289*'FE3'!$L127/1000","v":0},{"$f":"L289*'FE3'!$L127/1000","v":0}]
[null,null,"Total",null,null,null,{"$f":"SUM(G270:G289)","v":0},{"$f":"SUM(H270:H289)","v":0},null,null,{"$f":"SUM(K272:K289)","v":0},{"$f":"SUM(L272:L289)","v":0},{"$f":"SUM(M272:M289)","v":0},{"$f":"SUM(N272:N289)","v":0}]
[]
[]
[null,"Biens de consommation - imports / exports avec les régions - impact du transport de marchandises"]
[]
[]
[null,null,null,null,null,null,"Imports","Exports"]
[null,null,"Fret total","Flux territorial (milliers de tonnes)",null,null,{"$f":"K290","v":0},{"$f":"L290","v":0}]
[null,null,null,"Distance moyenne (km)",null,null,{"$f":"'IE2'!E89","v":271.05988496778434},{"$f":"'IE2'!E118","v":305.53917535873347}]
[null,null,null,"Millions de t.km en routier / bateau / train",null,null,{"$f":"G297*G298/1000","v":0},{"$f":"H297*H298/1000","v":0}]
[null,null,"Routier","% tonnes en routier",null,null,0.88,0.91,"Source:","SitraM 2010 / SOeS  compte des transports 2012"]
[null,null,null,"Millions de t.km en routier",null,null,{"$f":"$G$299*G300","v":0},{"$f":"$H$299*H300","v":0}]
[null,null,null,"Emissions de GES routier (kt eq CO2)",null,null,{"$f":"G301*'FE2'!$G$115","v":0},{"$f":"H301*'FE2'!$G$115","v":0}]
[null,null,"Bateau","% tonnes en bateau",null,null,0.01,0.01,"Source:","SitraM 2010 / SOeS  compte des transports 2012"]
[null,null,null,"Millions de t.km en bateau",null,null,{"$f":"$G$299*G303","v":0},{"$f":"$H$299*H303","v":0}]
[null,null,null,"Emissions de GES bateau (kt eq CO2)",null,null,{"$f":"G304*'FE2'!G117","v":0},{"$f":"H304*'FE2'!$G$117","v":0}]
[null,null,"Train","% tonnes en train",null,null,{"$f":"1-G300-G303","v":0.11},{"$f":"1-H300-H303","v":7.9999999999999974E-2}]
[null,null,null,"Millions de t.km en train",null,null,{"$f":"$G$299*G306","v":0},{"$f":"$H$299*H306","v":0}]
[null,null,null,"Emissions de GES train (kt eq CO2)",null,null,{"$f":"G307*'FE2'!G116","v":0},{"$f":"H307*'FE2'!$G$116","v":0}]
[]
[]
[null,null,null,null,null,null,"Imports","Exports"]
[null,null,null,"Emissions de GES du fret\n(kt eq CO2)",null,"Routier",{"$f":"G302","v":0},{"$f":"H302","v":0}]
[null,null,null,null,null,"Bateau",{"$f":"G308","v":0},{"$f":"H308","v":0}]
[null,null,null,null,null,"Train",{"$f":"G308","v":0},{"$f":"H308","v":0}]
[null,null,null,null,null,"Total fret",{"$f":"SUM(G312:G314)","v":0},{"$f":"SUM(H312:H314)","v":0}]

{"sheet":"Alim","index":23,"n_rows":102,"n_cols":12,"rows_kept":102,"cut":false,"hidden":false,"merged":[[37,2,37,4],[38,2,38,4],[78,7,79,11],[66,2,66,3],[67,2,67,3],[71,2,71,3],[55,2,55,4],[56,2,56,4],[40,2,40,4],[81,7,81,11],[89,7,89,11],[26,2,26,4],[22,2,22,4],[101,2,101,4],[99,2,99,4],[100,2,100,4],[97,2,98,4],[73,2,73,3],[49,2,51,3],[24,2,24,4],[25,2,25,4],[57,2,57,4],[23,2,23,4],[70,7,70,11],[36,2,36,4]]}
[]
[null,"Alimentation"]
[]
[]
[]
[]
[]
[]
[]
[]
[]
[]
[]
[]
[]
[]
[null,"Récapitulatif"]
[]
[null,"Alimentation - émissions liées à la consommation"]
[]
[null,null,null,null,null,"GES","PM10","NOx","COVNM","PM2.5","SO2","NH3"]
[null,null,null,null,null,"kt eq CO2","tonnes","tonnes","tonnes","tonnes","tonnes","tonnes"]
[null,null,"Emissions directes",null,null,{"$f":"F41","v":0},0,0,0,0,0,0]
[null,null,"Emissions indirectes liées aux réseaux de chaleur et de froid (scope 2)",null,null,{"$f":"'I2'!E142","v":0},{"$f":"D1a!L154*D3b!$I29","v":0},{"$f":"D1a!M154*D3b!$I29","v":0},{"$f":"D1a!N154*D3b!$I29","v":0},{"$f":"D1a!O154*D3b!$I29","v":0},{"$f":"D1a!P154*D3b!$I29","v":0},{"$f":"D1a!Q154*D3b!$I29","v":0}]
[null,null,"Emissions indirectes liées à l'électricité (scope 2)",null,null,{"$f":"F56","v":0},{"$f":"G56","v":0},0,0,0,0,0]
[null,null,"Emissions indirectes liées à l'électricité- Amont des combustibles (scope 3)",null,null,{"$f":"F57","v":0},0,0,0,0,0,0]
[null,null,"Autres émissions indirectes liées à l'alimentation (scope 3)",null,null,{"$f":"F102","v":0},"-","-","-","-","-","-"]
[null,null,"Emissions liées à la consommation",null,null,{"$f":"SUM(F23:F27)","v":0},0,0,0,0,0,0]
[]
[]
[]
["1)","Emissions directes (MyEmiss'Air)"]
[]
[null,"Alimentation - émissions directes"]
[null,null,null,null,null,"GES","PM10","NOx","COVNM","PM2.5","SO2","NH3"]
[null,null,null,null,null,"kt eq CO2","tonnes","tonnes","tonnes","tonnes","tonnes","tonnes"]
[null,null,"Agriculture",null,null,{"$f":"SUMPRODUCT(D1a!K134:K136,D3b!I9:I11)","v":0},{"$f":"SUMPRODUCT(D1a!L134:L136,D3b!I9:I11)/1000","v":0},{"$f":"SUMPRODUCT(D1a!M134:M136,D3b!I9:I11)/1000","v":0},{"$f":"SUMPRODUCT(D1a!N134:N136,D3b!$I$9:$I$11)/1000","v":0},{"$f":"SUMPRODUCT(D1a!O134:O136,D3b!$I$9:$I$11)/1000","v":0},{"$f":"SUMPRODUCT(D1a!P134:P136,D3b!$I$9:$I$11)/1000","v":0},{"$f":"SUMPRODUCT(D1a!Q134:Q136,D3b!I9:I11)/1000","v":0}]
[null,null,"Agroalimentaire",null,null,{"$f":"D1a!K140*D3b!I15","v":0},{"$f":"D1a!L140*D3b!I15/1000","v":0},{"$f":"D1a!M140*D3b!I15/1000","v":0},{"$f":"D1a!N140*D3b!$I$15/1000","v":0},{"$f":"D1a!O140*D3b!$I$15/1000","v":0},{"$f":"D1a!P140*D3b!$I$15/1000","v":0},{"$f":"D1a!Q140*D3b!I15/1000","v":0}]
[null,null,"Fret",null,null,{"$f":"(D1a!K138*D3b!I13+D1a!K139*D3b!I14+D1a!K163*D3b!I38+D1a!K167*D3b!I42)","v":0},{"$f":"(D1a!L138*D3b!I13+D1a!L139*D3b!I14+D1a!L163*D3b!I38+D1a!L167*D3b!I42)/1000","v":0},{"$f":"(D1a!M138*D3b!I13+D1a!M139*D3b!I14+D1a!M163*D3b!I38+D1a!M167*D3b!I42)/1000","v":0},{"$f":"(D1a!N138*D3b!$I$13+D1a!N139*D3b!$I$14+D1a!N163*D3b!$I$38+D1a!N167*D3b!$I$42)/1000","v":0},{"$f":"(D1a!O138*D3b!$I$13+D1a!O139*D3b!$I$14+D1a!O163*D3b!$I$38+D1a!O167*D3b!$I$42)/1000","v":0},{"$f":"(D1a!P138*D3b!$I$13+D1a!P139*D3b!$I$14+D1a!P163*D3b!$I$38+D1a!P167*D3b!$I$42)/1000","v":0},{"$f":"(D1a!Q138*D3b!I13+D1a!Q139*D3b!I14+D1a!Q163*D3b!I38+D1a!Q167*D3b!I42)/1000","v":0}]
[null,null,"Réseaux de chaleur et de froid",null,null,{"$f":"D2b!D126","v":0},{"$f":"D1a!L154*D3b!$I$29/1000","v":0},{"$f":"D1a!M154*D3b!$I$29/1000","v":0},{"$f":"D1a!N154*D3b!$I$29/1000","v":0},{"$f":"D1a!O154*D3b!$I$29/1000","v":0},{"$f":"D1a!P154*D3b!$I$29/1000","v":0},{"$f":"D1a!Q154*D3b!$I$29/1000","v":0}]
[null,null,"Total",null,null,{"$f":"SUM(F37:F39)","v":0},0,0,0,0,0,0]
[]
[]
[]
[]
["2)","Émissions indirectes  liées à l'électricité"]
[]
[null,"Alimentation - émissions indirectes de GES liées à la consommation d'électricité (Imports)"]
[]
[null,null,"Consommation d'électricité",null,"Alimentation",{"$f":"I1a!D123","v":0},"MWh"]
[null,null,null,null,"Agriculture",{"$f":"I1b!F85","v":0},"MWh"]
[null,null,null,null,"Agroalimentaire",{"$f":"I1b!F86","v":0},"MWh"]
[]
[null,null,null,null,null,"GES","PM10","NOx","COVNM","PM2.5","SO2","NH3"]
[null,null,null,null,null,"kt eq CO2","tonnes","tonnes","tonnes","tonnes","tonnes","tonnes"]
[null,null,"Emissions indirectes (scope 2 - périmètre réglementaire)",null,null,{"$f":"I1b!O102","v":0},{"$f":"'FE2'!$F$6*F50/1000","v":0},{"$f":"'FE2'!$F$7*F50/1000","v":0},{"$f":"'FE2'!$F$8*F50/1000","v":0},{"$f":"'FE2'!$F$9*F50/1000","v":0},{"$f":"'FE2'!$F$10*F50/1000","v":0},{"$f":"'FE2'!$F$11*F50/1000","v":0}]
[null,null,"Emissions indirectes (amont des combustibles, transport et distribution)",null,null,{"$f":"I1b!O103","v":0},{"$f":"'FE2'!$E$6*F50/1000","v":0},{"$f":"'FE2'!$E$7*F50/1000","v":0},{"$f":"'FE2'!$E$8*F50/1000","v":0},{"$f":"'FE2'!$E$9*F50/1000","v":0},{"$f":"'FE2'!$E$10*F50/1000","v":0},{"$f":"'FE2'!$E$11*F50/1000","v":0}]
[null,null,"Scope 3",null,null,{"$f":"I1b!O104","v":0},{"$f":"G56+G57","v":0},0,0,0,0,0]
[]
[]
[]
[]
["2)","Emissions directes et indirectes de GES liées à l'alimentation"]
[]
[null,"Alimentation - émissions indirectes liées à l'alimentation"]
[]
[null,null,"Nombre d'habitants sur le territoire",null,{"$f":"Accueil!D22","v":0},"habitants"]
[null,null,"Nombre de repas / jour",null,2.5,"repas / jour"]
[]
[null,"Facteur moyen d'un repas"]
[null,null,"FE par défaut d'un repas",null,2.27,"kg eq CO2 / repas","Source:","Bilan Carbone Territoire v6 (repas classique)"]
[null,null,"FE moyen d'un repas pondéré par la typologie de ménages",null,{"$f":"IF(E85=0,IF(E73=\"Non calculé\",E71,E73),(SUMPRODUCT(E78:E84,F78:F84)/E85)*E71)","v":2.27},"kg eq CO2 / repas"]
[null,null,"FE moyen d'un repas pondéré par type de régime alimentaire",null,{"$f":"IFERROR(SUMPRODUCT(D88:D95,E88:E95)/SUM(E88:E95),\"Non calculé\")","v":"Non calculé"},"kg eq CO2 / repas"]
[null,null,"FE moyen d'un repas retenu",null,{"$f":"IF(E73=\"Non calculé\",IF(E85=0,E71,E72),E73)","v":2.27},"kg eq CO2 / repas"]
[]
[null,"Modulation du FE alimentation"]
[null,null,"Type de ménages","Modulation","Nombre de ménages","Facteur multiplicatif"]
[null,null,"Couple sans enfant",0.25,null,{"$f":"1+D78","v":1.25}]
[null,null,"Personne seule",0.15,null,{"$f":"1+D79","v":1.1499999999999999},"Source:"," ADEME SOeS : « Dossier complet sur les émissions GES des achats courants des ménages en France métropolitaine » (2012)"]
[null,null,"Couple avec 1 enfant",-0.05,null,0.95]
[null,null,"Couple avec 2 enfants",-0.17,null,0.83]
[null,null,"Couple avec 3 enfants ",-0.21,null,0.79,"Source:","INSEE, Dossiers complets, structure de la population en 2014"]
[null,null,"Famille monoparentale",0,null,1]
[null,null,"Autres ",0,null,1]
[null,null,"Total",null,{"$f":"SUM(E78:E84)","v":0}]
[]
[null,null,"Type de repas","kg eq CO2 / repas","Part du type de repas (%)"]
[null,null,"Repas classique 1 (avec poulet)",1.1000000000000001,null,null,"Source:","Documentation des facteurs d'émissions de la Base Carbone ®, version 11.2"]
[null,null,"Repas classique 2 (avec bœuf)",4.51]
[null,null,"Repas végétarien 1",0.44,null,null,"Source:"]
[null,null,"Repas végétarien 2",0.44]
[null,null,"Repas à dominante végétale 1 (avec poulet)",0.59]
[null,null,"Repas à dominante végétale 2 (avec bœuf)",1.65]
[null,null,"Repas à dominante animale 1 (avec poulet)",1.32]
[null,null,"Repas à dominante animale 2 (avec bœuf)",5.65]
[null,null,"Total",null,{"$f":"SUM(E88:E95)","v":0}]
[]
[null,null,"Calcul des émissions indirectes",null,null,"GES"]
[null,null,null,null,null,"kt eq CO2"]
[null,null,"Emissions de GES liées à la consommation d'alimentation",null,null,{"$f":"E67*E68*E72*365/1000000","v":0}]
[null,null,"Emissions de GES directes et indirectes liées à l'énergie  liées aux produits agricoles / agroalimentaires",null,null,{"$f":"SUM(F23:F26)","v":0}]
[null,null,"Total émissions indirectes",null,null,{"$f":"F100-F101","v":0}]

{"sheet":"Serv","index":24,"n_rows":119,"n_cols":12,"rows_kept":119,"cut":false,"hidden":false,"merged":[[38,2,38,4],[37,2,37,4],[40,2,40,4],[48,2,54,2],[48,3,48,4],[49,3,49,4],[50,3,50,4],[51,3,51,4],[52,3,52,4],[53,3,53,4],[54,3,54,4],[39,2,39,4],[69,2,69,4],[70,2,83,2],[70,3,70,4],[71,3,71,4],[72,3,72,4],[73,3,73,4],[74,3,74,4],[75,3,75,4],[76,3,76,4],[77,3,77,4],[78,3,78,4],[79,3,79,4],[80,3,80,4],[81,3,81,4],[82,3,82,4],[115,2,115,4],[117,2,117,4],[118,2,118,4],[116,2,116,4],[110,2,110,3],[94,2,96,3],[100,2,100,4],[101,2,101,4],[102,2,102,4],[22,2,22,4],[24,2,24,4],[27,2,27,4],[26,2,26,4],[25,2,25,4],[23,2,23,4],[83,3,83,4],[84,2,84,4],[59,2,59,4],[60,2,60,4],[61,2,61,4],[85,2,85,4]]}
[]
[null,"Services"]
[]
[]
[]
[]
[]
[]
[]
[]
[]
[]
[]
[]
[]
[]
[null,"Récapitulatif"]
[]
[null,"Services - émissions liées à la consommation"]
[]
[null,null,null,null,null,"GES","PM10","NOx","COVNM","PM2.5","SO2","NH3"]
[null,null,null,null,null,"kt eq CO2","tonnes","tonnes","tonnes","tonnes","tonnes","tonnes"]
[null,null,"Emissions directes",null,null,{"$f":"F41","v":0},{"$f":"G41","v":0},0,0,0,0,0]
[null,null,"Emissions indirectes liées aux réseaux de chaleur et de froid (scope 2)",null,null,{"$f":"'I2'!E143","v":0},{"$f":"D1a!L154*D3b!$J29/1000","v":0},{"$f":"D1a!M154*D3b!$J29/1000","v":0},{"$f":"D1a!N154*D3b!$J29/1000","v":0},{"$f":"D1a!O154*D3b!$J29/1000","v":0},{"$f":"D1a!P154*D3b!$J29/1000","v":0},{"$f":"D1a!Q154*D3b!$J29/1000","v":0}]
[null,null,"Emissions indirectes liées à l'électricité (scope 2)",null,null,{"$f":"F101","v":0},{"$f":"G101","v":0},0,0,0,0,0]
[null,null,"Emissions indirectes liées à l'électricité - Amont des combustibles (scope 3)",null,null,{"$f":"F102","v":0},{"$f":"G102","v":0},0,0,0,0,0]
[null,null,"Emissions indirectes liées à l'énergie (hors électricité) - (scope 3)",null,null,{"$f":"F62+F86","v":0},"-","-","-","-","-","-"]
[null,null,"Emissions indirectes liées aux services importés (scope 3)",null,null,{"$f":"F119","v":0},"-","-","-","-","-","-"]
[null,null,"Emissions liées à la consommation",null,null,{"$f":"SUM(F23:F28)","v":0},{"$f":"SUM(G23:G28)","v":0},0,0,0,0,0]
[]
[]
[]
["1)","Emissions directes (MyEmiss'Air)"]
[]
[null,"Services - émissions directes"]
[null,null,null,null,null,"GES","PM10","NOx","COVNM","PM2.5","SO2","NH3"]
[null,null,null,null,null,"kt eq CO2","tonnes","tonnes","tonnes","tonnes","tonnes","tonnes"]
[null,null,"Tertiaire (hors électricité)",null,null,{"$f":"(D1a!K153*D3b!J28)","v":0},{"$f":"(D1a!L153*D3b!$J$28)/1000","v":0},{"$f":"(D1a!M153*D3b!$J$28)/1000","v":0},{"$f":"(D1a!N153*D3b!$J$28)/1000","v":0},{"$f":"(D1a!O153*D3b!$J$28)/1000","v":0},{"$f":"(D1a!P153*D3b!$J$28)/1000","v":0},{"$f":"(D1a!Q153*D3b!$J$28)/1000","v":0}]
[null,null,"Déchets (hors électricité)",null,null,{"$f":"(D1a!K150*D3b!$J$25+D1a!K151*D3b!$J$26)","v":0},{"$f":"(D1a!L150*D3b!$J$25+D1a!L151*D3b!$J$26)/1000","v":0},{"$f":"(D1a!M150*D3b!$J$25+D1a!M151*D3b!$J$26)/1000","v":0},{"$f":"(D1a!N150*D3b!$J$25+D1a!N151*D3b!$J$26)/1000","v":0},{"$f":"(D1a!O150*D3b!$J$25+D1a!O151*D3b!$J$26)/1000","v":0},{"$f":"(D1a!P150*D3b!$J$25+D1a!P151*D3b!$J$26)/1000","v":0},{"$f":"(D1a!Q150*D3b!$J$25+D1a!Q151*D3b!$J$26)/1000","v":0}]
[null,null,"Chauffage urbain",null,null,{"$f":"D2b!D127","v":0},{"$f":"D1a!L154*D3b!$J$29/1000","v":0},{"$f":"D1a!M154*D3b!$J$29/1000","v":0},{"$f":"D1a!N154*D3b!$J$29/1000","v":0},{"$f":"D1a!O154*D3b!$J$29/1000","v":0},{"$f":"D1a!P154*D3b!$J$29/1000","v":0},{"$f":"D1a!Q154*D3b!$J$29/1000","v":0}]
[null,null,"Total",null,null,{"$f":"SUM(F38:F40)","v":0},0,0,0,0,0,0]
[]
[]
[]
["2)","Emissions indirectes liées à l'énergie (hors électricité)"]
[]
[null,"Services - émissions indirectes liées à l'énergie (hors électricité)"]
[null,null,null,null,null,"Valeur","Source"]
[null,null,"Mix énergétique du tertiaire\n(hors électricité)","Gaz naturel",null,0.43678160919540232,"NORENER 2013"]
[null,null,null,"Fioul",null,0.52873563218390807,"NORENER 2013"]
[null,null,null,"Charbon",null,0,"NORENER 2013"]
[null,null,null,"GPL",null,0,"NORENER 2013"]
[null,null,null,"Bois",null,0,"NORENER 2013"]
[null,null,null,"Chauffage urbain",null,3.4482758620689655E-2,"NORENER 2013"]
[null,null,null,"Total",null,{"$f":"SUM(F49:F54)","v":1}]
[]
[]
[null,null,null,null,null,"GES"]
[null,null,null,null,null,"kt eq CO2"]
[null,null,"Emissions - tertiaire (hors électricité)",null,null,{"$f":"F38","v":0}]
[null,null,"Ratio pondéré émissions indirectes / directes pour l'énergie \n(hors électricité)",null,null,{"$f":"SUMPRODUCT(F49:F53,'FE2'!I19:I23)","v":0.19797142140464702}]
[null,null,"Total",null,null,{"$f":"F60*F61","v":0}]
[]
[]
[null,"Services - émissions indirectes liées à l'énergie dans l'industrie des déchets"]
[]
[null,null,"Source mix énergétique de l'industrie:",null,"SESSI 2011"]
[]
[null,null,null,null,null,"Industrie - \ndivers"]
[null,null,"Emissions directes de GES liées à l'énergie\n(kt eq CO2)",null,null,{"$f":"F39","v":0}]
[null,null,"Mix énergétique de l'industrie (hors électricité)","Vapeur",null,0.04]
[null,null,null,"Gaz naturel",null,0.86]
[null,null,null,"Houille",null,0]
[null,null,null,"Coke",null,0]
[null,null,null,"Aggloméré",null,0.02]
[null,null,null,"FOL",null,0]
[null,null,null,"FOD",null,0.04]
[null,null,null,"GPL",null,0.04]
[null,null,null,"petcoke",null,0]
[null,null,null,"Autres gaz",null,0]
[null,null,null,"Comb. spéciaux",null,0]
[null,null,null,"Comb. spé. renouv",null,0]
[null,null,null,"Bois",null,0]
[null,null,null,"Total",null,{"$f":"SUM(F71:F83)","v":1}]
[null,null,"Ratio pondéré émissions indirectes / directes pour l'énergie (hors électricité)",null,null,{"$f":"SUMPRODUCT(F71:F83,'FE2'!$I$97:$I$109)","v":0.16890343630529928}]
[null,null,"Total émissions GES (kt eq CO2)",null,null,{"$f":"F70*F85","v":0}]
[]
[]
[]
[]
["4)","Émissions indirectes de GES liées à l'électricité - méthode PCAET"]
[]
[null,"Services - émissions indirectes de GES liées à la consommation d'électricité (Imports)"]
[]
[null,null,"Consommation d'électricité",null,"Services",{"$f":"I1a!D158","v":0},"MWh"]
[null,null,null,null,"Tertiaire",{"$f":"I1b!F112","v":0},"MWh"]
[null,null,null,null,"Traitement des déchets",{"$f":"I1b!F113","v":0},"MWh"]
[]
[null,null,null,null,null,"GES","PM10","NOx","COVNM","PM2.5","SO2","NH3"]
[null,null,null,null,null,"kt eq CO2","tonnes","tonnes","tonnes","tonnes","tonnes","tonnes"]
[null,null,"Emissions indirectes (scope 2 - périmètre réglementaire)",null,null,{"$f":"I1b!O130","v":0},{"$f":"'FE2'!$F$6*F95/1000","v":0},{"$f":"'FE2'!$F$7*F95/1000","v":0},{"$f":"'FE2'!$F$8*F95/1000","v":0},{"$f":"'FE2'!$F$9*F95/1000","v":0},{"$f":"'FE2'!$F$10*F95/1000","v":0},{"$f":"'FE2'!$F$11*F95/1000","v":0}]
[null,null,"Emissions indirectes (amont des combustibles, transport et distribution)",null,null,{"$f":"I1b!O131","v":0},{"$f":"'FE2'!$E$6*F95/1000","v":0},{"$f":"'FE2'!$E$7*F95/1000","v":0},{"$f":"'FE2'!$E$8*F95/1000","v":0},{"$f":"'FE2'!$E$9*F95/1000","v":0},{"$f":"'FE2'!$E$10*F95/1000","v":0},{"$f":"'FE2'!$E$11*F95/1000","v":0}]
[null,null,"Scope 3",null,null,{"$f":"I1b!O132","v":0},{"$f":"G101+G102","v":0},0,0,0,0,0]
[]
[]
[]
["5)","Services importés"]
[]
[null,"Emissions liées aux services importés"]
[]
[null,null,"Nombre d'habitants sur le territoire",null,{"$f":"Accueil!D22","v":0},"habitants"]
[]
[]
[null,null,null,null,null,"GES"]
[null,null,null,null,null,"kt eq CO2"]
[null,null,"Défense",null,null,{"$f":"$E$111*'FE3'!E135/1000","v":0}]
[null,null,"Education nationale",null,null,{"$f":"$E$111*'FE3'!E136/1000","v":0}]
[null,null,"Santé",null,null,{"$f":"$E$111*'FE3'!E137/1000","v":0}]
[null,null,"Total",null,null,{"$f":"SUM(F116:F118)","v":0}]

{"sheet":"Tra","index":25,"n_rows":120,"n_cols":13,"rows_kept":120,"cut":false,"hidden":false,"merged":[[27,2,27,4],[83,3,83,4],[84,2,84,4],[85,2,85,4],[29,2,29,4],[53,2,53,3],[57,2,57,4],[58,2,58,4],[59,2,59,4],[30,2,30,4],[66,4,66,7],[69,2,69,4],[70,2,83,2],[70,3,70,4],[71,3,71,4],[72,3,72,4],[77,3,77,4],[119,2,119,4],[117,2,117,4],[118,2,118,4],[98,2,98,4],[108,2,108,4],[103,2,103,4],[104,2,104,4],[105,2,105,4],[106,2,106,4],[107,2,107,4],[95,9,95,11],[43,2,43,4],[45,2,45,4],[92,2,92,4],[93,2,93,4],[92,9,92,11],[93,9,93,11],[78,3,78,4],[79,3,79,4],[80,3,80,4],[81,3,81,4],[82,3,82,4],[73,3,73,4],[74,3,74,4],[75,3,75,4],[76,3,76,4],[116,9,118,11],[103,9,103,11],[104,9,104,11],[26,2,26,4],[28,2,28,4],[31,2,31,4],[116,2,116,4],[94,9,94,11],[94,2,94,4],[96,2,96,4],[97,2,97,4],[96,9,96,11],[42,2,42,4],[44,2,44,4],[97,9,97,11],[95,2,95,4]]}
[]
[null,"Travaux"]
[]
[]
[]
[]
[]
[]
[]
[]
[]
[]
[]
[]
[]
[]
[]
[]
[]
[]
[null,"Récapitulatif"]
[]
[null,"Travaux - émissions liées à la consommation"]
[]
[null,null,null,null,null,"GES","PM10","NOx","COVNM","PM2.5","SO2","NH3"]
[null,null,null,null,null,"kt eq CO2","tonnes","tonnes","tonnes","tonnes","tonnes","tonnes"]
[null,null,"Emissions directes",null,null,{"$f":"F46","v":0},0,0,0,0,0,0]
[null,null,"Emissions indirectes liées aux réseaux de chaleur et de froid (scope 2)",null,null,{"$f":"'I2'!E144","v":0},{"$f":"D1a!L154*D3b!$K29","v":0},{"$f":"D1a!M154*D3b!$K29","v":0},{"$f":"D1a!N154*D3b!$K29","v":0},{"$f":"D1a!O154*D3b!$K29","v":0},{"$f":"D1a!P154*D3b!$K29","v":0},{"$f":"D1a!Q154*D3b!$K29","v":0}]
[null,null,"Emissions indirectes liées à l'électricité (scope 2)",null,null,{"$f":"F58","v":0},{"$f":"G58","v":0},0,0,0,0,0]
[null,null,"Emissions indirectes liées à l'électricité- Amont des combustibles (scope 3)",null,null,{"$f":"F59","v":0},0,0,0,0,0,0]
[null,null,"Emissions indirectes liées à l'énergie (hors électricité) - (scope 3)",null,null,{"$f":"F86","v":0},"-","-","-","-","-","-"]
[null,null,"Autres émissions indirectes - travaux - scope 3",null,null,{"$f":"F99+F109+F120-F27-F29-F30-F31","v":0},"-","-","-","-","-","-"]
[null,null,"Emissions liées à la consommation",null,null,{"$f":"SUM(F27:F32)","v":0},{"$f":"SUM(G27:G32)","v":0},0,0,0,0,0]
[]
[]
[]
[]
["1)","Emissions directes (MyEmiss'Air)"]
[]
[null,"Travaux - émissions directes"]
[null,null,null,null,null,"GES","PM10","NOx","COVNM","PM2.5","SO2","NH3"]
[null,null,null,null,null,"kt eq CO2","tonnes","tonnes","tonnes","tonnes","tonnes","tonnes"]
[null,null,"Industrie - minéraux non métalliques et matériaux de construction",null,null,{"$f":"D1a!K147*D3b!$K$22","v":0},{"$f":"D1a!L147*D3b!$K$22/1000","v":0},{"$f":"D1a!M147*D3b!$K$22/1000","v":0},{"$f":"D1a!N147*D3b!$K$22/1000","v":0},{"$f":"D1a!O147*D3b!$K$22/1000","v":0},{"$f":"D1a!P147*D3b!$K$22/1000","v":0},{"$f":"D1a!Q147*D3b!$K$22/1000","v":0}]
[null,null,"Construction",null,null,{"$f":"D1a!K144*D3b!$K$19","v":0},{"$f":"D1a!L144*D3b!$K$19/1000","v":0},{"$f":"D1a!M144*D3b!$K$19/1000","v":0},{"$f":"D1a!N144*D3b!$K$19/1000","v":0},{"$f":"D1a!O144*D3b!$K$19/1000","v":0},{"$f":"D1a!P144*D3b!$K$19/1000","v":0},{"$f":"D1a!Q144*D3b!$K$19/1000","v":0}]
[null,null,"Chauffage urbain",null,null,{"$f":"D2b!D128","v":0},{"$f":"D1a!L154*D3b!$K$29/1000","v":0},{"$f":"D1a!M154*D3b!$K$29/1000","v":0},{"$f":"D1a!N154*D3b!$K$29/1000","v":0},{"$f":"D1a!O154*D3b!$K$29/1000","v":0},{"$f":"D1a!P154*D3b!$K$29/1000","v":0},{"$f":"D1a!Q154*D3b!$K$29/1000","v":0}]
[null,null,"Total",null,null,{"$f":"SUM(F43:F44)","v":0},{"$f":"SUM(G43:G44)","v":0},0,0,0,0,0]
[]
[]
[]
["2)","Émissions indirectes  liées à l'électricité"]
[]
[null,"Travaux - émissions indirectes de GES liées à la consommation d'électricité (Imports)"]
[]
[null,null,"Consommation d'électricité",null,{"$f":"I1b!E141","v":"Travaux - Industrie des matériaux de construction"},{"$f":"I1b!F141","v":0},"MWh"]
[]
[null,null,null,null,null,"GES","PM10","NOx","COVNM","PM2.5","SO2","NH3"]
[null,null,null,null,null,"kt eq CO2","tonnes","tonnes","tonnes","tonnes","tonnes","tonnes"]
[null,null,"Emissions indirectes (scope 2 - périmètre réglementaire)",null,null,{"$f":"I1b!O149","v":0},{"$f":"'FE2'!$F$6*F54/1000","v":0},{"$f":"'FE2'!$F$7*F54/1000","v":0},{"$f":"'FE2'!$F$8*F54/1000","v":0},{"$f":"'FE2'!$F$9*F54/1000","v":0},{"$f":"'FE2'!$F$10*F54/1000","v":0},{"$f":"'FE2'!$F$11*F54/1000","v":0}]
[null,null,"Emissions indirectes (amont des combustibles, transport et distribution)",null,null,{"$f":"I1b!O150","v":0},{"$f":"'FE2'!$E$6*F54/1000","v":0},{"$f":"'FE2'!$E$7*F54/1000","v":0},{"$f":"'FE2'!$E$8*F54/1000","v":0},{"$f":"'FE2'!$E$9*F54/1000","v":0},{"$f":"'FE2'!$E$10*F54/1000","v":0},{"$f":"'FE2'!$E$11*F54/1000","v":0}]
[null,null,"Scope 3",null,null,{"$f":"I1b!O151","v":0},{"$f":"G58+G59","v":0},0,0,0,0,0]
[]
[]
["3)","Émissions indirectes  liées à l'énergie (hors électricité)"]
[]
[null,"Travaux- émissions indirectes liées à l'amont des combustibles dans l'industrie"]
[]
[null,null,"Source mix énergétique de l'industrie:",null,"SESSI 2011"]
[]
[null,null,null,null,null,"Industrie - \nminéraux non-métalliques et matériaux de construction"]
[null,null,"Emissions directes de GES liées à l'énergie\n(kt eq CO2)",null,null,{"$f":"D1a!K147","v":0}]
[null,null,"Mix énergétique de l'industrie (hors électricité)","Vapeur",null,3.0000000000000001E-3]
[null,null,null,"Gaz naturel",null,0.68400000000000005]
[null,null,null,"Houille",null,0]
[null,null,null,"Coke",null,0]
[null,null,null,"Aggloméré",null,0]
[null,null,null,"FOL",null,0.313]
[null,null,null,"FOD",null,0]
[null,null,null,"GPL",null,0]
[null,null,null,"petcoke",null,0]
[null,null,null,"Autres gaz",null,0]
[null,null,null,"Comb. spéciaux",null,0]
[null,null,null,"Comb. spé. renouv",null,0]
[null,null,null,"Bois",null,0]
[null,null,null,"Total",null,{"$f":"SUM(F71:F83)","v":1}]
[null,null,"Ratio pondéré émissions indirectes / directes pour l'énergie (hors électricité)",null,null,{"$f":"SUMPRODUCT(F71:F83,'FE2'!$I$97:$I$109)","v":0.17205706807257365}]
[null,null,"Emissions indirectes liées à l'amont des combustibles dans l'industrie (kt eq CO2)",null,null,{"$f":"F70*F85","v":0}]
[]
[]
["4)","Construction"]
[]
[null,"Travaux - construction neuve"]
[]
[null,null,"Surface totale de construction neuve",null,null,{"$f":"IF(F96=0,IF(F94=0,F95+F97*F98,F94+F97*F98),IF(F94=0,F96+F95,F96+F94))","v":0},"m² SHON",null,"Source: ","Calculée"]
[null,null,"Surface de locaux commencés pour des activités économiques",null,null,0,"m² SHON",null,"Source: ","Sit@del2"]
[null,null,"Surface de locaux autorisés pour des activités économiques",null,null,null,"m² SHON",null,"Source: ","Sit@del2, via INSEE"]
[null,null,"Surface de logements commencés",null,null,0,"m² SHON",null,"Source: ","Sit@del2"]
[null,null,"Nombre de logements autorisés ",null,null,null,null,null,"Source: ","Sit@del2, via INSEE"]
[null,null,"Surface moyenne d'un logement",null,null,92.8,"m² SHON",null,"Source: ","Fiche INSEE , moyenne NPdC 2006"]
[null,null,"Total émissions GES (kt eq CO2)",null,null,{"$f":"F93*'FE3'!E145/1000000","v":0}]
[]
[]
[null,"Travaux - rénovation"]
[]
[null,null,"Chiffre d'affaire de la rénovation de bâtiment en France",null,null,42000,"M €",null,"Source: ","FFB 2012"]
[null,null,"Part du CA du bâtiment en Hauts de France",null,null,{"$f":"11865300/208060600","v":5.7028096621849593E-2},null,null,"Source: ","Part de la surface de logements commencés en France métropolitaine situés en Hauts de France - Sit@del2"]
[null,null,"Chiffre d'affaire de la rénovation de bâtiment en Hauts de France",null,null,{"$f":"F104*F105","v":2395.1800581176831},"M €",null,null,null,null,null,"²"]
[null,null,"%population régionale",null,null,{"$f":"Accueil!D24","v":0}]
[null,null,"Chiffre d'affaire territorial de la rénovation de bâtiment",null,null,{"$f":"F106*F107","v":0},"M €"]
[null,null,"Total émissions GES (kt eq CO2)",null,null,{"$f":"F108*'FE3'!E146/1000","v":0}]
[]
[]
[]
["5)","Voirie"]
[]
[null,"Travaux - voirie"]
[]
[null,null,"Surface de voiries communales",null,null,null,"m²",null,"Source: "]
[null,null,"Surface de voiries départementales / nationales",null,null,null,"m²"]
[null,null,"Surface d'autoroutes",null,null,null,"m²"]
[null,null,"Total émissions GES (kt eq CO2)",null,null,{"$f":"(F117*'FE3'!E147+Tra!F118*'FE3'!E148+Tra!F119*'FE3'!E149)/1000000","v":0}]

{"sheet":"FE1","index":26,"n_rows":5,"n_cols":11,"rows_kept":5,"cut":false,"hidden":true,"merged":[]}
[]
[null,"Pouvoir de Réchauffement Global (PRG)"]
[]
[null,null,"CO2","CH4","N2O","HFC","PFC","SF6"]
[null,"PRG",1,28,265,2093,9069,23500,null,"Source","5ème rapport du GIEC, 2013 sauf HFC et PFC - rapport national des émissions CITEPA 2015 sur base des PRG 2007 (4ème rapport du GIEC)"]

{"sheet":"FE2","index":27,"n_rows":117,"n_cols":11,"rows_kept":117,"cut":false,"hidden":true,"merged":[[114,2,116,2],[60,2,63,2],[18,2,22,2],[23,2,27,2],[96,2,108,2],[64,2,67,2],[68,2,71,2],[72,2,75,2],[28,2,32,2],[33,2,37,2],[38,2,42,2],[43,2,47,2],[76,2,79,2],[80,2,83,2],[4,3,10,3],[48,2,52,2],[84,2,87,2]]}
[]
[null,"FE - électricité"]
[]
[null,null,null,null,"FE amont","FE production","FE amont + production","Unité","Ratio amont / production","Source"]
[null,null,"GES","Electricité \nen France",2.1999999999999999E-2,0.06,{"$f":"E5+F5","v":8.199999999999999E-2},"t CO2e / MWh",{"$f":"E5/F5","v":0.36666666666666664},"Guide ADEME PCAET 2016- valeurs issues de la base carbone"]
[null,null,"PM10",null,3.6200000000000003E-2,1.26E-2,4.8800000000000003E-2,"kg PM10 / MWh",2.873015873015873,"Ecoinvent"]
[null,null,"NOx",null,4.5100000000000001E-2,0.13300000000000001,0.17810000000000001,"kg NOx / MWh",0.33909774436090223,"Ecoinvent"]
[null,null,"COVNM",null,9.4000000000000004E-3,3.0700000000000002E-2,4.0100000000000004E-2,"kg COVNM / MWh",0.30618892508143319,"Mobitool nov 2012- La donnée FE production d'Ecoinvent n'est pas fiable"]
[null,null,"PM2.5",null,1.47E-3,1.09E-3,2.5599999999999998E-3,"kg PM2.5 / MWh",{"$f":"E9/F9","v":1.3486238532110091},"Ecoinvent"]
[null,null,"SO2",null,1.24E-3,0.223,0.22423999999999999,"kg SO2 / MWh",5.5605381165919282E-3,"Ecoinvent"]
[null,null,"NH3",null,2.1700000000000001E-3,8.2800000000000003E-6,{"$f":"E11+F11","v":2.1782799999999999E-3},"kg NH3 / MWh",{"$f":"E11/F11","v":262.07729468599035},"Ecoinvent"]
[]
[]
["A.","Résidentiel"]
[]
[null,"FE - résidentiel "]
[]
[null,null,null,null,"FE amont ","FE combustion ","FE amont + combustion","Unité","Ratio amont / combustion","Sources"]
[null,null,"GES","Gaz naturel",3.8899999999999997E-2,0.20499999999999999,{"$f":"F19+E19","v":0.24389999999999998},"t CO2e / MWh",{"$f":"E19/F19","v":0.18975609756097561},"Base Carbone -Gaz naturel- 2017"]
[null,null,null,"Fioul",5.79E-2,0.26600000000000001,0.32390000000000002,"t CO2e / MWh",0.21766917293233082,"Base Carbone - Fioul domestique - 2017"]
[null,null,null,"Charbon",3.1189999999999999E-2,0.34499999999999997,0.37618999999999997,"t CO2e / MWh",9.0405797101449276E-2,"Base Carbone - Aggloméré de houille - 2017"]
[null,null,null,"GPL",2.7400000000000001E-2,0.23,0.25740000000000002,"t CO2e / MWh",0.11913043478260869,"Base Carbone - Butane et propane (même valeur) - 2017"]
[null,null,null,"Bois",1.0699999999999999E-2,1.8800000000000001E-2,2.9499999999999998E-2,"t CO2e / MWh",0.56914893617021267,"Base Carbone - Bois bûche - 20% d'humidité-2017"]
[null,null,"PM10","Gaz naturel",2.7400000000000001E-2,3.6000000000000002E-4,2.776E-2,"kg PM10 / MWh",76.111111111111114,"Ecoinvent- heat, natural gas, at boiler atm. low-NOx condensing non-modulating <100kW"]
[null,null,null,"Fioul",2.7000000000000001E-3,3.6069999999999999E-4,{"$f":"F25+E25","v":3.0607E-3},"kg PM10 / MWh",{"$f":"E25/F25","v":7.4854449681175499},"Ecoinvent- heat, light fuel oil, at boiler 10kW, non-modulating"]
[null,null,null,"Charbon",0.128,0.216,0.34399999999999997,"kg PM10 / MWh",0.59259259259259256,"Ecoinvent- hard coal briquette, burned in stove 5-15kW"]
[null,null,null,"GPL",2.7400000000000001E-2,3.6000000000000002E-4,2.776E-2,"kg PM10 / MWh",76.111111111111114,"Ecoinvent- heat, natural gas, at boiler atm. low-NOx condensing non-modulating <100kW"]
[null,null,null,"Bois",2.1999999999999999E-2,9.3600000000000003E-2,0.11560000000000001,"kg PM10 / MWh",0.23504273504273501,"Ecoinvent- heat, wood pellets, at furnace 15kW"]
[null,null,"NOx","Gaz naturel",0.19900000000000001,9.9000000000000005E-2,0.29800000000000004,"kg NOx / MWh",2.0101010101010099,"Ecoinvent- heat, natural gas, at boiler atm. low-NOx condensing non-modulating <100kW"]
[null,null,null,"Fioul",0.19900000000000001,9.9000000000000005E-2,0.29800000000000004,"kg NOx / MWh",2.0101010101010099,"Ecoinvent- heat, light fuel oil, at boiler 10kW, non-modulating"]
[null,null,null,"Charbon",0.20599999999999999,0.18,0.38600000000000001,"kg NOx / MWh",1.1444444444444444,"Ecoinvent- hard coal briquette, burned in stove 5-15kW"]
[null,null,null,"GPL",0.19900000000000001,9.9000000000000005E-2,0.29800000000000004,"kg NOx / MWh",2.0101010101010099,"Ecoinvent- heat, natural gas, at boiler atm. low-NOx condensing non-modulating <100kW"]
[null,null,null,"Bois",1.24E-2,2.52E-2,3.7600000000000001E-2,"kg NOx / MWh",0.49206349206349204,"Ecoinvent- heat, wood pellets, at furnace 15kW"]
[null,null,"COVNM","Gaz naturel",0.154,0,0.154,"kg COVNM / MWh",{"$error":"#DIV/0!"},"Ecoinvent- heat, natural gas, at boiler atm. low-NOx condensing non-modulating <100kW"]
[null,null,null,"Fioul",0.15478120830479761,0,0.15478120830479761,"kg COVNM / MWh",{"$error":"#DIV/0!"},"Ecoinvent- heat, light fuel oil, at boiler 10kW, non-modulating"]
[null,null,null,"Charbon",2.86E-2,6.4100000000000004E-2,9.2700000000000005E-2,"kg COVNM / MWh",0.44617784711388453,"Ecoinvent- hard coal briquette, burned in stove 5-15kW"]
[null,null,null,"GPL",0.154,0,0.154,"kg COVNM / MWh",{"$error":"#DIV/0!"},"Ecoinvent- heat, natural gas, at boiler atm. low-NOx condensing non-modulating <100kW"]
[null,null,null,"Bois",2.53E-2,8.2799999999999992E-3,3.3579999999999999E-2,"kg COVNM / MWh",3.0555555555555558,"Ecoinvent- heat, wood pellets, at furnace 15kW"]
[null,null,"PM2.5","Gaz naturel",1.8700000000000001E-2,3.6000000000000002E-4,{"$f":"F39+E39","v":1.9060000000000001E-2},"kg PM2,5 / MWh",{"$f":"E39/F39","v":51.944444444444443},"Ecoinvent- heat, natural gas, at boiler atm. low-NOx condensing non-modulating <100kW"]
[null,null,null,"Fioul",1.8700000000000001E-2,3.6000000000000002E-4,1.9060000000000001E-2,"kg PM2,5 / MWh",51.944444444444443,"Ecoinvent- heat, light fuel oil, at boiler 10kW, non-modulating"]
[null,null,null,"Charbon",7.8399999999999997E-2,7.1999999999999995E-2,0.15039999999999998,"kg PM2,5 / MWh",1.088888888888889,"Ecoinvent- hard coal briquette, burned in stove 5-15kW"]
[null,null,null,"GPL",1.8700000000000001E-2,3.6000000000000002E-4,1.9060000000000001E-2,"kg PM2,5 / MWh",51.944444444444443,"Ecoinvent- heat, natural gas, at boiler atm. low-NOx condensing non-modulating <100kW"]
[null,null,null,"Bois",1.4999999999999999E-2,9.3600000000000003E-2,0.1086,"kg PM2,5 / MWh",0.16025641025641024,"Ecoinvent- heat, wood pellets, at furnace 15kW"]
[null,null,"SO2","Gaz naturel",2.9000000000000001E-2,1.6899999999999998E-2,4.5899999999999996E-2,"kg SO2 / MWh",1.7159763313609471,"Ecoinvent- heat, natural gas, at boiler atm. low-NOx condensing non-modulating <100kW"]
[null,null,null,"Fioul",0.28999999999999998,0.16900000000000001,0.45899999999999996,"kg SO2 / MWh",1.7159763313609464,"Ecoinvent- heat, light fuel oil, at boiler 10kW, non-modulating"]
[null,null,null,"Charbon",0.156,1.62,1.776,"kg SO2 / MWh",9.6296296296296297E-2,"Ecoinvent- hard coal briquette, burned in stove 5-15kW"]
[null,null,null,"GPL",2.9000000000000001E-2,1.6899999999999998E-2,4.5899999999999996E-2,"kg SO2 / MWh",1.7159763313609471,"Ecoinvent- heat, natural gas, at boiler atm. low-NOx condensing non-modulating <100kW"]
[null,null,null,"Bois",0.112,8.9999999999999993E-3,0.121,"kg SO2 / MWh",12.444444444444446,"Ecoinvent- heat, wood pellets, at furnace 15kW"]
[null,null,"NH3","Gaz naturel",4.1199999999999999E-4,0,{"$f":"F49+E49","v":4.1199999999999999E-4},"kg NH3 / MWh",{"$f":"E49/F49","v":{"$error":"#DIV/0!"}},"Ecoinvent- heat, natural gas, at boiler atm. low-NOx condensing non-modulating <100kW"]
[null,null,null,"Fioul",9.3199999999999999E-4,0,{"$f":"F50+E50","v":9.3199999999999999E-4},"kg NH3 / MWh",{"$f":"E50/F50","v":{"$error":"#DIV/0!"}},"Ecoinvent- heat, light fuel oil, at boiler 10kW, non-modulating"]
[null,null,null,"Charbon",6.8199999999999997E-3,0,{"$f":"F51+E51","v":6.8199999999999997E-3},"kg NH3 / MWh",{"$f":"E51/F51","v":{"$error":"#DIV/0!"}},"Ecoinvent- hard coal briquette, burned in stove 5-15kW"]
[null,null,null,"GPL",4.1199999999999999E-4,0,{"$f":"F52+E52","v":4.1199999999999999E-4},"kg NH3 / MWh",{"$f":"E52/F52","v":{"$error":"#DIV/0!"}},"Ecoinvent- heat, natural gas, at boiler atm. low-NOx condensing non-modulating <100kW"]
[null,null,null,"Bois",1.08E-3,6.2300000000000003E-3,{"$f":"F53+E53","v":7.3100000000000005E-3},"kg NH3 / MWh",{"$f":"E53/F53","v":0.17335473515248795},"Ecoinvent- heat, wood pellets, at furnace 15kW"]
[]
[]
["B.","Transports"]
[]
[null,"FE- transports"]
[]
[null,null,null,null,"FE amont ","FE combustion ","FE amont + combustion","Unité","Ratio amont / combustion","Sources"]
[null,null,"GES","Routier",4.2999999999999997E-2,0.17,{"$f":"F61+E61","v":0.21300000000000002},"kg CO2e / veh.km",{"$f":"E61/F61","v":0.25294117647058817},"Bilan Carbone v7 \"voiture particulière mixte \nessence / gazole moyenne\""," "]
[null,null,null,"Train",3.5000000000000003E-2,0.33,0.36499999999999999,"kg CO2e / veh.km",{"$f":"E62/F62","v":0.10606060606060606},"Bilan Carbone v7 \"Fret routier\n3,5 tonnes, V6.1\""," "]
[null,null,null,"Bateau",0.01,0.04,0.05,"kg CO2e / t.km",{"$f":"E63/F63","v":0.25},"Bilan Carbone v7 \"Fret fluvial Automoteurs 650 - 1000 t\""," "]
[null,null,null,"Avion",2.1999999999999999E-2,0.104,0.126,"kg CO2e / pkm",{"$f":"E64/F64","v":0.21153846153846154},"Bilan Carbone v7 \"Déplacements en avion\n180-250 sièges, 2000-3000 km\""," "]
[null,null,"PM10","Routier",9.6,30.9,40.5,"mg PM10 / pkm",{"$f":"E65/F65","v":0.31067961165048547},"Moyenne véhicule particulier - Mobitool novembre 2010"," "]
[null,null,null,"Train",9.27,13.54,22.81,"mg PM10 / pkm",{"$f":"E66/F66","v":0.68463810930576074},"Ecoinvent- transport, average train, FR"," "]
[null,null,null,"Bateau",null,null,0,"mg PM10 / pkm",{"$f":"I65","v":0.31067961165048547},"Hypothèse similaire au diesel"," "]
[null,null,null,"Avion",8.19,1.28,9.4699999999999989,"mg PM10 / pkm",6.3984374999999991,"Ecoinvent- transport, aircraft, passenger, RER"," "]
[null,null,"NOx","Routier",93.7,254.1,347.8,"mg NOx / pkm",0.36875245966155057,"Moyenne véhicule particulier - Mobitool novembre 2010"," "]
[null,null,null,"Train",335.48,123.13,458.61,"mg NOx / pkm",2.7246000162429955,"Ecoinvent- transport, average train, FR"," "]
[null,null,null,"Bateau",null,null,0,"mg NOx / pkm",{"$f":"I69","v":0.36875245966155057},"Hypothèse similaire au diesel"," "]
[null,null,null,"Avion",63.73,471.27,535,"mg NOx / pkm",{"$f":"I70","v":2.7246000162429955},"Ecoinvent- transport, aircraft, passenger, RER"," "]
[null,null,"COVNM","Routier",95,56.8,151.80000000000001,"mg COVNM / pkm",1.6725352112676057,"Moyenne véhicule particulier - Mobitool novembre 2010"," "]
[null,null,null,"Train",7.14,11.35,18.489999999999998,"mg COVNM / pkm",0.62907488986784144,"Ecoinvent- transport, average train, FR"," "]
[null,null,null,"Bateau",null,null,0,"mg COVNM / pkm",{"$f":"I73","v":1.6725352112676057},"Hypothèse similaire au diesel"," "]
[null,null,null,"Avion",45.69,22.63,68.319999999999993,"mg COVNM / pkm",2.0190013256738841,"Ecoinvent- transport, aircraft, passenger, RER"," "]
[null,null,"PM2.5","Routier",18.46,13.71,{"$f":"F77+E77","v":32.17},"mg PM2.5 / pkm",{"$f":"E77/F77","v":1.3464624361779722},"Ecoinvent- transport, passenger car, diesel, EURO4, CH"," "]
[null,null,null,"Train",4.3600000000000003,2.88,7.24,"mg PM2.5 / pkm",1.5138888888888891,"Ecoinvent- transport, average train, FR"," "]
[null,null,null,"Bateau",null,null,0,"mg PM2.5 / pkm",{"$f":"I77","v":1.3464624361779722},"Hypothèse similaire au diesel"," "]
[null,null,null,"Avion",6.09,1.28,7.37,"mg PM2.5 / pkm",4.7578125,"Ecoinvent- transport, aircraft, passenger, RER"," "]
[null,null,"SO2","Routier",224.95,0.7,225.64999999999998,"mg SO2 / pkm",321.35714285714289,"Ecoinvent- transport, passenger car, diesel, EURO4, CH"," "]
[null,null,null,"Train",37.67,1.34,39.010000000000005,"mg SO2 / pkm",28.111940298507463,"Ecoinvent- transport, average train, FR"," "]
[null,null,null,"Bateau",null,null,0,"mg SO2 / pkm",{"$f":"I84","v":4.405277201304477},"Hypothèse similaire à l'avion (les diesels routiers sont désoufrés)"," "]
[null,null,null,"Avion",148.59,33.729999999999997,182.32,"mg SO2 / pkm",4.405277201304477,"Ecoinvent- transport, aircraft, passenger, RER"," "]
[null,null,"NH3","Routier",1.68,0.63,{"$f":"F85+E85","v":2.31},"mg NH3 / pkm",{"$f":"E85/F85","v":2.6666666666666665},"Ecoinvent- transport, passenger car, diesel, EURO4, CH"," "]
[null,null,null,"Train",0.47,0.04,{"$f":"F86+E86","v":0.51},"mg NH3 / pkm",{"$f":"E86/F86","v":11.749999999999998},"Ecoinvent- transport, average train, FR"," "]
[null,null,null,"Bateau",null,null,{"$f":"F87+E87","v":0},"mg NH3 / pkm",{"$f":"I85","v":2.6666666666666665},"Hypothèse similaire au diesel"," "]
[null,null,null,"Avion",0.3,0,{"$f":"F88+E88","v":0.3},"mg NH3 / pkm",{"$f":"I85","v":2.6666666666666665},"Hypothèse similaire au diesel"," "]
[]
[]
[]
["C.","Biens de consommation"]
[]
[null,"FE - amont de l'énergie (hors électricité)"]
[]
[null,null,null,null,"FE amont ","FE combustion ","FE amont + combustion","Unité","Ratio amont / combustion","Sources"]
[null,null,"GES","Vapeur",0,0.21299999999999999,{"$f":"E97+F97","v":0.21299999999999999},"kg CO2e / kWh PCI",{"$f":"E97/F97","v":0},"Bilan Carbone v7 \"vapeur Lille\""," "]
[null,null,null,"Gaz naturel",3.6593333333200001E-2,0.20401199999979999,{"$f":"E98+F98","v":0.24060533333299999},"kg CO2e / kWh PCI",{"$f":"E98/F98","v":0.1793685338766145},"Bilan Carbone v7 \"Gaz naturel, France (DOM TOM inclus)\""," "]
[null,null,null,"Houille",2.853E-2,0.34611839999999999,0.37464839999999999,"kg CO2e / kWh PCI",8.2428440672324854E-2,"Bilan Carbone v7 \"Houille, France (DOM TOM inclus)\""," "]
[null,null,null,"Coke",2.853E-2,0.38931840000000001,0.41784840000000001,"kg CO2e / kWh PCI",7.3281920402426398E-2,"Bilan Carbone v7 \"Coke de houille, France (DOM TOM inclus)\""," "]
[null,null,null,"Aggloméré",4.0000000000000001E-3,0,4.0000000000000001E-3,"kg CO2e / kWh PCI",0,"Bilan Carbone v7 \"Ecorces, sciures, broyats à 30% hum., France (DOM TOM inclus)\""," "]
[null,null,null,"FOL",4.4604000000020003E-2,0.28278990000040993,0.32739390000042995,"kg CO2e / kWh PCI",0.15772840543440675,"Bilan Carbone v7 \"Fioul lourd, France (DOM TOM inclus)\""," "]
[null,null,null,"FOD",5.7060000000080005E-2,0.27199620000029995,0.32905620000037994,"kg CO2e / kWh PCI",0.20978234254749545,"Bilan Carbone v7 \"Fioul domestique, France (DOM TOM inclus)\""," "]
[null,null,null,"GPL",3.6444357467874999E-2,0.23304986093905,0.269494218406925,"kg CO2e / kWh PCI",0.15638008673777481,"Bilan Carbone v7 \"Gaz de pétrole liquéfié (gpl), France (DOM TOM inclus)\""," "]
[null,null,null,"Petcoke",2.3283649999999999E-2,0.35014225000000004,0.37342590000000003,"kg CO2e / kWh PCI",6.6497687725488697E-2,"Bilan Carbone v7 \"Coke de pétrole, France (DOM TOM inclus)\""," "]
[null,null,null,"Autres gaz",0,0.17190899999999998,0.17190899999999998,"kg CO2e / kWh PCI",0,"Bilan Carbone v7 \"Gaz de cokerie, France (DOM TOM inclus)\""," "]
[null,null,null,"Comb. spéciaux",2.5676999999999998E-2,0.26411400000000002,0.28979100000000002,"kg CO2e / kWh PCI",9.7219382539357996E-2,"Bilan Carbone v7 \"Autres produits pétroliers (graisses, aromatiques, etc), France (DOM TOM inclus)\""," "]
[null,null,null,"Comb. spéciaux renouvelables",3.3000000000000002E-2,0,3.3000000000000002E-2,"kg CO2e / kWh PCI",0,"Bilan Carbone v7 \"Combustibles solides par défaut, France (DOM TOM inclus)\""," "]
[null,null,null,"Bois",1.4999999999999999E-2,0,1.4999999999999999E-2,"kg CO2e / kWh PCI",0,"Bilan Carbone v7 \"Plaquettes forestières à 40% hum., France (DOM TOM inclus)\""," "]
[]
[]
[null,"FE - fret "]
[]
[null,null,null,null,"FE amont ","FE combustion ","FE amont + combustion","Unité","Ratio amont / combustion","Sources"]
[null,null,"GES","Routier",6.7000000000000004E-2,0.155,{"$f":"F115+E115","v":0.222},"kg CO2e / t.km",{"$f":"E115/F115","v":0.43225806451612908},"Bilan Carbone v7 \"Ens. Art. 35 t, camion remorque porte voitures 35 t\""," "]
[null,null,null,"Train",0,4.0000000000000001E-3,{"$f":"F116+E116","v":4.0000000000000001E-3},"kg CO2e / t.km",{"$f":"E116/F116","v":0},"Bilan Carbone v7 \"Train en France, marchandises moyennement denses, mixte\""," "]
[null,null,null,"Bateau",2E-3,1.2E-2,{"$f":"F117+E117","v":1.4E-2},"kg CO2e / t.km",{"$f":"E117/F117","v":0.16666666666666666},"Bilan Carbone v7 \"Fret maritime, porte-conteneurs, capacité 5500 EVP\""," "]

{"sheet":"FE3","index":28,"n_rows":149,"n_cols":17,"rows_kept":149,"cut":false,"hidden":true,"merged":[[71,18,71,19],[72,18,72,19],[95,18,95,19],[44,18,44,19],[46,18,46,19],[47,18,47,19],[43,18,43,19],[90,18,90,19],[91,18,91,19],[92,18,92,19],[93,18,93,19],[53,18,53,19],[54,18,54,19],[55,18,55,19],[56,18,56,19],[57,18,57,19],[48,18,48,19],[49,18,49,19],[50,18,50,19],[51,18,51,19],[52,18,52,19],[69,18,69,19],[65,18,65,19],[66,18,66,19],[67,18,67,19],[63,18,63,19],[64,18,64,19],[36,18,36,19],[37,18,37,19],[70,18,70,19],[125,4,125,5],[126,4,126,5],[117,4,117,5],[118,4,118,5],[119,4,119,5],[122,4,122,5],[61,3,61,4],[62,3,62,4],[63,3,66,4],[75,3,75,4],[71,3,71,4],[72,3,72,4],[90,3,95,4],[73,3,73,4],[74,3,74,4],[78,3,78,4],[79,3,79,4],[80,3,80,4],[121,4,121,5],[123,4,123,5],[114,4,114,5],[95,5,95,6],[115,3,116,3],[38,18,38,19],[39,18,39,19],[40,18,40,19],[41,18,41,19],[42,18,42,19],[33,18,33,19],[34,18,34,19],[35,18,35,19],[124,4,124,5],[94,18,94,19],[58,18,58,19],[59,18,59,19],[60,18,60,19],[61,18,61,19],[62,18,62,19],[78,18,78,19],[79,18,79,19],[80,18,80,19],[73,18,73,19],[74,18,74,19],[75,18,75,19],[76,18,76,19],[77,18,77,19],[68,18,68,19],[53,3,53,4],[56,3,56,4],[57,3,57,4],[58,3,58,4],[23,3,23,4],[24,3,24,4],[108,4,108,5],[110,4,110,5],[18,18,18,19],[19,18,19,19],[20,18,20,19],[21,18,21,19],[22,18,22,19],[40,3,43,4],[28,18,28,19],[29,18,29,19],[30,18,30,19],[31,18,31,19],[32,18,32,19],[23,18,23,19],[24,18,24,19],[25,18,25,19],[26,18,26,19],[27,18,27,19],[54,3,54,4],[16,7,16,16],[106,4,106,5],[107,4,107,5],[109,4,109,5],[112,4,112,5],[16,3,17,4],[16,5,17,6],[115,4,116,5],[30,3,34,4],[37,3,37,4],[38,3,38,4],[39,3,39,4],[55,3,55,4],[44,3,45,4],[22,3,22,4],[22,5,22,6],[35,3,35,4],[36,3,36,4],[25,3,25,4],[26,3,26,4],[60,3,60,4],[59,3,59,4],[52,3,52,4],[120,4,120,5],[18,5,18,6],[18,3,18,4],[19,5,19,6],[19,3,19,4],[27,3,27,4],[29,3,29,4],[28,3,28,4],[76,3,77,4],[81,3,83,4],[67,3,67,4],[68,3,68,4],[69,3,69,4],[70,3,70,4],[46,3,49,4],[20,3,20,4],[21,3,21,4],[111,4,111,5],[113,4,113,5],[84,3,84,4],[85,3,85,4],[86,3,86,4],[50,3,50,4],[51,3,51,4]]}
[]
[]
[]
["FE moyen "," économie étranger",null,721,"g eq CO2 / €"]
["FE moyen "," économie FR",null,423,"g eq CO2 / €",null,null,null,null,null,null,"Valeur du FE :"]
[]
[null,null,null,null,null,null,null,null,null,null,null,null,"  Valeur relevée (sans avoir été modifiée)"]
[null,null,null,null,null,null,null,null,null,null,null,null,"  Valeur calculée"]
[null,null,null,null,null,null,null,null,null,null,null,null,"  FE moyen de l'économie (pas d'autre donnée trouvée)"]
[]
[]
[]
[]
[]
[null,null,"Données douanes importations / exportations"]
[]
[null,null,null,"Nomenclature\nA129",null,"Nomenclature\nCPF4",null,"FE"]
[null,null,null,null,null,null,null,"Produit caractéristique","Source","Scope","Valeur","Unité","FE \n(g eq CO2/kg)","Prix import\n(€/kg)","FE\n(g eq CO2/€)","Prix export\n(€/kg)","FE\n(g eq CO2/€)"]
[null,null,null,"A01Z : Produits de la culture et de l'élevage",null,"0115, 0116, 0130 : Tabac brut / plantes textiles / plants de pépinières",null,"FE moyen de l'économie","ECO2 Climat","-","-","-","-",{"$f":"'IE1'!Q316","v":2.7778602795859726},{"$f":"$D$4","v":721},{"$f":"'IE1'!R316","v":1.1351348933962675},{"$f":"O19","v":721}]
[null,null,null,"A02Z : Produits sylvicoles",null,"0210, 0220, 0230 : Bois brut",null,"Bois","Bilan Carbone v7 ","Fabrication",37,"kg eq CO2 / t",{"$f":"K20","v":37},{"$f":"'IE1'!Q317","v":0.11640156718705641},{"$f":"M20/N20","v":317.86513613292931},{"$f":"'IE1'!R317","v":1.9984288579045759E-2},{"$f":"M20/P20","v":1851.454449011301}]
[null,null,null,"B07Z : minerais métalliques",null,"0710, 0721, 0729",null,"Minerai de fer","Ecoinvent","Fabrication",{"$f":"(4.75+17.81)/2","v":11.28},"kg eq CO2 / t",{"$f":"K21","v":11.28},{"$f":"'IE1'!Q318","v":7.0276051393967018E-2},{"$f":"M21/N21","v":160.50987180205109},{"$f":"'IE1'!R318","v":0.29763240375581207},{"$f":"M21/P21","v":37.899099216543981}]
[null,null,null,"B08Z : produits divers des industries extractives",null,"0811, 0812, 0891, 0892, 0893, 0899",null,"Pierre de carrière","Bilan Carbone v7","Fabrication",11,"kg eq CO2 / t",{"$f":"K22","v":11},{"$f":"'IE1'!Q319","v":2.2437729281162867E-2},{"$f":"M22/N22","v":490.24568672529722},{"$f":"'IE1'!R319","v":2.2675896261679328E-2},{"$f":"M22/P22","v":485.09659212849846}]
[null,null,null,"C12Z : Tabacs manufacturés",null,"1200 : Produits à base de tabac",null,"FE moyen de l'économie","ECO2 Climat","-","-","-","-",{"$f":"'IE1'!Q320","v":13.283403678807774},{"$f":"$D$4","v":721},{"$f":"'IE1'!R320","v":57.623853211009177},{"$f":"O23","v":721}]
[null,null,null,"C13Z : produits de l'industrie textile",null,"1310, 1320, 1391, 1392, 1393, 1394, 1395, 1396, 1399",null,"Habillement","Bilan Produit 2008","Fabrication",11300,"g eq CO2 / kg",{"$f":"K24","v":11300},{"$f":"'IE1'!Q321","v":5.362545797415609},{"$f":"M24/N24","v":2107.208111014334},{"$f":"'IE1'!R321","v":3.5034289788803936},{"$f":"M24/P24","v":3225.411466343237}]
[null,null,null,"C14Z : articles d'habillement",null,"1411, 1412, 1413, 1414, 1419, 1420, 1431, 1439",null,"Habillement","Bilan Produit 2008","Fabrication",11300,"g eq CO2 / kg",{"$f":"K25","v":11300},{"$f":"'IE1'!Q322","v":19.193880744322104},588.72930130832162,{"$f":"'IE1'!R322","v":10.995377325284629},{"$f":"M25/P25","v":1027.7046131027146}]
[null,null,null,"C15Z : cuir, bagages et chaussures",null,"1511, 1512, 1520",null,"Chaussures","Etudes ACV RDC","Fabrication",{"$f":"(20.8+12.9)/2","v":16.850000000000001},"kg eq CO2 / paire de chaussure",{"$f":"K26*1000/0.625","v":26960},{"$f":"'IE1'!Q323","v":17.031726992269959},1582.9281441768119,{"$f":"'IE1'!R323","v":18.95362774098988},1422.4189885134874]
[null,null,null,"C16Z : bois, articles en bois",null,"1610, 1621, 1622, 1623, 1624, 1629",null,"Bois","Bilan Carbone v7 ","Fabrication",37,"kg eq CO2 / t",{"$f":"K27","v":37},{"$f":"'IE1'!Q324","v":0.6346736829080849},58.297674846805386,{"$f":"'IE1'!R324","v":0.71313347022719265},{"$f":"M27/P27","v":51.883695752230516}]
[null,null,null,"C17A : pâtes à papier, papier et carton",null,"1711, 1712",null,"Papier / carton","Bilan Carbone v7","Fabrication",{"$f":"(1063+1320)/2","v":1191.5},"kg eq CO2 / t",1191.5,{"$f":"'IE1'!Q325","v":0.66370030601109664},1795.2379849890847,{"$f":"'IE1'!R325","v":0.41169304862958794},2894.1465102852071]
[null,null,null,"C17B : articles en papier ou en carton",null,"1721, 1722, 1723, 1724, 1729",null,"Papier / carton","Bilan Carbone v7","Fabrication",{"$f":"(1063+1320)/2","v":1191.5},"kg eq CO2 / t",1191.5,{"$f":"'IE1'!Q326","v":2.1232682492517609},561.16319754693461,{"$f":"'IE1'!R326","v":1.3508348942022128},882.0470992524115]
[null,null,null,"C18Z : matériel d'impression et de reproduction",null,1813,null,"Papier / carton","Bilan Carbone v7","Fabrication",{"$f":"(1063+1320)/2","v":1191.5},"kg eq CO2 / t",1191.5,{"$f":"'IE1'!Q327","v":23.962844552499622},49.722811387837169,{"$f":"'IE1'!R327","v":4.908519818363918},{"$f":"M30/P30","v":242.74120184710682}]
[null,null,null,"C20A : produits chimiques de base, matières plastiques",null,"2011, 2012, 2013 : produits chimiques inorganiques",null,"Produit chimique inorganique","Bilan Produit 2008","Fabrication",1890,"g eq CO2 / kg",1890,{"$f":"'IE1'!Q328","v":0.5669192008256595},3333.8084108765579,{"$f":"'IE1'!R328","v":0.58208481590717231},3246.9494966201055]
[null,null,null,null,null,"2014 : Autres produits chimiques organiques de base",null,"Produit chimique organique","Bilan Produit 2008","Fabrication",1540,"g eq CO2 / kg",1540,{"$f":"'IE1'!Q329","v":1.1269733111476137},1366.4919876689848,{"$f":"'IE1'!R329","v":2.1821216012026508},705.73518870407906]
[null,null,null,null,null,"2015 : Engrais et composés azotés",null,"Produit chimique inorganique","Bilan Produit 2008","Fabrication",1890,"g eq CO2 / kg",1890,{"$f":"'IE1'!Q330","v":0.16323551219694232},11578.362909902413,{"$f":"'IE1'!R330","v":0.2313093267534688},{"$f":"M33/P33","v":8170.8767498786419}]
[null,null,null,null,null,"2016 : Matières plastiques sous formes primaires",null,"Plastique moyen (moyenne neuf / recyclé)","Bilan Carbone v7 ","Fabrication",{"$f":"(2383+202)/2","v":1292.5},"kg eq CO2 / t",1292.5,{"$f":"'IE1'!Q331","v":1.5515321783586895},833.04749848455583,{"$f":"'IE1'!R331","v":1.0197289484922303},1267.4936824252059]
[null,null,null,null,null,"2017 : Caoutchouc synthétique sous formes primaires",null,"Caoutchouc","Etude Climatmundi","Fabrication",3375,"g eq CO2 / kg",{"$f":"K35","v":3375},{"$f":"'IE1'!Q332","v":1.5085767967599975},2237.2079480796465,{"$f":"'IE1'!R332","v":0.27695528976205996},12186.082464427947]
[null,null,null,"C20B : parfums, cosmétiques et produits d'entretien",null,"2041, 2042",null,"Shampooing","Etude ACV Henkel","Fabrication",{"$f":"0.025*290","v":7.25},"g eq CO2 / 7 g produit",{"$f":"1000*K36/7","v":1035.7142857142858},{"$f":"'IE1'!Q333","v":2.2257543010815439},465.33181367368758,{"$f":"'IE1'!R333","v":0.62411045155001887},{"$f":"M36/P36","v":1659.5047930090291}]
[null,null,null,"C20C : produits chimiques divers",null,"2020, 2030, 2051, 2052, 2053, 2059, 2060",null,"Produit chimique organique","Bilan Produit 2008","Fabrication",1540,"g eq CO2 / kg",{"$f":"K37","v":1540},{"$f":"'IE1'!Q334","v":3.7724704682956309},408.22055810439741,{"$f":"'IE1'!R334","v":0.79800886774662716},1929.8031165349903]
[null,null,null,"C21Z : produits pharmaceutiques",null,"2110, 2120",null,"Médicament","Guide sectoriel ADEME 2013 - Réalisation d’un bilan des émissions de GES - Etablissements sanitaires et médicaux sociaux","Fabrication",380,"kg eq CO2 / k€","-",{"$f":"'IE1'!Q335","v":20.159263391185455},{"$f":"K38","v":380},{"$f":"'IE1'!R335","v":32.860004753012689},{"$f":"K38","v":380}]
[null,null,null,"C22A : produits en caoutchouc",null,"2211, 2219",null,"Caoutchouc","Etude Climatmundi","Fabrication",3375,"g eq CO2 / kg",{"$f":"K39","v":3375},{"$f":"'IE1'!Q336","v":4.024599755870935},{"$f":"M39/N39","v":838.59270603907305},{"$f":"'IE1'!R336","v":2.7320403882365922},{"$f":"M39/P39","v":1235.3404490401435}]
[null,null,null,"C22B : produits en plastique",null,"2221, 2222, 2223, 2229",null,"Plastique (moyenne neuf / recyclé)","Bilan Carbone v7 ","Fabrication",{"$f":"(2383*0.5+202*0.5)","v":1292.5},"kg eq CO2 / t",1292.5,{"$f":"'IE1'!Q337","v":3.4374363990280647},376.00695691866599,{"$f":"'IE1'!R337","v":2.1589258317329585},598.67735195076943]
[null,null,null,"C23A : verre et articles en verre",null,"2311, 2312: verre plat",null,"Verre plat (moyenne neuf / recyclé)","Bilan Carbone v7 ","Fabrication",{"$f":"(1519+605)/2","v":1062},"kg eq CO2 / t",1062,{"$f":"'IE1'!Q338","v":1.0253035532648251},1035.7908120169136,{"$f":"'IE1'!R338","v":0.53934996996447959},1969.0369132122896]
[null,null,null,null,null,"2313 : verre creux",null,"Verre bouteille (moyenne neuf / recyclé)","Bilan Carbone v7 ","Fabrication",{"$f":"(1027+605)/2","v":816},"kg eq CO2 / t",816,{"$f":"'IE1'!Q339","v":1.2688928502143697},643.08030411089715,{"$f":"'IE1'!R339","v":1.1269450213202039},724.08146321465165]
[null,null,null,null,null,"2314 : fibre de verre",null,"Fibre de verre moyenne","Bilan Carbone v7 ","Fabrication",2125,"kg eq CO2 / t",2125,{"$f":"'IE1'!Q340","v":2.1833662079343719},973.26778818767616,{"$f":"'IE1'!R340","v":2.6961264916538155},788.16776830693721]
[null,null,null,null,null,"2319 : autres articles en verre travaillé",null,"Verre technique moyenne","Bilan Carbone v7 ","Fabrication",3667,"kg eq CO2 / t",3667,{"$f":"'IE1'!Q341","v":3.956137700710157},926.91414642663869,{"$f":"'IE1'!R341","v":3.0370547623531374},{"$f":"M44/P44","v":1207.4197823021061}]
[null,null,null,"C24A : produits sidérurgiques et acier",null,"2410, 2420, 2431, 2432, 2433, 2434",null,"Acier export","Arcelor Mittal https://www.ewi-vlaanderen.be/sites/default/files/arcelor_mittal_carl_de_mare.pdf ","Fabrication",3360,"kg eq CO2 / t",3360,null,null,{"$f":"'IE1'!R342","v":0.83349919722870769},{"$f":"M45/P45","v":4031.1976438269253}]
[null,null,null,null,null,"2410, 2420, 2431, 2432, 2433, 2434",null,"Acier imports (moyenne neuf / recyclé)","Bilan Carbone v7 ","Fabrication",{"$f":"(0.75*3190+0.25*1100)","v":2667.5},"kg eq CO2 / t",{"$f":"K46","v":2667.5},{"$f":"'IE1'!Q342","v":0.56902993238521848},4687.8026061275314]
[null,null,null,"C24B : métaux non ferreux",null,"2441 : Métaux précieux",null,"Or","Bilan Produit 2008","Fabrication",13300000,"kg eq CO2 / t",13300000,{"$f":"'IE1'!Q343","v":475.47332983560688},27972.126227560282,{"$f":"'IE1'!R343","v":310.8203376968317},{"$f":"M47/P47","v":42789.992760938861}]
[null,null,null,null,null,"2442 : Aluminium",null,"Aluminium (moyenne neuf / recyclé)","Bilan Carbone v7 ","Fabrication",{"$f":"(9827+513)/2","v":5170},"kg eq CO2 / t",5170,{"$f":"'IE1'!Q344","v":0.78605887237803607},6577.1155083580215,{"$f":"'IE1'!R344","v":1.5702931713930997},3292.3788335737258]
[null,null,null,null,null,"2443 : Plomb, zinc et étain",null,"Plomb / zinc (moyen)","Bilan Carbone v7 ","Fabrication",{"$f":"(2090+2933)/2","v":2511.5},"kg eq CO2 / t",2511.5,{"$f":"'IE1'!Q345","v":1.8287999071680541},1373.3049690980822,{"$f":"'IE1'!R345","v":2.3021532637004034},1090.9351864623902]
[null,null,null,null,null,"2444, 2445 : Cuivre et autres métaux non ferreux",null,"Cuivre moyen","Bilan Carbone v7 ","Fabrication",2933,"kg eq CO2 / t",2933,{"$f":"'IE1'!Q346","v":4.4682264327982875},656.41257087393603,{"$f":"'IE1'!R346","v":4.7666441631570526},615.31759023887571]
[null,null,null,"C24C : produits de fonderie",null,"2451, 2452",null,"Acier (moyenne neuf / recyclé)","Bilan Carbone v7 ","Fabrication",{"$f":"(0.75*3190+0.25*1100)","v":2667.5},"kg eq CO2 / t",2667.5,{"$f":"'IE1'!Q347","v":2.0058179464766939},1329.8814105664869,{"$f":"'IE1'!R347","v":71.523231788079471},37.295574225500573]
[null,null,null,"C25A : éléments en métal pour la construction",null,"2511, 2512",null,"Acier (moyenne neuf / recyclé)","Bilan Carbone v7 ","Fabrication",{"$f":"(0.75*3190+0.25*1100)","v":2667.5},"kg eq CO2 / t",2667.5,{"$f":"'IE1'!Q348","v":2.2218511467209505},1200.5754768661018,{"$f":"'IE1'!R348","v":1.6592579390267448},1607.6463684510982]
[null,null,null,"C25B : produits pour la chaudronnerie",null,"2521, 2529, 2530",null,"FE moyen de l'économie","ECO2 Climat","-","-","-","-",{"$f":"'IE1'!Q349","v":3.7573430710819249},{"$f":"$D$4","v":721},{"$f":"'IE1'!R349","v":7.356032120078682},{"$f":"$D$4","v":721}]
[null,null,null,"C25C : armes et munitions",null,2540,null,"FE moyen de l'économie","ECO2 Climat","-","-","-","-",{"$f":"'IE1'!Q350","v":9.223293887356526},{"$f":"$D$4","v":721},{"$f":"'IE1'!R350","v":17.580078125},{"$f":"$D$4","v":721}]
[null,null,null,"C25E : coutellerie, outillage, quincaillerie",null,"2571, 2572, 2573, 2591, 2592, 2593, 2594, 2599",null,"Couteau","Etude ACV RDC","Fabrication",{"$f":"350*(1-0.043)","v":334.95},"g eq CO2 / couteau",{"$f":"K55/0.06","v":5582.5},{"$f":"'IE1'!Q351","v":3.9326597151145326},{"$f":"M55/N55","v":1419.5227668807897},{"$f":"'IE1'!R351","v":2.1814895815791262},{"$f":"M55/P55","v":2559.0312450444831}]
[null,null,null,"C26A : composants et cartes électroniques",null,"2611, 2612",null,"Circuit imprimé","Ecoinvent","Fabrication",251000,"g eq CO2 / kg",{"$f":"K56","v":251000},{"$f":"'IE1'!Q352","v":55.915864472094214},{"$f":"M56/N56","v":4488.8870514604296},{"$f":"'IE1'!R352","v":41.166521094701181},6097.1875525403066]
[null,null,null,"C26B : ordinateurs et équipements périphériques",null,2620,null,"Ordinateurs portables ","Bilan Carbone v7 ","Fabrication",1283,"kg eq CO2 / ordinateur","-",{"$f":"'IE1'!Q353","v":61.001794126260059},{"$f":"$D$4","v":721},{"$f":"'IE1'!R353","v":21.002395328846678},{"$f":"$D$4","v":721}]
[null,null,null,"C26C : téléphones et équipements de communication",null,2630,null,"Smartphone","Base Carbone ADEME","Fabrication",30,"kg eq CO2 / téléphone",{"$f":"K58*1000/0.15","v":200000},{"$f":"'IE1'!Q354","v":135.42863668409612},{"$f":"M58/N58","v":1476.7925373606506},{"$f":"'IE1'!R354","v":57.356606439115737},3486.9566457405526]
[null,null,null,"C26D : produits électroniques grand public",null,2640,null,"Télévision ","Etude ACV RDC","Fabrication",{"$f":"(268+575+307+649+297+587)/6","v":447.16666666666669},"kg eq CO2 / TV",{"$f":"K59/(4/1000)","v":111791.66666666667},{"$f":"'IE1'!Q355","v":36.067563580703656},{"$f":"M59/N59","v":3099.5070242691918},{"$f":"'IE1'!R355","v":39.837500666964445},2806.1917739576161]
[null,null,null,"C26E : appareils de mesure et de navigation / horlogerie",null,"2651, 2652",null,"Machines","Bilan Carbone v7 ","Fabrication",3667,"kg eq CO2 / t",{"$f":"K60","v":3667},{"$f":"'IE1'!Q356","v":59.284761413280123},{"$f":"M60/N60","v":61.85400619961964},{"$f":"'IE1'!R356","v":63.01321960126635},58.194138042841821]
[null,null,null,"C26F : équipements électromédicaux ",null,2660,null,"FE moyen de l'économie","ECO2 Climat","-","-","-","-",{"$f":"'IE1'!Q357","v":189.07907342674753},{"$f":"$D$4","v":721},{"$f":"'IE1'!R357","v":54.316410695511742},{"$f":"$D$4","v":721}]
[null,null,null,"C26G : matériels optique et photographique",null,"2670, 2680",null,"FE moyen de l'économie","ECO2 Climat","-","-","-","-",{"$f":"'IE1'!Q358","v":63.473448315893222},{"$f":"$D$4","v":721},{"$f":"'IE1'!R358","v":50.18639460159411},{"$f":"$D$4","v":721}]
[null,null,null,"C27A : appareils ménagers",null,"2751, 2752",null,"Produits Conforama (tous confondus)","ECO2 Climat","N/D",220,"kg eq CO2 / appareil",{"$f":"K63/((0.8*2.49+0.2*53.06)/1000)","v":17454.776261504281},{"$f":"'IE1'!Q359","v":4.8724346756324302},{"$f":"M63/N63","v":3582.3520320954726},{"$f":"'IE1'!R359","v":5.8279612216687307},{"$f":"M63/P63","v":2995.0055598527856}]
[null,null,null,"C27B : matériel électrique",null,"2720 : Piles et accumulateurs électriques",null,"FE moyen de l'économie","ECO2 Climat","-","-","-","-",{"$f":"'IE1'!Q360","v":4.4438054873421171},{"$f":"$D$4","v":721},{"$f":"'IE1'!R360","v":0.61087377885541727},{"$f":"$D$4","v":721}]
[null,null,null,null,null,"2731, 2732 : Câbles électroniques et optiques",null,"Cable électrique avec prise","Ecoinvent","Fabrication",8921,"kg eq CO2 / t",{"$f":"K65","v":8921},{"$f":"'IE1'!Q361","v":8.0009076666060643},{"$f":"M65/N65","v":1114.9984941376324},{"$f":"'IE1'!R361","v":1.2593561310927694},{"$f":"M65/P65","v":7083.7785910956445}]
[null,null,null,null,null,"2740 : Appareils d'éclairage électriques",null,"FE moyen de l'économie","ECO2 Climat","-","-","-","-",{"$f":"'IE1'!Q362","v":11.112812348894742},{"$f":"$D$4","v":721},{"$f":"'IE1'!R362","v":0.51801796796939636},{"$f":"$D$4","v":721}]
[null,null,null,null,null,"2711, 2712, 2733, 2790 : Autres matériels électriques",null,"FE moyen de l'économie","ECO2 Climat","-","-","-","-",{"$f":"'IE1'!Q363","v":13.933438039455922},{"$f":"$D$4","v":721},{"$f":"'IE1'!R363","v":9.1844530834384166},{"$f":"$D$4","v":721}]
[null,null,null,"C28A : machines et équipements d'usage général",null,"2811, 2812, 2813, 2814, 2815, 2821, 2822, 2823, 2824, 2825, 2829",null,"Machines","Bilan Carbone v7 ","Fabrication",3667,"kg eq CO2 / t",{"$f":"K68","v":3667},{"$f":"'IE1'!Q364","v":11.447851438762466},{"$f":"M68/N68","v":320.32211630415861},{"$f":"'IE1'!R364","v":6.5782107849214277},{"$f":"M68/P68","v":557.44641208601831}]
[null,null,null,"C28B : machines agricoles et forestières",null,2830,null,"Machines","Bilan Carbone v7 ","Fabrication",3667,"kg eq CO2 / t",{"$f":"K69","v":3667},{"$f":"'IE1'!Q365","v":10.12466889167499},{"$f":"M69/N69","v":362.18468369026778},{"$f":"'IE1'!R365","v":1.6354352493412483},{"$f":"M69/P69","v":2242.2165606844196}]
[null,null,null,"C28C : machines outils",null,"2841, 2849",null,"Machines","Bilan Carbone v7 ","Fabrication",3667,"kg eq CO2 / t",{"$f":"K70","v":3667},{"$f":"'IE1'!Q366","v":11.397648898244618},{"$f":"M70/N70","v":321.73301991823632},{"$f":"'IE1'!R366","v":9.6690579679935027},{"$f":"M70/P70","v":379.25100998861484}]
[null,null,null,"C28D : machines diverses d'usage spécifique",null,"2891, 2892, 2893, 2894, 2895, 2896, 2899",null,"Machines","Bilan Carbone v7 ","Fabrication",3667,"kg eq CO2 / t",{"$f":"K71","v":3667},{"$f":"'IE1'!Q367","v":8.5798826986519021},{"$f":"M71/N71","v":427.39512051559524},{"$f":"'IE1'!R367","v":13.284157417609627},{"$f":"M71/P71","v":276.04310041817058}]
[null,null,null,"C29A : produits de la construction automobile",null,"2910, 2920",null,"Véhicules","Bilan Carbone v7 ","N/D",5500,"kg eq CO2 / t",{"$f":"K72","v":5500},{"$f":"'IE1'!Q368","v":12.761348832275555},{"$f":"M72/N72","v":430.98892384240708},{"$f":"'IE1'!R368","v":8.1892993281957889},{"$f":"M72/P72","v":671.60812904511613}]
[null,null,null,"C29B : équipements pour automobiles",null,"2931, 2932",null,"FE moyen de l'économie","ECO2 Climat","-","-","-","-",{"$f":"'IE1'!Q369","v":6.5309274856886281},{"$f":"$D$4","v":721},{"$f":"'IE1'!R369","v":4.1587746615330392},{"$f":"$D$4","v":721}]
[null,null,null,"C30A : navires et bateaux",null,"3011, 3012",null,"FE moyen de l'économie","ECO2 Climat","-","-","-","-",{"$f":"'IE1'!Q370","v":14.503136444538061},{"$f":"$D$4","v":721},{"$f":"'IE1'!R370","v":16.878431237062919},{"$f":"$D$4","v":721}]
[null,null,null,"C30B : matériel ferroviaire roulant",null,3020,null,"Véhicules","Bilan Carbone v7 ","N/D",5500,"kg eq CO2 / t",{"$f":"K75","v":5500},{"$f":"'IE1'!Q371","v":11.131464860195162},{"$f":"M75/N75","v":494.09489847714178},{"$f":"'IE1'!R371","v":13.72312173034369},{"$f":"M75/P75","v":400.78344476379243}]
[null,null,null,"C30C : produits de la construction aéronautique",null,3030,null,"FE moyen de l'économie","ECO2 Climat","-","-","-","-",{"$f":"'IE1'!Q372","v":52.196256948632389},{"$f":"$D$4","v":721},{"$f":"'IE1'!R372","v":5.5238544924168451},{"$f":"$D$4","v":721}]
[null,null,null,"C30E : cycles et motocycles",null,"3091 : Motocycles",null,"Véhicules","Bilan Carbone v7 ","N/D",5500,"kg eq CO2 / t",{"$f":"K77","v":5500},{"$f":"'IE1'!Q373","v":22.362474646931307},{"$f":"M77/N77","v":245.9477355183827},{"$f":"'IE1'!R373","v":10.127380284193476},{"$f":"M77/P77","v":543.08220345830614}]
[null,null,null,null,null,"3092, 3099 : Cycles et autres équipements de transports",null,"Vélo en alu","FE d'équipements de sport","Fabrication",12,"kg eq C / vélo",{"$f":"K78*44/12*10","v":440},{"$f":"'IE1'!Q374","v":11.307843850322705},{"$f":"M78/N78","v":38.911043150586416},{"$f":"'IE1'!R374","v":11.381081837547189},{"$f":"M78/P78","v":38.660648107142272}]
[null,null,null,"C31Z : meubles",null,"3100, 3101, 3102, 3103, 3109",null,"Mobilier","Bilan Carbone v7 ","N/D",1833,"kg eq CO2 / t",{"$f":"K79","v":1833},{"$f":"'IE1'!Q375","v":3.4954715252583064},{"$f":"M79/N79","v":524.3927712626828},{"$f":"'IE1'!R375","v":1.8125254667291255},{"$f":"M79/P79","v":1011.2961355008284}]
[null,null,null,"C32A : bijoux, instruments de musique",null,"3211, 3212, 3213, 3220",null,"FE moyen de l'économie","ECO2 Climat","-","-","-","-",{"$f":"'IE1'!Q376","v":105.26647456653696},{"$f":"$D$4","v":721},{"$f":"'IE1'!R376","v":100.65566330270057},{"$f":"$D$4","v":721}]
[null,null,null,"C32B : instruments à usage médical",null,3250,null,"Instrumentation médicale","Guide sectoriel ADEME 2013 - Réalisation d’un bilan des émissions de GES - Etablissements sanitaires et médicaux sociaux","Fabrication",315,"kg eq CO2 / k€","-",{"$f":"'IE1'!Q377","v":27.967726752373029},{"$f":"K81","v":315},{"$f":"'IE1'!R377","v":8.1096003269287724},{"$f":"O81","v":315}]
[null,null,null,"C32C : articles de sport, jeux et jouets ",null,"3230 : Articles de sport",null,"Ballon de foot / ballon de basket","FE d'équipements de sport","N/D",{"$f":"(810+2250)/2","v":1530},"g eq C / ballon",{"$f":"K82*44/12/0.52","v":10788.461538461537},{"$f":"'IE1'!Q378","v":4.5337943863691859},{"$f":"M82/N82","v":2379.5656836350927},{"$f":"'IE1'!R378","v":1.2982103085933967},{"$f":"M82/P82","v":8310.2571802489947}]
[null,null,null,null,null,"3240 : Jeux et jouets",null,"Plastique moyen (23.3% recyclé)","Bilan Carbone v7 ","Fabrication",{"$f":"(2383*0.767+202*0.233)","v":1874.827},"kg eq CO2 / t",{"$f":"K83","v":1874.827},{"$f":"'IE1'!Q379","v":9.9916955273723964},{"$f":"M83/N83","v":187.63852389855995},{"$f":"'IE1'!R379","v":23.790689996927263},{"$f":"M83/P83","v":78.805070396955585}]
[null,null,null,null,null,"3291, 3299 : Autres produits manufacturés",null,"FE moyen de l'économie","ECO2 Climat","-","-","-","-",{"$f":"'IE1'!Q380","v":8.3218694297839342},{"$f":"$D$4","v":721},{"$f":"'IE1'!R380","v":3.2120055918476957},{"$f":"$D$4","v":721}]
[null,null,null,"E38Z : déchets industriels",null,"3811, 3812, 3821, 3832",null,"FE moyen de l'économie","ECO2 Climat","-","-","-","-",{"$f":"'IE1'!Q381","v":0.2703401068944859},{"$f":"$D$4","v":721},{"$f":"'IE1'!R381","v":0.20945632384912011},{"$f":"$D$4","v":721}]
[null,null,null,"J58Z : produits de l'édition, logiciels",null,"5811, 5813, 5814, 5819, 5829",null,"FE moyen de l'économie","ECO2 Climat","-","-","-","-",{"$f":"'IE1'!Q382","v":1.9969906996178799},{"$f":"$D$4","v":721},{"$f":"'IE1'!R382","v":2.2447772920891462},{"$f":"$D$4","v":721}]
[null,null,null,"J59Z : CD et DVD enregistrés",null,"5911, 5920",null,"FE moyen de l'économie","ECO2 Climat","-","-","-","-",{"$f":"'IE1'!Q383","v":54.328789446358257},{"$f":"$D$4","v":721},{"$f":"'IE1'!R383","v":92.999305301645336},{"$f":"$D$4","v":721}]
[]
[]
[null,null,"Fe non utilisés"]
[null,null,null,"C23B : matériaux de construction et produits minéraux",null,"2351 : Ciment",null,"Ciment Portland","Bilan Carbone v7 ","Fabrication",990,"kg eq CO2 / t",{"$f":"K91","v":990},{"$f":"'IE1'!Q342","v":0.56902993238521848},{"$f":"M91/N91","v":1739.803029078259},{"$f":"'IE1'!R342","v":0.83349919722870769},{"$f":"M91/P91","v":1187.763591484719}]
[null,null,null,null,null,"2352 : Chaux et plâtre",null,"Chaux vive","Bilan Carbone v7 ","Fabrication",1041,"kg eq CO2 / t",1041,{"$f":"'IE1'!Q343","v":475.47332983560688},2.1893972483376132,{"$f":"'IE1'!R343","v":310.8203376968317},3.3492016890328835]
[null,null,null,null,null,"2361 : Éléments en béton pour la construction",null,"Béton armé","Bilan Carbone v7 ","Fabrication",367,"kg eq CO2 / t",367,{"$f":"'IE1'!Q344","v":0.78605887237803607},466.88614923934119,{"$f":"'IE1'!R344","v":1.5702931713930997},233.7143195206107]
[null,null,null,null,null,"2363 : Béton prêt à l'emploi",null,"Béton de ciment (routier)","Bilan Carbone v7 ","Fabrication",134,"kg eq CO2 / t",134,{"$f":"'IE1'!Q345","v":1.8287999071680541},73.272094708000395,{"$f":"'IE1'!R345","v":2.3021532637004034},58.206376661740116]
[null,null,null,null,null,"2370 : Pierre taillée, façonnée et finie",null,"Pierre de carrière","Bilan Carbone v7 ","Fabrication",11,"kg eq CO2 / t",11,{"$f":"'IE1'!Q346","v":4.4682264327982875},2.4618268938333774,{"$f":"'IE1'!R346","v":4.7666441631570526},2.3077032023960564]
[null,null,null,null,null,"2320, 2331, 2332, 2341, 2342, 2343, 2344, 2349, 2362, 2364, 2365, 2369, 2391, 2399 : autres matériaux de construction",null,"Moyenne matériaux de construction","Bilan Carbone v7 ","Fabrication",{"$f":"(238+122+353)/3","v":237.66666666666666},"kg eq CO2 / t",237.66666666666666,{"$f":"'IE1'!Q347","v":2.0058179464766939},118.48865301267169,{"$f":"'IE1'!R347","v":71.523231788079471},3.3229296373360708]
[]
[]
[]
[]
[null,null,"Transport national par grandes catégories de produit"]
[]
[]
[]
[null,null,null,"Divison NST 2007",null,null,"FE"]
[null,null,null,null,null,null,"Produit caractéristique","Source","Scope","Valeur","Unité","FE \n(g eq CO2/kg)"]
[null,null,null,"01","Produits de l'agriculture, de la chasse, de la forêt et de la pêche"]
[null,null,null,"02","Houille et lignite ; pétrole brut et gaz naturel"]
[null,null,null,"03","Minerais, tourbe et autres produits d'extraction",null,"Minerai de fer","Ecoinvent","Fabrication",{"$f":"(4.75+17.81)/2","v":11.28},"kg eq CO2 / t",{"$f":"J109","v":11.28}]
[null,null,null,"04","Produits alimentaires, boissons et tabac"]
[null,null,null,"05","Textiles, cuirs et produits dérivés",null,"Habillement","Bilan Produit 2008","Fabrication",11300,"g eq CO2 / kg",{"$f":"J111","v":11300}]
[null,null,null,"06","Bois, pâte à papier, papier et produits de l'édition",null,"Papier / carton","Bilan Carbone v7","Fabrication",{"$f":"(1063+1320)/2","v":1191.5},"kg eq CO2 / t",{"$f":"J112","v":1191.5}]
[null,null,null,"07","Coke et produits pétroliers raffinés "]
[null,null,null,"08","Produits chimiques, caoutchouc, plastique et combustible nucléaire",null,"Produit chimique organique","Bilan Produit 2008","Fabrication",1540,"g eq CO2 / kg",1540]
[null,null,null,"09","Autres produits minéraux non métalliques",null,"Verre bouteille (moyenne neuf / recyclé)","Bilan Carbone v7 ","Fabrication",{"$f":"(1027+605)/2","v":816},"kg eq CO2 / t",816]
[null,null,null,"10","Métaux de base, produits métalliques",null,"Acier exports","Arcelor Mittal https://www.ewi-vlaanderen.be/sites/default/files/arcelor_mittal_carl_de_mare.pdf ","Fabrication",3360,"kg eq CO2 / t",3360]
[null,null,null,null,null,null,"Acier imports (moyenne neuf / recyclé)","Bilan Carbone v7 ",null,{"$f":"(0.75*3190+0.25*1100)","v":2667.5},"kg eq CO2 / t",2667.5]
[null,null,null,"11","Machines et matériel n.c.a, produits des TIC et instruments de précision",null,"Machines","Bilan Carbone v7 ","Fabrication",3667,"kg eq CO2 / t",3667]
[null,null,null,"12","Matériel de transport",null,"Véhicules","Bilan Carbone v7 ","N/A",5500,"kg eq CO2 / t",5500]
[null,null,null,"13","Meubles; autres produits manufacturés n.c.a.",null,"Mobilier","Bilan Carbone v7 ","N/A",1833,"kg eq CO2 / t",1833]
[null,null,null,"14","Matières premières secondaires ; déchets"]
[null,null,null,"15","Courrier ; colis"]
[null,null,null,"16","Equipement pour le transport de fret",null,"Machines","Bilan Carbone v7 ","Fabrication",3667,"kg eq CO2 / t",3667]
[null,null,null,"17","Déménagements ; biens non marchands ; véhicules en réparation"]
[null,null,null,"18","Marchandises groupées",null,"FE moyen de l'économie","ECO2 Climat","-",{"$f":"$D$5","v":423},"g eq CO2 / €",{"$f":"J125*1.7","v":719.1}]
[null,null,null,"19","Marchandises non identifiables",null,"FE moyen de l'économie","ECO2 Climat","-",{"$f":"$D$5","v":423},"g eq CO2 / €",{"$f":"J126*1.7","v":719.1}]
[null,null,null,"20","Autres marchandises",null,"FE moyen de l'économie","ECO2 Climat","-",{"$f":"$D$5","v":423},"g eq CO2 / €",{"$f":"J127*1.7","v":719.1}]
[]
[]
[]
[null,null,"Services"]
[]
[null,null,"FE services"]
[null,null,null,null,null,null,null,"Source"]
[null,null,null,"Défense",0.13,"t eq CO2 / habitant / an",null,"ECO2 Climat"]
[null,null,null,"Ed. Nationale",0.32,"t eq CO2 / habitant / an",null,"ECO2 Climat"]
[null,null,null,"Santé",0.37,"t eq CO2 / habitant / an",null,"ECO2 Climat"]
[]
[]
[]
[null,null,"Travaux"]
[]
[null,null,"FE travaux"]
[null,null,null,null,null,null,null,"Source"]
[null,null,null,"Constr. Neuve",436,"kg eq CO2 / m²",null,"Bilan Carbone v7, construction de logement en béton "]
[null,null,null,"Rénovation",220,"t eq CO2 / M€ HT",null,"ECO2 Climat"]
[null,null,null,"Voirie",198,"kg eq CO2 / m² route communale",null,"Bilan carbone v7, catégorie TC4 "]
[null,null,null,null,209,"kg eq CO2 / m² route départementale/nationale",null,"Bilan carbone v7, catégorie TC5"]
[null,null,null,null,238,"kg eq CO2 / m² autoroute",null,"Bilan carbone v7: catégorie TC7"]

{"sheet":"FE4","index":29,"n_rows":40,"n_cols":11,"rows_kept":40,"cut":false,"hidden":true,"merged":[[8,9,8,10],[7,5,7,6],[14,9,14,10],[9,9,9,10],[10,9,10,10],[11,9,11,10],[12,9,12,10],[13,9,13,10]]}
[]
[null,"STOCK DE CARBONE"]
[]
["A.","Stock dans les sols"]
[]
[null,"Stock de carbone pas type d'occupation du sol"]
[]
[null,null,null,null,null,"Stock de carbone"]
[null,null,"Nomenclature Occsol","Nomenclature ARCH","Nomenclature outil Excel","tC / ha","tCO2 / ha",null,null,"Source"]
[null,null,"Terres cultivées","Terres agricoles et plantations d'arbres","Cultures",52.1,{"$f":"F10*44/12","v":191.03333333333333},null,null,"RMQS régionalisé 2010, NPdC"]
[null,null,"Forêts et milieux semi-naturels","Forêts et fourrés","Forêts ",78.900000000000006,{"$f":"F11*44/12","v":289.3},null,null,"RMQS régionalisé 2010, NPdC"]
[null,null,"Prairies","Prairies, mégaphorbiales, roselières et cariçales","Prairies",86.2,316.06666666666666,null,null,"RMQS régionalisé 2010, NPdC"]
[null,null,"Zones urbaines","Territoires artificialisés","Espaces artificialisés",0,0,null,null,"Arrouays et al, 2002"]
[null,null,"Autres espaces artificialisés","Landes et pelouses","Espaces verts",78.900000000000006,289.3,null,null,"Hypothèse (sous estimation)"]
[null,null,"Milieux humides","Tourbières et marais, Milieux aquatiques non marins, Habitats littoraux et halophiles","Milieux humides",176,645.33333333333337,null,null,"Idem forêts"]
[null,null,"Haies","-","Haies",70,256.66666666666669,null,null,"OMINEA (médiane France)"]
[]
[]
[]
["B.","Stock dans la biomasse aérienne"]
[]
[null,"Caractéristiques et stock de carbone dans le bois"]
[]
[null,null,null,"Fexpb(i)","Dens(i)\n(tMS/m³)","TC(i)\n(tC/tMS)","TC(i)\n(tCO2/tMS)","CS(i)\n(tC/ha)","CS(i)\n(tCO2/ha)",null,"Source"]
[null,null,"Peupleraies",1.611,0.35,0.47499999999999998,{"$f":"F25*44/12","v":1.7416666666666665},2.2999999999999998,{"$f":"H25*44/12","v":8.4333333333333318},null,"CARBOFOR 2004"]
[null,null,"Feuillus hors peupleraies",1.611,0.54600000000000004,0.47499999999999998,{"$f":"F26*44/12","v":1.7416666666666665},2.2999999999999998,{"$f":"H26*44/12","v":8.4333333333333318},null,"CARBOFOR 2004"]
[null,null,"Résineux",1.335,0.438,0.47499999999999998,{"$f":"F27*44/12","v":1.7416666666666665},6.5,{"$f":"H27*44/12","v":23.833333333333332},null,"CARBOFOR 2004"]
[]
[]
[]
[null,"FLUX DE CARBONE"]
[]
["A.","Changement d'affectation des sols"]
[]
[null,"Coefficients de stockage / déstockage"]
[]
[null,null,"Facteurs d'émissions (t CO2 / ha)","Espaces\nartificialisés","Espaces\nagricoles","Espaces\nsemi-naturels",null,"Source"]
[null,null,"Espaces artificialisés évoluant vers",0,-32,-32,null,"Base carbone v2"]
[null,null,"Espaces agricoles évoluant vers",190,0,-32,null,"Base carbone v2"]
[null,null,"Espaces semi-naturel évoluant vers",290,55,0,null,"Base carbone v2"]

{"sheet":"FE5","index":30,"n_rows":76,"n_cols":15,"rows_kept":76,"cut":false,"hidden":true,"merged":[[76,8,76,12],[65,8,65,12],[72,8,72,12],[60,8,60,12],[20,2,20,3],[20,14,20,16],[12,14,12,16],[19,14,19,16],[17,14,18,16],[13,14,13,16],[14,14,14,16],[8,3,15,3],[59,8,59,12],[39,8,39,12],[28,8,28,12],[15,4,15,12],[46,8,46,12],[7,14,7,16],[8,14,8,16],[9,14,9,16],[10,14,10,16],[11,14,11,16]]}
[]
[null,"FORMAT PCAET"]
[]
["A.","Répartition de la consommation d’électricité et facteurs d'émission associés par secteurs d’activité et par usages"]
[]
[null,"FE - électricité"]
[]
[null,null,null,null,"Transport","Industrie base","Eclairage résidentiel","Eclairage public et industrie","Eau chaude sanitaire et cuisson","Cuisson résidentiel","Climatisation tertiaire","Chauffage","Autres (BTP, recherche, armées, etc.)",null,"Source"]
[null,null,"Résidentiel","Electricité \nen France",0,0,7.0000000000000007E-2,0,0.13,0.08,0,0.28999999999999998,0.43,null,"Hypothèses du modèle MEDPRO pour 2010, recommandations guide PCAET ADEME 2016"]
[null,null,"Tertiaire",null,0,0,0,0,7.0000000000000007E-2,0,0.11,0.17,0.65,null,"Hypothèses du modèle MEDPRO pour 2010, recommandations guide PCAET ADEME 2016"]
[null,null,"Transport routier",null,0,0,0,0,0,0,0,0,1,null,"Hypothèses du modèle MEDPRO pour 2010, recommandations guide PCAET ADEME 2016"]
[null,null,"Autres transports",null,1,0,0,0,0,0,0,0,0,null,"Hypothèses du modèle MEDPRO pour 2010, recommandations guide PCAET ADEME 2016"]
[null,null,"Agriculture",null,0,0,0,0,0,0,0,0,1,null,"Hypothèses du modèle MEDPRO pour 2010, recommandations guide PCAET ADEME 2016"]
[null,null,"Déchets",null,0,1,0,0,0,0,0,0,0,null,"Hypothèses du modèle MEDPRO pour 2010, recommandations guide PCAET ADEME 2016"]
[null,null,"Industrie hors branche énergie",null,0,1,0,0,0,0,0,0,0,null,"Hypothèses du modèle MEDPRO pour 2010, recommandations guide PCAET ADEME 2016"]
[null,null,"Industrie branche énergie",null,"Non pertinent"]
[]
[null,null,null,null,"Transport","Industrie base","Eclairage résidentiel","Eclairage public et industrie","Eau chaude sanitaire et cuisson","Cuisson résidentiel","Climatisation tertiaire","Chauffage","Autres (BTP, recherche, armées, etc.)",null,"Source"]
[null,null,null,null,"kg eq CO2 / MWh","kg eq CO2 / MWh","kg eq CO2 / MWh","kg eq CO2 / MWh","kg eq CO2 / MWh","kg eq CO2 / MWh","kg eq CO2 / MWh","kg eq CO2 / MWh","kg eq CO2 / MWh"]
[null,null,"Facteurs d'émission (scope 2)",null,31,33,89,69,47,55,39,173,34,null,"Facteurs d'émission extraits de la base carbone (www.basecarbone.fr), recommandations guide PCAET ADEME 2016"]
[null,null,"Facteurs d'émission (scope 3)",null,48,50,114,91,66,75,57,209,52,null,"Facteurs d'émission extraits de la base carbone (www.basecarbone.fr), recommandations guide PCAET ADEME 2016"]
[]
[]
[]
["B.","Facteurs d'émissions réseau de chaleur et froid - Nord Pas-de-Calais"]
[]
[null,"FE - réseau chaleur et froid "]
[]
[null,null,"Département","Réseau","Location","Chaleur/Froid","Facteur d'émission (kg/kWh)",null,"Source"]
[null,null,"Nord","Alma-Beaurepaire","Roubaix","Chaleur",8.3000000000000004E-2,null,"Arrête 15/09/06 - Performance énergétique bâtiments France Metropolitaine (annexe 7)"]
[null,null,"Nord","Les Canonniers","Valenciennes","Chaleur",0.252,null,"Arrête 15/09/06 - Performance énergétique bâtiments France Metropolitaine (annexe 7)"]
[null,null,"Nord","Réseau de Sains-du-Nord","Sains-du-Nord","Chaleur",0.128,null,"Arrête 15/09/06 - Performance énergétique bâtiments France Metropolitaine (annexe 7)"]
[null,null,"Nord","Quartier Pont de bois","Villeneuve-d'Ascq","Chaleur",0.214,null,"Arrête 15/09/06 - Performance énergétique bâtiments France Metropolitaine (annexe 7)"]
[null,null,"Nord","Domaine Universitaire et Scientifique","Villeneuve-d'Ascq","Chaleur",0.24099999999999999,null,"Arrête 15/09/06 - Performance énergétique bâtiments France Metropolitaine (annexe 7)"]
[null,null,"Nord","ZUP de Wattignies-Blanc Riez","Wattignies","Chaleur",0.17399999999999999,null,"Arrête 15/09/06 - Performance énergétique bâtiments France Metropolitaine (annexe 7)"]
[null,null,"Nord","Réseau de Wattrelos","Wattrelos","Chaleur",0.214,null,"Arrête 15/09/06 - Performance énergétique bâtiments France Metropolitaine (annexe 7)"]
[null,null,"Nord","ZAC des Epis","Sin-le-Noble","Chaleur",0.22800000000000001,null,"Arrête 15/09/06 - Performance énergétique bâtiments France Metropolitaine (annexe 7)"]
[null,null,"Nord","Monsenergie","Mons-en-Barœul","Chaleur",0.23200000000000001,null,"Arrête 15/09/06 - Performance énergétique bâtiments France Metropolitaine (annexe 7)"]
[null,null,"Nord","Métropole Nord","Lille","Chaleur",0.28399999999999997,null,"Arrête 15/09/06 - Performance énergétique bâtiments France Metropolitaine (annexe 7)"]
[null,null,"Nord","CHU Lille","Lille","Chaleur",0.32,null,"Selon arrêté 15/09/06. Par défaut la valeur la plus élevée, celle du charbon"]
[null,null,"Nord","Réseau de Lambersart","Lambersart","Chaleur",0.29399999999999998,null,"Arrête 15/09/06 - Performance énergétique bâtiments France Metropolitaine (annexe 7)"]
[null,null,"Nord","ZUP de la caserne joyeuse","Maubeuge","Chaleur",0.23699999999999999,null,"Arrête 15/09/06 - Performance énergétique bâtiments France Metropolitaine (annexe 7)"]
[null,null,"Nord","Les rives créatives de l'Escaut","Anzin","Chaleur",5.0000000000000001E-3,null,"Arrête 15/09/06 - Performance énergétique bâtiments France Metropolitaine (annexe 7)"]
[null,null,"Nord","Energie Grand Littoral","Dunkerque","Chaleur",0.1,null,"Arrête 15/09/06 - Performance énergétique bâtiments France Metropolitaine (annexe 7)"]
[null,null,"Nord","Réseau de chauffage d'Hazebrouck","Hazebrouck","Chaleur",0.22600000000000001,null,"Arrête 15/09/06 - Performance énergétique bâtiments France Metropolitaine (annexe 7)"]
[null,null,"Nord","Quartier Tournebride Lomme-Capinghem","Lomme","Chaleur",7.9000000000000001E-2,null,"Arrête 15/09/06 - Performance énergétique bâtiments France Metropolitaine (annexe 7)"]
[]
[null,null,"Pas-de-calais","ZUP du quartier République","Avion","Chaleur",0.22600000000000001,null,"Arrête 15/09/06 - Performance énergétique bâtiments France Metropolitaine (annexe 7)"]
[null,null,"Pas-de-calais","Réseau de Arques","Arques","Chaleur",5.3999999999999999E-2,null,"Arrête 15/09/06 - Performance énergétique bâtiments France Metropolitaine (annexe 7)"]
[null,null,"Pas-de-calais","ZUP de Lens","Lens","Chaleur",6.0000000000000001E-3,null,"Arrête 15/09/06 - Performance énergétique bâtiments France Metropolitaine (annexe 7)"]
[null,null,"Pas-de-calais","Le Portel-Outreau Engie","Outreau","Chaleur",0.193,null,"Arrête 15/09/06 - Performance énergétique bâtiments France Metropolitaine (annexe 7)"]
[null,null,"Pas-de-calais","Le Portel-Outreau Dalkia","Outreau","Chaleur",0.20899999999999999,null,"Arrête 15/09/06 - Performance énergétique bâtiments France Metropolitaine (annexe 7)"]
[null,null,"Pas-de-calais","ZUP de Béthune","Béthune","Chaleur",0.23899999999999999,null,"Arrête 15/09/06 - Performance énergétique bâtiments France Metropolitaine (annexe 7)"]
[null,null,"Pas-de-calais","Réseau de Liévin","Liévin","Chaleur",0.252,null,"Arrête 15/09/06 - Performance énergétique bâtiments France Metropolitaine (annexe 7)"]
[null,null,"Pas-de-calais","Calais Energie","Calais","Chaleur",0.20200000000000001,null,"Arrête 15/09/06 - Performance énergétique bâtiments France Metropolitaine (annexe 7)"]
[null,null,"Pas-de-calais","Réseau Centre Ville","Béthune","Chaleur",0.22500000000000001,null,"Arrête 15/09/06 - Performance énergétique bâtiments France Metropolitaine (annexe 7)"]
[null,null,"Pas-de-calais","Réseau d'Achicourt","Achicourt","Chaleur",0.1,null,"Arrête 15/09/06 - Performance énergétique bâtiments France Metropolitaine (annexe 7)"]
[null,null,"Pas-de-calais","Réseau d'Arras","Arras","Chaleur",0.224,null,"Arrête 15/09/06 - Performance énergétique bâtiments France Metropolitaine (annexe 7)"]
[null,null,"Pas-de-calais","Réseau de Boulogne-sur-Mer","Boulogne-sur-Mer","Chaleur",0.23799999999999999,null,"Arrête 15/09/06 - Performance énergétique bâtiments France Metropolitaine (annexe 7)"]
[null,null,"Pas-de-calais","Quartier du chemin vert","Boulogne-sur-Mer","Chaleur",{"$f":"(0.8*'FE2'!F23+0.2*'FE2'!F19)/0.8","v":7.0050000000000001E-2},null,"Estimation RDC Environment sur base de 80% biomasse et d'un rendement de 80%"]
[]
[null,null,"Aisne","ZUP du Quartier Europe","Saint-Quentin","Chaleur",0.13500000000000001,null,"Arrête 15/09/06 - Performance énergétique bâtiments France Metropolitaine (annexe 7)"]
[null,null,"Aisne","ZUP de Presles","Soissons","Chaleur",7.6999999999999999E-2,null,"Arrête 15/09/06 - Performance énergétique bâtiments France Metropolitaine (annexe 7)"]
[null,null,"Aisne","Réseau de Laon","Laon","Chaleur",4.0000000000000001E-3,null,"Arrête 15/09/06 - Performance énergétique bâtiments France Metropolitaine (annexe 7)"]
[null,null,"Aisne","Réseau d'Urcel","Urcel","Chaleur",0.04,null,"Arrête 15/09/06 - Performance énergétique bâtiments France Metropolitaine (annexe 7)"]
[]
[null,null,"Oise","Réseau de Compiègne","Compiègne","Chaleur",0.246,null,"Arrête 15/09/06 - Performance énergétique bâtiments France Metropolitaine (annexe 7)"]
[null,null,"Oise","La Cavée","Creil","Chaleur",0.109,null,"Arrête 15/09/06 - Performance énergétique bâtiments France Metropolitaine (annexe 7)"]
[null,null,"Oise","Quartier des Obiers","Nogent-sur-Oise","Chaleur",0.183,null,"Arrête 15/09/06 - Performance énergétique bâtiments France Metropolitaine (annexe 7)"]
[null,null,"Oise","Les Martinets","Montataire","Chaleur",0.21299999999999999,null,"Arrête 15/09/06 - Performance énergétique bâtiments France Metropolitaine (annexe 7)"]
[null,null,"Oise","Réseau du Quartier Saint-Jean","Beauvais","Chaleur",1.2999999999999999E-2,null,"Arrête 15/09/06 - Performance énergétique bâtiments France Metropolitaine (annexe 7)"]
[null,null,"Oise","Réseau de Breteuil-sur-Noye","Breteuil-sur-Noye","Chaleur",2.5000000000000001E-2,null,"Arrête 15/09/06 - Performance énergétique bâtiments France Metropolitaine (annexe 7)"]
[]
[null,null,"Somme","Etouvie","Amiens","Chaleur",0.25900000000000001,null,"Arrête 15/09/06 - Performance énergétique bâtiments France Metropolitaine (annexe 7)"]
[null,null,"Somme","Réseau de Montdidier","Montdidier","Chaleur",7.4999999999999997E-2,null,"Arrête 15/09/06 - Performance énergétique bâtiments France Metropolitaine (annexe 7)"]
[null,null,"Somme","Réseau d'Abbeville","Abbeville","Chaleur",0.106,null,"Arrête 15/09/06 - Performance énergétique bâtiments France Metropolitaine (annexe 7)"]

{"sheet":"R1","index":31,"n_rows":186,"n_cols":41,"rows_kept":186,"cut":false,"hidden":false,"merged":[[137,11,140,11],[137,2,140,3],[123,2,126,3],[123,11,126,11],[113,2,113,4],[114,2,114,4],[109,2,109,4],[110,2,110,4],[111,2,111,4],[127,2,136,3],[121,2,122,3],[121,11,122,11],[88,2,88,4],[154,2,158,3],[160,2,169,3],[171,2,175,3],[177,2,180,3],[110,10,110,11],[111,10,111,11],[97,2,97,4],[98,2,98,4],[99,2,99,4],[100,2,100,4],[101,2,101,4],[102,2,102,4],[112,2,112,4],[147,2,147,4],[115,10,115,11],[114,10,114,11],[119,10,119,11],[120,10,120,11],[150,5,150,6],[99,10,99,11],[100,10,100,11],[103,2,103,4],[115,2,115,4],[78,21,78,22],[98,10,98,11],[112,10,112,11],[113,10,113,11],[107,10,107,11],[108,10,108,11],[109,10,109,11],[101,10,101,11],[102,10,102,11],[103,10,103,11],[80,21,80,22],[81,21,81,22],[82,21,82,22],[83,21,83,22],[86,9,86,10],[87,9,87,10],[88,9,88,10],[88,21,88,22],[105,10,105,11],[6,5,6,10],[6,11,6,16],[6,17,6,22],[6,23,6,28],[6,29,6,34],[6,35,6,40],[95,10,95,11],[96,10,96,11],[97,10,97,11],[81,15,81,16],[82,15,82,16],[83,15,83,16],[84,15,84,16],[85,15,85,16],[86,15,86,16],[69,9,69,10],[70,9,70,10],[71,9,71,10],[72,9,72,10],[73,9,73,10],[74,9,74,10],[75,9,75,10],[72,15,72,16],[73,15,73,16],[64,9,64,10],[65,9,65,10],[66,9,66,10],[67,9,67,10],[68,9,68,10],[36,2,42,3],[44,2,44,4],[9,2,11,3],[12,2,14,3],[15,2,26,3],[27,2,28,3],[29,2,35,3],[43,2,43,4],[51,5,51,10],[52,9,52,10],[53,9,53,10],[58,9,58,10],[59,9,59,10],[74,27,74,28],[54,2,56,3],[57,2,59,3],[60,2,71,3],[72,2,73,3],[74,2,80,3],[81,2,87,3],[79,15,79,16],[80,15,80,16],[68,21,68,22],[69,21,69,22],[70,21,70,22],[71,21,71,22],[84,21,84,22],[85,21,85,22],[86,21,86,22],[60,9,60,10],[61,9,61,10],[62,9,62,10],[63,9,63,10],[54,9,54,10],[55,9,55,10],[56,9,56,10],[57,9,57,10],[70,33,70,34],[71,33,71,34],[72,33,72,34],[73,33,73,34],[74,33,74,34],[88,15,88,16],[79,27,79,28],[80,27,80,28],[81,27,81,28],[82,27,82,28],[74,15,74,16],[75,15,75,16],[72,21,72,22],[73,21,73,22],[74,21,74,22],[75,21,75,22],[76,15,76,16],[77,15,77,16],[78,15,78,16],[87,27,87,28],[88,27,88,28],[76,21,76,22],[77,21,77,22],[79,21,79,22],[141,2,143,3],[144,2,146,3],[144,11,146,11],[141,11,143,11],[127,11,136,11],[182,2,185,3],[152,2,152,3],[70,39,70,40],[71,39,71,40],[72,39,72,40],[73,39,73,40],[74,39,74,40],[75,39,75,40],[76,39,76,40],[77,39,77,40],[78,39,78,40],[79,39,79,40],[86,33,86,34],[87,33,87,34],[88,33,88,34],[83,27,83,28],[84,27,84,28],[85,27,85,28],[76,9,76,10],[77,9,77,10],[78,9,78,10],[79,9,79,10],[80,9,80,10],[81,9,81,10],[82,9,82,10],[83,9,83,10],[84,9,84,10],[85,9,85,10],[63,15,63,16],[64,15,64,16],[65,15,65,16],[66,15,66,16],[67,15,67,16],[68,15,68,16],[69,15,69,16],[52,15,52,16],[53,15,53,16],[54,15,54,16],[55,15,55,16],[56,15,56,16],[57,15,57,16],[58,15,58,16],[59,15,59,16],[60,15,60,16],[70,15,70,16],[71,15,71,16],[87,15,87,16],[51,11,51,16],[51,17,51,22],[52,21,52,22],[53,21,53,22],[54,21,54,22],[55,21,55,22],[56,21,56,22],[57,21,57,22],[58,21,58,22],[59,21,59,22],[60,21,60,22],[61,21,61,22],[62,21,62,22],[63,21,63,22],[64,21,64,22],[65,21,65,22],[66,21,66,22],[67,21,67,22],[87,21,87,22],[61,15,61,16],[62,15,62,16],[66,27,66,28],[67,27,67,28],[68,27,68,28],[69,27,69,28],[52,27,52,28],[53,27,53,28],[54,27,54,28],[55,27,55,28],[56,27,56,28],[57,27,57,28],[58,27,58,28],[59,27,59,28],[60,27,60,28],[51,23,51,28],[51,29,51,34],[52,33,52,34],[53,33,53,34],[54,33,54,34],[55,33,55,34],[56,33,56,34],[57,33,57,34],[58,33,58,34],[59,39,59,40],[60,39,60,40],[75,33,75,34],[76,33,76,34],[77,33,77,34],[59,33,59,34],[78,33,78,34],[70,27,70,28],[71,27,71,28],[72,27,72,28],[73,27,73,28],[60,33,60,34],[61,33,61,34],[62,33,62,34],[63,33,63,34],[64,33,64,34],[65,33,65,34],[66,33,66,34],[67,33,67,34],[68,33,68,34],[75,27,75,28],[61,27,61,28],[62,27,62,28],[63,27,63,28],[81,33,81,34],[82,33,82,34],[83,33,83,34],[84,33,84,34],[85,33,85,34],[155,8,155,11],[157,10,157,11],[88,39,88,40],[61,39,61,40],[62,39,62,40],[63,39,63,40],[64,39,64,40],[65,39,65,40],[66,39,66,40],[67,39,67,40],[68,39,68,40],[69,39,69,40],[76,27,76,28],[77,27,77,28],[78,27,78,28],[69,33,69,34],[86,27,86,28],[64,27,64,28],[65,27,65,28],[162,10,162,11],[160,10,160,11],[159,10,159,11],[158,10,158,11],[156,10,156,11],[161,10,161,11],[51,35,51,40],[80,39,80,40],[81,39,81,40],[82,39,82,40],[83,39,83,40],[84,39,84,40],[85,39,85,40],[86,39,86,40],[87,39,87,40],[52,39,52,40],[53,39,53,40],[54,39,54,40],[55,39,55,40],[56,39,56,40],[57,39,57,40],[58,39,58,40],[79,33,79,34],[80,33,80,34]]}
[]
[null,"Emissions directes"]
[]
["A.","Emissions directes par poste MyEmiss'Air / GES (kg)"]
[]
[]
[null,null,null,null,null,"Résidentiel",null,null,null,null,null,"Déplacements",null,null,null,null,null,"Biens de consommation",null,null,null,null,null,"Alimentation",null,null,null,null,null,"Services",null,null,null,null,null,"Travaux"]
[null,null,null,null,null,"CO2","CH4","N2O","HFC","PFC","SF6","CO2","CH4","N2O","HFC","PFC","SF6","CO2","CH4","N2O","HFC","PFC","SF6","CO2","CH4","N2O","HFC","PFC","SF6","CO2","CH4","N2O","HFC","PFC","SF6","CO2","CH4","N2O","HFC","PFC","SF6"]
[null,null,null,null,null,"kg","kg","kg","kg","kg","kg","kg","kg","kg","kg","kg","kg","kg","kg","kg","kg","kg","kg","kg","kg","kg","kg","kg","kg","kg","kg","kg","kg","kg","kg","kg","kg","kg","kg","kg","kg"]
[null,null,"Agriculture",null,"Autres sources de l'agriculture (tracteurs, …)",{"$f":"D1a!E134*D3b!$F9","v":0},{"$f":"D1a!F134*D3b!$F9","v":0},{"$f":"D1a!G134*D3b!$F9","v":0},{"$f":"D1a!H134*D3b!$F9","v":0},{"$f":"D1a!I134*D3b!$F9","v":0},{"$f":"D1a!J134*D3b!$F9","v":0},{"$f":"D1a!E134*D3b!$G9","v":0},{"$f":"D1a!F134*D3b!$G9","v":0},{"$f":"D1a!G134*D3b!$G9","v":0},{"$f":"D1a!H134*D3b!$G9","v":0},{"$f":"D1a!I134*D3b!$G9","v":0},{"$f":"D1a!J134*D3b!$G9","v":0},{"$f":"D1a!E134*D3b!$H9","v":0},{"$f":"D1a!F134*D3b!$H9","v":0},{"$f":"D1a!G134*D3b!$H9","v":0},{"$f":"D1a!H134*D3b!$H9","v":0},{"$f":"D1a!I134*D3b!$H9","v":0},{"$f":"D1a!J134*D3b!$H9","v":0},{"$f":"D1a!E134*D3b!$I9","v":0},{"$f":"D1a!F134*D3b!$I9","v":0},{"$f":"D1a!G134*D3b!$I9","v":0},{"$f":"D1a!H134*D3b!$I9","v":0},{"$f":"D1a!I134*D3b!$I9","v":0},{"$f":"D1a!J134*D3b!$I9","v":0},{"$f":"D1a!E134*D3b!$J9","v":0},{"$f":"D1a!F134*D3b!$J9","v":0},{"$f":"D1a!G134*D3b!$J9","v":0},{"$f":"D1a!H134*D3b!$J9","v":0},{"$f":"D1a!I134*D3b!$J9","v":0},{"$f":"D1a!J134*D3b!$J9","v":0},{"$f":"D1a!E134*D3b!$K9","v":0},{"$f":"D1a!F134*D3b!$K9","v":0},{"$f":"D1a!G134*D3b!$K9","v":0},{"$f":"D1a!H134*D3b!$K9","v":0},{"$f":"D1a!I134*D3b!$K9","v":0},{"$f":"D1a!J134*D3b!$K9","v":0}]
[null,null,null,null,"Culture",{"$f":"D1a!E135*D3b!$F10","v":0},{"$f":"D1a!F135*D3b!$F10","v":0},{"$f":"D1a!G135*D3b!$F10","v":0},{"$f":"D1a!H135*D3b!$F10","v":0},{"$f":"D1a!I135*D3b!$F10","v":0},{"$f":"D1a!J135*D3b!$F10","v":0},{"$f":"D1a!E135*D3b!$G10","v":0},{"$f":"D1a!F135*D3b!$G10","v":0},{"$f":"D1a!G135*D3b!$G10","v":0},{"$f":"D1a!H135*D3b!$G10","v":0},{"$f":"D1a!I135*D3b!$G10","v":0},{"$f":"D1a!J135*D3b!$G10","v":0},{"$f":"D1a!E135*D3b!$H10","v":0},{"$f":"D1a!F135*D3b!$H10","v":0},{"$f":"D1a!G135*D3b!$H10","v":0},{"$f":"D1a!H135*D3b!$H10","v":0},{"$f":"D1a!I135*D3b!$H10","v":0},{"$f":"D1a!J135*D3b!$H10","v":0},{"$f":"D1a!E135*D3b!$I10","v":0},{"$f":"D1a!F135*D3b!$I10","v":0},{"$f":"D1a!G135*D3b!$I10","v":0},{"$f":"D1a!H135*D3b!$I10","v":0},{"$f":"D1a!I135*D3b!$I10","v":0},{"$f":"D1a!J135*D3b!$I10","v":0},{"$f":"D1a!E135*D3b!$J10","v":0},{"$f":"D1a!F135*D3b!$J10","v":0},{"$f":"D1a!G135*D3b!$J10","v":0},{"$f":"D1a!H135*D3b!$J10","v":0},{"$f":"D1a!I135*D3b!$J10","v":0},{"$f":"D1a!J135*D3b!$J10","v":0},{"$f":"D1a!E135*D3b!$K10","v":0},{"$f":"D1a!F135*D3b!$K10","v":0},{"$f":"D1a!G135*D3b!$K10","v":0},{"$f":"D1a!H135*D3b!$K10","v":0},{"$f":"D1a!I135*D3b!$K10","v":0},{"$f":"D1a!J135*D3b!$K10","v":0}]
[null,null,null,null,"Elevage",{"$f":"D1a!E136*D3b!$F11","v":0},{"$f":"D1a!F136*D3b!$F11","v":0},{"$f":"D1a!G136*D3b!$F11","v":0},{"$f":"D1a!H136*D3b!$F11","v":0},{"$f":"D1a!I136*D3b!$F11","v":0},{"$f":"D1a!J136*D3b!$F11","v":0},{"$f":"D1a!E136*D3b!$G11","v":0},{"$f":"D1a!F136*D3b!$G11","v":0},{"$f":"D1a!G136*D3b!$G11","v":0},{"$f":"D1a!H136*D3b!$G11","v":0},{"$f":"D1a!I136*D3b!$G11","v":0},{"$f":"D1a!J136*D3b!$G11","v":0},{"$f":"D1a!E136*D3b!$H11","v":0},{"$f":"D1a!F136*D3b!$H11","v":0},{"$f":"D1a!G136*D3b!$H11","v":0},{"$f":"D1a!H136*D3b!$H11","v":0},{"$f":"D1a!I136*D3b!$H11","v":0},{"$f":"D1a!J136*D3b!$H11","v":0},{"$f":"D1a!E136*D3b!$I11","v":0},{"$f":"D1a!F136*D3b!$I11","v":0},{"$f":"D1a!G136*D3b!$I11","v":0},{"$f":"D1a!H136*D3b!$I11","v":0},{"$f":"D1a!I136*D3b!$I11","v":0},{"$f":"D1a!J136*D3b!$I11","v":0},{"$f":"D1a!E136*D3b!$J11","v":0},{"$f":"D1a!F136*D3b!$J11","v":0},{"$f":"D1a!G136*D3b!$J11","v":0},{"$f":"D1a!H136*D3b!$J11","v":0},{"$f":"D1a!I136*D3b!$J11","v":0},{"$f":"D1a!J136*D3b!$J11","v":0},{"$f":"D1a!E136*D3b!$K11","v":0},{"$f":"D1a!F136*D3b!$K11","v":0},{"$f":"D1a!G136*D3b!$K11","v":0},{"$f":"D1a!H136*D3b!$K11","v":0},{"$f":"D1a!I136*D3b!$K11","v":0},{"$f":"D1a!J136*D3b!$K11","v":0}]
[null,null,"Autres transports",null,"Transport aérien français",{"$f":"D1a!E137*D3b!$F12","v":0},{"$f":"D1a!F137*D3b!$F12","v":0},{"$f":"D1a!G137*D3b!$F12","v":0},{"$f":"D1a!H137*D3b!$F12","v":0},{"$f":"D1a!I137*D3b!$F12","v":0},{"$f":"D1a!J137*D3b!$F12","v":0},{"$f":"D1a!E137*D3b!$G12","v":0},{"$f":"D1a!F137*D3b!$G12","v":0},{"$f":"D1a!G137*D3b!$G12","v":0},{"$f":"D1a!H137*D3b!$G12","v":0},{"$f":"D1a!I137*D3b!$G12","v":0},{"$f":"D1a!J137*D3b!$G12","v":0},{"$f":"D1a!E137*D3b!$H12","v":0},{"$f":"D1a!F137*D3b!$H12","v":0},{"$f":"D1a!G137*D3b!$H12","v":0},{"$f":"D1a!H137*D3b!$H12","v":0},{"$f":"D1a!I137*D3b!$H12","v":0},{"$f":"D1a!J137*D3b!$H12","v":0},{"$f":"D1a!E137*D3b!$I12","v":0},{"$f":"D1a!F137*D3b!$I12","v":0},{"$f":"D1a!G137*D3b!$I12","v":0},{"$f":"D1a!H137*D3b!$I12","v":0},{"$f":"D1a!I137*D3b!$I12","v":0},{"$f":"D1a!J137*D3b!$I12","v":0},{"$f":"D1a!E137*D3b!$J12","v":0},{"$f":"D1a!F137*D3b!$J12","v":0},{"$f":"D1a!G137*D3b!$J12","v":0},{"$f":"D1a!H137*D3b!$J12","v":0},{"$f":"D1a!I137*D3b!$J12","v":0},{"$f":"D1a!J137*D3b!$J12","v":0},{"$f":"D1a!E137*D3b!$K12","v":0},{"$f":"D1a!F137*D3b!$K12","v":0},{"$f":"D1a!G137*D3b!$K12","v":0},{"$f":"D1a!H137*D3b!$K12","v":0},{"$f":"D1a!I137*D3b!$K12","v":0},{"$f":"D1a!J137*D3b!$K12","v":0}]
[null,null,null,null,"Transport ferroviaire",{"$f":"D1a!E138*D3b!$F13","v":0},{"$f":"D1a!F138*D3b!$F13","v":0},{"$f":"D1a!G138*D3b!$F13","v":0},{"$f":"D1a!H138*D3b!$F13","v":0},{"$f":"D1a!I138*D3b!$F13","v":0},{"$f":"D1a!J138*D3b!$F13","v":0},{"$f":"D1a!E138*D3b!$G13","v":0},{"$f":"D1a!F138*D3b!$G13","v":0},{"$f":"D1a!G138*D3b!$G13","v":0},{"$f":"D1a!H138*D3b!$G13","v":0},{"$f":"D1a!I138*D3b!$G13","v":0},{"$f":"D1a!J138*D3b!$G13","v":0},{"$f":"D1a!E138*D3b!$H13","v":0},{"$f":"D1a!F138*D3b!$H13","v":0},{"$f":"D1a!G138*D3b!$H13","v":0},{"$f":"D1a!H138*D3b!$H13","v":0},{"$f":"D1a!I138*D3b!$H13","v":0},{"$f":"D1a!J138*D3b!$H13","v":0},{"$f":"D1a!E138*D3b!$I13","v":0},{"$f":"D1a!F138*D3b!$I13","v":0},{"$f":"D1a!G138*D3b!$I13","v":0},{"$f":"D1a!H138*D3b!$I13","v":0},{"$f":"D1a!I138*D3b!$I13","v":0},{"$f":"D1a!J138*D3b!$I13","v":0},{"$f":"D1a!E138*D3b!$J13","v":0},{"$f":"D1a!F138*D3b!$J13","v":0},{"$f":"D1a!G138*D3b!$J13","v":0},{"$f":"D1a!H138*D3b!$J13","v":0},{"$f":"D1a!I138*D3b!$J13","v":0},{"$f":"D1a!J138*D3b!$J13","v":0},{"$f":"D1a!E138*D3b!$K13","v":0},{"$f":"D1a!F138*D3b!$K13","v":0},{"$f":"D1a!G138*D3b!$K13","v":0},{"$f":"D1a!H138*D3b!$K13","v":0},{"$f":"D1a!I138*D3b!$K13","v":0},{"$f":"D1a!J138*D3b!$K13","v":0}]
[null,null,null,null,"Transport fluvial",{"$f":"D1a!E139*D3b!$F14","v":0},{"$f":"D1a!F139*D3b!$F14","v":0},{"$f":"D1a!G139*D3b!$F14","v":0},{"$f":"D1a!H139*D3b!$F14","v":0},{"$f":"D1a!I139*D3b!$F14","v":0},{"$f":"D1a!J139*D3b!$F14","v":0},{"$f":"D1a!E139*D3b!$G14","v":0},{"$f":"D1a!F139*D3b!$G14","v":0},{"$f":"D1a!G139*D3b!$G14","v":0},{"$f":"D1a!H139*D3b!$G14","v":0},{"$f":"D1a!I139*D3b!$G14","v":0},{"$f":"D1a!J139*D3b!$G14","v":0},{"$f":"D1a!E139*D3b!$H14","v":0},{"$f":"D1a!F139*D3b!$H14","v":0},{"$f":"D1a!G139*D3b!$H14","v":0},{"$f":"D1a!H139*D3b!$H14","v":0},{"$f":"D1a!I139*D3b!$H14","v":0},{"$f":"D1a!J139*D3b!$H14","v":0},{"$f":"D1a!E139*D3b!$I14","v":0},{"$f":"D1a!F139*D3b!$I14","v":0},{"$f":"D1a!G139*D3b!$I14","v":0},{"$f":"D1a!H139*D3b!$I14","v":0},{"$f":"D1a!I139*D3b!$I14","v":0},{"$f":"D1a!J139*D3b!$I14","v":0},{"$f":"D1a!E139*D3b!$J14","v":0},{"$f":"D1a!F139*D3b!$J14","v":0},{"$f":"D1a!G139*D3b!$J14","v":0},{"$f":"D1a!H139*D3b!$J14","v":0},{"$f":"D1a!I139*D3b!$J14","v":0},{"$f":"D1a!J139*D3b!$J14","v":0},{"$f":"D1a!E139*D3b!$K14","v":0},{"$f":"D1a!F139*D3b!$K14","v":0},{"$f":"D1a!G139*D3b!$K14","v":0},{"$f":"D1a!H139*D3b!$K14","v":0},{"$f":"D1a!I139*D3b!$K14","v":0},{"$f":"D1a!J139*D3b!$K14","v":0}]
[null,null,"IDEC",null,"Agro-alimentaire",{"$f":"D1a!E140*D3b!$F15","v":0},{"$f":"D1a!F140*D3b!$F15","v":0},{"$f":"D1a!G140*D3b!$F15","v":0},{"$f":"D1a!H140*D3b!$F15","v":0},{"$f":"D1a!I140*D3b!$F15","v":0},{"$f":"D1a!J140*D3b!$F15","v":0},{"$f":"D1a!E140*D3b!$G15","v":0},{"$f":"D1a!F140*D3b!$G15","v":0},{"$f":"D1a!G140*D3b!$G15","v":0},{"$f":"D1a!H140*D3b!$G15","v":0},{"$f":"D1a!I140*D3b!$G15","v":0},{"$f":"D1a!J140*D3b!$G15","v":0},{"$f":"D1a!E140*D3b!$H15","v":0},{"$f":"D1a!F140*D3b!$H15","v":0},{"$f":"D1a!G140*D3b!$H15","v":0},{"$f":"D1a!H140*D3b!$H15","v":0},{"$f":"D1a!I140*D3b!$H15","v":0},{"$f":"D1a!J140*D3b!$H15","v":0},{"$f":"D1a!E140*D3b!$I15","v":0},{"$f":"D1a!F140*D3b!$I15","v":0},{"$f":"D1a!G140*D3b!$I15","v":0},{"$f":"D1a!H140*D3b!$I15","v":0},{"$f":"D1a!I140*D3b!$I15","v":0},{"$f":"D1a!J140*D3b!$I15","v":0},{"$f":"D1a!E140*D3b!$J15","v":0},{"$f":"D1a!F140*D3b!$J15","v":0},{"$f":"D1a!G140*D3b!$J15","v":0},{"$f":"D1a!H140*D3b!$J15","v":0},{"$f":"D1a!I140*D3b!$J15","v":0},{"$f":"D1a!J140*D3b!$J15","v":0},{"$f":"D1a!E140*D3b!$K15","v":0},{"$f":"D1a!F140*D3b!$K15","v":0},{"$f":"D1a!G140*D3b!$K15","v":0},{"$f":"D1a!H140*D3b!$K15","v":0},{"$f":"D1a!I140*D3b!$K15","v":0},{"$f":"D1a!J140*D3b!$K15","v":0}]
[null,null,null,null,"Autres secteurs de l'industrie et non spécifié",{"$f":"D1a!E141*D3b!$F16","v":0},{"$f":"D1a!F141*D3b!$F16","v":0},{"$f":"D1a!G141*D3b!$F16","v":0},{"$f":"D1a!H141*D3b!$F16","v":0},{"$f":"D1a!I141*D3b!$F16","v":0},{"$f":"D1a!J141*D3b!$F16","v":0},{"$f":"D1a!E141*D3b!$G16","v":0},{"$f":"D1a!F141*D3b!$G16","v":0},{"$f":"D1a!G141*D3b!$G16","v":0},{"$f":"D1a!H141*D3b!$G16","v":0},{"$f":"D1a!I141*D3b!$G16","v":0},{"$f":"D1a!J141*D3b!$G16","v":0},{"$f":"D1a!E141*D3b!$H16","v":0},{"$f":"D1a!F141*D3b!$H16","v":0},{"$f":"D1a!G141*D3b!$H16","v":0},{"$f":"D1a!H141*D3b!$H16","v":0},{"$f":"D1a!I141*D3b!$H16","v":0},{"$f":"D1a!J141*D3b!$H16","v":0},{"$f":"D1a!E141*D3b!$I16","v":0},{"$f":"D1a!F141*D3b!$I16","v":0},{"$f":"D1a!G141*D3b!$I16","v":0},{"$f":"D1a!H141*D3b!$I16","v":0},{"$f":"D1a!I141*D3b!$I16","v":0},{"$f":"D1a!J141*D3b!$I16","v":0},{"$f":"D1a!E141*D3b!$J16","v":0},{"$f":"D1a!F141*D3b!$J16","v":0},{"$f":"D1a!G141*D3b!$J16","v":0},{"$f":"D1a!H141*D3b!$J16","v":0},{"$f":"D1a!I141*D3b!$J16","v":0},{"$f":"D1a!J141*D3b!$J16","v":0},{"$f":"D1a!E141*D3b!$K16","v":0},{"$f":"D1a!F141*D3b!$K16","v":0},{"$f":"D1a!G141*D3b!$K16","v":0},{"$f":"D1a!H141*D3b!$K16","v":0},{"$f":"D1a!I141*D3b!$K16","v":0},{"$f":"D1a!J141*D3b!$K16","v":0}]
[null,null,null,null,"Biens d'équipement, matériels de transport…",{"$f":"D1a!E142*D3b!$F17","v":0},{"$f":"D1a!F142*D3b!$F17","v":0},{"$f":"D1a!G142*D3b!$F17","v":0},{"$f":"D1a!H142*D3b!$F17","v":0},{"$f":"D1a!I142*D3b!$F17","v":0},{"$f":"D1a!J142*D3b!$F17","v":0},{"$f":"D1a!E142*D3b!$G17","v":0},{"$f":"D1a!F142*D3b!$G17","v":0},{"$f":"D1a!G142*D3b!$G17","v":0},{"$f":"D1a!H142*D3b!$G17","v":0},{"$f":"D1a!I142*D3b!$G17","v":0},{"$f":"D1a!J142*D3b!$G17","v":0},{"$f":"D1a!E142*D3b!$H17","v":0},{"$f":"D1a!F142*D3b!$H17","v":0},{"$f":"D1a!G142*D3b!$H17","v":0},{"$f":"D1a!H142*D3b!$H17","v":0},{"$f":"D1a!I142*D3b!$H17","v":0},{"$f":"D1a!J142*D3b!$H17","v":0},{"$f":"D1a!E142*D3b!$I17","v":0},{"$f":"D1a!F142*D3b!$I17","v":0},{"$f":"D1a!G142*D3b!$I17","v":0},{"$f":"D1a!H142*D3b!$I17","v":0},{"$f":"D1a!I142*D3b!$I17","v":0},{"$f":"D1a!J142*D3b!$I17","v":0},{"$f":"D1a!E142*D3b!$J17","v":0},{"$f":"D1a!F142*D3b!$J17","v":0},{"$f":"D1a!G142*D3b!$J17","v":0},{"$f":"D1a!H142*D3b!$J17","v":0},{"$f":"D1a!I142*D3b!$J17","v":0},{"$f":"D1a!J142*D3b!$J17","v":0},{"$f":"D1a!E142*D3b!$K17","v":0},{"$f":"D1a!F142*D3b!$K17","v":0},{"$f":"D1a!G142*D3b!$K17","v":0},{"$f":"D1a!H142*D3b!$K17","v":0},{"$f":"D1a!I142*D3b!$K17","v":0},{"$f":"D1a!J142*D3b!$K17","v":0}]
[null,null,null,null,"Chimie organique, non-organique et divers",{"$f":"D1a!E143*D3b!$F18","v":0},{"$f":"D1a!F143*D3b!$F18","v":0},{"$f":"D1a!G143*D3b!$F18","v":0},{"$f":"D1a!H143*D3b!$F18","v":0},{"$f":"D1a!I143*D3b!$F18","v":0},{"$f":"D1a!J143*D3b!$F18","v":0},{"$f":"D1a!E143*D3b!$G18","v":0},{"$f":"D1a!F143*D3b!$G18","v":0},{"$f":"D1a!G143*D3b!$G18","v":0},{"$f":"D1a!H143*D3b!$G18","v":0},{"$f":"D1a!I143*D3b!$G18","v":0},{"$f":"D1a!J143*D3b!$G18","v":0},{"$f":"D1a!E143*D3b!$H18","v":0},{"$f":"D1a!F143*D3b!$H18","v":0},{"$f":"D1a!G143*D3b!$H18","v":0},{"$f":"D1a!H143*D3b!$H18","v":0},{"$f":"D1a!I143*D3b!$H18","v":0},{"$f":"D1a!J143*D3b!$H18","v":0},{"$f":"D1a!E143*D3b!$I18","v":0},{"$f":"D1a!F143*D3b!$I18","v":0},{"$f":"D1a!G143*D3b!$I18","v":0},{"$f":"D1a!H143*D3b!$I18","v":0},{"$f":"D1a!I143*D3b!$I18","v":0},{"$f":"D1a!J143*D3b!$I18","v":0},{"$f":"D1a!E143*D3b!$J18","v":0},{"$f":"D1a!F143*D3b!$J18","v":0},{"$f":"D1a!G143*D3b!$J18","v":0},{"$f":"D1a!H143*D3b!$J18","v":0},{"$f":"D1a!I143*D3b!$J18","v":0},{"$f":"D1a!J143*D3b!$J18","v":0},{"$f":"D1a!E143*D3b!$K18","v":0},{"$f":"D1a!F143*D3b!$K18","v":0},{"$f":"D1a!G143*D3b!$K18","v":0},{"$f":"D1a!H143*D3b!$K18","v":0},{"$f":"D1a!I143*D3b!$K18","v":0},{"$f":"D1a!J143*D3b!$K18","v":0}]
[null,null,null,null,"Construction",{"$f":"D1a!E144*D3b!$F19","v":0},{"$f":"D1a!F144*D3b!$F19","v":0},{"$f":"D1a!G144*D3b!$F19","v":0},{"$f":"D1a!H144*D3b!$F19","v":0},{"$f":"D1a!I144*D3b!$F19","v":0},{"$f":"D1a!J144*D3b!$F19","v":0},{"$f":"D1a!E144*D3b!$G19","v":0},{"$f":"D1a!F144*D3b!$G19","v":0},{"$f":"D1a!G144*D3b!$G19","v":0},{"$f":"D1a!H144*D3b!$G19","v":0},{"$f":"D1a!I144*D3b!$G19","v":0},{"$f":"D1a!J144*D3b!$G19","v":0},{"$f":"D1a!E144*D3b!$H19","v":0},{"$f":"D1a!F144*D3b!$H19","v":0},{"$f":"D1a!G144*D3b!$H19","v":0},{"$f":"D1a!H144*D3b!$H19","v":0},{"$f":"D1a!I144*D3b!$H19","v":0},{"$f":"D1a!J144*D3b!$H19","v":0},{"$f":"D1a!E144*D3b!$I19","v":0},{"$f":"D1a!F144*D3b!$I19","v":0},{"$f":"D1a!G144*D3b!$I19","v":0},{"$f":"D1a!H144*D3b!$I19","v":0},{"$f":"D1a!I144*D3b!$I19","v":0},{"$f":"D1a!J144*D3b!$I19","v":0},{"$f":"D1a!E144*D3b!$J19","v":0},{"$f":"D1a!F144*D3b!$J19","v":0},{"$f":"D1a!G144*D3b!$J19","v":0},{"$f":"D1a!H144*D3b!$J19","v":0},{"$f":"D1a!I144*D3b!$J19","v":0},{"$f":"D1a!J144*D3b!$J19","v":0},{"$f":"D1a!E144*D3b!$K19","v":0},{"$f":"D1a!F144*D3b!$K19","v":0},{"$f":"D1a!G144*D3b!$K19","v":0},{"$f":"D1a!H144*D3b!$K19","v":0},{"$f":"D1a!I144*D3b!$K19","v":0},{"$f":"D1a!J144*D3b!$K19","v":0}]
[null,null,null,null,"Métallurgie des métaux ferreux",{"$f":"D1a!E145*D3b!$F20","v":0},{"$f":"D1a!F145*D3b!$F20","v":0},{"$f":"D1a!G145*D3b!$F20","v":0},{"$f":"D1a!H145*D3b!$F20","v":0},{"$f":"D1a!I145*D3b!$F20","v":0},{"$f":"D1a!J145*D3b!$F20","v":0},{"$f":"D1a!E145*D3b!$G20","v":0},{"$f":"D1a!F145*D3b!$G20","v":0},{"$f":"D1a!G145*D3b!$G20","v":0},{"$f":"D1a!H145*D3b!$G20","v":0},{"$f":"D1a!I145*D3b!$G20","v":0},{"$f":"D1a!J145*D3b!$G20","v":0},{"$f":"D1a!E145*D3b!$H20","v":0},{"$f":"D1a!F145*D3b!$H20","v":0},{"$f":"D1a!G145*D3b!$H20","v":0},{"$f":"D1a!H145*D3b!$H20","v":0},{"$f":"D1a!I145*D3b!$H20","v":0},{"$f":"D1a!J145*D3b!$H20","v":0},{"$f":"D1a!E145*D3b!$I20","v":0},{"$f":"D1a!F145*D3b!$I20","v":0},{"$f":"D1a!G145*D3b!$I20","v":0},{"$f":"D1a!H145*D3b!$I20","v":0},{"$f":"D1a!I145*D3b!$I20","v":0},{"$f":"D1a!J145*D3b!$I20","v":0},{"$f":"D1a!E145*D3b!$J20","v":0},{"$f":"D1a!F145*D3b!$J20","v":0},{"$f":"D1a!G145*D3b!$J20","v":0},{"$f":"D1a!H145*D3b!$J20","v":0},{"$f":"D1a!I145*D3b!$J20","v":0},{"$f":"D1a!J145*D3b!$J20","v":0},{"$f":"D1a!E145*D3b!$K20","v":0},{"$f":"D1a!F145*D3b!$K20","v":0},{"$f":"D1a!G145*D3b!$K20","v":0},{"$f":"D1a!H145*D3b!$K20","v":0},{"$f":"D1a!I145*D3b!$K20","v":0},{"$f":"D1a!J145*D3b!$K20","v":0}]
[null,null,null,null,"Métallurgie des métaux non-ferreux",{"$f":"D1a!E146*D3b!$F21","v":0},{"$f":"D1a!F146*D3b!$F21","v":0},{"$f":"D1a!G146*D3b!$F21","v":0},{"$f":"D1a!H146*D3b!$F21","v":0},{"$f":"D1a!I146*D3b!$F21","v":0},{"$f":"D1a!J146*D3b!$F21","v":0},{"$f":"D1a!E146*D3b!$G21","v":0},{"$f":"D1a!F146*D3b!$G21","v":0},{"$f":"D1a!G146*D3b!$G21","v":0},{"$f":"D1a!H146*D3b!$G21","v":0},{"$f":"D1a!I146*D3b!$G21","v":0},{"$f":"D1a!J146*D3b!$G21","v":0},{"$f":"D1a!E146*D3b!$H21","v":0},{"$f":"D1a!F146*D3b!$H21","v":0},{"$f":"D1a!G146*D3b!$H21","v":0},{"$f":"D1a!H146*D3b!$H21","v":0},{"$f":"D1a!I146*D3b!$H21","v":0},{"$f":"D1a!J146*D3b!$H21","v":0},{"$f":"D1a!E146*D3b!$I21","v":0},{"$f":"D1a!F146*D3b!$I21","v":0},{"$f":"D1a!G146*D3b!$I21","v":0},{"$f":"D1a!H146*D3b!$I21","v":0},{"$f":"D1a!I146*D3b!$I21","v":0},{"$f":"D1a!J146*D3b!$I21","v":0},{"$f":"D1a!E146*D3b!$J21","v":0},{"$f":"D1a!F146*D3b!$J21","v":0},{"$f":"D1a!G146*D3b!$J21","v":0},{"$f":"D1a!H146*D3b!$J21","v":0},{"$f":"D1a!I146*D3b!$J21","v":0},{"$f":"D1a!J146*D3b!$J21","v":0},{"$f":"D1a!E146*D3b!$K21","v":0},{"$f":"D1a!F146*D3b!$K21","v":0},{"$f":"D1a!G146*D3b!$K21","v":0},{"$f":"D1a!H146*D3b!$K21","v":0},{"$f":"D1a!I146*D3b!$K21","v":0},{"$f":"D1a!J146*D3b!$K21","v":0}]
[null,null,null,null,"Minéraux non-métalliques et matériaux de construction",{"$f":"D1a!E147*D3b!$F22","v":0},{"$f":"D1a!F147*D3b!$F22","v":0},{"$f":"D1a!G147*D3b!$F22","v":0},{"$f":"D1a!H147*D3b!$F22","v":0},{"$f":"D1a!I147*D3b!$F22","v":0},{"$f":"D1a!J147*D3b!$F22","v":0},{"$f":"D1a!E147*D3b!$G22","v":0},{"$f":"D1a!F147*D3b!$G22","v":0},{"$f":"D1a!G147*D3b!$G22","v":0},{"$f":"D1a!H147*D3b!$G22","v":0},{"$f":"D1a!I147*D3b!$G22","v":0},{"$f":"D1a!J147*D3b!$G22","v":0},{"$f":"D1a!E147*D3b!$H22","v":0},{"$f":"D1a!F147*D3b!$H22","v":0},{"$f":"D1a!G147*D3b!$H22","v":0},{"$f":"D1a!H147*D3b!$H22","v":0},{"$f":"D1a!I147*D3b!$H22","v":0},{"$f":"D1a!J147*D3b!$H22","v":0},{"$f":"D1a!E147*D3b!$I22","v":0},{"$f":"D1a!F147*D3b!$I22","v":0},{"$f":"D1a!G147*D3b!$I22","v":0},{"$f":"D1a!H147*D3b!$I22","v":0},{"$f":"D1a!I147*D3b!$I22","v":0},{"$f":"D1a!J147*D3b!$I22","v":0},{"$f":"D1a!E147*D3b!$J22","v":0},{"$f":"D1a!F147*D3b!$J22","v":0},{"$f":"D1a!G147*D3b!$J22","v":0},{"$f":"D1a!H147*D3b!$J22","v":0},{"$f":"D1a!I147*D3b!$J22","v":0},{"$f":"D1a!J147*D3b!$J22","v":0},{"$f":"D1a!E147*D3b!$K22","v":0},{"$f":"D1a!F147*D3b!$K22","v":0},{"$f":"D1a!G147*D3b!$K22","v":0},{"$f":"D1a!H147*D3b!$K22","v":0},{"$f":"D1a!I147*D3b!$K22","v":0},{"$f":"D1a!J147*D3b!$K22","v":0}]
[null,null,null,null,"Papier, carton",{"$f":"D1a!E148*D3b!$F23","v":0},{"$f":"D1a!F148*D3b!$F23","v":0},{"$f":"D1a!G148*D3b!$F23","v":0},{"$f":"D1a!H148*D3b!$F23","v":0},{"$f":"D1a!I148*D3b!$F23","v":0},{"$f":"D1a!J148*D3b!$F23","v":0},{"$f":"D1a!E148*D3b!$G23","v":0},{"$f":"D1a!F148*D3b!$G23","v":0},{"$f":"D1a!G148*D3b!$G23","v":0},{"$f":"D1a!H148*D3b!$G23","v":0},{"$f":"D1a!I148*D3b!$G23","v":0},{"$f":"D1a!J148*D3b!$G23","v":0},{"$f":"D1a!E148*D3b!$H23","v":0},{"$f":"D1a!F148*D3b!$H23","v":0},{"$f":"D1a!G148*D3b!$H23","v":0},{"$f":"D1a!H148*D3b!$H23","v":0},{"$f":"D1a!I148*D3b!$H23","v":0},{"$f":"D1a!J148*D3b!$H23","v":0},{"$f":"D1a!E148*D3b!$I23","v":0},{"$f":"D1a!F148*D3b!$I23","v":0},{"$f":"D1a!G148*D3b!$I23","v":0},{"$f":"D1a!H148*D3b!$I23","v":0},{"$f":"D1a!I148*D3b!$I23","v":0},{"$f":"D1a!J148*D3b!$I23","v":0},{"$f":"D1a!E148*D3b!$J23","v":0},{"$f":"D1a!F148*D3b!$J23","v":0},{"$f":"D1a!G148*D3b!$J23","v":0},{"$f":"D1a!H148*D3b!$J23","v":0},{"$f":"D1a!I148*D3b!$J23","v":0},{"$f":"D1a!J148*D3b!$J23","v":0},{"$f":"D1a!E148*D3b!$K23","v":0},{"$f":"D1a!F148*D3b!$K23","v":0},{"$f":"D1a!G148*D3b!$K23","v":0},{"$f":"D1a!H148*D3b!$K23","v":0},{"$f":"D1a!I148*D3b!$K23","v":0},{"$f":"D1a!J148*D3b!$K23","v":0}]
[null,null,null,null,"Tous secteurs IM",{"$f":"D1a!E149*D3b!$F24","v":0},{"$f":"D1a!F149*D3b!$F24","v":0},{"$f":"D1a!G149*D3b!$F24","v":0},{"$f":"D1a!H149*D3b!$F24","v":0},{"$f":"D1a!I149*D3b!$F24","v":0},{"$f":"D1a!J149*D3b!$F24","v":0},{"$f":"D1a!E149*D3b!$G24","v":0},{"$f":"D1a!F149*D3b!$G24","v":0},{"$f":"D1a!G149*D3b!$G24","v":0},{"$f":"D1a!H149*D3b!$G24","v":0},{"$f":"D1a!I149*D3b!$G24","v":0},{"$f":"D1a!J149*D3b!$G24","v":0},{"$f":"D1a!E149*D3b!$H24","v":0},{"$f":"D1a!F149*D3b!$H24","v":0},{"$f":"D1a!G149*D3b!$H24","v":0},{"$f":"D1a!H149*D3b!$H24","v":0},{"$f":"D1a!I149*D3b!$H24","v":0},{"$f":"D1a!J149*D3b!$H24","v":0},{"$f":"D1a!E149*D3b!$I24","v":0},{"$f":"D1a!F149*D3b!$I24","v":0},{"$f":"D1a!G149*D3b!$I24","v":0},{"$f":"D1a!H149*D3b!$I24","v":0},{"$f":"D1a!I149*D3b!$I24","v":0},{"$f":"D1a!J149*D3b!$I24","v":0},{"$f":"D1a!E149*D3b!$J24","v":0},{"$f":"D1a!F149*D3b!$J24","v":0},{"$f":"D1a!G149*D3b!$J24","v":0},{"$f":"D1a!H149*D3b!$J24","v":0},{"$f":"D1a!I149*D3b!$J24","v":0},{"$f":"D1a!J149*D3b!$J24","v":0},{"$f":"D1a!E149*D3b!$K24","v":0},{"$f":"D1a!F149*D3b!$K24","v":0},{"$f":"D1a!G149*D3b!$K24","v":0},{"$f":"D1a!H149*D3b!$K24","v":0},{"$f":"D1a!I149*D3b!$K24","v":0},{"$f":"D1a!J149*D3b!$K24","v":0}]
[null,null,null,null,"Traitement des déchets",{"$f":"D1a!E150*D3b!$F25","v":0},{"$f":"D1a!F150*D3b!$F25","v":0},{"$f":"D1a!G150*D3b!$F25","v":0},{"$f":"D1a!H150*D3b!$F25","v":0},{"$f":"D1a!I150*D3b!$F25","v":0},{"$f":"D1a!J150*D3b!$F25","v":0},{"$f":"D1a!E150*D3b!$G25","v":0},{"$f":"D1a!F150*D3b!$G25","v":0},{"$f":"D1a!G150*D3b!$G25","v":0},{"$f":"D1a!H150*D3b!$G25","v":0},{"$f":"D1a!I150*D3b!$G25","v":0},{"$f":"D1a!J150*D3b!$G25","v":0},{"$f":"D1a!E150*D3b!$H25","v":0},{"$f":"D1a!F150*D3b!$H25","v":0},{"$f":"D1a!G150*D3b!$H25","v":0},{"$f":"D1a!H150*D3b!$H25","v":0},{"$f":"D1a!I150*D3b!$H25","v":0},{"$f":"D1a!J150*D3b!$H25","v":0},{"$f":"D1a!E150*D3b!$I25","v":0},{"$f":"D1a!F150*D3b!$I25","v":0},{"$f":"D1a!G150*D3b!$I25","v":0},{"$f":"D1a!H150*D3b!$I25","v":0},{"$f":"D1a!I150*D3b!$I25","v":0},{"$f":"D1a!J150*D3b!$I25","v":0},{"$f":"D1a!E150*D3b!$J25","v":0},{"$f":"D1a!F150*D3b!$J25","v":0},{"$f":"D1a!G150*D3b!$J25","v":0},{"$f":"D1a!H150*D3b!$J25","v":0},{"$f":"D1a!I150*D3b!$J25","v":0},{"$f":"D1a!J150*D3b!$J25","v":0},{"$f":"D1a!E150*D3b!$K25","v":0},{"$f":"D1a!F150*D3b!$K25","v":0},{"$f":"D1a!G150*D3b!$K25","v":0},{"$f":"D1a!H150*D3b!$K25","v":0},{"$f":"D1a!I150*D3b!$K25","v":0},{"$f":"D1a!J150*D3b!$K25","v":0}]
[null,null,null,null,"Traitement déchets industrie",{"$f":"D1a!E151*D3b!$F26","v":0},{"$f":"D1a!F151*D3b!$F26","v":0},{"$f":"D1a!G151*D3b!$F26","v":0},{"$f":"D1a!H151*D3b!$F26","v":0},{"$f":"D1a!I151*D3b!$F26","v":0},{"$f":"D1a!J151*D3b!$F26","v":0},{"$f":"D1a!E151*D3b!$G26","v":0},{"$f":"D1a!F151*D3b!$G26","v":0},{"$f":"D1a!G151*D3b!$G26","v":0},{"$f":"D1a!H151*D3b!$G26","v":0},{"$f":"D1a!I151*D3b!$G26","v":0},{"$f":"D1a!J151*D3b!$G26","v":0},{"$f":"D1a!E151*D3b!$H26","v":0},{"$f":"D1a!F151*D3b!$H26","v":0},{"$f":"D1a!G151*D3b!$H26","v":0},{"$f":"D1a!H151*D3b!$H26","v":0},{"$f":"D1a!I151*D3b!$H26","v":0},{"$f":"D1a!J151*D3b!$H26","v":0},{"$f":"D1a!E151*D3b!$I26","v":0},{"$f":"D1a!F151*D3b!$I26","v":0},{"$f":"D1a!G151*D3b!$I26","v":0},{"$f":"D1a!H151*D3b!$I26","v":0},{"$f":"D1a!I151*D3b!$I26","v":0},{"$f":"D1a!J151*D3b!$I26","v":0},{"$f":"D1a!E151*D3b!$J26","v":0},{"$f":"D1a!F151*D3b!$J26","v":0},{"$f":"D1a!G151*D3b!$J26","v":0},{"$f":"D1a!H151*D3b!$J26","v":0},{"$f":"D1a!I151*D3b!$J26","v":0},{"$f":"D1a!J151*D3b!$J26","v":0},{"$f":"D1a!E151*D3b!$K26","v":0},{"$f":"D1a!F151*D3b!$K26","v":0},{"$f":"D1a!G151*D3b!$K26","v":0},{"$f":"D1a!H151*D3b!$K26","v":0},{"$f":"D1a!I151*D3b!$K26","v":0},{"$f":"D1a!J151*D3b!$K26","v":0}]
[null,null,"Résidentiel tertiaire",null,"Résidentiel",{"$f":"D1a!E152*D3b!$F27","v":0},{"$f":"D1a!F152*D3b!$F27","v":0},{"$f":"D1a!G152*D3b!$F27","v":0},{"$f":"D1a!H152*D3b!$F27","v":0},{"$f":"D1a!I152*D3b!$F27","v":0},{"$f":"D1a!J152*D3b!$F27","v":0},{"$f":"D1a!E152*D3b!$G27","v":0},{"$f":"D1a!F152*D3b!$G27","v":0},{"$f":"D1a!G152*D3b!$G27","v":0},{"$f":"D1a!H152*D3b!$G27","v":0},{"$f":"D1a!I152*D3b!$G27","v":0},{"$f":"D1a!J152*D3b!$G27","v":0},{"$f":"D1a!E152*D3b!$H27","v":0},{"$f":"D1a!F152*D3b!$H27","v":0},{"$f":"D1a!G152*D3b!$H27","v":0},{"$f":"D1a!H152*D3b!$H27","v":0},{"$f":"D1a!I152*D3b!$H27","v":0},{"$f":"D1a!J152*D3b!$H27","v":0},{"$f":"D1a!E152*D3b!$I27","v":0},{"$f":"D1a!F152*D3b!$I27","v":0},{"$f":"D1a!G152*D3b!$I27","v":0},{"$f":"D1a!H152*D3b!$I27","v":0},{"$f":"D1a!I152*D3b!$I27","v":0},{"$f":"D1a!J152*D3b!$I27","v":0},{"$f":"D1a!E152*D3b!$J27","v":0},{"$f":"D1a!F152*D3b!$J27","v":0},{"$f":"D1a!G152*D3b!$J27","v":0},{"$f":"D1a!H152*D3b!$J27","v":0},{"$f":"D1a!I152*D3b!$J27","v":0},{"$f":"D1a!J152*D3b!$J27","v":0},{"$f":"D1a!E152*D3b!$K27","v":0},{"$f":"D1a!F152*D3b!$K27","v":0},{"$f":"D1a!G152*D3b!$K27","v":0},{"$f":"D1a!H152*D3b!$K27","v":0},{"$f":"D1a!I152*D3b!$K27","v":0},{"$f":"D1a!J152*D3b!$K27","v":0}]
[null,null,null,null,"Tertiaire, commercial et institutionnel",{"$f":"D1a!E153*D3b!$F28","v":0},{"$f":"D1a!F153*D3b!$F28","v":0},{"$f":"D1a!G153*D3b!$F28","v":0},{"$f":"D1a!H153*D3b!$F28","v":0},{"$f":"D1a!I153*D3b!$F28","v":0},{"$f":"D1a!J153*D3b!$F28","v":0},{"$f":"D1a!E153*D3b!$G28","v":0},{"$f":"D1a!F153*D3b!$G28","v":0},{"$f":"D1a!G153*D3b!$G28","v":0},{"$f":"D1a!H153*D3b!$G28","v":0},{"$f":"D1a!I153*D3b!$G28","v":0},{"$f":"D1a!J153*D3b!$G28","v":0},{"$f":"D1a!E153*D3b!$H28","v":0},{"$f":"D1a!F153*D3b!$H28","v":0},{"$f":"D1a!G153*D3b!$H28","v":0},{"$f":"D1a!H153*D3b!$H28","v":0},{"$f":"D1a!I153*D3b!$H28","v":0},{"$f":"D1a!J153*D3b!$H28","v":0},{"$f":"D1a!E153*D3b!$I28","v":0},{"$f":"D1a!F153*D3b!$I28","v":0},{"$f":"D1a!G153*D3b!$I28","v":0},{"$f":"D1a!H153*D3b!$I28","v":0},{"$f":"D1a!I153*D3b!$I28","v":0},{"$f":"D1a!J153*D3b!$I28","v":0},{"$f":"D1a!E153*D3b!$J28","v":0},{"$f":"D1a!F153*D3b!$J28","v":0},{"$f":"D1a!G153*D3b!$J28","v":0},{"$f":"D1a!H153*D3b!$J28","v":0},{"$f":"D1a!I153*D3b!$J28","v":0},{"$f":"D1a!J153*D3b!$J28","v":0},{"$f":"D1a!E153*D3b!$K28","v":0},{"$f":"D1a!F153*D3b!$K28","v":0},{"$f":"D1a!G153*D3b!$K28","v":0},{"$f":"D1a!H153*D3b!$K28","v":0},{"$f":"D1a!I153*D3b!$K28","v":0},{"$f":"D1a!J153*D3b!$K28","v":0}]
[null,null,"Transformation de l'énergie",null,"Chauffage urbain"]
[null,null,null,null,"Extraction des combustibles gazeux et distribution d'énergie",{"$f":"D1a!E155*D3b!$F30","v":0},{"$f":"D1a!F155*D3b!$F30","v":0},{"$f":"D1a!G155*D3b!$F30","v":0},{"$f":"D1a!H155*D3b!$F30","v":0},{"$f":"D1a!I155*D3b!$F30","v":0},{"$f":"D1a!J155*D3b!$F30","v":0},{"$f":"D1a!E155*D3b!$G30","v":0},{"$f":"D1a!F155*D3b!$G30","v":0},{"$f":"D1a!G155*D3b!$G30","v":0},{"$f":"D1a!H155*D3b!$G30","v":0},{"$f":"D1a!I155*D3b!$G30","v":0},{"$f":"D1a!J155*D3b!$G30","v":0},{"$f":"D1a!E155*D3b!$H30","v":0},{"$f":"D1a!F155*D3b!$H30","v":0},{"$f":"D1a!G155*D3b!$H30","v":0},{"$f":"D1a!H155*D3b!$H30","v":0},{"$f":"D1a!I155*D3b!$H30","v":0},{"$f":"D1a!J155*D3b!$H30","v":0},{"$f":"D1a!E155*D3b!$I30","v":0},{"$f":"D1a!F155*D3b!$I30","v":0},{"$f":"D1a!G155*D3b!$I30","v":0},{"$f":"D1a!H155*D3b!$I30","v":0},{"$f":"D1a!I155*D3b!$I30","v":0},{"$f":"D1a!J155*D3b!$I30","v":0},{"$f":"D1a!E155*D3b!$J30","v":0},{"$f":"D1a!F155*D3b!$J30","v":0},{"$f":"D1a!G155*D3b!$J30","v":0},{"$f":"D1a!H155*D3b!$J30","v":0},{"$f":"D1a!I155*D3b!$J30","v":0},{"$f":"D1a!J155*D3b!$J30","v":0},{"$f":"D1a!E155*D3b!$K30","v":0},{"$f":"D1a!F155*D3b!$K30","v":0},{"$f":"D1a!G155*D3b!$K30","v":0},{"$f":"D1a!H155*D3b!$K30","v":0},{"$f":"D1a!I155*D3b!$K30","v":0},{"$f":"D1a!J155*D3b!$K30","v":0}]
[null,null,null,null,"Extraction des combustibles liquides et distribution d'énergie",{"$f":"D1a!E156*D3b!$F31","v":0},{"$f":"D1a!F156*D3b!$F31","v":0},{"$f":"D1a!G156*D3b!$F31","v":0},{"$f":"D1a!H156*D3b!$F31","v":0},{"$f":"D1a!I156*D3b!$F31","v":0},{"$f":"D1a!J156*D3b!$F31","v":0},{"$f":"D1a!E156*D3b!$G31","v":0},{"$f":"D1a!F156*D3b!$G31","v":0},{"$f":"D1a!G156*D3b!$G31","v":0},{"$f":"D1a!H156*D3b!$G31","v":0},{"$f":"D1a!I156*D3b!$G31","v":0},{"$f":"D1a!J156*D3b!$G31","v":0},{"$f":"D1a!E156*D3b!$H31","v":0},{"$f":"D1a!F156*D3b!$H31","v":0},{"$f":"D1a!G156*D3b!$H31","v":0},{"$f":"D1a!H156*D3b!$H31","v":0},{"$f":"D1a!I156*D3b!$H31","v":0},{"$f":"D1a!J156*D3b!$H31","v":0},{"$f":"D1a!E156*D3b!$I31","v":0},{"$f":"D1a!F156*D3b!$I31","v":0},{"$f":"D1a!G156*D3b!$I31","v":0},{"$f":"D1a!H156*D3b!$I31","v":0},{"$f":"D1a!I156*D3b!$I31","v":0},{"$f":"D1a!J156*D3b!$I31","v":0},{"$f":"D1a!E156*D3b!$J31","v":0},{"$f":"D1a!F156*D3b!$J31","v":0},{"$f":"D1a!G156*D3b!$J31","v":0},{"$f":"D1a!H156*D3b!$J31","v":0},{"$f":"D1a!I156*D3b!$J31","v":0},{"$f":"D1a!J156*D3b!$J31","v":0},{"$f":"D1a!E156*D3b!$K31","v":0},{"$f":"D1a!F156*D3b!$K31","v":0},{"$f":"D1a!G156*D3b!$K31","v":0},{"$f":"D1a!H156*D3b!$K31","v":0},{"$f":"D1a!I156*D3b!$K31","v":0},{"$f":"D1a!J156*D3b!$K31","v":0}]
[null,null,null,null,"Extraction des combustibles solides et distribution d'énergie",{"$f":"D1a!E157*D3b!$F32","v":0},{"$f":"D1a!F157*D3b!$F32","v":0},{"$f":"D1a!G157*D3b!$F32","v":0},{"$f":"D1a!H157*D3b!$F32","v":0},{"$f":"D1a!I157*D3b!$F32","v":0},{"$f":"D1a!J157*D3b!$F32","v":0},{"$f":"D1a!E157*D3b!$G32","v":0},{"$f":"D1a!F157*D3b!$G32","v":0},{"$f":"D1a!G157*D3b!$G32","v":0},{"$f":"D1a!H157*D3b!$G32","v":0},{"$f":"D1a!I157*D3b!$G32","v":0},{"$f":"D1a!J157*D3b!$G32","v":0},{"$f":"D1a!E157*D3b!$H32","v":0},{"$f":"D1a!F157*D3b!$H32","v":0},{"$f":"D1a!G157*D3b!$H32","v":0},{"$f":"D1a!H157*D3b!$H32","v":0},{"$f":"D1a!I157*D3b!$H32","v":0},{"$f":"D1a!J157*D3b!$H32","v":0},{"$f":"D1a!E157*D3b!$I32","v":0},{"$f":"D1a!F157*D3b!$I32","v":0},{"$f":"D1a!G157*D3b!$I32","v":0},{"$f":"D1a!H157*D3b!$I32","v":0},{"$f":"D1a!I157*D3b!$I32","v":0},{"$f":"D1a!J157*D3b!$I32","v":0},{"$f":"D1a!E157*D3b!$J32","v":0},{"$f":"D1a!F157*D3b!$J32","v":0},{"$f":"D1a!G157*D3b!$J32","v":0},{"$f":"D1a!H157*D3b!$J32","v":0},{"$f":"D1a!I157*D3b!$J32","v":0},{"$f":"D1a!J157*D3b!$J32","v":0},{"$f":"D1a!E157*D3b!$K32","v":0},{"$f":"D1a!F157*D3b!$K32","v":0},{"$f":"D1a!G157*D3b!$K32","v":0},{"$f":"D1a!H157*D3b!$K32","v":0},{"$f":"D1a!I157*D3b!$K32","v":0},{"$f":"D1a!J157*D3b!$K32","v":0}]
[null,null,null,null,"Production d'électricité",{"$f":"D1a!E158*D3b!$F33","v":0},{"$f":"D1a!F158*D3b!$F33","v":0},{"$f":"D1a!G158*D3b!$F33","v":0},{"$f":"D1a!H158*D3b!$F33","v":0},{"$f":"D1a!I158*D3b!$F33","v":0},{"$f":"D1a!J158*D3b!$F33","v":0},{"$f":"D1a!E158*D3b!$G33","v":0},{"$f":"D1a!F158*D3b!$G33","v":0},{"$f":"D1a!G158*D3b!$G33","v":0},{"$f":"D1a!H158*D3b!$G33","v":0},{"$f":"D1a!I158*D3b!$G33","v":0},{"$f":"D1a!J158*D3b!$G33","v":0},{"$f":"D1a!E158*D3b!$H33","v":0},{"$f":"D1a!F158*D3b!$H33","v":0},{"$f":"D1a!G158*D3b!$H33","v":0},{"$f":"D1a!H158*D3b!$H33","v":0},{"$f":"D1a!I158*D3b!$H33","v":0},{"$f":"D1a!J158*D3b!$H33","v":0},{"$f":"D1a!E158*D3b!$I33","v":0},{"$f":"D1a!F158*D3b!$I33","v":0},{"$f":"D1a!G158*D3b!$I33","v":0},{"$f":"D1a!H158*D3b!$I33","v":0},{"$f":"D1a!I158*D3b!$I33","v":0},{"$f":"D1a!J158*D3b!$I33","v":0},{"$f":"D1a!E158*D3b!$J33","v":0},{"$f":"D1a!F158*D3b!$J33","v":0},{"$f":"D1a!G158*D3b!$J33","v":0},{"$f":"D1a!H158*D3b!$J33","v":0},{"$f":"D1a!I158*D3b!$J33","v":0},{"$f":"D1a!J158*D3b!$J33","v":0},{"$f":"D1a!E158*D3b!$K33","v":0},{"$f":"D1a!F158*D3b!$K33","v":0},{"$f":"D1a!G158*D3b!$K33","v":0},{"$f":"D1a!H158*D3b!$K33","v":0},{"$f":"D1a!I158*D3b!$K33","v":0},{"$f":"D1a!J158*D3b!$K33","v":0}]
[null,null,null,null,"Raffinage de pétrole",{"$f":"D1a!E159*D3b!$F34","v":0},{"$f":"D1a!F159*D3b!$F34","v":0},{"$f":"D1a!G159*D3b!$F34","v":0},{"$f":"D1a!H159*D3b!$F34","v":0},{"$f":"D1a!I159*D3b!$F34","v":0},{"$f":"D1a!J159*D3b!$F34","v":0},{"$f":"D1a!E159*D3b!$G34","v":0},{"$f":"D1a!F159*D3b!$G34","v":0},{"$f":"D1a!G159*D3b!$G34","v":0},{"$f":"D1a!H159*D3b!$G34","v":0},{"$f":"D1a!I159*D3b!$G34","v":0},{"$f":"D1a!J159*D3b!$G34","v":0},{"$f":"D1a!E159*D3b!$H34","v":0},{"$f":"D1a!F159*D3b!$H34","v":0},{"$f":"D1a!G159*D3b!$H34","v":0},{"$f":"D1a!H159*D3b!$H34","v":0},{"$f":"D1a!I159*D3b!$H34","v":0},{"$f":"D1a!J159*D3b!$H34","v":0},{"$f":"D1a!E159*D3b!$I34","v":0},{"$f":"D1a!F159*D3b!$I34","v":0},{"$f":"D1a!G159*D3b!$I34","v":0},{"$f":"D1a!H159*D3b!$I34","v":0},{"$f":"D1a!I159*D3b!$I34","v":0},{"$f":"D1a!J159*D3b!$I34","v":0},{"$f":"D1a!E159*D3b!$J34","v":0},{"$f":"D1a!F159*D3b!$J34","v":0},{"$f":"D1a!G159*D3b!$J34","v":0},{"$f":"D1a!H159*D3b!$J34","v":0},{"$f":"D1a!I159*D3b!$J34","v":0},{"$f":"D1a!J159*D3b!$J34","v":0},{"$f":"D1a!E159*D3b!$K34","v":0},{"$f":"D1a!F159*D3b!$K34","v":0},{"$f":"D1a!G159*D3b!$K34","v":0},{"$f":"D1a!H159*D3b!$K34","v":0},{"$f":"D1a!I159*D3b!$K34","v":0},{"$f":"D1a!J159*D3b!$K34","v":0}]
[null,null,null,null,"Transformation des combustibles minéraux solides – siderurgies",{"$f":"D1a!E160*D3b!$F35","v":0},{"$f":"D1a!F160*D3b!$F35","v":0},{"$f":"D1a!G160*D3b!$F35","v":0},{"$f":"D1a!H160*D3b!$F35","v":0},{"$f":"D1a!I160*D3b!$F35","v":0},{"$f":"D1a!J160*D3b!$F35","v":0},{"$f":"D1a!E160*D3b!$G35","v":0},{"$f":"D1a!F160*D3b!$G35","v":0},{"$f":"D1a!G160*D3b!$G35","v":0},{"$f":"D1a!H160*D3b!$G35","v":0},{"$f":"D1a!I160*D3b!$G35","v":0},{"$f":"D1a!J160*D3b!$G35","v":0},{"$f":"D1a!E160*D3b!$H35","v":0},{"$f":"D1a!F160*D3b!$H35","v":0},{"$f":"D1a!G160*D3b!$H35","v":0},{"$f":"D1a!H160*D3b!$H35","v":0},{"$f":"D1a!I160*D3b!$H35","v":0},{"$f":"D1a!J160*D3b!$H35","v":0},{"$f":"D1a!E160*D3b!$I35","v":0},{"$f":"D1a!F160*D3b!$I35","v":0},{"$f":"D1a!G160*D3b!$I35","v":0},{"$f":"D1a!H160*D3b!$I35","v":0},{"$f":"D1a!I160*D3b!$I35","v":0},{"$f":"D1a!J160*D3b!$I35","v":0},{"$f":"D1a!E160*D3b!$J35","v":0},{"$f":"D1a!F160*D3b!$J35","v":0},{"$f":"D1a!G160*D3b!$J35","v":0},{"$f":"D1a!H160*D3b!$J35","v":0},{"$f":"D1a!I160*D3b!$J35","v":0},{"$f":"D1a!J160*D3b!$J35","v":0},{"$f":"D1a!E160*D3b!$K35","v":0},{"$f":"D1a!F160*D3b!$K35","v":0},{"$f":"D1a!G160*D3b!$K35","v":0},{"$f":"D1a!H160*D3b!$K35","v":0},{"$f":"D1a!I160*D3b!$K35","v":0},{"$f":"D1a!J160*D3b!$K35","v":0}]
[null,null,"Transport routier",null,"Deux roues",{"$f":"D1a!E161*D3b!$F36","v":0},{"$f":"D1a!F161*D3b!$F36","v":0},{"$f":"D1a!G161*D3b!$F36","v":0},{"$f":"D1a!H161*D3b!$F36","v":0},{"$f":"D1a!I161*D3b!$F36","v":0},{"$f":"D1a!J161*D3b!$F36","v":0},{"$f":"D1a!E161*D3b!$G36","v":0},{"$f":"D1a!F161*D3b!$G36","v":0},{"$f":"D1a!G161*D3b!$G36","v":0},{"$f":"D1a!H161*D3b!$G36","v":0},{"$f":"D1a!I161*D3b!$G36","v":0},{"$f":"D1a!J161*D3b!$G36","v":0},{"$f":"D1a!E161*D3b!$H36","v":0},{"$f":"D1a!F161*D3b!$H36","v":0},{"$f":"D1a!G161*D3b!$H36","v":0},{"$f":"D1a!H161*D3b!$H36","v":0},{"$f":"D1a!I161*D3b!$H36","v":0},{"$f":"D1a!J161*D3b!$H36","v":0},{"$f":"D1a!E161*D3b!$I36","v":0},{"$f":"D1a!F161*D3b!$I36","v":0},{"$f":"D1a!G161*D3b!$I36","v":0},{"$f":"D1a!H161*D3b!$I36","v":0},{"$f":"D1a!I161*D3b!$I36","v":0},{"$f":"D1a!J161*D3b!$I36","v":0},{"$f":"D1a!E161*D3b!$J36","v":0},{"$f":"D1a!F161*D3b!$J36","v":0},{"$f":"D1a!G161*D3b!$J36","v":0},{"$f":"D1a!H161*D3b!$J36","v":0},{"$f":"D1a!I161*D3b!$J36","v":0},{"$f":"D1a!J161*D3b!$J36","v":0},{"$f":"D1a!E161*D3b!$K36","v":0},{"$f":"D1a!F161*D3b!$K36","v":0},{"$f":"D1a!G161*D3b!$K36","v":0},{"$f":"D1a!H161*D3b!$K36","v":0},{"$f":"D1a!I161*D3b!$K36","v":0},{"$f":"D1a!J161*D3b!$K36","v":0}]
[null,null,null,null,"evap essence",{"$f":"D1a!E162*D3b!$F37","v":0},{"$f":"D1a!F162*D3b!$F37","v":0},{"$f":"D1a!G162*D3b!$F37","v":0},{"$f":"D1a!H162*D3b!$F37","v":0},{"$f":"D1a!I162*D3b!$F37","v":0},{"$f":"D1a!J162*D3b!$F37","v":0},{"$f":"D1a!E162*D3b!$G37","v":0},{"$f":"D1a!F162*D3b!$G37","v":0},{"$f":"D1a!G162*D3b!$G37","v":0},{"$f":"D1a!H162*D3b!$G37","v":0},{"$f":"D1a!I162*D3b!$G37","v":0},{"$f":"D1a!J162*D3b!$G37","v":0},{"$f":"D1a!E162*D3b!$H37","v":0},{"$f":"D1a!F162*D3b!$H37","v":0},{"$f":"D1a!G162*D3b!$H37","v":0},{"$f":"D1a!H162*D3b!$H37","v":0},{"$f":"D1a!I162*D3b!$H37","v":0},{"$f":"D1a!J162*D3b!$H37","v":0},{"$f":"D1a!E162*D3b!$I37","v":0},{"$f":"D1a!F162*D3b!$I37","v":0},{"$f":"D1a!G162*D3b!$I37","v":0},{"$f":"D1a!H162*D3b!$I37","v":0},{"$f":"D1a!I162*D3b!$I37","v":0},{"$f":"D1a!J162*D3b!$I37","v":0},{"$f":"D1a!E162*D3b!$J37","v":0},{"$f":"D1a!F162*D3b!$J37","v":0},{"$f":"D1a!G162*D3b!$J37","v":0},{"$f":"D1a!H162*D3b!$J37","v":0},{"$f":"D1a!I162*D3b!$J37","v":0},{"$f":"D1a!J162*D3b!$J37","v":0},{"$f":"D1a!E162*D3b!$K37","v":0},{"$f":"D1a!F162*D3b!$K37","v":0},{"$f":"D1a!G162*D3b!$K37","v":0},{"$f":"D1a!H162*D3b!$K37","v":0},{"$f":"D1a!I162*D3b!$K37","v":0},{"$f":"D1a!J162*D3b!$K37","v":0}]
[null,null,null,null,"Poids lourds",{"$f":"D1a!E163*D3b!$F38","v":0},{"$f":"D1a!F163*D3b!$F38","v":0},{"$f":"D1a!G163*D3b!$F38","v":0},{"$f":"D1a!H163*D3b!$F38","v":0},{"$f":"D1a!I163*D3b!$F38","v":0},{"$f":"D1a!J163*D3b!$F38","v":0},{"$f":"D1a!E163*D3b!$G38","v":0},{"$f":"D1a!F163*D3b!$G38","v":0},{"$f":"D1a!G163*D3b!$G38","v":0},{"$f":"D1a!H163*D3b!$G38","v":0},{"$f":"D1a!I163*D3b!$G38","v":0},{"$f":"D1a!J163*D3b!$G38","v":0},{"$f":"D1a!E163*D3b!$H38","v":0},{"$f":"D1a!F163*D3b!$H38","v":0},{"$f":"D1a!G163*D3b!$H38","v":0},{"$f":"D1a!H163*D3b!$H38","v":0},{"$f":"D1a!I163*D3b!$H38","v":0},{"$f":"D1a!J163*D3b!$H38","v":0},{"$f":"D1a!E163*D3b!$I38","v":0},{"$f":"D1a!F163*D3b!$I38","v":0},{"$f":"D1a!G163*D3b!$I38","v":0},{"$f":"D1a!H163*D3b!$I38","v":0},{"$f":"D1a!I163*D3b!$I38","v":0},{"$f":"D1a!J163*D3b!$I38","v":0},{"$f":"D1a!E163*D3b!$J38","v":0},{"$f":"D1a!F163*D3b!$J38","v":0},{"$f":"D1a!G163*D3b!$J38","v":0},{"$f":"D1a!H163*D3b!$J38","v":0},{"$f":"D1a!I163*D3b!$J38","v":0},{"$f":"D1a!J163*D3b!$J38","v":0},{"$f":"D1a!E163*D3b!$K38","v":0},{"$f":"D1a!F163*D3b!$K38","v":0},{"$f":"D1a!G163*D3b!$K38","v":0},{"$f":"D1a!H163*D3b!$K38","v":0},{"$f":"D1a!I163*D3b!$K38","v":0},{"$f":"D1a!J163*D3b!$K38","v":0}]
[null,null,null,null,"trafic diffus",{"$f":"D1a!E164*D3b!$F39","v":0},{"$f":"D1a!F164*D3b!$F39","v":0},{"$f":"D1a!G164*D3b!$F39","v":0},{"$f":"D1a!H164*D3b!$F39","v":0},{"$f":"D1a!I164*D3b!$F39","v":0},{"$f":"D1a!J164*D3b!$F39","v":0},{"$f":"D1a!E164*D3b!$G39","v":0},{"$f":"D1a!F164*D3b!$G39","v":0},{"$f":"D1a!G164*D3b!$G39","v":0},{"$f":"D1a!H164*D3b!$G39","v":0},{"$f":"D1a!I164*D3b!$G39","v":0},{"$f":"D1a!J164*D3b!$G39","v":0},{"$f":"D1a!E164*D3b!$H39","v":0},{"$f":"D1a!F164*D3b!$H39","v":0},{"$f":"D1a!G164*D3b!$H39","v":0},{"$f":"D1a!H164*D3b!$H39","v":0},{"$f":"D1a!I164*D3b!$H39","v":0},{"$f":"D1a!J164*D3b!$H39","v":0},{"$f":"D1a!E164*D3b!$I39","v":0},{"$f":"D1a!F164*D3b!$I39","v":0},{"$f":"D1a!G164*D3b!$I39","v":0},{"$f":"D1a!H164*D3b!$I39","v":0},{"$f":"D1a!I164*D3b!$I39","v":0},{"$f":"D1a!J164*D3b!$I39","v":0},{"$f":"D1a!E164*D3b!$J39","v":0},{"$f":"D1a!F164*D3b!$J39","v":0},{"$f":"D1a!G164*D3b!$J39","v":0},{"$f":"D1a!H164*D3b!$J39","v":0},{"$f":"D1a!I164*D3b!$J39","v":0},{"$f":"D1a!J164*D3b!$J39","v":0},{"$f":"D1a!E164*D3b!$K39","v":0},{"$f":"D1a!F164*D3b!$K39","v":0},{"$f":"D1a!G164*D3b!$K39","v":0},{"$f":"D1a!H164*D3b!$K39","v":0},{"$f":"D1a!I164*D3b!$K39","v":0},{"$f":"D1a!J164*D3b!$K39","v":0}]
[null,null,null,null,"usure routes",{"$f":"D1a!E165*D3b!$F40","v":0},{"$f":"D1a!F165*D3b!$F40","v":0},{"$f":"D1a!G165*D3b!$F40","v":0},{"$f":"D1a!H165*D3b!$F40","v":0},{"$f":"D1a!I165*D3b!$F40","v":0},{"$f":"D1a!J165*D3b!$F40","v":0},{"$f":"D1a!E165*D3b!$G40","v":0},{"$f":"D1a!F165*D3b!$G40","v":0},{"$f":"D1a!G165*D3b!$G40","v":0},{"$f":"D1a!H165*D3b!$G40","v":0},{"$f":"D1a!I165*D3b!$G40","v":0},{"$f":"D1a!J165*D3b!$G40","v":0},{"$f":"D1a!E165*D3b!$H40","v":0},{"$f":"D1a!F165*D3b!$H40","v":0},{"$f":"D1a!G165*D3b!$H40","v":0},{"$f":"D1a!H165*D3b!$H40","v":0},{"$f":"D1a!I165*D3b!$H40","v":0},{"$f":"D1a!J165*D3b!$H40","v":0},{"$f":"D1a!E165*D3b!$I40","v":0},{"$f":"D1a!F165*D3b!$I40","v":0},{"$f":"D1a!G165*D3b!$I40","v":0},{"$f":"D1a!H165*D3b!$I40","v":0},{"$f":"D1a!I165*D3b!$I40","v":0},{"$f":"D1a!J165*D3b!$I40","v":0},{"$f":"D1a!E165*D3b!$J40","v":0},{"$f":"D1a!F165*D3b!$J40","v":0},{"$f":"D1a!G165*D3b!$J40","v":0},{"$f":"D1a!H165*D3b!$J40","v":0},{"$f":"D1a!I165*D3b!$J40","v":0},{"$f":"D1a!J165*D3b!$J40","v":0},{"$f":"D1a!E165*D3b!$K40","v":0},{"$f":"D1a!F165*D3b!$K40","v":0},{"$f":"D1a!G165*D3b!$K40","v":0},{"$f":"D1a!H165*D3b!$K40","v":0},{"$f":"D1a!I165*D3b!$K40","v":0},{"$f":"D1a!J165*D3b!$K40","v":0}]
[null,null,null,null,"Voitures particulières",{"$f":"D1a!E166*D3b!$F41","v":0},{"$f":"D1a!F166*D3b!$F41","v":0},{"$f":"D1a!G166*D3b!$F41","v":0},{"$f":"D1a!H166*D3b!$F41","v":0},{"$f":"D1a!I166*D3b!$F41","v":0},{"$f":"D1a!J166*D3b!$F41","v":0},{"$f":"D1a!E166*D3b!$G41","v":0},{"$f":"D1a!F166*D3b!$G41","v":0},{"$f":"D1a!G166*D3b!$G41","v":0},{"$f":"D1a!H166*D3b!$G41","v":0},{"$f":"D1a!I166*D3b!$G41","v":0},{"$f":"D1a!J166*D3b!$G41","v":0},{"$f":"D1a!E166*D3b!$H41","v":0},{"$f":"D1a!F166*D3b!$H41","v":0},{"$f":"D1a!G166*D3b!$H41","v":0},{"$f":"D1a!H166*D3b!$H41","v":0},{"$f":"D1a!I166*D3b!$H41","v":0},{"$f":"D1a!J166*D3b!$H41","v":0},{"$f":"D1a!E166*D3b!$I41","v":0},{"$f":"D1a!F166*D3b!$I41","v":0},{"$f":"D1a!G166*D3b!$I41","v":0},{"$f":"D1a!H166*D3b!$I41","v":0},{"$f":"D1a!I166*D3b!$I41","v":0},{"$f":"D1a!J166*D3b!$I41","v":0},{"$f":"D1a!E166*D3b!$J41","v":0},{"$f":"D1a!F166*D3b!$J41","v":0},{"$f":"D1a!G166*D3b!$J41","v":0},{"$f":"D1a!H166*D3b!$J41","v":0},{"$f":"D1a!I166*D3b!$J41","v":0},{"$f":"D1a!J166*D3b!$J41","v":0},{"$f":"D1a!E166*D3b!$K41","v":0},{"$f":"D1a!F166*D3b!$K41","v":0},{"$f":"D1a!G166*D3b!$K41","v":0},{"$f":"D1a!H166*D3b!$K41","v":0},{"$f":"D1a!I166*D3b!$K41","v":0},{"$f":"D1a!J166*D3b!$K41","v":0}]
[null,null,null,null,"VUL",{"$f":"D1a!E167*D3b!$F42","v":0},{"$f":"D1a!F167*D3b!$F42","v":0},{"$f":"D1a!G167*D3b!$F42","v":0},{"$f":"D1a!H167*D3b!$F42","v":0},{"$f":"D1a!I167*D3b!$F42","v":0},{"$f":"D1a!J167*D3b!$F42","v":0},{"$f":"D1a!E167*D3b!$G42","v":0},{"$f":"D1a!F167*D3b!$G42","v":0},{"$f":"D1a!G167*D3b!$G42","v":0},{"$f":"D1a!H167*D3b!$G42","v":0},{"$f":"D1a!I167*D3b!$G42","v":0},{"$f":"D1a!J167*D3b!$G42","v":0},{"$f":"D1a!E167*D3b!$H42","v":0},{"$f":"D1a!F167*D3b!$H42","v":0},{"$f":"D1a!G167*D3b!$H42","v":0},{"$f":"D1a!H167*D3b!$H42","v":0},{"$f":"D1a!I167*D3b!$H42","v":0},{"$f":"D1a!J167*D3b!$H42","v":0},{"$f":"D1a!E167*D3b!$I42","v":0},{"$f":"D1a!F167*D3b!$I42","v":0},{"$f":"D1a!G167*D3b!$I42","v":0},{"$f":"D1a!H167*D3b!$I42","v":0},{"$f":"D1a!I167*D3b!$I42","v":0},{"$f":"D1a!J167*D3b!$I42","v":0},{"$f":"D1a!E167*D3b!$J42","v":0},{"$f":"D1a!F167*D3b!$J42","v":0},{"$f":"D1a!G167*D3b!$J42","v":0},{"$f":"D1a!H167*D3b!$J42","v":0},{"$f":"D1a!I167*D3b!$J42","v":0},{"$f":"D1a!J167*D3b!$J42","v":0},{"$f":"D1a!E167*D3b!$K42","v":0},{"$f":"D1a!F167*D3b!$K42","v":0},{"$f":"D1a!G167*D3b!$K42","v":0},{"$f":"D1a!H167*D3b!$K42","v":0},{"$f":"D1a!I167*D3b!$K42","v":0},{"$f":"D1a!J167*D3b!$K42","v":0}]
[null,null,"Autres sources non antrophiques"]
[null,null,"Total",null,null,{"$f":"SUM(F10:F43)","v":0},{"$f":"SUM(G10:G43)","v":0},{"$f":"SUM(H10:H43)","v":0},{"$f":"SUM(I10:I43)","v":0},{"$f":"SUM(J10:J43)","v":0},0,0,0,0,0,0,0,0,0,0,0,0,0,0,0,0,0,0,0,0,0,0,0,0,0,0,0,0,0,0,0]
[]
[]
[]
["B.","Emissions directes par poste MyEmiss'Air / GES (kg eq CO2)"]
[]
[]
[null,null,null,null,null,"Résidentiel",null,null,null,null,null,"Déplacements",null,null,null,null,null,"Biens de consommation",null,null,null,null,null,"Alimentation",null,null,null,null,null,"Services",null,null,null,null,null,"Travaux"]
[null,null,null,null,null,"CO2","CH4","N2O","Autres GES ou GES non spécifié","Total",null,"CO2","CH4","N2O","Autres GES","Total",null,"CO2","CH4","N2O","Autres GES","Total",null,"CO2","CH4","N2O","Autres GES","Total",null,"CO2","CH4","N2O","Autres GES","Total",null,"CO2","CH4","N2O","Autres GES","Total"]
[null,null,null,null,null,"kg eq CO2","kg eq CO2","kg eq CO2","kg eq CO2","kg eq CO2",null,"kg eq CO2","kg eq CO2","kg eq CO2","kg eq CO2","kg eq CO2",null,"kg eq CO2","kg eq CO2","kg eq CO2","kg eq CO2","kg eq CO2",null,"kg eq CO2","kg eq CO2","kg eq CO2","kg eq CO2","kg eq CO2",null,"kg eq CO2","kg eq CO2","kg eq CO2","kg eq CO2","kg eq CO2",null,"kg eq CO2","kg eq CO2","kg eq CO2","kg eq CO2","kg eq CO2"]
[null,null,"Agriculture",null,"Autres sources de l'agriculture (tracteurs, …)",{"$f":"F10*'FE1'!$C$5","v":0},{"$f":"G10*'FE1'!$D$5","v":0},{"$f":"H10*'FE1'!$E$5","v":0},{"$f":"J55-SUM(F55:H55)","v":0},{"$f":"D1a!K134*1000000*D3b!F9","v":0},null,{"$f":"L10*'FE1'!$C$5","v":0},{"$f":"M10*'FE1'!$D$5","v":0},{"$f":"N10*'FE1'!$E$5","v":0},{"$f":"P55-SUM(L55:N55)","v":0},{"$f":"D1a!K134*1000000*D3b!G9","v":0},null,{"$f":"R10*'FE1'!$C$5","v":0},{"$f":"S10*'FE1'!$D$5","v":0},{"$f":"T10*'FE1'!$E$5","v":0},{"$f":"V55-SUM(R55:T55)","v":0},{"$f":"D1a!K134*1000000*D3b!H9","v":0},null,{"$f":"X10*'FE1'!$C$5","v":0},{"$f":"Y10*'FE1'!$D$5","v":0},{"$f":"Z10*'FE1'!$E$5","v":0},{"$f":"AB55-SUM(X55:Z55)","v":0},{"$f":"D1a!K134*1000000*D3b!I9","v":0},null,{"$f":"AD10*'FE1'!$C$5","v":0},{"$f":"AE10*'FE1'!$D$5","v":0},{"$f":"AF10*'FE1'!$E$5","v":0},{"$f":"AH55-SUM(AD55:AF55)","v":0},{"$f":"D1a!K134*1000000*D3b!J9","v":0},null,{"$f":"AJ10*'FE1'!$C$5","v":0},{"$f":"AK10*'FE1'!$D$5","v":0},{"$f":"AL10*'FE1'!$E$5","v":0},{"$f":"AN55-SUM(AJ55:AL55)","v":0},{"$f":"D1a!K134*1000000*D3b!K9","v":0}]
[null,null,null,null,"Culture",{"$f":"F11*'FE1'!$C$5","v":0},{"$f":"G11*'FE1'!$D$5","v":0},{"$f":"H11*'FE1'!$E$5","v":0},{"$f":"J56-SUM(F56:H56)","v":0},{"$f":"D1a!K135*1000000*D3b!F10","v":0},null,{"$f":"L11*'FE1'!$C$5","v":0},{"$f":"M11*'FE1'!$D$5","v":0},{"$f":"N11*'FE1'!$E$5","v":0},{"$f":"P56-SUM(L56:N56)","v":0},{"$f":"D1a!K135*1000000*D3b!G10","v":0},null,{"$f":"R11*'FE1'!$C$5","v":0},{"$f":"S11*'FE1'!$D$5","v":0},{"$f":"T11*'FE1'!$E$5","v":0},{"$f":"V56-SUM(R56:T56)","v":0},{"$f":"D1a!K135*1000000*D3b!H10","v":0},null,{"$f":"X11*'FE1'!$C$5","v":0},{"$f":"Y11*'FE1'!$D$5","v":0},{"$f":"Z11*'FE1'!$E$5","v":0},{"$f":"AB56-SUM(X56:Z56)","v":0},{"$f":"D1a!K135*1000000*D3b!I10","v":0},null,{"$f":"AD11*'FE1'!$C$5","v":0},{"$f":"AE11*'FE1'!$D$5","v":0},{"$f":"AF11*'FE1'!$E$5","v":0},{"$f":"AH56-SUM(AD56:AF56)","v":0},{"$f":"D1a!K135*1000000*D3b!J10","v":0},null,{"$f":"AJ11*'FE1'!$C$5","v":0},{"$f":"AK11*'FE1'!$D$5","v":0},{"$f":"AL11*'FE1'!$E$5","v":0},{"$f":"AN56-SUM(AJ56:AL56)","v":0},{"$f":"D1a!K135*1000000*D3b!K10","v":0}]
[null,null,null,null,"Elevage",{"$f":"F12*'FE1'!$C$5","v":0},{"$f":"G12*'FE1'!$D$5","v":0},{"$f":"H12*'FE1'!$E$5","v":0},0,{"$f":"D1a!K136*1000000*D3b!F11","v":0},null,{"$f":"L12*'FE1'!$C$5","v":0},{"$f":"M12*'FE1'!$D$5","v":0},{"$f":"N12*'FE1'!$E$5","v":0},0,{"$f":"D1a!K136*1000000*D3b!G11","v":0},null,{"$f":"R12*'FE1'!$C$5","v":0},{"$f":"S12*'FE1'!$D$5","v":0},{"$f":"T12*'FE1'!$E$5","v":0},0,{"$f":"D1a!K136*1000000*D3b!H11","v":0},null,{"$f":"X12*'FE1'!$C$5","v":0},{"$f":"Y12*'FE1'!$D$5","v":0},{"$f":"Z12*'FE1'!$E$5","v":0},0,{"$f":"D1a!K136*1000000*D3b!I11","v":0},null,{"$f":"AD12*'FE1'!$C$5","v":0},{"$f":"AE12*'FE1'!$D$5","v":0},{"$f":"AF12*'FE1'!$E$5","v":0},0,{"$f":"D1a!K136*1000000*D3b!J11","v":0},null,{"$f":"AJ12*'FE1'!$C$5","v":0},{"$f":"AK12*'FE1'!$D$5","v":0},{"$f":"AL12*'FE1'!$E$5","v":0},0,{"$f":"D1a!K136*1000000*D3b!K11","v":0}]
[null,null,"Autres transports",null,"Transport aérien français",{"$f":"F13*'FE1'!$C$5","v":0},{"$f":"G13*'FE1'!$D$5","v":0},{"$f":"H13*'FE1'!$E$5","v":0},0,{"$f":"D1a!K137*1000000*D3b!F12","v":0},null,{"$f":"L13*'FE1'!$C$5","v":0},{"$f":"M13*'FE1'!$D$5","v":0},{"$f":"N13*'FE1'!$E$5","v":0},0,{"$f":"D1a!K137*1000000*D3b!G12","v":0},null,{"$f":"R13*'FE1'!$C$5","v":0},{"$f":"S13*'FE1'!$D$5","v":0},{"$f":"T13*'FE1'!$E$5","v":0},0,{"$f":"D1a!K137*1000000*D3b!H12","v":0},null,{"$f":"X13*'FE1'!$C$5","v":0},{"$f":"Y13*'FE1'!$D$5","v":0},{"$f":"Z13*'FE1'!$E$5","v":0},0,{"$f":"D1a!K137*1000000*D3b!I12","v":0},null,{"$f":"AD13*'FE1'!$C$5","v":0},{"$f":"AE13*'FE1'!$D$5","v":0},{"$f":"AF13*'FE1'!$E$5","v":0},0,{"$f":"D1a!K137*1000000*D3b!J12","v":0},null,{"$f":"AJ13*'FE1'!$C$5","v":0},{"$f":"AK13*'FE1'!$D$5","v":0},{"$f":"AL13*'FE1'!$E$5","v":0},0,{"$f":"D1a!K137*1000000*D3b!K12","v":0}]
[null,null,null,null,"Transport ferroviaire",{"$f":"F14*'FE1'!$C$5","v":0},{"$f":"G14*'FE1'!$D$5","v":0},{"$f":"H14*'FE1'!$E$5","v":0},0,{"$f":"D1a!K138*1000000*D3b!F13","v":0},null,{"$f":"L14*'FE1'!$C$5","v":0},{"$f":"M14*'FE1'!$D$5","v":0},{"$f":"N14*'FE1'!$E$5","v":0},0,{"$f":"D1a!K138*1000000*D3b!G13","v":0},null,{"$f":"R14*'FE1'!$C$5","v":0},{"$f":"S14*'FE1'!$D$5","v":0},{"$f":"T14*'FE1'!$E$5","v":0},0,{"$f":"D1a!K138*1000000*D3b!H13","v":0},null,{"$f":"X14*'FE1'!$C$5","v":0},{"$f":"Y14*'FE1'!$D$5","v":0},{"$f":"Z14*'FE1'!$E$5","v":0},0,{"$f":"D1a!K138*1000000*D3b!I13","v":0},null,{"$f":"AD14*'FE1'!$C$5","v":0},{"$f":"AE14*'FE1'!$D$5","v":0},{"$f":"AF14*'FE1'!$E$5","v":0},0,{"$f":"D1a!K138*1000000*D3b!J13","v":0},null,{"$f":"AJ14*'FE1'!$C$5","v":0},{"$f":"AK14*'FE1'!$D$5","v":0},{"$f":"AL14*'FE1'!$E$5","v":0},0,{"$f":"D1a!K138*1000000*D3b!K13","v":0}]
[null,null,null,null,"Transport fluvial",{"$f":"F15*'FE1'!$C$5","v":0},{"$f":"G15*'FE1'!$D$5","v":0},{"$f":"H15*'FE1'!$E$5","v":0},0,{"$f":"D1a!K139*1000000*D3b!F14","v":0},null,{"$f":"L15*'FE1'!$C$5","v":0},{"$f":"M15*'FE1'!$D$5","v":0},{"$f":"N15*'FE1'!$E$5","v":0},0,{"$f":"D1a!K139*1000000*D3b!G14","v":0},null,{"$f":"R15*'FE1'!$C$5","v":0},{"$f":"S15*'FE1'!$D$5","v":0},{"$f":"T15*'FE1'!$E$5","v":0},0,{"$f":"D1a!K139*1000000*D3b!H14","v":0},null,{"$f":"X15*'FE1'!$C$5","v":0},{"$f":"Y15*'FE1'!$D$5","v":0},{"$f":"Z15*'FE1'!$E$5","v":0},0,{"$f":"D1a!K139*1000000*D3b!I14","v":0},null,{"$f":"AD15*'FE1'!$C$5","v":0},{"$f":"AE15*'FE1'!$D$5","v":0},{"$f":"AF15*'FE1'!$E$5","v":0},0,{"$f":"D1a!K139*1000000*D3b!J14","v":0},null,{"$f":"AJ15*'FE1'!$C$5","v":0},{"$f":"AK15*'FE1'!$D$5","v":0},{"$f":"AL15*'FE1'!$E$5","v":0},0,{"$f":"D1a!K139*1000000*D3b!K14","v":0}]
[null,null,"IDEC",null,"Agro-alimentaire",{"$f":"F16*'FE1'!$C$5","v":0},{"$f":"G16*'FE1'!$D$5","v":0},{"$f":"H16*'FE1'!$E$5","v":0},0,{"$f":"D1a!K140*1000000*D3b!F15","v":0},null,{"$f":"L16*'FE1'!$C$5","v":0},{"$f":"M16*'FE1'!$D$5","v":0},{"$f":"N16*'FE1'!$E$5","v":0},0,{"$f":"D1a!K140*1000000*D3b!G15","v":0},null,{"$f":"R16*'FE1'!$C$5","v":0},{"$f":"S16*'FE1'!$D$5","v":0},{"$f":"T16*'FE1'!$E$5","v":0},0,{"$f":"D1a!K140*1000000*D3b!H15","v":0},null,{"$f":"X16*'FE1'!$C$5","v":0},{"$f":"Y16*'FE1'!$D$5","v":0},{"$f":"Z16*'FE1'!$E$5","v":0},0,{"$f":"D1a!K140*1000000*D3b!I15","v":0},null,{"$f":"AD16*'FE1'!$C$5","v":0},{"$f":"AE16*'FE1'!$D$5","v":0},{"$f":"AF16*'FE1'!$E$5","v":0},0,{"$f":"D1a!K140*1000000*D3b!J15","v":0},null,{"$f":"AJ16*'FE1'!$C$5","v":0},{"$f":"AK16*'FE1'!$D$5","v":0},{"$f":"AL16*'FE1'!$E$5","v":0},0,{"$f":"D1a!K140*1000000*D3b!K15","v":0}]
[null,null,null,null,"Autres secteurs de l'industrie et non spécifié",{"$f":"F17*'FE1'!$C$5","v":0},{"$f":"G17*'FE1'!$D$5","v":0},{"$f":"H17*'FE1'!$E$5","v":0},0,{"$f":"D1a!K141*1000000*D3b!F16","v":0},null,{"$f":"L17*'FE1'!$C$5","v":0},{"$f":"M17*'FE1'!$D$5","v":0},{"$f":"N17*'FE1'!$E$5","v":0},0,{"$f":"D1a!K141*1000000*D3b!G16","v":0},null,{"$f":"R17*'FE1'!$C$5","v":0},{"$f":"S17*'FE1'!$D$5","v":0},{"$f":"T17*'FE1'!$E$5","v":0},0,{"$f":"D1a!K141*1000000*D3b!H16","v":0},null,{"$f":"X17*'FE1'!$C$5","v":0},{"$f":"Y17*'FE1'!$D$5","v":0},{"$f":"Z17*'FE1'!$E$5","v":0},0,{"$f":"D1a!K141*1000000*D3b!I16","v":0},null,{"$f":"AD17*'FE1'!$C$5","v":0},{"$f":"AE17*'FE1'!$D$5","v":0},{"$f":"AF17*'FE1'!$E$5","v":0},0,{"$f":"D1a!K141*1000000*D3b!J16","v":0},null,{"$f":"AJ17*'FE1'!$C$5","v":0},{"$f":"AK17*'FE1'!$D$5","v":0},{"$f":"AL17*'FE1'!$E$5","v":0},0,{"$f":"D1a!K141*1000000*D3b!K16","v":0}]
[null,null,null,null,"Biens d'équipement, matériels de transport…",{"$f":"F18*'FE1'!$C$5","v":0},{"$f":"G18*'FE1'!$D$5","v":0},{"$f":"H18*'FE1'!$E$5","v":0},0,{"$f":"D1a!K142*1000000*D3b!F17","v":0},null,{"$f":"L18*'FE1'!$C$5","v":0},{"$f":"M18*'FE1'!$D$5","v":0},{"$f":"N18*'FE1'!$E$5","v":0},0,{"$f":"D1a!K142*1000000*D3b!G17","v":0},null,{"$f":"R18*'FE1'!$C$5","v":0},{"$f":"S18*'FE1'!$D$5","v":0},{"$f":"T18*'FE1'!$E$5","v":0},0,{"$f":"D1a!K142*1000000*D3b!H17","v":0},null,{"$f":"X18*'FE1'!$C$5","v":0},{"$f":"Y18*'FE1'!$D$5","v":0},{"$f":"Z18*'FE1'!$E$5","v":0},0,{"$f":"D1a!K142*1000000*D3b!I17","v":0},null,{"$f":"AD18*'FE1'!$C$5","v":0},{"$f":"AE18*'FE1'!$D$5","v":0},{"$f":"AF18*'FE1'!$E$5","v":0},0,{"$f":"D1a!K142*1000000*D3b!J17","v":0},null,{"$f":"AJ18*'FE1'!$C$5","v":0},{"$f":"AK18*'FE1'!$D$5","v":0},{"$f":"AL18*'FE1'!$E$5","v":0},0,{"$f":"D1a!K142*1000000*D3b!K17","v":0}]
[null,null,null,null,"Chimie organique, non-organique et divers",{"$f":"F19*'FE1'!$C$5","v":0},{"$f":"G19*'FE1'!$D$5","v":0},{"$f":"H19*'FE1'!$E$5","v":0},0,{"$f":"D1a!K143*1000000*D3b!F18","v":0},null,{"$f":"L19*'FE1'!$C$5","v":0},{"$f":"M19*'FE1'!$D$5","v":0},{"$f":"N19*'FE1'!$E$5","v":0},0,{"$f":"D1a!K143*1000000*D3b!G18","v":0},null,{"$f":"R19*'FE1'!$C$5","v":0},{"$f":"S19*'FE1'!$D$5","v":0},{"$f":"T19*'FE1'!$E$5","v":0},0,{"$f":"D1a!K143*1000000*D3b!H18","v":0},null,{"$f":"X19*'FE1'!$C$5","v":0},{"$f":"Y19*'FE1'!$D$5","v":0},{"$f":"Z19*'FE1'!$E$5","v":0},0,{"$f":"D1a!K143*1000000*D3b!I18","v":0},null,{"$f":"AD19*'FE1'!$C$5","v":0},{"$f":"AE19*'FE1'!$D$5","v":0},{"$f":"AF19*'FE1'!$E$5","v":0},0,{"$f":"D1a!K143*1000000*D3b!J18","v":0},null,{"$f":"AJ19*'FE1'!$C$5","v":0},{"$f":"AK19*'FE1'!$D$5","v":0},{"$f":"AL19*'FE1'!$E$5","v":0},0,{"$f":"D1a!K143*1000000*D3b!K18","v":0}]
[null,null,null,null,"Construction",{"$f":"F20*'FE1'!$C$5","v":0},{"$f":"G20*'FE1'!$D$5","v":0},{"$f":"H20*'FE1'!$E$5","v":0},0,{"$f":"D1a!K144*1000000*D3b!F19","v":0},null,{"$f":"L20*'FE1'!$C$5","v":0},{"$f":"M20*'FE1'!$D$5","v":0},{"$f":"N20*'FE1'!$E$5","v":0},0,{"$f":"D1a!K144*1000000*D3b!G19","v":0},null,{"$f":"R20*'FE1'!$C$5","v":0},{"$f":"S20*'FE1'!$D$5","v":0},{"$f":"T20*'FE1'!$E$5","v":0},0,{"$f":"D1a!K144*1000000*D3b!H19","v":0},null,{"$f":"X20*'FE1'!$C$5","v":0},{"$f":"Y20*'FE1'!$D$5","v":0},{"$f":"Z20*'FE1'!$E$5","v":0},0,{"$f":"D1a!K144*1000000*D3b!I19","v":0},null,{"$f":"AD20*'FE1'!$C$5","v":0},{"$f":"AE20*'FE1'!$D$5","v":0},{"$f":"AF20*'FE1'!$E$5","v":0},0,{"$f":"D1a!K144*1000000*D3b!J19","v":0},null,{"$f":"AJ20*'FE1'!$C$5","v":0},{"$f":"AK20*'FE1'!$D$5","v":0},{"$f":"AL20*'FE1'!$E$5","v":0},0,{"$f":"D1a!K144*1000000*D3b!K19","v":0}]
[null,null,null,null,"Métallurgie des métaux ferreux",{"$f":"F21*'FE1'!$C$5","v":0},{"$f":"G21*'FE1'!$D$5","v":0},{"$f":"H21*'FE1'!$E$5","v":0},0,{"$f":"D1a!K145*1000000*D3b!F20","v":0},null,{"$f":"L21*'FE1'!$C$5","v":0},{"$f":"M21*'FE1'!$D$5","v":0},{"$f":"N21*'FE1'!$E$5","v":0},0,{"$f":"D1a!K145*1000000*D3b!G20","v":0},null,{"$f":"R21*'FE1'!$C$5","v":0},{"$f":"S21*'FE1'!$D$5","v":0},{"$f":"T21*'FE1'!$E$5","v":0},0,{"$f":"D1a!K145*1000000*D3b!H20","v":0},null,{"$f":"X21*'FE1'!$C$5","v":0},{"$f":"Y21*'FE1'!$D$5","v":0},{"$f":"Z21*'FE1'!$E$5","v":0},0,{"$f":"D1a!K145*1000000*D3b!I20","v":0},null,{"$f":"AD21*'FE1'!$C$5","v":0},{"$f":"AE21*'FE1'!$D$5","v":0},{"$f":"AF21*'FE1'!$E$5","v":0},0,{"$f":"D1a!K145*1000000*D3b!J20","v":0},null,{"$f":"AJ21*'FE1'!$C$5","v":0},{"$f":"AK21*'FE1'!$D$5","v":0},{"$f":"AL21*'FE1'!$E$5","v":0},0,{"$f":"D1a!K145*1000000*D3b!K20","v":0}]
[null,null,null,null,"Métallurgie des métaux non-ferreux",{"$f":"F22*'FE1'!$C$5","v":0},{"$f":"G22*'FE1'!$D$5","v":0},{"$f":"H22*'FE1'!$E$5","v":0},0,{"$f":"D1a!K146*1000000*D3b!F21","v":0},null,{"$f":"L22*'FE1'!$C$5","v":0},{"$f":"M22*'FE1'!$D$5","v":0},{"$f":"N22*'FE1'!$E$5","v":0},0,{"$f":"D1a!K146*1000000*D3b!G21","v":0},null,{"$f":"R22*'FE1'!$C$5","v":0},{"$f":"S22*'FE1'!$D$5","v":0},{"$f":"T22*'FE1'!$E$5","v":0},0,{"$f":"D1a!K146*1000000*D3b!H21","v":0},null,{"$f":"X22*'FE1'!$C$5","v":0},{"$f":"Y22*'FE1'!$D$5","v":0},{"$f":"Z22*'FE1'!$E$5","v":0},0,{"$f":"D1a!K146*1000000*D3b!I21","v":0},null,{"$f":"AD22*'FE1'!$C$5","v":0},{"$f":"AE22*'FE1'!$D$5","v":0},{"$f":"AF22*'FE1'!$E$5","v":0},0,{"$f":"D1a!K146*1000000*D3b!J21","v":0},null,{"$f":"AJ22*'FE1'!$C$5","v":0},{"$f":"AK22*'FE1'!$D$5","v":0},{"$f":"AL22*'FE1'!$E$5","v":0},0,{"$f":"D1a!K146*1000000*D3b!K21","v":0}]
[null,null,null,null,"Minéraux non-métalliques et matériaux de construction",{"$f":"F23*'FE1'!$C$5","v":0},{"$f":"G23*'FE1'!$D$5","v":0},{"$f":"H23*'FE1'!$E$5","v":0},0,{"$f":"D1a!K147*1000000*D3b!F22","v":0},null,{"$f":"L23*'FE1'!$C$5","v":0},{"$f":"M23*'FE1'!$D$5","v":0},{"$f":"N23*'FE1'!$E$5","v":0},0,{"$f":"D1a!K147*1000000*D3b!G22","v":0},null,{"$f":"R23*'FE1'!$C$5","v":0},{"$f":"S23*'FE1'!$D$5","v":0},{"$f":"T23*'FE1'!$E$5","v":0},0,{"$f":"D1a!K147*1000000*D3b!H22","v":0},null,{"$f":"X23*'FE1'!$C$5","v":0},{"$f":"Y23*'FE1'!$D$5","v":0},{"$f":"Z23*'FE1'!$E$5","v":0},0,{"$f":"D1a!K147*1000000*D3b!I22","v":0},null,{"$f":"AD23*'FE1'!$C$5","v":0},{"$f":"AE23*'FE1'!$D$5","v":0},{"$f":"AF23*'FE1'!$E$5","v":0},0,{"$f":"D1a!K147*1000000*D3b!J22","v":0},null,{"$f":"AJ23*'FE1'!$C$5","v":0},{"$f":"AK23*'FE1'!$D$5","v":0},{"$f":"AL23*'FE1'!$E$5","v":0},0,{"$f":"D1a!K147*1000000*D3b!K22","v":0}]
[null,null,null,null,"Papier, carton",{"$f":"F24*'FE1'!$C$5","v":0},{"$f":"G24*'FE1'!$D$5","v":0},{"$f":"H24*'FE1'!$E$5","v":0},0,{"$f":"D1a!K148*1000000*D3b!F23","v":0},null,{"$f":"L24*'FE1'!$C$5","v":0},{"$f":"M24*'FE1'!$D$5","v":0},{"$f":"N24*'FE1'!$E$5","v":0},0,{"$f":"D1a!K148*1000000*D3b!G23","v":0},null,{"$f":"R24*'FE1'!$C$5","v":0},{"$f":"S24*'FE1'!$D$5","v":0},{"$f":"T24*'FE1'!$E$5","v":0},0,{"$f":"D1a!K148*1000000*D3b!H23","v":0},null,{"$f":"X24*'FE1'!$C$5","v":0},{"$f":"Y24*'FE1'!$D$5","v":0},{"$f":"Z24*'FE1'!$E$5","v":0},0,{"$f":"D1a!K148*1000000*D3b!I23","v":0},null,{"$f":"AD24*'FE1'!$C$5","v":0},{"$f":"AE24*'FE1'!$D$5","v":0},{"$f":"AF24*'FE1'!$E$5","v":0},0,{"$f":"D1a!K148*1000000*D3b!J23","v":0},null,{"$f":"AJ24*'FE1'!$C$5","v":0},{"$f":"AK24*'FE1'!$D$5","v":0},{"$f":"AL24*'FE1'!$E$5","v":0},0,{"$f":"D1a!K148*1000000*D3b!K23","v":0}]
[null,null,null,null,"Tous secteurs IM",{"$f":"F25*'FE1'!$C$5","v":0},{"$f":"G25*'FE1'!$D$5","v":0},{"$f":"H25*'FE1'!$E$5","v":0},0,{"$f":"D1a!K149*1000000*D3b!F24","v":0},null,{"$f":"L25*'FE1'!$C$5","v":0},{"$f":"M25*'FE1'!$D$5","v":0},{"$f":"N25*'FE1'!$E$5","v":0},0,{"$f":"D1a!K149*1000000*D3b!G24","v":0},null,{"$f":"R25*'FE1'!$C$5","v":0},{"$f":"S25*'FE1'!$D$5","v":0},{"$f":"T25*'FE1'!$E$5","v":0},0,{"$f":"D1a!K149*1000000*D3b!H24","v":0},null,{"$f":"X25*'FE1'!$C$5","v":0},{"$f":"Y25*'FE1'!$D$5","v":0},{"$f":"Z25*'FE1'!$E$5","v":0},0,{"$f":"D1a!K149*1000000*D3b!I24","v":0},null,{"$f":"AD25*'FE1'!$C$5","v":0},{"$f":"AE25*'FE1'!$D$5","v":0},{"$f":"AF25*'FE1'!$E$5","v":0},0,{"$f":"D1a!K149*1000000*D3b!J24","v":0},null,{"$f":"AJ25*'FE1'!$C$5","v":0},{"$f":"AK25*'FE1'!$D$5","v":0},{"$f":"AL25*'FE1'!$E$5","v":0},0,{"$f":"D1a!K149*1000000*D3b!K24","v":0}]
[null,null,null,null,"Traitement des déchets",{"$f":"F26*'FE1'!$C$5","v":0},{"$f":"G26*'FE1'!$D$5","v":0},{"$f":"H26*'FE1'!$E$5","v":0},0,{"$f":"D1a!K150*1000000*D3b!F25","v":0},null,{"$f":"L26*'FE1'!$C$5","v":0},{"$f":"M26*'FE1'!$D$5","v":0},{"$f":"N26*'FE1'!$E$5","v":0},0,{"$f":"D1a!K150*1000000*D3b!G25","v":0},null,{"$f":"R26*'FE1'!$C$5","v":0},{"$f":"S26*'FE1'!$D$5","v":0},{"$f":"T26*'FE1'!$E$5","v":0},0,{"$f":"D1a!K150*1000000*D3b!H25","v":0},null,{"$f":"X26*'FE1'!$C$5","v":0},{"$f":"Y26*'FE1'!$D$5","v":0},{"$f":"Z26*'FE1'!$E$5","v":0},0,{"$f":"D1a!K150*1000000*D3b!I25","v":0},null,{"$f":"AD26*'FE1'!$C$5","v":0},{"$f":"AE26*'FE1'!$D$5","v":0},{"$f":"AF26*'FE1'!$E$5","v":0},0,{"$f":"D1a!K150*1000000*D3b!J25","v":0},null,{"$f":"AJ26*'FE1'!$C$5","v":0},{"$f":"AK26*'FE1'!$D$5","v":0},{"$f":"AL26*'FE1'!$E$5","v":0},0,{"$f":"D1a!K150*1000000*D3b!K25","v":0}]
[null,null,null,null,"Traitement déchets industrie",{"$f":"F27*'FE1'!$C$5","v":0},{"$f":"G27*'FE1'!$D$5","v":0},{"$f":"H27*'FE1'!$E$5","v":0},0,{"$f":"D1a!K151*1000000*D3b!F26","v":0},null,{"$f":"L27*'FE1'!$C$5","v":0},{"$f":"M27*'FE1'!$D$5","v":0},{"$f":"N27*'FE1'!$E$5","v":0},0,{"$f":"D1a!K151*1000000*D3b!G26","v":0},null,{"$f":"R27*'FE1'!$C$5","v":0},{"$f":"S27*'FE1'!$D$5","v":0},{"$f":"T27*'FE1'!$E$5","v":0},0,{"$f":"D1a!K151*1000000*D3b!H26","v":0},null,{"$f":"X27*'FE1'!$C$5","v":0},{"$f":"Y27*'FE1'!$D$5","v":0},{"$f":"Z27*'FE1'!$E$5","v":0},0,{"$f":"D1a!K151*1000000*D3b!I26","v":0},null,{"$f":"AD27*'FE1'!$C$5","v":0},{"$f":"AE27*'FE1'!$D$5","v":0},{"$f":"AF27*'FE1'!$E$5","v":0},0,{"$f":"D1a!K151*1000000*D3b!J26","v":0},null,{"$f":"AJ27*'FE1'!$C$5","v":0},{"$f":"AK27*'FE1'!$D$5","v":0},{"$f":"AL27*'FE1'!$E$5","v":0},0,{"$f":"D1a!K151*1000000*D3b!K26","v":0}]
[null,null,"Résidentiel tertiaire",null,"Résidentiel",{"$f":"F28*'FE1'!$C$5","v":0},{"$f":"G28*'FE1'!$D$5","v":0},{"$f":"H28*'FE1'!$E$5","v":0},{"$f":"J73-SUM(F73:H73)","v":0},{"$f":"D1a!K152*1000000*D3b!F27","v":0},null,{"$f":"L28*'FE1'!$C$5","v":0},{"$f":"M28*'FE1'!$D$5","v":0},{"$f":"N28*'FE1'!$E$5","v":0},{"$f":"P73-SUM(L73:N73)","v":0},{"$f":"D1a!K152*1000000*D3b!G27","v":0},null,{"$f":"R28*'FE1'!$C$5","v":0},{"$f":"S28*'FE1'!$D$5","v":0},{"$f":"T28*'FE1'!$E$5","v":0},{"$f":"V73-SUM(R73:T73)","v":0},{"$f":"D1a!K152*1000000*D3b!H27","v":0},null,{"$f":"X28*'FE1'!$C$5","v":0},{"$f":"Y28*'FE1'!$D$5","v":0},{"$f":"Z28*'FE1'!$E$5","v":0},{"$f":"AB73-SUM(X73:Z73)","v":0},{"$f":"D1a!K152*1000000*D3b!I27","v":0},null,{"$f":"AD28*'FE1'!$C$5","v":0},{"$f":"AE28*'FE1'!$D$5","v":0},{"$f":"AF28*'FE1'!$E$5","v":0},{"$f":"AH73-SUM(AD73:AF73)","v":0},{"$f":"D1a!K152*1000000*D3b!J27","v":0},null,{"$f":"AJ28*'FE1'!$C$5","v":0},{"$f":"AK28*'FE1'!$D$5","v":0},{"$f":"AL28*'FE1'!$E$5","v":0},{"$f":"AN73-SUM(AJ73:AL73)","v":0},{"$f":"D1a!K152*1000000*D3b!K27","v":0}]
[null,null,null,null,"Tertiaire, commercial et institutionnel",{"$f":"F29*'FE1'!$C$5","v":0},{"$f":"G29*'FE1'!$D$5","v":0},{"$f":"H29*'FE1'!$E$5","v":0},0,{"$f":"D1a!K153*1000000*D3b!F28","v":0},null,{"$f":"L29*'FE1'!$C$5","v":0},{"$f":"M29*'FE1'!$D$5","v":0},{"$f":"N29*'FE1'!$E$5","v":0},0,{"$f":"D1a!K153*1000000*D3b!G28","v":0},null,{"$f":"R29*'FE1'!$C$5","v":0},{"$f":"S29*'FE1'!$D$5","v":0},{"$f":"T29*'FE1'!$E$5","v":0},0,{"$f":"D1a!K153*1000000*D3b!H28","v":0},null,{"$f":"X29*'FE1'!$C$5","v":0},{"$f":"Y29*'FE1'!$D$5","v":0},{"$f":"Z29*'FE1'!$E$5","v":0},0,{"$f":"D1a!K153*1000000*D3b!I28","v":0},null,{"$f":"AD29*'FE1'!$C$5","v":0},{"$f":"AE29*'FE1'!$D$5","v":0},{"$f":"AF29*'FE1'!$E$5","v":0},0,{"$f":"D1a!K153*1000000*D3b!J28","v":0},null,{"$f":"AJ29*'FE1'!$C$5","v":0},{"$f":"AK29*'FE1'!$D$5","v":0},{"$f":"AL29*'FE1'!$E$5","v":0},0,{"$f":"D1a!K153*1000000*D3b!K28","v":0}]
[null,null,"Transformation de l'énergie",null,"Chauffage urbain",null,null,null,0,{"$f":"D2b!D123*1000000","v":0},null,null,null,null,0,{"$f":"D2b!D124*1000000","v":0},null,null,null,null,{"$f":"V75-SUM(R75:T75)","v":0},{"$f":"D2b!D125*1000000","v":0},null,null,null,null,0,{"$f":"D2b!D126*1000000","v":0},null,null,null,null,0,{"$f":"D2b!D127*1000000","v":0},null,null,null,null,0,{"$f":"D2b!D128*1000000","v":0}]
[null,null,null,null,"Extraction des combustibles gazeux et distribution d'énergie",{"$f":"F31*'FE1'!$C$5","v":0},{"$f":"G31*'FE1'!$D$5","v":0},{"$f":"H31*'FE1'!$E$5","v":0},0,{"$f":"D1a!K155*1000000*D3b!F30","v":0},null,{"$f":"L31*'FE1'!$C$5","v":0},{"$f":"M31*'FE1'!$D$5","v":0},{"$f":"N31*'FE1'!$E$5","v":0},0,{"$f":"D1a!K155*1000000*D3b!G30","v":0},null,{"$f":"R31*'FE1'!$C$5","v":0},{"$f":"S31*'FE1'!$D$5","v":0},{"$f":"T31*'FE1'!$E$5","v":0},0,{"$f":"D1a!K155*1000000*D3b!H30","v":0},null,{"$f":"X31*'FE1'!$C$5","v":0},{"$f":"Y31*'FE1'!$D$5","v":0},{"$f":"Z31*'FE1'!$E$5","v":0},0,{"$f":"D1a!K155*1000000*D3b!I30","v":0},null,{"$f":"AD31*'FE1'!$C$5","v":0},{"$f":"AE31*'FE1'!$D$5","v":0},{"$f":"AF31*'FE1'!$E$5","v":0},0,{"$f":"D1a!K155*1000000*D3b!J30","v":0},null,{"$f":"AJ31*'FE1'!$C$5","v":0},{"$f":"AK31*'FE1'!$D$5","v":0},{"$f":"AL31*'FE1'!$E$5","v":0},0,{"$f":"D1a!K155*1000000*D3b!K30","v":0}]
[null,null,null,null,"Extraction des combustibles liquides et distribution d'énergie",{"$f":"F32*'FE1'!$C$5","v":0},{"$f":"G32*'FE1'!$D$5","v":0},{"$f":"H32*'FE1'!$E$5","v":0},0,{"$f":"D1a!K156*1000000*D3b!F31","v":0},null,{"$f":"L32*'FE1'!$C$5","v":0},{"$f":"M32*'FE1'!$D$5","v":0},{"$f":"N32*'FE1'!$E$5","v":0},0,{"$f":"D1a!K156*1000000*D3b!G31","v":0},null,{"$f":"R32*'FE1'!$C$5","v":0},{"$f":"S32*'FE1'!$D$5","v":0},{"$f":"T32*'FE1'!$E$5","v":0},0,{"$f":"D1a!K156*1000000*D3b!H31","v":0},null,{"$f":"X32*'FE1'!$C$5","v":0},{"$f":"Y32*'FE1'!$D$5","v":0},{"$f":"Z32*'FE1'!$E$5","v":0},0,{"$f":"D1a!K156*1000000*D3b!I31","v":0},null,{"$f":"AD32*'FE1'!$C$5","v":0},{"$f":"AE32*'FE1'!$D$5","v":0},{"$f":"AF32*'FE1'!$E$5","v":0},0,{"$f":"D1a!K156*1000000*D3b!J31","v":0},null,{"$f":"AJ32*'FE1'!$C$5","v":0},{"$f":"AK32*'FE1'!$D$5","v":0},{"$f":"AL32*'FE1'!$E$5","v":0},0,{"$f":"D1a!K156*1000000*D3b!K31","v":0}]
[null,null,null,null,"Extraction des combustibles solides et distribution d'énergie",{"$f":"F33*'FE1'!$C$5","v":0},{"$f":"G33*'FE1'!$D$5","v":0},{"$f":"H33*'FE1'!$E$5","v":0},0,{"$f":"D1a!K157*1000000*D3b!F32","v":0},null,{"$f":"L33*'FE1'!$C$5","v":0},{"$f":"M33*'FE1'!$D$5","v":0},{"$f":"N33*'FE1'!$E$5","v":0},0,{"$f":"D1a!K157*1000000*D3b!G32","v":0},null,{"$f":"R33*'FE1'!$C$5","v":0},{"$f":"S33*'FE1'!$D$5","v":0},{"$f":"T33*'FE1'!$E$5","v":0},0,{"$f":"D1a!K157*1000000*D3b!H32","v":0},null,{"$f":"X33*'FE1'!$C$5","v":0},{"$f":"Y33*'FE1'!$D$5","v":0},{"$f":"Z33*'FE1'!$E$5","v":0},0,{"$f":"D1a!K157*1000000*D3b!I32","v":0},null,{"$f":"AD33*'FE1'!$C$5","v":0},{"$f":"AE33*'FE1'!$D$5","v":0},{"$f":"AF33*'FE1'!$E$5","v":0},0,{"$f":"D1a!K157*1000000*D3b!J32","v":0},null,{"$f":"AJ33*'FE1'!$C$5","v":0},{"$f":"AK33*'FE1'!$D$5","v":0},{"$f":"AL33*'FE1'!$E$5","v":0},0,{"$f":"D1a!K157*1000000*D3b!K32","v":0}]
[null,null,null,null,"Production d'électricité",{"$f":"F34*'FE1'!$C$5","v":0},{"$f":"G34*'FE1'!$D$5","v":0},{"$f":"H34*'FE1'!$E$5","v":0},0,{"$f":"D1a!K158*1000000*D3b!F33","v":0},null,{"$f":"L34*'FE1'!$C$5","v":0},{"$f":"M34*'FE1'!$D$5","v":0},{"$f":"N34*'FE1'!$E$5","v":0},0,{"$f":"D1a!K158*1000000*D3b!G33","v":0},null,{"$f":"R34*'FE1'!$C$5","v":0},{"$f":"S34*'FE1'!$D$5","v":0},{"$f":"T34*'FE1'!$E$5","v":0},0,{"$f":"D1a!K158*1000000*D3b!H33","v":0},null,{"$f":"X34*'FE1'!$C$5","v":0},{"$f":"Y34*'FE1'!$D$5","v":0},{"$f":"Z34*'FE1'!$E$5","v":0},0,{"$f":"D1a!K158*1000000*D3b!I33","v":0},null,{"$f":"AD34*'FE1'!$C$5","v":0},{"$f":"AE34*'FE1'!$D$5","v":0},{"$f":"AF34*'FE1'!$E$5","v":0},0,{"$f":"D1a!K158*1000000*D3b!J33","v":0},null,{"$f":"AJ34*'FE1'!$C$5","v":0},{"$f":"AK34*'FE1'!$D$5","v":0},{"$f":"AL34*'FE1'!$E$5","v":0},0,{"$f":"D1a!K158*1000000*D3b!K33","v":0}]
[null,null,null,null,"Raffinage de pétrole",{"$f":"F35*'FE1'!$C$5","v":0},{"$f":"G35*'FE1'!$D$5","v":0},{"$f":"H35*'FE1'!$E$5","v":0},0,{"$f":"D1a!K159*1000000*D3b!F34","v":0},null,{"$f":"L35*'FE1'!$C$5","v":0},{"$f":"M35*'FE1'!$D$5","v":0},{"$f":"N35*'FE1'!$E$5","v":0},0,{"$f":"D1a!K159*1000000*D3b!G34","v":0},null,{"$f":"R35*'FE1'!$C$5","v":0},{"$f":"S35*'FE1'!$D$5","v":0},{"$f":"T35*'FE1'!$E$5","v":0},0,{"$f":"D1a!K159*1000000*D3b!H34","v":0},null,{"$f":"X35*'FE1'!$C$5","v":0},{"$f":"Y35*'FE1'!$D$5","v":0},{"$f":"Z35*'FE1'!$E$5","v":0},0,{"$f":"D1a!K159*1000000*D3b!I34","v":0},null,{"$f":"AD35*'FE1'!$C$5","v":0},{"$f":"AE35*'FE1'!$D$5","v":0},{"$f":"AF35*'FE1'!$E$5","v":0},0,{"$f":"D1a!K159*1000000*D3b!J34","v":0},null,{"$f":"AJ35*'FE1'!$C$5","v":0},{"$f":"AK35*'FE1'!$D$5","v":0},{"$f":"AL35*'FE1'!$E$5","v":0},0,{"$f":"D1a!K159*1000000*D3b!K34","v":0}]
[null,null,null,null,"Transformation des combustibles minéraux solides – siderurgies",{"$f":"F36*'FE1'!$C$5","v":0},{"$f":"G36*'FE1'!$D$5","v":0},{"$f":"H36*'FE1'!$E$5","v":0},0,{"$f":"D1a!K160*1000000*D3b!F35","v":0},null,{"$f":"L36*'FE1'!$C$5","v":0},{"$f":"M36*'FE1'!$D$5","v":0},{"$f":"N36*'FE1'!$E$5","v":0},0,{"$f":"D1a!K160*1000000*D3b!G35","v":0},null,{"$f":"R36*'FE1'!$C$5","v":0},{"$f":"S36*'FE1'!$D$5","v":0},{"$f":"T36*'FE1'!$E$5","v":0},0,{"$f":"D1a!K160*1000000*D3b!H35","v":0},null,{"$f":"X36*'FE1'!$C$5","v":0},{"$f":"Y36*'FE1'!$D$5","v":0},{"$f":"Z36*'FE1'!$E$5","v":0},0,{"$f":"D1a!K160*1000000*D3b!I35","v":0},null,{"$f":"AD36*'FE1'!$C$5","v":0},{"$f":"AE36*'FE1'!$D$5","v":0},{"$f":"AF36*'FE1'!$E$5","v":0},0,{"$f":"D1a!K160*1000000*D3b!J35","v":0},null,{"$f":"AJ36*'FE1'!$C$5","v":0},{"$f":"AK36*'FE1'!$D$5","v":0},{"$f":"AL36*'FE1'!$E$5","v":0},0,{"$f":"D1a!K160*1000000*D3b!K35","v":0}]
[null,null,"Transport routier",null,"Deux roues",{"$f":"F37*'FE1'!$C$5","v":0},{"$f":"G37*'FE1'!$D$5","v":0},{"$f":"H37*'FE1'!$E$5","v":0},0,{"$f":"D1a!K161*1000000*D3b!F36","v":0},null,{"$f":"L37*'FE1'!$C$5","v":0},{"$f":"M37*'FE1'!$D$5","v":0},{"$f":"N37*'FE1'!$E$5","v":0},0,{"$f":"D1a!K161*1000000*D3b!G36","v":0},null,{"$f":"R37*'FE1'!$C$5","v":0},{"$f":"S37*'FE1'!$D$5","v":0},{"$f":"T37*'FE1'!$E$5","v":0},0,{"$f":"D1a!K161*1000000*D3b!H36","v":0},null,{"$f":"X37*'FE1'!$C$5","v":0},{"$f":"Y37*'FE1'!$D$5","v":0},{"$f":"Z37*'FE1'!$E$5","v":0},0,{"$f":"D1a!K161*1000000*D3b!I36","v":0},null,{"$f":"AD37*'FE1'!$C$5","v":0},{"$f":"AE37*'FE1'!$D$5","v":0},{"$f":"AF37*'FE1'!$E$5","v":0},0,{"$f":"D1a!K161*1000000*D3b!J36","v":0},null,{"$f":"AJ37*'FE1'!$C$5","v":0},{"$f":"AK37*'FE1'!$D$5","v":0},{"$f":"AL37*'FE1'!$E$5","v":0},0,{"$f":"D1a!K161*1000000*D3b!K36","v":0}]
[null,null,null,null,"evap essence",{"$f":"F38*'FE1'!$C$5","v":0},{"$f":"G38*'FE1'!$D$5","v":0},{"$f":"H38*'FE1'!$E$5","v":0},0,{"$f":"D1a!K162*1000000*D3b!F37","v":0},null,{"$f":"L38*'FE1'!$C$5","v":0},{"$f":"M38*'FE1'!$D$5","v":0},{"$f":"N38*'FE1'!$E$5","v":0},0,{"$f":"D1a!K162*1000000*D3b!G37","v":0},null,{"$f":"R38*'FE1'!$C$5","v":0},{"$f":"S38*'FE1'!$D$5","v":0},{"$f":"T38*'FE1'!$E$5","v":0},0,{"$f":"D1a!K162*1000000*D3b!H37","v":0},null,{"$f":"X38*'FE1'!$C$5","v":0},{"$f":"Y38*'FE1'!$D$5","v":0},{"$f":"Z38*'FE1'!$E$5","v":0},0,{"$f":"D1a!K162*1000000*D3b!I37","v":0},null,{"$f":"AD38*'FE1'!$C$5","v":0},{"$f":"AE38*'FE1'!$D$5","v":0},{"$f":"AF38*'FE1'!$E$5","v":0},0,{"$f":"D1a!K162*1000000*D3b!J37","v":0},null,{"$f":"AJ38*'FE1'!$C$5","v":0},{"$f":"AK38*'FE1'!$D$5","v":0},{"$f":"AL38*'FE1'!$E$5","v":0},0,{"$f":"D1a!K162*1000000*D3b!K37","v":0}]
[null,null,null,null,"Poids lourds",{"$f":"F39*'FE1'!$C$5","v":0},{"$f":"G39*'FE1'!$D$5","v":0},{"$f":"H39*'FE1'!$E$5","v":0},0,{"$f":"D1a!K163*1000000*D3b!F38","v":0},null,{"$f":"L39*'FE1'!$C$5","v":0},{"$f":"M39*'FE1'!$D$5","v":0},{"$f":"N39*'FE1'!$E$5","v":0},0,{"$f":"D1a!K163*1000000*D3b!G38","v":0},null,{"$f":"R39*'FE1'!$C$5","v":0},{"$f":"S39*'FE1'!$D$5","v":0},{"$f":"T39*'FE1'!$E$5","v":0},0,{"$f":"D1a!K163*1000000*D3b!H38","v":0},null,{"$f":"X39*'FE1'!$C$5","v":0},{"$f":"Y39*'FE1'!$D$5","v":0},{"$f":"Z39*'FE1'!$E$5","v":0},0,{"$f":"D1a!K163*1000000*D3b!I38","v":0},null,{"$f":"AD39*'FE1'!$C$5","v":0},{"$f":"AE39*'FE1'!$D$5","v":0},{"$f":"AF39*'FE1'!$E$5","v":0},0,{"$f":"D1a!K163*1000000*D3b!J38","v":0},null,{"$f":"AJ39*'FE1'!$C$5","v":0},{"$f":"AK39*'FE1'!$D$5","v":0},{"$f":"AL39*'FE1'!$E$5","v":0},0,{"$f":"D1a!K163*1000000*D3b!K38","v":0}]
[null,null,null,null,"trafic diffus",{"$f":"F40*'FE1'!$C$5","v":0},{"$f":"G40*'FE1'!$D$5","v":0},{"$f":"H40*'FE1'!$E$5","v":0},0,{"$f":"D1a!K164*1000000*D3b!F39","v":0},null,{"$f":"L40*'FE1'!$C$5","v":0},{"$f":"M40*'FE1'!$D$5","v":0},{"$f":"N40*'FE1'!$E$5","v":0},0,{"$f":"D1a!K164*1000000*D3b!G39","v":0},null,{"$f":"R40*'FE1'!$C$5","v":0},{"$f":"S40*'FE1'!$D$5","v":0},{"$f":"T40*'FE1'!$E$5","v":0},0,{"$f":"D1a!K164*1000000*D3b!H39","v":0},null,{"$f":"X40*'FE1'!$C$5","v":0},{"$f":"Y40*'FE1'!$D$5","v":0},{"$f":"Z40*'FE1'!$E$5","v":0},0,{"$f":"D1a!K164*1000000*D3b!I39","v":0},null,{"$f":"AD40*'FE1'!$C$5","v":0},{"$f":"AE40*'FE1'!$D$5","v":0},{"$f":"AF40*'FE1'!$E$5","v":0},0,{"$f":"D1a!K164*1000000*D3b!J39","v":0},null,{"$f":"AJ40*'FE1'!$C$5","v":0},{"$f":"AK40*'FE1'!$D$5","v":0},{"$f":"AL40*'FE1'!$E$5","v":0},0,{"$f":"D1a!K164*1000000*D3b!K39","v":0}]
[null,null,null,null,"usure routes",{"$f":"F41*'FE1'!$C$5","v":0},{"$f":"G41*'FE1'!$D$5","v":0},{"$f":"H41*'FE1'!$E$5","v":0},0,{"$f":"D1a!K165*1000000*D3b!F40","v":0},null,{"$f":"L41*'FE1'!$C$5","v":0},{"$f":"M41*'FE1'!$D$5","v":0},{"$f":"N41*'FE1'!$E$5","v":0},0,{"$f":"D1a!K165*1000000*D3b!G40","v":0},null,{"$f":"R41*'FE1'!$C$5","v":0},{"$f":"S41*'FE1'!$D$5","v":0},{"$f":"T41*'FE1'!$E$5","v":0},0,{"$f":"D1a!K165*1000000*D3b!H40","v":0},null,{"$f":"X41*'FE1'!$C$5","v":0},{"$f":"Y41*'FE1'!$D$5","v":0},{"$f":"Z41*'FE1'!$E$5","v":0},0,{"$f":"D1a!K165*1000000*D3b!I40","v":0},null,{"$f":"AD41*'FE1'!$C$5","v":0},{"$f":"AE41*'FE1'!$D$5","v":0},{"$f":"AF41*'FE1'!$E$5","v":0},0,{"$f":"D1a!K165*1000000*D3b!J40","v":0},null,{"$f":"AJ41*'FE1'!$C$5","v":0},{"$f":"AK41*'FE1'!$D$5","v":0},{"$f":"AL41*'FE1'!$E$5","v":0},0,{"$f":"D1a!K165*1000000*D3b!K40","v":0}]
[null,null,null,null,"Voitures particulières",{"$f":"F42*'FE1'!$C$5","v":0},{"$f":"G42*'FE1'!$D$5","v":0},{"$f":"H42*'FE1'!$E$5","v":0},0,{"$f":"D1a!K166*1000000*D3b!F41","v":0},null,{"$f":"L42*'FE1'!$C$5","v":0},{"$f":"M42*'FE1'!$D$5","v":0},{"$f":"N42*'FE1'!$E$5","v":0},0,{"$f":"D1a!K166*1000000*D3b!G41","v":0},null,{"$f":"R42*'FE1'!$C$5","v":0},{"$f":"S42*'FE1'!$D$5","v":0},{"$f":"T42*'FE1'!$E$5","v":0},0,{"$f":"D1a!K166*1000000*D3b!H41","v":0},null,{"$f":"X42*'FE1'!$C$5","v":0},{"$f":"Y42*'FE1'!$D$5","v":0},{"$f":"Z42*'FE1'!$E$5","v":0},0,{"$f":"D1a!K166*1000000*D3b!I41","v":0},null,{"$f":"AD42*'FE1'!$C$5","v":0},{"$f":"AE42*'FE1'!$D$5","v":0},{"$f":"AF42*'FE1'!$E$5","v":0},0,{"$f":"D1a!K166*1000000*D3b!J41","v":0},null,{"$f":"AJ42*'FE1'!$C$5","v":0},{"$f":"AK42*'FE1'!$D$5","v":0},{"$f":"AL42*'FE1'!$E$5","v":0},0,{"$f":"D1a!K166*1000000*D3b!K41","v":0}]
[null,null,null,null,"VUL",{"$f":"F43*'FE1'!$C$5","v":0},{"$f":"G43*'FE1'!$D$5","v":0},{"$f":"H43*'FE1'!$E$5","v":0},0,{"$f":"D1a!K167*1000000*D3b!F42","v":0},null,{"$f":"L43*'FE1'!$C$5","v":0},{"$f":"M43*'FE1'!$D$5","v":0},{"$f":"N43*'FE1'!$E$5","v":0},0,{"$f":"D1a!K167*1000000*D3b!G42","v":0},null,{"$f":"R43*'FE1'!$C$5","v":0},{"$f":"S43*'FE1'!$D$5","v":0},{"$f":"T43*'FE1'!$E$5","v":0},0,{"$f":"D1a!K167*1000000*D3b!H42","v":0},null,{"$f":"X43*'FE1'!$C$5","v":0},{"$f":"Y43*'FE1'!$D$5","v":0},{"$f":"Z43*'FE1'!$E$5","v":0},0,{"$f":"D1a!K167*1000000*D3b!I42","v":0},null,{"$f":"AD43*'FE1'!$C$5","v":0},{"$f":"AE43*'FE1'!$D$5","v":0},{"$f":"AF43*'FE1'!$E$5","v":0},0,{"$f":"D1a!K167*1000000*D3b!J42","v":0},null,{"$f":"AJ43*'FE1'!$C$5","v":0},{"$f":"AK43*'FE1'!$D$5","v":0},{"$f":"AL43*'FE1'!$E$5","v":0},0,{"$f":"D1a!K167*1000000*D3b!K42","v":0}]
[null,null,"Total",null,null,{"$f":"SUM(F55:F88)","v":0},{"$f":"SUM(G55:G88)","v":0},{"$f":"SUM(H55:H88)","v":0},0,{"$f":"SUM(J55:K88)","v":0},null,{"$f":"SUM(L55:L88)","v":0},{"$f":"SUM(M55:M88)","v":0},{"$f":"SUM(N55:N88)","v":0},0,{"$f":"SUM(P55:Q88)","v":0},null,{"$f":"SUM(R55:R88)","v":0},{"$f":"SUM(S55:S88)","v":0},{"$f":"SUM(T55:T88)","v":0},0,{"$f":"SUM(V55:W88)","v":0},null,{"$f":"SUM(X55:X88)","v":0},{"$f":"SUM(Y55:Y88)","v":0},{"$f":"SUM(Z55:Z88)","v":0},{"$f":"AB89-SUM(X89:Z89)","v":0},{"$f":"SUM(AB55:AC88)","v":0},null,{"$f":"SUM(AD55:AD88)","v":0},{"$f":"SUM(AE55:AE88)","v":0},{"$f":"SUM(AF55:AF88)","v":0},{"$f":"SUM(AG55:AG88)","v":0},{"$f":"SUM(AH55:AI88)","v":0},null,{"$f":"SUM(AJ55:AJ88)","v":0},{"$f":"SUM(AK55:AK88)","v":0},{"$f":"SUM(AL55:AL88)","v":0},0,{"$f":"SUM(AN55:AO88)","v":0}]
[]
[]
[]
["C.","Emissions directes par poste de résultats / GES (t eq CO2)"]
[]
[null,"Emissions aggrégées"]
[null,null,null,null,null,"CO2","CH4","N2O","Autres GES","GES non spécifié","Total"]
[null,null,null,null,null,"kt eq CO2","kt eq CO2","kt eq CO2","kt eq CO2","kt eq CO2","kt eq CO2"]
[null,null,"Résidentiel",null,null,{"$f":"SUM(F122:F123)","v":0},{"$f":"SUM(G122:G123)","v":0},0,0,0,{"$f":"SUM(K122:K123)","v":0}]
[null,null,"Déplacements",null,null,{"$f":"F124+F125+F126+F127","v":0},{"$f":"G124+G125+G126+G127","v":0},{"$f":"H124+H125+H126+H127","v":0},{"$f":"I124+I125+I126+I127","v":0},{"$f":"J124+J125+J126+J127","v":0},{"$f":"SUM(F99:I99)","v":0}]
[null,null,"Biens de consommation",null,null,{"$f":"F128+F129+F130+F131+F132+F133+F134+F135+F136+F137","v":0},{"$f":"G128+G129+G130+G131+G132+G133+G134+G135+G136","v":0},{"$f":"H128+H129+H130+H131+H132+H133+H134+H135+H136","v":0},{"$f":"I128+I129+I130+I131+I132+I133+I134+I135+I136","v":0},{"$f":"J128+J129+J130+J131+J132+J133+J134+J135+J136","v":0},{"$f":"SUM(F100:I100)","v":0}]
[null,null,"Alimentation",null,null,{"$f":"F138+F139+F140+F141","v":0},{"$f":"G138+G139+G140+G141","v":0},{"$f":"H138+H139+H140+H141","v":5.7000000000000003E-5},{"$f":"I138+I139+I140+I141","v":0},{"$f":"J138+J139+J140+J141","v":0},{"$f":"SUM(F101:I101)","v":5.7000000000000003E-5}]
[null,null,"Services",null,null,{"$f":"F142+F143+F144","v":0},{"$f":"G142+G143+G144","v":0},{"$f":"H142+H143+H144","v":0},{"$f":"I142+I143+I144","v":0},{"$f":"J142+J143+J144","v":0},{"$f":"SUM(F102:I102)","v":0}]
[null,null,"Travaux",null,null,{"$f":"SUM(F145:F147)","v":0},{"$f":"SUM(G145:G147)","v":0},{"$f":"SUM(H145:H147)","v":0},{"$f":"SUM(I145:I147)","v":0},{"$f":"SUM(J145:J147)","v":0},{"$f":"SUM(F103:I103)","v":0}]
[null,null,"Total",null,null,{"$f":"SUM(F98:F103)","v":0},0,5.7000000000000003E-5,0,0,5.7000000000000003E-5]
[]
[null,null,null,null,null,null,null,null,null,"Total régional",58421,null,"kt eq CO2"]
[]
[null,null,null,null,null,"CO2","CH4","N2O","Autres GES","GES non spécifié","Total"]
[null,null,null,null,null,"t eq CO2 / hab","t eq CO2 / hab","t eq CO2 / hab","t eq CO2 / hab","kt eq CO2","t eq CO2 / hab"]
[null,null,"Résidentiel",null,null,{"$f":"F98*1000/Accueil!$D$22","v":{"$error":"#DIV/0!"}},{"$f":"G98*1000/Accueil!$D$22","v":{"$error":"#DIV/0!"}},{"$f":"H98*1000/Accueil!$D$22","v":{"$error":"#DIV/0!"}},{"$f":"I98*1000/Accueil!$D$22","v":{"$error":"#DIV/0!"}},{"$f":"J98*1000/Accueil!$D$22","v":{"$error":"#DIV/0!"}},{"$f":"K98*1000/Accueil!$D$22","v":{"$error":"#DIV/0!"}},{"$f":"L98*1000/Accueil!$D$22","v":{"$error":"#DIV/0!"}}]
[null,null,"Déplacements",null,null,{"$f":"F99*1000/Accueil!$D$22","v":{"$error":"#DIV/0!"}},{"$f":"G99*1000/Accueil!$D$22","v":{"$error":"#DIV/0!"}},{"$f":"H99*1000/Accueil!$D$22","v":{"$error":"#DIV/0!"}},{"$f":"I99*1000/Accueil!$D$22","v":{"$error":"#DIV/0!"}},{"$f":"J99*1000/Accueil!$D$22","v":{"$error":"#DIV/0!"}},{"$f":"SUM(F111:I111)","v":{"$error":"#DIV/0!"}}]
[null,null,"Biens de consommation",null,null,{"$f":"F100*1000/Accueil!$D$22","v":{"$error":"#DIV/0!"}},{"$f":"G100*1000/Accueil!$D$22","v":{"$error":"#DIV/0!"}},{"$f":"H100*1000/Accueil!$D$22","v":{"$error":"#DIV/0!"}},{"$f":"I100*1000/Accueil!$D$22","v":{"$error":"#DIV/0!"}},{"$f":"J100*1000/Accueil!$D$22","v":{"$error":"#DIV/0!"}},{"$f":"SUM(F112:I112)","v":{"$error":"#DIV/0!"}}]
[null,null,"Alimentation",null,null,{"$f":"F101*1000/Accueil!$D$22","v":{"$error":"#DIV/0!"}},{"$f":"G101*1000/Accueil!$D$22","v":{"$error":"#DIV/0!"}},{"$f":"H101*1000/Accueil!$D$22","v":{"$error":"#DIV/0!"}},{"$f":"I101*1000/Accueil!$D$22","v":{"$error":"#DIV/0!"}},{"$f":"J101*1000/Accueil!$D$22","v":{"$error":"#DIV/0!"}},{"$f":"SUM(F113:I113)","v":{"$error":"#DIV/0!"}}]
[null,null,"Services",null,null,{"$f":"F102*1000/Accueil!$D$22","v":{"$error":"#DIV/0!"}},{"$f":"G102*1000/Accueil!$D$22","v":{"$error":"#DIV/0!"}},{"$f":"H102*1000/Accueil!$D$22","v":{"$error":"#DIV/0!"}},{"$f":"I102*1000/Accueil!$D$22","v":{"$error":"#DIV/0!"}},{"$f":"J102*1000/Accueil!$D$22","v":{"$error":"#DIV/0!"}},{"$f":"SUM(F114:I114)","v":{"$error":"#DIV/0!"}}]
[null,null,"Travaux",null,null,{"$f":"F103*1000/Accueil!$D$22","v":{"$error":"#DIV/0!"}},{"$f":"G103*1000/Accueil!$D$22","v":{"$error":"#DIV/0!"}},{"$f":"H103*1000/Accueil!$D$22","v":{"$error":"#DIV/0!"}},{"$f":"I103*1000/Accueil!$D$22","v":{"$error":"#DIV/0!"}},{"$f":"J103*1000/Accueil!$D$22","v":{"$error":"#DIV/0!"}},{"$f":"SUM(F115:I115)","v":{"$error":"#DIV/0!"}}]
[null,null,"Total",null,null,{"$f":"SUM(F110:F115)","v":{"$error":"#DIV/0!"}},{"$error":"#DIV/0!"},{"$error":"#DIV/0!"},{"$error":"#DIV/0!"},{"$error":"#DIV/0!"},{"$error":"#DIV/0!"}]
[]
[]
[null,"Emissions détaillées"]
[null,null,null,null,null,"CO2","CH4","N2O","Autres GES","GES non spécifié","Total"]
[null,null,null,null,null,"kt eq CO2","kt eq CO2","kt eq CO2","kt eq CO2","kt eq CO2","kt eq CO2"]
[null,null,"Résidentiel",null,"Résidentiel",{"$f":"F73/1000000","v":0},{"$f":"G73/1000000","v":0},0,0,0,{"$f":"SUM(F122:J122)","v":0},{"$f":"SUM(K122:K123)","v":0}]
[null,null,null,null,"Chauffage urbain",null,null,null,null,{"$f":"J75/1000000","v":0},{"$f":"SUM(F123:J123)","v":0}]
[null,null,"Déplacements",null,"Routier",{"$f":"SUM(L82:L88)/1000000","v":0},{"$f":"SUM(M82:M88)/1000000","v":0},{"$f":"SUM(N82:N88)/1000000","v":0},{"$f":"SUM(O82:O88)/1000000","v":0},0,{"$f":"SUM(F124:J124)","v":0},{"$f":"SUM(K124:K127)","v":0}]
[null,null,null,null,"Train",{"$f":"L59/1000000","v":0},0,0,0,0,0]
[null,null,null,null,"Bateau",0,0,0,0,0,0]
[null,null,null,null,"Avion",{"$f":"L58/1000000","v":0},{"$f":"M58/1000000","v":0},{"$f":"N58/1000000","v":0},{"$f":"O58/1000000","v":0},0,0]
[null,null,"Biens de consommation",null,"Industrie - sidérurgie",{"$f":"(R66+R81)/1000000","v":0},{"$f":"(S66+S81)/1000000","v":0},{"$f":"(T66+T81)/1000000","v":0},{"$f":"(U66+U81)/1000000","v":0},0,0,{"$f":"SUM(K128:K137)","v":0}]
[null,null,null,null,"Industrie - métallurgie non-ferreux",{"$f":"R67/1000000","v":0},{"$f":"S67/1000000","v":0},{"$f":"T67/1000000","v":0},{"$f":"U67/1000000","v":0},0,0]
[null,null,null,null,"Industrie - chimie",{"$f":"R64/1000000","v":0},{"$f":"S64/1000000","v":0},{"$f":"T64/1000000","v":0},{"$f":"U64/1000000","v":0},0,0]
[null,null,null,null,"Industrie - papier carton",{"$f":"R69/1000000","v":0},{"$f":"S69/1000000","v":0},{"$f":"T69/1000000","v":0},{"$f":"U69/1000000","v":0},0,0]
[null,null,null,null,"Industrie - verre",{"$f":"R68/1000000","v":0},{"$f":"S68/1000000","v":0},{"$f":"T68/1000000","v":0},{"$f":"U68/1000000","v":0},0,0]
[null,null,null,null,"Industrie - automobile",{"$f":"R63/1000000","v":0},{"$f":"S63/1000000","v":0},{"$f":"T63/1000000","v":0},{"$f":"U63/1000000","v":0},0,0]
[null,null,null,null,"Industrie - divers",{"$f":"(R62+R70+R72+R76+R77+R78+R80+R75)/1000000","v":0},{"$f":"(S62+S70+S72+S76+S77+S78+S80+S75)/1000000","v":0},{"$f":"(T62+T70+T72+T76+T77+T78+T80+T75)/1000000","v":0},{"$f":"(U62+U70+U72+U76+U77+U78+U80+U75)/1000000","v":0},0,0]
[null,null,null,null,"Fret",{"$f":"(R59+R60+R84+R88)/1000000","v":0},{"$f":"(S59+S60+S84+S88)/1000000","v":0},{"$f":"(T59+T60+T84+T88)/1000000","v":0},{"$f":"(U59+U60+U84+U88)/1000000","v":0},0,0]
[null,null,null,null,"Production d'électricité",{"$f":"R79/1000000","v":0},{"$f":"S79/1000000","v":0},{"$f":"T79/1000000","v":0},{"$f":"U79/1000000","v":0},0,0]
[null,null,null,null,"Chauffage urbain",null,null,null,null,{"$f":"V75/100000","v":0},0]
[null,null,"Alimentation",null,"Agriculture",{"$f":"(X55+X56+X57)/1000000","v":0},{"$f":"(Y55+Y56+Y57)/1000000","v":0},{"$f":"(Z55+Z56+Z57)/1000000","v":0},{"$f":"(AA55+AA56+AA57)/1000000","v":0},0,{"$f":"SUM(F138:I138)","v":0},{"$f":"SUM(K138:K141)","v":5.7000000000000003E-5}]
[null,null,null,null,"Agroalimentaire",{"$f":"X61/1000000","v":0},{"$f":"Y61/1000000","v":0},{"$f":"Z61/1000000","v":0},{"$f":"AA61/1000000","v":0},0,0]
[null,null,null,null,"Fret",{"$f":"(X59+X60+X84+X88)/1000000","v":0},{"$f":"(Y59+Y60+Y84+Y88)/1000000","v":0},{"$f":"(57+Z60+Z84+Z88)/1000000","v":5.7000000000000003E-5},{"$f":"(AA59+AA60+AA84+AA88)/1000000","v":0},0,5.7000000000000003E-5]
[null,null,null,null,"Chauffage urbain",null,null,null,null,{"$f":"AC75/1000000","v":0},0]
[null,null,"Services",null,"Tertiaire (hors électricité)",{"$f":"(AD74+AD75)/1000000","v":0},{"$f":"(AE74+AE75)/1000000","v":0},{"$f":"(AF74+AF75)/1000000","v":0},{"$f":"(AG74+AG75)/1000000","v":0},0,0,{"$f":"SUM(K142:K144)","v":0}]
[null,null,null,null,"Déchets (hors électricité)",{"$f":"AD71/1000000","v":0},{"$f":"AE71/1000000","v":0},{"$f":"AF71/1000000","v":0},{"$f":"AG71/1000000","v":0},0,0]
[null,null,null,null,"Chauffage urbain",null,null,null,null,{"$f":"AH75/1000000","v":0},{"$f":"SUM(F144:I144)","v":0}]
[null,null,"Travaux",null,"Construction",{"$f":"AJ65/1000000","v":0},{"$f":"AK65/1000000","v":0},{"$f":"AL65/1000000","v":0},{"$f":"AM65/1000000","v":0},0,{"$f":"SUM(F145:I145)","v":0},{"$f":"SUM(K145:K147)","v":0}]
[null,null,null,null,"Minéraux non-métalliques et matériaux de construction",{"$f":"AJ68/1000000","v":0},{"$f":"AK68/1000000","v":0},{"$f":"AL68/1000000","v":0},{"$f":"AM68/1000000","v":0},0,{"$f":"SUM(F146:I146)","v":0}]
[null,null,null,null,"Chauffage urbain",null,null,null,null,{"$f":"AN75/1000000","v":0},{"$f":"SUM(F147:I147)","v":0}]
[null,null,"Total",null,null,{"$f":"SUM(F122:F147)","v":0},0,5.7000000000000003E-5,0,0,5.7000000000000003E-5,5.7000000000000003E-5]
[]
[]
[null,null,null,null,null,"Total GES"]
[null,null,null,null,null,"kt eq CO2","%"]
[null,null,null,null,"Total résidentiel",{"$f":"K122","v":0},{"$f":"F153/F153","v":{"$error":"#DIV/0!"}}]
[]
[null,null,"Déplacements",null,"Routier",{"$f":"K124","v":0},{"$f":"F155/$F$159","v":{"$error":"#DIV/0!"}}]
[null,null,null,null,"Train",{"$f":"K125","v":0},{"$f":"F156/$F$159","v":{"$error":"#DIV/0!"}},null,"Postes principaux"]
[null,null,null,null,"Bateau",{"$f":"K126","v":0},{"$f":"F157/$F$159","v":{"$error":"#DIV/0!"}},null,"Rang","kt eq CO2","Poste"]
[null,null,null,null,"Avion",{"$f":"K127","v":0},{"$f":"F158/$F$159","v":{"$error":"#DIV/0!"}},null,1,{"$f":"LARGE($K$98:$K$103,I158)","v":5.7000000000000003E-5},{"$f":"IF(J158=0,\"-\",INDEX($C$98:$C$103,MATCH(J158,$K$98:$K$103,0)))","v":"Alimentation"}]
[null,null,null,null,"Total déplacements",{"$f":"SUM(F155:F158)","v":0},{"$f":"SUM(G155:G158)","v":{"$error":"#DIV/0!"}},null,2,0,"-"]
[null,null,null,null,null,null,null,null,3,0,"-"]
[null,null,"Biens de consommation",null,"Industrie - sidérurgie",{"$f":"K128","v":0},{"$f":"F161/$F$170","v":{"$error":"#DIV/0!"}},null,4,0,"-"]
[null,null,null,null,"Industrie - métallurgie non-ferreux",{"$f":"K129","v":0},{"$error":"#DIV/0!"},null,5,0,"-"]
[null,null,null,null,"Industrie - chimie",{"$f":"K130","v":0},{"$error":"#DIV/0!"},null,6,0,"-"]
[null,null,null,null,"Industrie - papier carton",{"$f":"K131","v":0},{"$error":"#DIV/0!"}]
[null,null,null,null,"Industrie - automobile",{"$f":"K133","v":0},{"$error":"#DIV/0!"}]
[null,null,null,null,"Industrie - divers",{"$f":"K134","v":0},{"$error":"#DIV/0!"}]
[null,null,null,null,"Production d'électricité",{"$f":"K136","v":0},{"$error":"#DIV/0!"}]
[null,null,null,null,"Fret",{"$f":"K135","v":0},{"$error":"#DIV/0!"}]
[null,null,null,null,{"$f":"E137","v":"Chauffage urbain"},{"$f":"J137","v":0},{"$error":"#DIV/0!"}]
[null,null,null,null,"Total consommation",{"$f":"SUM(F161:F168)","v":0},{"$f":"SUM(G161:G168)","v":{"$error":"#DIV/0!"}}]
[]
[null,null,"Alimentation",null,"Agriculture",{"$f":"K138","v":0},{"$f":"F172/$F$176","v":0}]
[null,null,null,null,"Agroalimentaire",{"$f":"K139","v":0},{"$f":"F173/$F$176","v":0}]
[null,null,null,null,"Fret",{"$f":"K140","v":5.7000000000000003E-5},{"$f":"F174/$F$176","v":1}]
[null,null,null,null,{"$f":"E141","v":"Chauffage urbain"},{"$f":"J141","v":0},{"$f":"F175/$F$176","v":0}]
[null,null,null,null,"Total alimentation",{"$f":"SUM(F172:F174)","v":5.7000000000000003E-5},{"$f":"SUM(G172:G174)","v":1}]
[]
[null,null,"Services",null,"Tertiaire",{"$f":"K142","v":0},{"$f":"F178/$F$181","v":{"$error":"#DIV/0!"}}]
[null,null,null,null,"Déchets",{"$f":"K143","v":0},{"$f":"F179/$F$181","v":{"$error":"#DIV/0!"}}]
[null,null,null,null,{"$f":"E144","v":"Chauffage urbain"},{"$f":"J144","v":0},{"$f":"F180/$F$181","v":{"$error":"#DIV/0!"}}]
[null,null,null,null,"Total services",{"$f":"SUM(F178:F179)","v":0},{"$f":"SUM(G178:G179)","v":{"$error":"#DIV/0!"}}]
[]
[null,null,"Travaux",null,"Construction",{"$f":"K145","v":0},{"$f":"F183/$F$186","v":{"$error":"#DIV/0!"}}]
[null,null,null,null,"Industries - minéraux non métalliques et matériaux de construction",{"$f":"K146","v":0},{"$f":"F184/$F$186","v":{"$error":"#DIV/0!"}}]
[null,null,null,null,{"$f":"E147","v":"Chauffage urbain"},{"$f":"J147","v":0},{"$f":"F185/$F$186","v":{"$error":"#DIV/0!"}}]
[null,null,null,null,"Total travaux",{"$f":"SUM(F183:F185)","v":0},{"$f":"F186/$F$186","v":{"$error":"#DIV/0!"}}]

{"sheet":"R2","index":32,"n_rows":135,"n_cols":22,"rows_kept":135,"cut":false,"hidden":false,"merged":[[115,14,115,16],[99,14,99,16],[115,4,115,6],[99,4,99,6],[124,2,124,3],[108,2,108,3],[104,2,104,3],[120,2,120,3],[57,2,57,3],[44,2,44,3],[51,2,51,3],[52,2,52,3],[53,2,53,3],[54,2,54,3],[55,2,55,3],[56,2,56,3],[43,2,43,3],[38,2,38,3],[39,2,39,3],[40,2,40,3],[41,2,41,3],[42,2,42,3],[9,2,9,3],[10,2,10,3],[11,2,11,3],[13,2,13,3],[28,2,28,3],[12,2,12,3],[14,2,14,3],[27,2,27,3],[24,2,24,3],[25,2,25,3],[26,2,26,3],[15,2,15,3],[22,2,22,3],[23,2,23,3],[64,2,65,3],[64,4,65,5],[66,2,66,3],[66,4,66,5],[63,6,63,7],[67,2,67,3],[67,4,67,5],[68,2,68,3],[68,4,68,5],[69,2,69,3],[69,4,69,5],[70,2,70,3],[70,4,70,5],[71,2,71,3],[71,4,71,5],[72,2,72,3],[72,4,72,5],[73,2,73,3],[73,4,73,5],[74,2,74,3],[74,4,74,5],[75,2,75,3],[75,4,75,5],[90,2,90,3],[86,2,86,3],[86,4,86,5],[87,2,87,3],[87,4,87,5],[88,4,88,5],[90,4,90,5],[89,4,89,5],[89,2,89,3],[76,2,76,5],[91,2,91,5],[78,6,78,7],[79,2,80,3],[79,4,80,5],[81,2,81,3],[82,2,82,3],[83,2,83,3],[81,4,81,5],[82,4,82,5],[83,4,83,5],[88,2,88,3],[84,2,84,3],[84,4,84,5],[85,2,85,3],[85,4,85,5],[132,4,132,5],[133,4,133,5],[134,4,134,5],[127,2,127,5],[128,4,128,5],[129,4,129,5],[130,4,130,5],[131,4,131,5]]}
[]
[null,"Récapitulatif"]
[]
[null,"Emissions directes"]
[]
[null,"Synthèse - émissions directes de GES / polluants",null,null,null,null,null,null,null,null,null,null,null,"Synthèse - émissions directes de GES / polluants"]
[]
[null,null,null,null,"GES","PM10","NOx","COVNM","PM2.5","SO2","NH3",null,null,null,null,"GES","PM10","NOx","COVNM","PM2.5","SO2","NH3"]
[null,null,null,null,"kt eq CO2","tonnes","tonnes","tonnes","tonnes","tonnes","tonnes",null,null,null,null,"kt eq CO2","tonnes","tonnes","tonnes","tonnes","tonnes","tonnes"]
[null,null,"Résidentiel",null,{"$f":"Resid!G41","v":0},{"$f":"Resid!H41","v":0},{"$f":"Resid!I41","v":0},{"$f":"Resid!J41","v":0},{"$f":"Resid!K41","v":0},{"$f":"Resid!L41","v":0},{"$f":"Resid!M41","v":0},null,null,null,"Ménages",{"$f":"E10+E11","v":0},0,0,0,0,0,0]
[null,null,"Déplacements",null,{"$f":"Depl!F41","v":0},{"$f":"Depl!G41","v":0},{"$f":"Depl!H41","v":0},{"$f":"Depl!I41","v":0},{"$f":"Depl!J41","v":0},{"$f":"Depl!K41","v":0},{"$f":"Depl!L41","v":0},null,null,null,"Activités économiques",{"$f":"E12+E13+E14+E15","v":0},0,0,0,0,0,0]
[null,null,"Biens de consommation",null,{"$f":"'Biens de conso'!F86","v":0},{"$f":"'Biens de conso'!G86","v":0},{"$f":"'Biens de conso'!H86","v":0},{"$f":"'Biens de conso'!I86","v":0},{"$f":"'Biens de conso'!J86","v":0},{"$f":"'Biens de conso'!K86","v":0},{"$f":"'Biens de conso'!L86","v":0},null,null,null,"Total",{"$f":"SUM(P10:P11)","v":0},0,0,0,0,0,0]
[null,null,"Alimentation",null,{"$f":"Alim!F41","v":0},{"$f":"Alim!G41","v":0},{"$f":"Alim!H41","v":0},{"$f":"Alim!I41","v":0},{"$f":"Alim!J41","v":0},{"$f":"Alim!K41","v":0},{"$f":"Alim!L41","v":0}]
[null,null,"Services",null,{"$f":"Serv!F41","v":0},{"$f":"Serv!G41","v":0},{"$f":"Serv!H41","v":0},{"$f":"Serv!I41","v":0},{"$f":"Serv!J41","v":0},{"$f":"Serv!K41","v":0},{"$f":"Serv!L41","v":0}]
[null,null,"Travaux",null,{"$f":"Tra!F46","v":0},{"$f":"Tra!G46","v":0},{"$f":"Tra!H46","v":0},{"$f":"Tra!I46","v":0},{"$f":"Tra!J46","v":0},{"$f":"Tra!K46","v":0},{"$f":"Tra!L46","v":0}]
[null,null,"Total",null,{"$f":"SUM(E10:E15)","v":0},{"$f":"SUM(F10:F15)","v":0},0,0,0,0,0]
[]
[]
[null,"Synthèse - émissions directes de GES / polluants - par habitant"]
[]
[null,null,null,null,"GES","PM10","NOx","COVNM","PM2.5","SO2","NH3"]
[null,null,null,null,"t eq CO2 / hab","kg / hab","kg / hab","kg / hab","kg / hab","kg / hab","kg / hab"]
[null,null,"Résidentiel",null,{"$f":"1000*E10/Accueil!$D$22","v":{"$error":"#DIV/0!"}},{"$f":"1000*F10/Accueil!$D$22","v":{"$error":"#DIV/0!"}},{"$f":"1000*G10/Accueil!$D$22","v":{"$error":"#DIV/0!"}},{"$f":"1000*H10/Accueil!$D$22","v":{"$error":"#DIV/0!"}},{"$f":"1000*I10/Accueil!$D$22","v":{"$error":"#DIV/0!"}},{"$f":"1000*J10/Accueil!$D$22","v":{"$error":"#DIV/0!"}},{"$f":"1000*K10/Accueil!$D$22","v":{"$error":"#DIV/0!"}}]
[null,null,"Déplacements",null,{"$f":"1000*E11/Accueil!$D$22","v":{"$error":"#DIV/0!"}},{"$f":"1000*F11/Accueil!$D$22","v":{"$error":"#DIV/0!"}},{"$f":"1000*G11/Accueil!$D$22","v":{"$error":"#DIV/0!"}},{"$f":"1000*H11/Accueil!$D$22","v":{"$error":"#DIV/0!"}},{"$f":"1000*I11/Accueil!$D$22","v":{"$error":"#DIV/0!"}},{"$f":"1000*J11/Accueil!$D$22","v":{"$error":"#DIV/0!"}},{"$f":"1000*K11/Accueil!$D$22","v":{"$error":"#DIV/0!"}}]
[null,null,"Biens de consommation",null,{"$f":"1000*E12/Accueil!$D$22","v":{"$error":"#DIV/0!"}},{"$f":"1000*F12/Accueil!$D$22","v":{"$error":"#DIV/0!"}},{"$f":"1000*G12/Accueil!$D$22","v":{"$error":"#DIV/0!"}},{"$f":"1000*H12/Accueil!$D$22","v":{"$error":"#DIV/0!"}},{"$f":"1000*I12/Accueil!$D$22","v":{"$error":"#DIV/0!"}},{"$f":"1000*J12/Accueil!$D$22","v":{"$error":"#DIV/0!"}},{"$f":"1000*K12/Accueil!$D$22","v":{"$error":"#DIV/0!"}}]
[null,null,"Alimentation",null,{"$f":"1000*E13/Accueil!$D$22","v":{"$error":"#DIV/0!"}},{"$f":"1000*F13/Accueil!$D$22","v":{"$error":"#DIV/0!"}},{"$f":"1000*G13/Accueil!$D$22","v":{"$error":"#DIV/0!"}},{"$f":"1000*H13/Accueil!$D$22","v":{"$error":"#DIV/0!"}},{"$f":"1000*I13/Accueil!$D$22","v":{"$error":"#DIV/0!"}},{"$f":"1000*J13/Accueil!$D$22","v":{"$error":"#DIV/0!"}},{"$f":"1000*K13/Accueil!$D$22","v":{"$error":"#DIV/0!"}}]
[null,null,"Services",null,{"$f":"1000*E14/Accueil!$D$22","v":{"$error":"#DIV/0!"}},{"$f":"1000*F14/Accueil!$D$22","v":{"$error":"#DIV/0!"}},{"$f":"1000*G14/Accueil!$D$22","v":{"$error":"#DIV/0!"}},{"$f":"1000*H14/Accueil!$D$22","v":{"$error":"#DIV/0!"}},{"$f":"1000*I14/Accueil!$D$22","v":{"$error":"#DIV/0!"}},{"$f":"1000*J14/Accueil!$D$22","v":{"$error":"#DIV/0!"}},{"$f":"1000*K14/Accueil!$D$22","v":{"$error":"#DIV/0!"}}]
[null,null,"Travaux",null,{"$f":"1000*E15/Accueil!$D$22","v":{"$error":"#DIV/0!"}},{"$f":"1000*F15/Accueil!$D$22","v":{"$error":"#DIV/0!"}},{"$f":"1000*G15/Accueil!$D$22","v":{"$error":"#DIV/0!"}},{"$f":"1000*H15/Accueil!$D$22","v":{"$error":"#DIV/0!"}},{"$f":"1000*I15/Accueil!$D$22","v":{"$error":"#DIV/0!"}},{"$f":"1000*J15/Accueil!$D$22","v":{"$error":"#DIV/0!"}},{"$f":"1000*K15/Accueil!$D$22","v":{"$error":"#DIV/0!"}}]
[null,null,"Total",null,{"$f":"SUM(E23:E28)","v":{"$error":"#DIV/0!"}},{"$error":"#DIV/0!"},{"$error":"#DIV/0!"},{"$error":"#DIV/0!"},{"$error":"#DIV/0!"},{"$error":"#DIV/0!"},{"$error":"#DIV/0!"}]
[]
[]
[]
[null,"Emissions indirectes"]
[]
[null,"Synthèse - émissions indirectes de GES / polluants"]
[]
[null,null,null,null,"GES","PM10","NOx","COVNM","PM2.5","SO2","NH3"]
[null,null,null,null,"kt eq CO2","tonnes","tonnes","tonnes","tonnes","tonnes","tonnes"]
[null,null,"Résidentiel",null,{"$f":"SUM(Resid!F28:F31)","v":0},{"$f":"SUM(Resid!G28:G31)","v":0},{"$f":"SUM(Resid!H28:H31)","v":0},{"$f":"SUM(Resid!I28:I31)","v":0},{"$f":"SUM(Resid!J28:J31)","v":0},{"$f":"SUM(Resid!K28:K31)","v":0},{"$f":"SUM(Resid!L28:L31)","v":0}]
[null,null,"Déplacements",null,{"$f":"SUM(Depl!F24:F27)","v":{"$error":"#DIV/0!"}},{"$f":"SUM(Depl!G24:G27)","v":{"$error":"#DIV/0!"}},{"$f":"SUM(Depl!H24:H27)","v":{"$error":"#DIV/0!"}},{"$f":"SUM(Depl!I24:I27)","v":{"$error":"#DIV/0!"}},{"$f":"SUM(Depl!J24:J27)","v":{"$error":"#DIV/0!"}},{"$f":"SUM(Depl!K24:K27)","v":{"$error":"#DIV/0!"}},{"$f":"SUM(Depl!L24:L27)","v":{"$error":"#DIV/0!"}},null,null,null,"Approche incomplète"]
[null,null,"Biens de consommation",null,{"$f":"'Biens de conso'!J67","v":{"$error":"#DIV/0!"}},{"$f":"'Biens de conso'!G41-'Biens de conso'!G34","v":0},{"$f":"'Biens de conso'!H41-'Biens de conso'!H34","v":0},{"$f":"'Biens de conso'!I41-'Biens de conso'!I34","v":0},{"$f":"'Biens de conso'!J41-'Biens de conso'!J34","v":0},{"$f":"'Biens de conso'!K41-'Biens de conso'!K34","v":0},{"$f":"'Biens de conso'!L41-'Biens de conso'!L34","v":0}]
[null,null,"Alimentation",null,{"$f":"SUM(Alim!F24:'Alim'!F27)","v":0},{"$f":"SUM(Alim!G24:'Alim'!G27)","v":0},{"$f":"SUM(Alim!H24:'Alim'!H27)","v":0},{"$f":"SUM(Alim!I24:'Alim'!I27)","v":0},{"$f":"SUM(Alim!J24:'Alim'!J27)","v":0},{"$f":"SUM(Alim!K24:'Alim'!K27)","v":0},{"$f":"SUM(Alim!L24:'Alim'!L27)","v":0}]
[null,null,"Services",null,{"$f":"SUM(Serv!F24:F28)","v":0},{"$f":"SUM(Serv!G24:G28)","v":0},{"$f":"SUM(Serv!H24:H28)","v":0},{"$f":"SUM(Serv!I24:I28)","v":0},{"$f":"SUM(Serv!J24:J28)","v":0},{"$f":"SUM(Serv!K24:K28)","v":0},{"$f":"SUM(Serv!L24:L28)","v":0}]
[null,null,"Travaux",null,{"$f":"SUM(Tra!F28:'Tra'!F32)","v":0},{"$f":"SUM(Tra!G28:'Tra'!G32)","v":0},{"$f":"SUM(Tra!H28:'Tra'!H32)","v":0},{"$f":"SUM(Tra!I28:'Tra'!I32)","v":0},{"$f":"SUM(Tra!J28:'Tra'!J32)","v":0},{"$f":"SUM(Tra!K28:'Tra'!K32)","v":0},{"$f":"SUM(Tra!L28:'Tra'!L32)","v":0}]
[null,null,"Total",null,{"$f":"SUM(E39:E44)","v":{"$error":"#DIV/0!"}},{"$f":"F39+F40","v":{"$error":"#DIV/0!"}},{"$error":"#DIV/0!"},{"$error":"#DIV/0!"},{"$error":"#DIV/0!"},{"$error":"#DIV/0!"},{"$error":"#DIV/0!"}]
[]
[]
[null,"Synthèse - émissions indirectes de GES / polluants - par habitant"]
[]
[null,null,null,null,"GES","PM10","NOx","COVNM","PM2.5","SO2","NH3"]
[null,null,null,null,"t eq CO2 / hab","kg / hab","kg / hab","kg / hab","kg / hab","kg / hab","kg / hab"]
[null,null,"Résidentiel",null,{"$f":"1000*E39/Accueil!$D$22","v":{"$error":"#DIV/0!"}},{"$f":"1000*F39/Accueil!$D$22","v":{"$error":"#DIV/0!"}},{"$f":"1000*G39/Accueil!$D$22","v":{"$error":"#DIV/0!"}},{"$f":"1000*H39/Accueil!$D$22","v":{"$error":"#DIV/0!"}},{"$f":"1000*I39/Accueil!$D$22","v":{"$error":"#DIV/0!"}},{"$f":"1000*J39/Accueil!$D$22","v":{"$error":"#DIV/0!"}},{"$f":"1000*K39/Accueil!$D$22","v":{"$error":"#DIV/0!"}}]
[null,null,"Déplacements",null,{"$f":"1000*E40/Accueil!$D$22","v":{"$error":"#DIV/0!"}},{"$f":"1000*F40/Accueil!$D$22","v":{"$error":"#DIV/0!"}},{"$f":"1000*G40/Accueil!$D$22","v":{"$error":"#DIV/0!"}},{"$f":"1000*H40/Accueil!$D$22","v":{"$error":"#DIV/0!"}},{"$f":"1000*I40/Accueil!$D$22","v":{"$error":"#DIV/0!"}},{"$f":"1000*J40/Accueil!$D$22","v":{"$error":"#DIV/0!"}},{"$f":"1000*K40/Accueil!$D$22","v":{"$error":"#DIV/0!"}}]
[null,null,"Biens de consommation",null,{"$f":"1000*E41/Accueil!$D$22","v":{"$error":"#DIV/0!"}},{"$f":"1000*F41/Accueil!$D$22","v":{"$error":"#DIV/0!"}},{"$f":"1000*G41/Accueil!$D$22","v":{"$error":"#DIV/0!"}},{"$f":"1000*H41/Accueil!$D$22","v":{"$error":"#DIV/0!"}},{"$f":"1000*I41/Accueil!$D$22","v":{"$error":"#DIV/0!"}},{"$f":"1000*J41/Accueil!$D$22","v":{"$error":"#DIV/0!"}},{"$f":"1000*K41/Accueil!$D$22","v":{"$error":"#DIV/0!"}},null,null,null,"Approche incomplète"]
[null,null,"Alimentation",null,{"$f":"1000*E42/Accueil!$D$22","v":{"$error":"#DIV/0!"}},{"$f":"1000*F42/Accueil!$D$22","v":{"$error":"#DIV/0!"}},{"$f":"1000*G42/Accueil!$D$22","v":{"$error":"#DIV/0!"}},{"$f":"1000*H42/Accueil!$D$22","v":{"$error":"#DIV/0!"}},{"$f":"1000*I42/Accueil!$D$22","v":{"$error":"#DIV/0!"}},{"$f":"1000*J42/Accueil!$D$22","v":{"$error":"#DIV/0!"}},{"$f":"1000*K42/Accueil!$D$22","v":{"$error":"#DIV/0!"}}]
[null,null,"Services",null,{"$f":"1000*E43/Accueil!$D$22","v":{"$error":"#DIV/0!"}},{"$f":"1000*F43/Accueil!$D$22","v":{"$error":"#DIV/0!"}},{"$f":"1000*G43/Accueil!$D$22","v":{"$error":"#DIV/0!"}},{"$f":"1000*H43/Accueil!$D$22","v":{"$error":"#DIV/0!"}},{"$f":"1000*I43/Accueil!$D$22","v":{"$error":"#DIV/0!"}},{"$f":"1000*J43/Accueil!$D$22","v":{"$error":"#DIV/0!"}},{"$f":"1000*K43/Accueil!$D$22","v":{"$error":"#DIV/0!"}}]
[null,null,"Travaux",null,{"$f":"1000*E44/Accueil!$D$22","v":{"$error":"#DIV/0!"}},{"$f":"1000*F44/Accueil!$D$22","v":{"$error":"#DIV/0!"}},{"$f":"1000*G44/Accueil!$D$22","v":{"$error":"#DIV/0!"}},{"$f":"1000*H44/Accueil!$D$22","v":{"$error":"#DIV/0!"}},{"$f":"1000*I44/Accueil!$D$22","v":{"$error":"#DIV/0!"}},{"$f":"1000*J44/Accueil!$D$22","v":{"$error":"#DIV/0!"}},{"$f":"1000*K44/Accueil!$D$22","v":{"$error":"#DIV/0!"}}]
[null,null,"Total",null,{"$f":"SUM(E52:E57)","v":{"$error":"#DIV/0!"}},{"$error":"#DIV/0!"},{"$error":"#DIV/0!"},{"$error":"#DIV/0!"},{"$error":"#DIV/0!"},{"$error":"#DIV/0!"},{"$f":"SUM(K52:K57)","v":{"$error":"#DIV/0!"}}]
[]
[]
[null,"Biens de consommation - imports / exports avec l'étranger - impact des produits"]
[]
[]
[null,null,null,null,null,null,"A l'étranger"]
[null,null,null,null,"Nomenclature\nCPF4",null,"Imports","Exports"]
[null,null,null,null,null,null,"(kt eq CO2)","(kt eq CO2)"]
[null,null,"TLC - textile linge chaussures",null,"C13Z, C14Z, C15Z",null,{"$f":"'Biens de conso'!M161+'Biens de conso'!M162+'Biens de conso'!M163","v":0},{"$f":"'Biens de conso'!N161+'Biens de conso'!N162+'Biens de conso'!N163","v":0}]
[null,null,"Pâte à papier, papier et carton",null,"C17A",null,{"$f":"'Biens de conso'!M165","v":0},{"$f":"'Biens de conso'!N165","v":0}]
[null,null,"Articles en papier / carton",null,"C17B",null,{"$f":"'Biens de conso'!M166","v":0},{"$f":"'Biens de conso'!N166","v":0}]
[null,null,"Produits chimiques",null,"C20A, C20B, C20C",null,{"$f":"'Biens de conso'!M168+'Biens de conso'!M169+'Biens de conso'!M170+'Biens de conso'!M171+'Biens de conso'!M172+'Biens de conso'!M173+'Biens de conso'!M174","v":0},{"$f":"'Biens de conso'!N168+'Biens de conso'!N169+'Biens de conso'!N170+'Biens de conso'!N171+'Biens de conso'!N172+'Biens de conso'!N173+'Biens de conso'!N174","v":0}]
[null,null,"Verre",null,"C23A",null,{"$f":"'Biens de conso'!M178+'Biens de conso'!M179+'Biens de conso'!M180+'Biens de conso'!M181","v":0},{"$f":"'Biens de conso'!N178+'Biens de conso'!N179+'Biens de conso'!N180+'Biens de conso'!N181","v":0}]
[null,null,"Produits sidérurgiques et acier",null,"C24A",null,{"$f":"'Biens de conso'!M182","v":0},{"$f":"'Biens de conso'!N182","v":0}]
[null,null,"Métaux non ferreux",null,"C24B",null,{"$f":"'Biens de conso'!M183+'Biens de conso'!M184+'Biens de conso'!M185+'Biens de conso'!M186","v":0},{"$f":"'Biens de conso'!N183+'Biens de conso'!N184+'Biens de conso'!N185+'Biens de conso'!N186","v":0}]
[null,null,"EEE - equipement électrique électronique",null,"C26A, C26B, C26C, C26D, C26E, C26F, C26G, C27A, C27B",null,{"$f":"'Biens de conso'!M191+'Biens de conso'!M192+'Biens de conso'!M193+'Biens de conso'!M194+'Biens de conso'!M195+'Biens de conso'!M198+'Biens de conso'!M199+'Biens de conso'!M200+'Biens de conso'!M201+'Biens de conso'!M202","v":0},{"$f":"'Biens de conso'!N191+'Biens de conso'!N192+'Biens de conso'!N193+'Biens de conso'!N194+'Biens de conso'!N195+'Biens de conso'!N198+'Biens de conso'!N199+'Biens de conso'!N200+'Biens de conso'!N201+'Biens de conso'!N202","v":0}]
[null,null,"Automobile",null,"C29A",null,{"$f":"'Biens de conso'!M206","v":0},{"$f":"'Biens de conso'!N206","v":0}]
[null,null,"Autres",null,"-",null,{"$f":"'Biens de conso'!M222-SUM('R2'!G67:G75)","v":0},{"$f":"'Biens de conso'!N222-SUM('R2'!H67:H75)","v":0}]
[null,null,"Total",null,null,null,{"$f":"SUM(G67:G76)","v":0},{"$f":"SUM(H67:H76)","v":0}]
[]
[null,null,null,null,null,null,"Interrégionale"]
[null,null,null,null,"Nomenclature\nNST 2007",null,"Imports","Exports"]
[null,null,null,null,null,null,"(kt eq CO2)","(kt eq CO2)"]
[null,null,"Minerais, tourbe et autres produits d'extraction",null,"Minerais, tourbe et autres produits d'extraction",null,{"$f":"'Biens de conso'!M272","v":0},{"$f":"'Biens de conso'!N272","v":0}]
[null,null,"TLC - textile linge chaussures",null,"Textiles, cuirs et produits dérivés",null,{"$f":"'Biens de conso'!M274","v":0},{"$f":"'Biens de conso'!N274","v":0}]
[null,null,"Bois, pâte à papier, papier et produits de l'édition",null,"Bois, pâte à papier, papier et produits de l'édition",null,{"$f":"'Biens de conso'!M275","v":0},{"$f":"'Biens de conso'!N275","v":0}]
[null,null,"Produits chimiques, caoutchouc, plastique et combustible nucléaire",null,"Produits chimiques, caoutchouc, plastique et combustible nucléaire",null,{"$f":"'Biens de conso'!M277","v":0},{"$f":"'Biens de conso'!N277","v":0}]
[null,null,"Métaux de base, produits métalliques",null,"Métaux de base, produits métalliques",null,{"$f":"'Biens de conso'!M279","v":0},{"$f":"'Biens de conso'!N279","v":0}]
[null,null,"Machines et matériel n.c.a, produits des TIC et instruments de précision",null,"Machines et matériel n.c.a, produits des TIC et instruments de précision",null,{"$f":"'Biens de conso'!M280","v":0},{"$f":"'Biens de conso'!N280","v":0}]
[null,null,"Matériel de transport",null,"Matériel de transport",null,{"$f":"'Biens de conso'!M281","v":0},{"$f":"'Biens de conso'!N281","v":0}]
[null,null,"Meubles; autres produits manufacturés n.c.a.",null,"Meubles; autres produits manufacturés n.c.a.",null,{"$f":"'Biens de conso'!M282","v":0},{"$f":"'Biens de conso'!N282","v":0}]
[null,null,"Equipement pour le transport de fret",null,"Equipement pour le transport de fret",null,{"$f":"'Biens de conso'!M285","v":0},{"$f":"'Biens de conso'!N285","v":0}]
[null,null,"Autres",null,"Marchandises groupées ; Marchandises non identifiables ; Autres marchandises.",null,{"$f":"'Biens de conso'!M287+'Biens de conso'!M288+'Biens de conso'!M289","v":0},{"$f":"'Biens de conso'!N287+'Biens de conso'!N288+'Biens de conso'!N289","v":0}]
[null,null,"Total",null,null,null,{"$f":"SUM(G82:G91)","v":0},{"$f":"SUM(H82:H91)","v":0}]
[]
[]
[]
[null,"Emissions liées à la consommation"]
[]
[null,"Synthèse - émissions liées à la consommation"]
[]
[null,null,null,null,"GES"]
[null,null,null,null,"Emissions\ndirectes","Emissions indirectes","Emissions\nliées à la conso"]
[null,null,null,null,"kt eq CO2","kt eq CO2","kt eq CO2"]
[null,null,"Résidentiel",null,{"$f":"E10","v":0},{"$f":"E39","v":0},{"$f":"E103+F103","v":0}]
[null,null,"Déplacements",null,0,{"$error":"#DIV/0!"},{"$error":"#DIV/0!"}]
[null,null,"Biens de consommation",null,0,{"$error":"#DIV/0!"},{"$error":"#DIV/0!"}]
[null,null,"Alimentation",null,0,0,0]
[null,null,"Services",null,0,0,0]
[null,null,"Travaux",null,0,0,0]
[null,null,"Total",null,{"$f":"SUM(E103:E108)","v":0},{"$f":"SUM(F103:F108)","v":{"$error":"#DIV/0!"}},{"$f":"SUM(G103:G108)","v":{"$error":"#DIV/0!"}}]
[]
[]
[null,null,null,null,null,"Total régional",71247,"kt eq CO2"]
[]
[null,"Synthèse - émissions liées à la consommation - par habitant"]
[]
[null,null,null,null,"GES"]
[null,null,null,null,"Emissions\ndirectes","Emissions indirectes","Emissions\nliées à la conso"]
[null,null,null,null,"t eq CO2 / hab","t eq CO2 / hab","t eq CO2 / hab"]
[null,null,"Résidentiel",null,{"$f":"1000*E103/Accueil!$D$22","v":{"$error":"#DIV/0!"}},{"$f":"1000*F103/Accueil!$D$22","v":{"$error":"#DIV/0!"}},{"$f":"1000*G103/Accueil!$D$22","v":{"$error":"#DIV/0!"}}]
[null,null,"Déplacements",null,{"$f":"1000*E104/Accueil!$D$22","v":{"$error":"#DIV/0!"}},{"$f":"1000*F104/Accueil!$D$22","v":{"$error":"#DIV/0!"}},{"$f":"1000*G104/Accueil!$D$22","v":{"$error":"#DIV/0!"}}]
[null,null,"Biens de consommation",null,{"$f":"1000*E105/Accueil!$D$22","v":{"$error":"#DIV/0!"}},{"$f":"1000*F105/Accueil!$D$22","v":{"$error":"#DIV/0!"}},{"$f":"1000*G105/Accueil!$D$22","v":{"$error":"#DIV/0!"}}]
[null,null,"Alimentation",null,{"$f":"1000*E106/Accueil!$D$22","v":{"$error":"#DIV/0!"}},{"$f":"1000*F106/Accueil!$D$22","v":{"$error":"#DIV/0!"}},{"$f":"1000*G106/Accueil!$D$22","v":{"$error":"#DIV/0!"}}]
[null,null,"Services",null,{"$f":"1000*E107/Accueil!$D$22","v":{"$error":"#DIV/0!"}},{"$f":"1000*F107/Accueil!$D$22","v":{"$error":"#DIV/0!"}},{"$f":"1000*G107/Accueil!$D$22","v":{"$error":"#DIV/0!"}}]
[null,null,"Travaux",null,{"$f":"1000*E108/Accueil!$D$22","v":{"$error":"#DIV/0!"}},{"$f":"1000*F108/Accueil!$D$22","v":{"$error":"#DIV/0!"}},{"$f":"1000*G108/Accueil!$D$22","v":{"$error":"#DIV/0!"}}]
[null,null,"Total",null,{"$f":"SUM(E119:E124)","v":{"$error":"#DIV/0!"}},{"$f":"SUM(F119:F124)","v":{"$error":"#DIV/0!"}},{"$f":"SUM(G119:G124)","v":{"$error":"#DIV/0!"}}]
[]
[]
[null,null,"Postes principaux"]
[null,null,"Rang","kt eq CO2","Poste"]
[null,null,1,{"$f":"LARGE($G$103:$G$108,C130)","v":{"$error":"#DIV/0!"}},{"$f":"IF(D130=0,\"-\",INDEX($C$103:$C$108,MATCH(D130,$G$103:$G$108,0)))","v":{"$error":"#DIV/0!"}}]
[null,null,2,{"$error":"#DIV/0!"},{"$error":"#DIV/0!"}]
[null,null,3,{"$error":"#DIV/0!"},{"$error":"#DIV/0!"}]
[null,null,4,{"$error":"#DIV/0!"},{"$error":"#DIV/0!"}]
[null,null,5,{"$error":"#DIV/0!"},{"$error":"#DIV/0!"}]
[null,null,6,{"$error":"#DIV/0!"},{"$error":"#DIV/0!"}]

{"sheet":"R3","index":33,"n_rows":81,"n_cols":12,"rows_kept":81,"cut":false,"hidden":false,"merged":[[5,10,8,15],[75,5,76,5],[75,6,76,7],[5,5,9,5],[15,5,20,5],[15,6,20,7],[5,6,9,7],[26,5,36,5],[26,6,36,7],[53,5,58,5],[53,6,58,7],[64,5,69,5],[64,6,69,7],[42,5,47,5],[42,6,47,7]]}
[]
[null,"Emissions liées à la consommation"]
[]
[null,"Poste résidentiel"]
[]
[null,null,"Résidentiel","Résidentiel",null,"Comparaison avec un français moyen","Emission d'un français moyen",null,null,null,"Avertissement: Les comparaisons avec les valeurs moyennes nationales sont proposées pour identifier plus facilement d'éventuelles erreurs et améliorer les résultats. La précision des données n'est pas suffisante pour en tirer des conclusions quant à la typologie de consommation du territoire de façon comparée avec la moyenne nationale."]
[null,null,"kt eq CO2","t eq CO2 / hab"]
[null,"Emissions directes",{"$f":"Resid!F27","v":0},{"$f":"1000*C8/Accueil!$D$22","v":{"$error":"#DIV/0!"}}]
[null,"Indirect - énergie (hors élec)",{"$f":"Resid!F31+Resid!F28","v":0},{"$f":"1000*C9/Accueil!$D$22","v":{"$error":"#DIV/0!"}}]
[null,"Indirect - électricité",{"$f":"Resid!F29+Resid!F30","v":0},{"$f":"1000*C10/Accueil!$D$22","v":{"$error":"#DIV/0!"}}]
[null,"TOTAL",{"$f":"SUM(C8:C10)","v":0},{"$f":"SUM(D8:D10)","v":{"$error":"#DIV/0!"}},null,{"$f":"D11/G11","v":{"$error":"#DIV/0!"}},1.51,"t eq CO2 / hab",null,null,"Source: ","ECO2 Climat, 2009"]
[]
[]
[null,"Poste Déplacements"]
[]
[null,null,"Déplacements",{"$f":"C16","v":"Déplacements"},null,"Comparaison avec un français moyen","Emission d'un français moyen"]
[null,null,"kt eq CO2","t eq CO2 / hab"]
[null,"Emissions directes",{"$f":"Depl!F23","v":0},{"$f":"1000*C18/Accueil!$D$22","v":{"$error":"#DIV/0!"}}]
[null,"Indirect - énergie (hors élec)",{"$f":"Depl!F26","v":{"$error":"#DIV/0!"}},{"$f":"1000*C19/Accueil!$D$22","v":{"$error":"#DIV/0!"}}]
[null,"Indirect - électricité",{"$f":"Depl!F25+Depl!F24","v":0},{"$f":"1000*C20/Accueil!$D$22","v":{"$error":"#DIV/0!"}}]
[null,"Indirect - avion",{"$f":"Depl!F27","v":0},{"$f":"1000*C21/Accueil!$D$22","v":{"$error":"#DIV/0!"}}]
[null,"TOTAL",{"$f":"SUM(C18:C21)","v":{"$error":"#DIV/0!"}},{"$f":"SUM(D18:D21)","v":{"$error":"#DIV/0!"}},null,{"$f":"D22/G22","v":{"$error":"#DIV/0!"}},2.29,"t eq CO2 / hab",null,null,"Source: ","ECO2 Climat, 2009"]
[]
[]
[null,"Poste biens de consommation"]
[]
[null,null,"Consommation","Consommation",null,"Comparaison avec un français moyen","Emission d'un français moyen"]
[null,null,"kt eq CO2","t eq CO2 / hab"]
[null,"Direct - industrie",{"$f":"'Biens de conso'!G49","v":0},{"$f":"1000*C29/Accueil!$D$22","v":{"$error":"#DIV/0!"}}]
[null,"Direct - fret",{"$f":"'Biens de conso'!G50","v":0},{"$f":"1000*C30/Accueil!$D$22","v":{"$error":"#DIV/0!"}}]
[null,"Direct - prod élec",{"$f":"'Biens de conso'!G51","v":0},{"$f":"1000*C31/Accueil!$D$22","v":{"$error":"#DIV/0!"}}]
[null,"Indirect - énergie (hors électricité)",{"$f":"'Biens de conso'!J52+'Biens de conso'!J53+'Biens de conso'!J54+'Biens de conso'!J55","v":{"$error":"#DIV/0!"}},{"$f":"1000*C32/Accueil!$D$22","v":{"$error":"#DIV/0!"}}]
[null,"Indirect - électricité",{"$f":"'Biens de conso'!J56+'Biens de conso'!J57+'Biens de conso'!J58","v":0},{"$f":"1000*C33/Accueil!$D$22","v":{"$error":"#DIV/0!"}}]
[null,"Indirect - imports étranger",{"$f":"'Biens de conso'!J59+'Biens de conso'!J60","v":0},{"$f":"1000*C34/Accueil!$D$22","v":{"$error":"#DIV/0!"}}]
[null,"Indirect - exports étranger",{"$f":"'Biens de conso'!J61+'Biens de conso'!J62","v":0},{"$f":"1000*C35/Accueil!$D$22","v":{"$error":"#DIV/0!"}}]
[null,"Indirect - imports régions",{"$f":"'Biens de conso'!J63+'Biens de conso'!J64","v":0},{"$f":"1000*C36/Accueil!$D$22","v":{"$error":"#DIV/0!"}}]
[null,"Indirect - exports régions",{"$f":"'Biens de conso'!J65+'Biens de conso'!J66","v":0},{"$f":"1000*C37/Accueil!$D$22","v":{"$error":"#DIV/0!"}}]
[null,"TOTAL",{"$f":"SUM(C29:C37)","v":{"$error":"#DIV/0!"}},{"$f":"SUM(D29:D37)","v":{"$error":"#DIV/0!"}},null,{"$f":"D38/G38","v":{"$error":"#DIV/0!"}},2.59,"t eq CO2 / hab",null,null,"Source: ","ECO2 Climat, 2009"]
[]
[]
[null,"Poste alimentation"]
[]
[null,null,"Alimentation",{"$f":"C43","v":"Alimentation"},null,"Comparaison avec un français moyen","Emission d'un français moyen"]
[null,null,"kt eq CO2","t eq CO2 / hab"]
[null,"Emissions directes",{"$f":"Alim!F23","v":0},{"$f":"1000*C45/Accueil!$D$22","v":{"$error":"#DIV/0!"}}]
[null,"Indirect - énergie (hors élec)",{"$f":"SUM(Alim!F24)","v":0},{"$f":"1000*C46/Accueil!$D$22","v":{"$error":"#DIV/0!"}}]
[null,"Indirect - électricité",{"$f":"SUM(Alim!F25:F26)","v":0},{"$f":"1000*C47/Accueil!$D$22","v":{"$error":"#DIV/0!"}}]
[null,"Autres émissions indirectes",{"$f":"Alim!F27","v":0},{"$f":"1000*C48/Accueil!$D$22","v":{"$error":"#DIV/0!"}}]
[null,"TOTAL",{"$f":"SUM(C45:C48)","v":0},{"$f":"SUM(D45:D48)","v":{"$error":"#DIV/0!"}},null,{"$f":"D49/G49","v":{"$error":"#DIV/0!"}},{"$f":"365*Alim!E68*Alim!E71/1000","v":2.0713750000000002},"t eq CO2 / hab",null,null,"Source: ","Bilan carbone v6"]
[]
[]
[null,"Poste services"]
[]
[null,null,"Services",{"$f":"C54","v":"Services"},null,"Comparaison avec un français moyen","Emission d'un français moyen"]
[null,null,"kt eq CO2","t eq CO2 / hab"]
[null,"Emissions directes",{"$f":"Serv!F23","v":0},{"$f":"1000*C56/Accueil!$D$22","v":{"$error":"#DIV/0!"}}]
[null,"Indirect - énergie (hors élec)",{"$f":"Serv!F27+Serv!F24","v":0},{"$f":"1000*C57/Accueil!$D$22","v":{"$error":"#DIV/0!"}}]
[null,"Indirect - électricité",{"$f":"Serv!F25+Serv!F26","v":0},{"$f":"1000*C58/Accueil!$D$22","v":{"$error":"#DIV/0!"}}]
[null,"Indirect - services importés",{"$f":"Serv!F28","v":0},{"$f":"1000*C59/Accueil!$D$22","v":{"$error":"#DIV/0!"}}]
[null,"TOTAL",{"$f":"SUM(C56:C59)","v":0},{"$f":"SUM(D56:D59)","v":{"$error":"#DIV/0!"}},null,{"$f":"D60/G60","v":{"$error":"#DIV/0!"}},1.96,"t eq CO2 / hab",null,null,"Source: ","ECO2 Climat, 2009"]
[]
[]
[null,"Poste travaux"]
[]
[null,null,"Travaux",{"$f":"C65","v":"Travaux"},null,"Comparaison avec un français moyen","Emission d'un français moyen"]
[null,null,"kt eq CO2","t eq CO2 / hab"]
[null,"Emissions directes",{"$f":"Tra!F27","v":0},{"$f":"1000*C67/Accueil!$D$22","v":{"$error":"#DIV/0!"}}]
[null,"Indirect- énergie (hors élec)",{"$f":"SUM(Tra!F28+Tra!F31)","v":0},{"$f":"1000*C68/Accueil!$D$22","v":{"$error":"#DIV/0!"}}]
[null,"Indirect - électricité",{"$f":"SUM(Tra!F29:F30)","v":0},{"$f":"1000*C69/Accueil!$D$22","v":{"$error":"#DIV/0!"}}]
[null,"Autres émissions indirectes",{"$f":"Tra!F32","v":0},{"$f":"1000*C70/Accueil!$D$22","v":{"$error":"#DIV/0!"}}]
[null,"TOTAL",{"$f":"SUM(C67:C70)","v":0},{"$f":"SUM(D67:D70)","v":{"$error":"#DIV/0!"}},null,{"$f":"D71/G71","v":{"$error":"#DIV/0!"}},0.24,"t eq CO2 / hab",null,null,"Source: ","ECO2 Climat, 2009"]
[]
[]
[null,"Total"]
[]
[null,null,"Territoire","Territoire",null,"Comparaison avec un français moyen","Emission d'un français moyen"]
[null,null,"kt eq CO2","t eq CO2 / hab"]
[null,"TOTAL",{"$f":"C11+C22+C38+C49+C60+C71","v":{"$error":"#DIV/0!"}},{"$f":"D11+D22+D38+D49+D60+D71","v":{"$error":"#DIV/0!"}},null,{"$f":"D78/G78","v":{"$error":"#DIV/0!"}},{"$f":"G11+G22+G38+G49+G60+G71","v":10.661375000000001},"t eq CO2 / hab",null,null,"Source: ","diverses"]
[]
[]
[null,null,null,null,"référence",{"$f":"G78/G78","v":1}]

{"sheet":"R4","index":34,"n_rows":179,"n_cols":53,"rows_kept":179,"cut":false,"hidden":false,"merged":[[144,9,144,10],[145,9,145,10],[147,9,147,10],[148,9,148,10],[149,9,149,10],[175,2,175,4],[176,2,176,4],[177,2,177,4],[178,2,178,4],[170,2,170,4],[171,2,171,4],[172,2,172,4],[173,2,173,4],[174,2,174,4],[162,2,162,4],[162,9,162,10],[157,2,157,4],[157,9,157,10],[158,2,158,4],[158,9,158,10],[159,2,159,4],[159,9,159,10],[154,2,154,4],[154,9,154,10],[94,29,94,34],[94,35,94,40],[94,41,94,46],[94,47,94,52],[97,2,99,3],[100,2,102,3],[103,2,114,3],[115,2,116,3],[117,2,123,3],[94,5,94,10],[94,11,94,16],[94,17,94,22],[124,2,130,3],[131,2,131,4],[6,5,6,10],[6,11,6,16],[6,17,6,22],[6,23,6,28],[6,29,6,34],[6,35,6,40],[43,2,43,4],[50,5,50,10],[50,11,50,16],[50,17,50,22],[50,23,50,28],[50,29,50,34],[9,2,11,3],[12,2,14,3],[15,2,26,3],[27,2,28,3],[29,2,35,3],[36,2,42,3],[52,9,52,10],[52,15,52,16],[52,21,52,22],[52,27,52,28],[52,33,52,34],[52,39,52,40],[50,35,50,40],[51,9,51,10],[51,15,51,16],[51,21,51,22],[51,27,51,28],[51,33,51,34],[51,39,51,40],[53,39,53,40],[54,9,54,10],[54,15,54,16],[54,21,54,22],[54,27,54,28],[54,33,54,34],[54,39,54,40],[53,2,55,3],[53,9,53,10],[53,15,53,16],[53,21,53,22],[53,27,53,28],[53,33,53,34],[55,9,55,10],[55,15,55,16],[55,21,55,22],[55,27,55,28],[55,33,55,34],[55,39,55,40],[56,2,58,3],[56,9,56,10],[56,15,56,16],[56,21,56,22],[56,27,56,28],[56,33,56,34],[56,39,56,40],[57,9,57,10],[57,15,57,16],[57,21,57,22],[57,27,57,28],[57,33,57,34],[57,39,57,40],[58,9,58,10],[58,15,58,16],[58,21,58,22],[58,27,58,28],[58,33,58,34],[58,39,58,40],[59,2,70,3],[59,9,59,10],[59,15,59,16],[59,21,59,22],[59,27,59,28],[59,33,59,34],[59,39,59,40],[60,9,60,10],[60,15,60,16],[62,9,62,10],[62,15,62,16],[62,21,62,22],[62,27,62,28],[62,33,62,34],[62,39,62,40],[60,21,60,22],[60,27,60,28],[60,33,60,34],[60,39,60,40],[61,9,61,10],[61,15,61,16],[61,21,61,22],[61,27,61,28],[61,33,61,34],[61,39,61,40],[64,9,64,10],[64,15,64,16],[64,21,64,22],[64,27,64,28],[64,33,64,34],[64,39,64,40],[63,9,63,10],[63,15,63,16],[63,21,63,22],[63,27,63,28],[63,33,63,34],[63,39,63,40],[66,9,66,10],[66,15,66,16],[66,21,66,22],[66,27,66,28],[66,33,66,34],[66,39,66,40],[65,9,65,10],[65,15,65,16],[65,21,65,22],[65,27,65,28],[65,33,65,34],[65,39,65,40],[68,9,68,10],[68,15,68,16],[68,21,68,22],[68,27,68,28],[68,33,68,34],[68,39,68,40],[67,9,67,10],[67,15,67,16],[67,21,67,22],[67,27,67,28],[67,33,67,34],[67,39,67,40],[70,9,70,10],[70,15,70,16],[70,21,70,22],[70,27,70,28],[70,33,70,34],[70,39,70,40],[69,9,69,10],[69,15,69,16],[69,21,69,22],[69,27,69,28],[69,33,69,34],[69,39,69,40],[71,39,71,40],[72,9,72,10],[72,15,72,16],[72,21,72,22],[72,27,72,28],[72,33,72,34],[72,39,72,40],[71,2,72,3],[71,9,71,10],[71,15,71,16],[71,21,71,22],[71,27,71,28],[71,33,71,34],[73,39,73,40],[74,9,74,10],[74,15,74,16],[74,21,74,22],[74,27,74,28],[74,33,74,34],[74,39,74,40],[73,2,79,3],[73,9,73,10],[73,15,73,16],[73,21,73,22],[73,27,73,28],[73,33,73,34],[75,9,75,10],[75,15,75,16],[75,21,75,22],[75,27,75,28],[77,9,77,10],[77,15,77,16],[77,21,77,22],[77,27,77,28],[77,33,77,34],[77,39,77,40],[75,33,75,34],[75,39,75,40],[76,9,76,10],[76,15,76,16],[76,21,76,22],[76,27,76,28],[76,33,76,34],[76,39,76,40],[79,9,79,10],[79,15,79,16],[79,21,79,22],[79,27,79,28],[79,33,79,34],[79,39,79,40],[78,9,78,10],[78,15,78,16],[78,21,78,22],[78,27,78,28],[78,33,78,34],[78,39,78,40],[80,39,80,40],[81,9,81,10],[81,15,81,16],[81,21,81,22],[81,27,81,28],[81,33,81,34],[81,39,81,40],[80,2,86,3],[80,9,80,10],[80,15,80,16],[80,21,80,22],[80,27,80,28],[80,33,80,34],[82,9,82,10],[82,15,82,16],[82,21,82,22],[82,27,82,28],[84,9,84,10],[84,15,84,16],[84,21,84,22],[84,27,84,28],[84,33,84,34],[84,39,84,40],[82,33,82,34],[83,33,83,34],[83,39,83,40],[86,9,86,10],[86,15,86,16],[86,21,86,22],[86,27,86,28],[86,33,86,34],[86,39,86,40],[85,9,85,10],[85,15,85,16],[85,21,85,22],[85,27,85,28],[85,33,85,34],[85,39,85,40],[155,2,155,4],[155,9,155,10],[156,2,156,4],[156,9,156,10],[160,2,160,4],[161,2,161,4],[160,9,160,10],[161,9,161,10],[54,45,54,46],[55,45,55,46],[56,45,56,46],[57,45,57,46],[58,45,58,46],[59,45,59,46],[150,2,150,4],[150,9,150,10],[152,9,152,10],[153,9,153,10],[146,9,146,10],[82,39,82,40],[83,9,83,10],[83,15,83,16],[83,21,83,22],[83,27,83,28],[6,41,6,46],[50,41,50,46],[51,45,51,46],[52,45,52,46],[53,45,53,46],[6,47,6,52],[50,47,50,52],[51,51,51,52],[52,51,52,52],[53,51,53,52],[54,51,54,52],[78,45,78,46],[79,45,79,46],[80,45,80,46],[72,45,72,46],[73,45,73,46],[74,45,74,46],[75,45,75,46],[76,45,76,46],[77,45,77,46],[66,45,66,46],[67,45,67,46],[68,45,68,46],[69,45,69,46],[70,45,70,46],[71,45,71,46],[60,45,60,46],[61,45,61,46],[62,45,62,46],[55,51,55,52],[56,51,56,52],[57,51,57,52],[58,51,58,52],[59,51,59,52],[60,51,60,52],[84,45,84,46],[85,45,85,46],[86,45,86,46],[81,45,81,46],[82,45,82,46],[83,45,83,46],[63,45,63,46],[64,45,64,46],[65,45,65,46],[67,51,67,52],[68,51,68,52],[69,51,69,52],[70,51,70,52],[71,51,71,52],[72,51,72,52],[61,51,61,52],[62,51,62,52],[63,51,63,52],[64,51,64,52],[65,51,65,52],[66,51,66,52],[79,51,79,52],[80,51,80,52],[81,51,81,52],[82,51,82,52],[83,51,83,52],[84,51,84,52],[73,51,73,52],[74,51,74,52],[75,51,75,52],[76,51,76,52],[77,51,77,52],[78,51,78,52],[85,51,85,52],[86,51,86,52],[87,51,87,52],[148,2,148,4],[149,2,149,4],[87,45,87,46],[147,2,147,4],[87,39,87,40],[140,9,140,10],[141,9,141,10],[142,2,142,4],[142,9,142,10],[143,2,143,4],[143,9,143,10],[87,2,87,4],[87,9,87,10],[87,15,87,16],[87,21,87,22],[87,27,87,28],[87,33,87,34],[94,23,94,28],[144,2,144,4],[145,2,145,4],[146,2,146,4]]}
[]
[null,"Emissions directes (format PCAET)"]
[]
["A.","Scope 1 : Emissions directes par poste MyEmiss'Air / GES (kg)"]
[]
[]
[null,null,null,null,null,"Résidentiel",null,null,null,null,null,"Tertiaire",null,null,null,null,null,"Transport routier",null,null,null,null,null,"Autres transports",null,null,null,null,null,"Agriculture",null,null,null,null,null,"Déchets",null,null,null,null,null,"Industrie hors branche énergie",null,null,null,null,null,"Industrie branche énergie"]
[null,null,null,null,null,"CO2","CH4","N2O","HFC","PFC","SF6","CO2","CH4","N2O","HFC","PFC","SF6","CO2","CH4","N2O","HFC","PFC","SF6","CO2","CH4","N2O","HFC","PFC","SF6","CO2","CH4","N2O","HFC","PFC","SF6","CO2","CH4","N2O","HFC","PFC","SF6","CO2","CH4","N2O","HFC","PFC","SF6","CO2","CH4","N2O","HFC","PFC","SF6"]
[null,null,null,null,null,"kg","kg","kg","kg","kg","kg","kg","kg","kg","kg","kg","kg","kg","kg","kg","kg","kg","kg","kg","kg","kg","kg","kg","kg","kg","kg","kg","kg","kg","kg","kg","kg","kg","kg","kg","kg","kg","kg","kg","kg","kg","kg","kg","kg","kg","kg","kg","kg"]
[null,null,"Agriculture",null,"Autres sources de l'agriculture (tracteurs, …)",{"$f":"D1a!E134*D3c!$F9","v":0},{"$f":"D1a!F134*D3c!$F9","v":0},{"$f":"D1a!G134*D3c!$F9","v":0},{"$f":"D1a!H134*D3c!$F9","v":0},{"$f":"D1a!I134*D3c!$F9","v":0},{"$f":"D1a!J134*D3c!$F9","v":0},{"$f":"D1a!E134*D3c!$G9","v":0},{"$f":"D1a!F134*D3c!$G9","v":0},{"$f":"D1a!G134*D3c!$G9","v":0},{"$f":"D1a!H134*D3c!$G9","v":0},{"$f":"D1a!I134*D3c!$G9","v":0},{"$f":"D1a!J134*D3c!$G9","v":0},{"$f":"D1a!E134*D3c!$H9","v":0},{"$f":"D1a!F134*D3c!$H9","v":0},{"$f":"D1a!G134*D3c!$H9","v":0},{"$f":"D1a!H134*D3c!$H9","v":0},{"$f":"D1a!I134*D3c!$H9","v":0},{"$f":"D1a!J134*D3c!$H9","v":0},{"$f":"D1a!E134*D3c!$I9","v":0},{"$f":"D1a!F134*D3c!$I9","v":0},{"$f":"D1a!G134*D3c!$I9","v":0},{"$f":"D1a!H134*D3c!$I9","v":0},{"$f":"D1a!I134*D3c!$I9","v":0},{"$f":"D1a!J134*D3c!$I9","v":0},{"$f":"D1a!E134*D3c!$J9","v":0},{"$f":"D1a!F134*D3c!$J9","v":0},{"$f":"D1a!G134*D3c!$J9","v":0},{"$f":"D1a!H134*D3c!$J9","v":0},{"$f":"D1a!I134*D3c!$J9","v":0},{"$f":"D1a!J134*D3c!$J9","v":0},{"$f":"D1a!E134*D3c!$K9","v":0},{"$f":"D1a!F134*D3c!$K9","v":0},{"$f":"D1a!G134*D3c!$K9","v":0},{"$f":"D1a!H134*D3c!$K9","v":0},{"$f":"D1a!I134*D3c!$K9","v":0},{"$f":"D1a!J134*D3c!$K9","v":0},{"$f":"D1a!E134*D3c!$L9","v":0},{"$f":"D1a!F134*D3c!$L9","v":0},{"$f":"D1a!G134*D3c!$L9","v":0},{"$f":"D1a!H134*D3c!$L9","v":0},{"$f":"D1a!I134*D3c!$L9","v":0},{"$f":"D1a!J134*D3c!$L9","v":0},{"$f":"D1a!E134*D3c!$M9","v":0},{"$f":"D1a!F134*D3c!$M9","v":0},{"$f":"D1a!G134*D3c!$M9","v":0},{"$f":"D1a!H134*D3c!$M9","v":0},{"$f":"D1a!I134*D3c!$M9","v":0},{"$f":"D1a!J134*D3c!$M9","v":0}]
[null,null,null,null,"Culture",{"$f":"D1a!E135*D3c!F10","v":0},{"$f":"D1a!F135*D3c!$F10","v":0},{"$f":"D1a!G135*D3c!$F10","v":0},{"$f":"D1a!H135*D3c!$F10","v":0},{"$f":"D1a!I135*D3c!$F10","v":0},{"$f":"D1a!J135*D3c!$F10","v":0},{"$f":"D1a!E135*D3c!$G10","v":0},{"$f":"D1a!F135*D3c!$G10","v":0},{"$f":"D1a!G135*D3c!$G10","v":0},{"$f":"D1a!H135*D3c!$G10","v":0},{"$f":"D1a!I135*D3c!$G10","v":0},{"$f":"D1a!J135*D3c!$G10","v":0},{"$f":"D1a!E135*D3c!$H10","v":0},{"$f":"D1a!F135*D3c!$H10","v":0},{"$f":"D1a!G135*D3c!$H10","v":0},{"$f":"D1a!H135*D3c!$H10","v":0},{"$f":"D1a!I135*D3c!$H10","v":0},{"$f":"D1a!J135*D3c!$H10","v":0},{"$f":"D1a!E135*D3c!$I10","v":0},{"$f":"D1a!F135*D3c!$I10","v":0},{"$f":"D1a!G135*D3c!$I10","v":0},{"$f":"D1a!H135*D3c!$I10","v":0},{"$f":"D1a!I135*D3c!$I10","v":0},{"$f":"D1a!J135*D3c!$I10","v":0},{"$f":"D1a!E135*D3c!$J10","v":0},{"$f":"D1a!F135*D3c!$J10","v":0},{"$f":"D1a!G135*D3c!$J10","v":0},{"$f":"D1a!H135*D3c!$J10","v":0},{"$f":"D1a!I135*D3c!$J10","v":0},{"$f":"D1a!J135*D3c!$J10","v":0},{"$f":"D1a!E135*D3c!$K10","v":0},{"$f":"D1a!F135*D3c!$K10","v":0},{"$f":"D1a!G135*D3c!$K10","v":0},{"$f":"D1a!H135*D3c!$K10","v":0},{"$f":"D1a!I135*D3c!$K10","v":0},{"$f":"D1a!J135*D3c!$K10","v":0},{"$f":"D1a!E135*D3c!$L10","v":0},{"$f":"D1a!F135*D3c!$L10","v":0},{"$f":"D1a!G135*D3c!$L10","v":0},{"$f":"D1a!H135*D3c!$L10","v":0},{"$f":"D1a!I135*D3c!$L10","v":0},{"$f":"D1a!J135*D3c!$L10","v":0},{"$f":"D1a!E135*D3c!$M10","v":0},{"$f":"D1a!F135*D3c!$M10","v":0},{"$f":"D1a!G135*D3c!$M10","v":0},{"$f":"D1a!H135*D3c!$M10","v":0},{"$f":"D1a!I135*D3c!$M10","v":0},{"$f":"D1a!J135*D3c!$M10","v":0}]
[null,null,null,null,"Elevage",{"$f":"D1a!E136*D3c!F11","v":0},{"$f":"D1a!F136*D3c!$F11","v":0},{"$f":"D1a!G136*D3c!$F11","v":0},{"$f":"D1a!H136*D3c!$F11","v":0},{"$f":"D1a!I136*D3c!$F11","v":0},{"$f":"D1a!J136*D3c!$F11","v":0},{"$f":"D1a!E136*D3c!$G11","v":0},{"$f":"D1a!F136*D3c!$G11","v":0},{"$f":"D1a!G136*D3c!$G11","v":0},{"$f":"D1a!H136*D3c!$G11","v":0},{"$f":"D1a!I136*D3c!$G11","v":0},{"$f":"D1a!J136*D3c!$G11","v":0},{"$f":"D1a!E136*D3c!$H11","v":0},{"$f":"D1a!F136*D3c!$H11","v":0},{"$f":"D1a!G136*D3c!$H11","v":0},{"$f":"D1a!H136*D3c!$H11","v":0},{"$f":"D1a!I136*D3c!$H11","v":0},{"$f":"D1a!J136*D3c!$H11","v":0},{"$f":"D1a!E136*D3c!$I11","v":0},{"$f":"D1a!F136*D3c!$I11","v":0},{"$f":"D1a!G136*D3c!$I11","v":0},{"$f":"D1a!H136*D3c!$I11","v":0},{"$f":"D1a!I136*D3c!$I11","v":0},{"$f":"D1a!J136*D3c!$I11","v":0},{"$f":"D1a!E136*D3c!$J11","v":0},{"$f":"D1a!F136*D3c!$J11","v":0},{"$f":"D1a!G136*D3c!$J11","v":0},{"$f":"D1a!H136*D3c!$J11","v":0},{"$f":"D1a!I136*D3c!$J11","v":0},{"$f":"D1a!J136*D3c!$J11","v":0},{"$f":"D1a!E136*D3c!$K11","v":0},{"$f":"D1a!F136*D3c!$K11","v":0},{"$f":"D1a!G136*D3c!$K11","v":0},{"$f":"D1a!H136*D3c!$K11","v":0},{"$f":"D1a!I136*D3c!$K11","v":0},{"$f":"D1a!J136*D3c!$K11","v":0},{"$f":"D1a!E136*D3c!$L11","v":0},{"$f":"D1a!F136*D3c!$L11","v":0},{"$f":"D1a!G136*D3c!$L11","v":0},{"$f":"D1a!H136*D3c!$L11","v":0},{"$f":"D1a!I136*D3c!$L11","v":0},{"$f":"D1a!J136*D3c!$L11","v":0},{"$f":"D1a!E136*D3c!$M11","v":0},{"$f":"D1a!F136*D3c!$M11","v":0},{"$f":"D1a!G136*D3c!$M11","v":0},{"$f":"D1a!H136*D3c!$M11","v":0},{"$f":"D1a!I136*D3c!$M11","v":0},{"$f":"D1a!J136*D3c!$M11","v":0}]
[null,null,"Autres transports",null,"Transport aérien français",{"$f":"D1a!E137*D3c!F12","v":0},{"$f":"D1a!F137*D3c!$F12","v":0},{"$f":"D1a!G137*D3c!$F12","v":0},{"$f":"D1a!H137*D3c!$F12","v":0},{"$f":"D1a!I137*D3c!$F12","v":0},{"$f":"D1a!J137*D3c!$F12","v":0},{"$f":"D1a!E137*D3c!$G12","v":0},{"$f":"D1a!F137*D3c!$G12","v":0},{"$f":"D1a!G137*D3c!$G12","v":0},{"$f":"D1a!H137*D3c!$G12","v":0},{"$f":"D1a!I137*D3c!$G12","v":0},{"$f":"D1a!J137*D3c!$G12","v":0},{"$f":"D1a!E137*D3c!$H12","v":0},{"$f":"D1a!F137*D3c!$H12","v":0},{"$f":"D1a!G137*D3c!$H12","v":0},{"$f":"D1a!H137*D3c!$H12","v":0},{"$f":"D1a!I137*D3c!$H12","v":0},{"$f":"D1a!J137*D3c!$H12","v":0},{"$f":"D1a!E137*D3c!$I12","v":0},{"$f":"D1a!F137*D3c!$I12","v":0},{"$f":"D1a!G137*D3c!$I12","v":0},{"$f":"D1a!H137*D3c!$I12","v":0},{"$f":"D1a!I137*D3c!$I12","v":0},{"$f":"D1a!J137*D3c!$I12","v":0},{"$f":"D1a!E137*D3c!$J12","v":0},{"$f":"D1a!F137*D3c!$J12","v":0},{"$f":"D1a!G137*D3c!$J12","v":0},{"$f":"D1a!H137*D3c!$J12","v":0},{"$f":"D1a!I137*D3c!$J12","v":0},{"$f":"D1a!J137*D3c!$J12","v":0},{"$f":"D1a!E137*D3c!$K12","v":0},{"$f":"D1a!F137*D3c!$K12","v":0},{"$f":"D1a!G137*D3c!$K12","v":0},{"$f":"D1a!H137*D3c!$K12","v":0},{"$f":"D1a!I137*D3c!$K12","v":0},{"$f":"D1a!J137*D3c!$K12","v":0},{"$f":"D1a!E137*D3c!$L12","v":0},{"$f":"D1a!F137*D3c!$L12","v":0},{"$f":"D1a!G137*D3c!$L12","v":0},{"$f":"D1a!H137*D3c!$L12","v":0},{"$f":"D1a!I137*D3c!$L12","v":0},{"$f":"D1a!J137*D3c!$L12","v":0},{"$f":"D1a!E137*D3c!$M12","v":0},{"$f":"D1a!F137*D3c!$M12","v":0},{"$f":"D1a!G137*D3c!$M12","v":0},{"$f":"D1a!H137*D3c!$M12","v":0},{"$f":"D1a!I137*D3c!$M12","v":0},{"$f":"D1a!J137*D3c!$M12","v":0}]
[null,null,null,null,"Transport ferroviaire",{"$f":"D1a!E138*D3c!F13","v":0},{"$f":"D1a!F138*D3c!$F13","v":0},{"$f":"D1a!G138*D3c!$F13","v":0},{"$f":"D1a!H138*D3c!$F13","v":0},{"$f":"D1a!I138*D3c!$F13","v":0},{"$f":"D1a!J138*D3c!$F13","v":0},{"$f":"D1a!E138*D3c!$G13","v":0},{"$f":"D1a!F138*D3c!$G13","v":0},{"$f":"D1a!G138*D3c!$G13","v":0},{"$f":"D1a!H138*D3c!$G13","v":0},{"$f":"D1a!I138*D3c!$G13","v":0},{"$f":"D1a!J138*D3c!$G13","v":0},{"$f":"D1a!E138*D3c!$H13","v":0},{"$f":"D1a!F138*D3c!$H13","v":0},{"$f":"D1a!G138*D3c!$H13","v":0},{"$f":"D1a!H138*D3c!$H13","v":0},{"$f":"D1a!I138*D3c!$H13","v":0},{"$f":"D1a!J138*D3c!$H13","v":0},{"$f":"D1a!E138*D3c!$I13","v":0},{"$f":"D1a!F138*D3c!$I13","v":0},{"$f":"D1a!G138*D3c!$I13","v":0},{"$f":"D1a!H138*D3c!$I13","v":0},{"$f":"D1a!I138*D3c!$I13","v":0},{"$f":"D1a!J138*D3c!$I13","v":0},{"$f":"D1a!E138*D3c!$J13","v":0},{"$f":"D1a!F138*D3c!$J13","v":0},{"$f":"D1a!G138*D3c!$J13","v":0},{"$f":"D1a!H138*D3c!$J13","v":0},{"$f":"D1a!I138*D3c!$J13","v":0},{"$f":"D1a!J138*D3c!$J13","v":0},{"$f":"D1a!E138*D3c!$K13","v":0},{"$f":"D1a!F138*D3c!$K13","v":0},{"$f":"D1a!G138*D3c!$K13","v":0},{"$f":"D1a!H138*D3c!$K13","v":0},{"$f":"D1a!I138*D3c!$K13","v":0},{"$f":"D1a!J138*D3c!$K13","v":0},{"$f":"D1a!E138*D3c!$L13","v":0},{"$f":"D1a!F138*D3c!$L13","v":0},{"$f":"D1a!G138*D3c!$L13","v":0},{"$f":"D1a!H138*D3c!$L13","v":0},{"$f":"D1a!I138*D3c!$L13","v":0},{"$f":"D1a!J138*D3c!$L13","v":0},{"$f":"D1a!E138*D3c!$M13","v":0},{"$f":"D1a!F138*D3c!$M13","v":0},{"$f":"D1a!G138*D3c!$M13","v":0},{"$f":"D1a!H138*D3c!$M13","v":0},{"$f":"D1a!I138*D3c!$M13","v":0},{"$f":"D1a!J138*D3c!$M13","v":0}]
[null,null,null,null,"Transport fluvial",{"$f":"D1a!E139*D3c!F14","v":0},{"$f":"D1a!F139*D3c!$F14","v":0},{"$f":"D1a!G139*D3c!$F14","v":0},{"$f":"D1a!H139*D3c!$F14","v":0},{"$f":"D1a!I139*D3c!$F14","v":0},{"$f":"D1a!J139*D3c!$F14","v":0},{"$f":"D1a!E139*D3c!$G14","v":0},{"$f":"D1a!F139*D3c!$G14","v":0},{"$f":"D1a!G139*D3c!$G14","v":0},{"$f":"D1a!H139*D3c!$G14","v":0},{"$f":"D1a!I139*D3c!$G14","v":0},{"$f":"D1a!J139*D3c!$G14","v":0},{"$f":"D1a!E139*D3c!$H14","v":0},{"$f":"D1a!F139*D3c!$H14","v":0},{"$f":"D1a!G139*D3c!$H14","v":0},{"$f":"D1a!H139*D3c!$H14","v":0},{"$f":"D1a!I139*D3c!$H14","v":0},{"$f":"D1a!J139*D3c!$H14","v":0},{"$f":"D1a!E139*D3c!$I14","v":0},{"$f":"D1a!F139*D3c!$I14","v":0},{"$f":"D1a!G139*D3c!$I14","v":0},{"$f":"D1a!H139*D3c!$I14","v":0},{"$f":"D1a!I139*D3c!$I14","v":0},{"$f":"D1a!J139*D3c!$I14","v":0},{"$f":"D1a!E139*D3c!$J14","v":0},{"$f":"D1a!F139*D3c!$J14","v":0},{"$f":"D1a!G139*D3c!$J14","v":0},{"$f":"D1a!H139*D3c!$J14","v":0},{"$f":"D1a!I139*D3c!$J14","v":0},{"$f":"D1a!J139*D3c!$J14","v":0},{"$f":"D1a!E139*D3c!$K14","v":0},{"$f":"D1a!F139*D3c!$K14","v":0},{"$f":"D1a!G139*D3c!$K14","v":0},{"$f":"D1a!H139*D3c!$K14","v":0},{"$f":"D1a!I139*D3c!$K14","v":0},{"$f":"D1a!J139*D3c!$K14","v":0},{"$f":"D1a!E139*D3c!$L14","v":0},{"$f":"D1a!F139*D3c!$L14","v":0},{"$f":"D1a!G139*D3c!$L14","v":0},{"$f":"D1a!H139*D3c!$L14","v":0},{"$f":"D1a!I139*D3c!$L14","v":0},{"$f":"D1a!J139*D3c!$L14","v":0},{"$f":"D1a!E139*D3c!$M14","v":0},{"$f":"D1a!F139*D3c!$M14","v":0},{"$f":"D1a!G139*D3c!$M14","v":0},{"$f":"D1a!H139*D3c!$M14","v":0},{"$f":"D1a!I139*D3c!$M14","v":0},{"$f":"D1a!J139*D3c!$M14","v":0}]
[null,null,"IDEC",null,"Agro-alimentaire",{"$f":"D1a!E140*D3c!F15","v":0},{"$f":"D1a!F140*D3c!$F15","v":0},{"$f":"D1a!G140*D3c!$F15","v":0},{"$f":"D1a!H140*D3c!$F15","v":0},{"$f":"D1a!I140*D3c!$F15","v":0},{"$f":"D1a!J140*D3c!$F15","v":0},{"$f":"D1a!E140*D3c!$G15","v":0},{"$f":"D1a!F140*D3c!$G15","v":0},{"$f":"D1a!G140*D3c!$G15","v":0},{"$f":"D1a!H140*D3c!$G15","v":0},{"$f":"D1a!I140*D3c!$G15","v":0},{"$f":"D1a!J140*D3c!$G15","v":0},{"$f":"D1a!E140*D3c!$H15","v":0},{"$f":"D1a!F140*D3c!$H15","v":0},{"$f":"D1a!G140*D3c!$H15","v":0},{"$f":"D1a!H140*D3c!$H15","v":0},{"$f":"D1a!I140*D3c!$H15","v":0},{"$f":"D1a!J140*D3c!$H15","v":0},{"$f":"D1a!E140*D3c!$I15","v":0},{"$f":"D1a!F140*D3c!$I15","v":0},{"$f":"D1a!G140*D3c!$I15","v":0},{"$f":"D1a!H140*D3c!$I15","v":0},{"$f":"D1a!I140*D3c!$I15","v":0},{"$f":"D1a!J140*D3c!$I15","v":0},{"$f":"D1a!E140*D3c!$J15","v":0},{"$f":"D1a!F140*D3c!$J15","v":0},{"$f":"D1a!G140*D3c!$J15","v":0},{"$f":"D1a!H140*D3c!$J15","v":0},{"$f":"D1a!I140*D3c!$J15","v":0},{"$f":"D1a!J140*D3c!$J15","v":0},{"$f":"D1a!E140*D3c!$K15","v":0},{"$f":"D1a!F140*D3c!$K15","v":0},{"$f":"D1a!G140*D3c!$K15","v":0},{"$f":"D1a!H140*D3c!$K15","v":0},{"$f":"D1a!I140*D3c!$K15","v":0},{"$f":"D1a!J140*D3c!$K15","v":0},{"$f":"D1a!E140*D3c!$L15","v":0},{"$f":"D1a!F140*D3c!$L15","v":0},{"$f":"D1a!G140*D3c!$L15","v":0},{"$f":"D1a!H140*D3c!$L15","v":0},{"$f":"D1a!I140*D3c!$L15","v":0},{"$f":"D1a!J140*D3c!$L15","v":0},{"$f":"D1a!E140*D3c!$M15","v":0},{"$f":"D1a!F140*D3c!$M15","v":0},{"$f":"D1a!G140*D3c!$M15","v":0},{"$f":"D1a!H140*D3c!$M15","v":0},{"$f":"D1a!I140*D3c!$M15","v":0},{"$f":"D1a!J140*D3c!$M15","v":0}]
[null,null,null,null,"Autres secteurs de l'industrie et non spécifié",{"$f":"D1a!E141*D3c!F16","v":0},{"$f":"D1a!F141*D3c!$F16","v":0},{"$f":"D1a!G141*D3c!$F16","v":0},{"$f":"D1a!H141*D3c!$F16","v":0},{"$f":"D1a!I141*D3c!$F16","v":0},{"$f":"D1a!J141*D3c!$F16","v":0},{"$f":"D1a!E141*D3c!$G16","v":0},{"$f":"D1a!F141*D3c!$G16","v":0},{"$f":"D1a!G141*D3c!$G16","v":0},{"$f":"D1a!H141*D3c!$G16","v":0},{"$f":"D1a!I141*D3c!$G16","v":0},{"$f":"D1a!J141*D3c!$G16","v":0},{"$f":"D1a!E141*D3c!$H16","v":0},{"$f":"D1a!F141*D3c!$H16","v":0},{"$f":"D1a!G141*D3c!$H16","v":0},{"$f":"D1a!H141*D3c!$H16","v":0},{"$f":"D1a!I141*D3c!$H16","v":0},{"$f":"D1a!J141*D3c!$H16","v":0},{"$f":"D1a!E141*D3c!$I16","v":0},{"$f":"D1a!F141*D3c!$I16","v":0},{"$f":"D1a!G141*D3c!$I16","v":0},{"$f":"D1a!H141*D3c!$I16","v":0},{"$f":"D1a!I141*D3c!$I16","v":0},{"$f":"D1a!J141*D3c!$I16","v":0},{"$f":"D1a!E141*D3c!$J16","v":0},{"$f":"D1a!F141*D3c!$J16","v":0},{"$f":"D1a!G141*D3c!$J16","v":0},{"$f":"D1a!H141*D3c!$J16","v":0},{"$f":"D1a!I141*D3c!$J16","v":0},{"$f":"D1a!J141*D3c!$J16","v":0},{"$f":"D1a!E141*D3c!$K16","v":0},{"$f":"D1a!F141*D3c!$K16","v":0},{"$f":"D1a!G141*D3c!$K16","v":0},{"$f":"D1a!H141*D3c!$K16","v":0},{"$f":"D1a!I141*D3c!$K16","v":0},{"$f":"D1a!J141*D3c!$K16","v":0},{"$f":"D1a!E141*D3c!$L16","v":0},{"$f":"D1a!F141*D3c!$L16","v":0},{"$f":"D1a!G141*D3c!$L16","v":0},{"$f":"D1a!H141*D3c!$L16","v":0},{"$f":"D1a!I141*D3c!$L16","v":0},{"$f":"D1a!J141*D3c!$L16","v":0},{"$f":"D1a!E141*D3c!$M16","v":0},{"$f":"D1a!F141*D3c!$M16","v":0},{"$f":"D1a!G141*D3c!$M16","v":0},{"$f":"D1a!H141*D3c!$M16","v":0},{"$f":"D1a!I141*D3c!$M16","v":0},{"$f":"D1a!J141*D3c!$M16","v":0}]
[null,null,null,null,"Biens d'équipement, matériels de transport…",{"$f":"D1a!E142*D3c!F17","v":0},{"$f":"D1a!F142*D3c!$F17","v":0},{"$f":"D1a!G142*D3c!$F17","v":0},{"$f":"D1a!H142*D3c!$F17","v":0},{"$f":"D1a!I142*D3c!$F17","v":0},{"$f":"D1a!J142*D3c!$F17","v":0},{"$f":"D1a!E142*D3c!$G17","v":0},{"$f":"D1a!F142*D3c!$G17","v":0},{"$f":"D1a!G142*D3c!$G17","v":0},{"$f":"D1a!H142*D3c!$G17","v":0},{"$f":"D1a!I142*D3c!$G17","v":0},{"$f":"D1a!J142*D3c!$G17","v":0},{"$f":"D1a!E142*D3c!$H17","v":0},{"$f":"D1a!F142*D3c!$H17","v":0},{"$f":"D1a!G142*D3c!$H17","v":0},{"$f":"D1a!H142*D3c!$H17","v":0},{"$f":"D1a!I142*D3c!$H17","v":0},{"$f":"D1a!J142*D3c!$H17","v":0},{"$f":"D1a!E142*D3c!$I17","v":0},{"$f":"D1a!F142*D3c!$I17","v":0},{"$f":"D1a!G142*D3c!$I17","v":0},{"$f":"D1a!H142*D3c!$I17","v":0},{"$f":"D1a!I142*D3c!$I17","v":0},{"$f":"D1a!J142*D3c!$I17","v":0},{"$f":"D1a!E142*D3c!$J17","v":0},{"$f":"D1a!F142*D3c!$J17","v":0},{"$f":"D1a!G142*D3c!$J17","v":0},{"$f":"D1a!H142*D3c!$J17","v":0},{"$f":"D1a!I142*D3c!$J17","v":0},{"$f":"D1a!J142*D3c!$J17","v":0},{"$f":"D1a!E142*D3c!$K17","v":0},{"$f":"D1a!F142*D3c!$K17","v":0},{"$f":"D1a!G142*D3c!$K17","v":0},{"$f":"D1a!H142*D3c!$K17","v":0},{"$f":"D1a!I142*D3c!$K17","v":0},{"$f":"D1a!J142*D3c!$K17","v":0},{"$f":"D1a!E142*D3c!$L17","v":0},{"$f":"D1a!F142*D3c!$L17","v":0},{"$f":"D1a!G142*D3c!$L17","v":0},{"$f":"D1a!H142*D3c!$L17","v":0},{"$f":"D1a!I142*D3c!$L17","v":0},{"$f":"D1a!J142*D3c!$L17","v":0},{"$f":"D1a!E142*D3c!$M17","v":0},{"$f":"D1a!F142*D3c!$M17","v":0},{"$f":"D1a!G142*D3c!$M17","v":0},{"$f":"D1a!H142*D3c!$M17","v":0},{"$f":"D1a!I142*D3c!$M17","v":0},{"$f":"D1a!J142*D3c!$M17","v":0}]
[null,null,null,null,"Chimie organique, non-organique et divers",{"$f":"D1a!E143*D3c!F18","v":0},{"$f":"D1a!F143*D3c!$F18","v":0},{"$f":"D1a!G143*D3c!$F18","v":0},{"$f":"D1a!H143*D3c!$F18","v":0},{"$f":"D1a!I143*D3c!$F18","v":0},{"$f":"D1a!J143*D3c!$F18","v":0},{"$f":"D1a!E143*D3c!$G18","v":0},{"$f":"D1a!F143*D3c!$G18","v":0},{"$f":"D1a!G143*D3c!$G18","v":0},{"$f":"D1a!H143*D3c!$G18","v":0},{"$f":"D1a!I143*D3c!$G18","v":0},{"$f":"D1a!J143*D3c!$G18","v":0},{"$f":"D1a!E143*D3c!$H18","v":0},{"$f":"D1a!F143*D3c!$H18","v":0},{"$f":"D1a!G143*D3c!$H18","v":0},{"$f":"D1a!H143*D3c!$H18","v":0},{"$f":"D1a!I143*D3c!$H18","v":0},{"$f":"D1a!J143*D3c!$H18","v":0},{"$f":"D1a!E143*D3c!$I18","v":0},{"$f":"D1a!F143*D3c!$I18","v":0},{"$f":"D1a!G143*D3c!$I18","v":0},{"$f":"D1a!H143*D3c!$I18","v":0},{"$f":"D1a!I143*D3c!$I18","v":0},{"$f":"D1a!J143*D3c!$I18","v":0},{"$f":"D1a!E143*D3c!$J18","v":0},{"$f":"D1a!F143*D3c!$J18","v":0},{"$f":"D1a!G143*D3c!$J18","v":0},{"$f":"D1a!H143*D3c!$J18","v":0},{"$f":"D1a!I143*D3c!$J18","v":0},{"$f":"D1a!J143*D3c!$J18","v":0},{"$f":"D1a!E143*D3c!$K18","v":0},{"$f":"D1a!F143*D3c!$K18","v":0},{"$f":"D1a!G143*D3c!$K18","v":0},{"$f":"D1a!H143*D3c!$K18","v":0},{"$f":"D1a!I143*D3c!$K18","v":0},{"$f":"D1a!J143*D3c!$K18","v":0},{"$f":"D1a!E143*D3c!$L18","v":0},{"$f":"D1a!F143*D3c!$L18","v":0},{"$f":"D1a!G143*D3c!$L18","v":0},{"$f":"D1a!H143*D3c!$L18","v":0},{"$f":"D1a!I143*D3c!$L18","v":0},{"$f":"D1a!J143*D3c!$L18","v":0},{"$f":"D1a!E143*D3c!$M18","v":0},{"$f":"D1a!F143*D3c!$M18","v":0},{"$f":"D1a!G143*D3c!$M18","v":0},{"$f":"D1a!H143*D3c!$M18","v":0},{"$f":"D1a!I143*D3c!$M18","v":0},{"$f":"D1a!J143*D3c!$M18","v":0}]
[null,null,null,null,"Construction",{"$f":"D1a!E144*D3c!F19","v":0},{"$f":"D1a!F144*D3c!$F19","v":0},{"$f":"D1a!G144*D3c!$F19","v":0},{"$f":"D1a!H144*D3c!$F19","v":0},{"$f":"D1a!I144*D3c!$F19","v":0},{"$f":"D1a!J144*D3c!$F19","v":0},{"$f":"D1a!E144*D3c!$G19","v":0},{"$f":"D1a!F144*D3c!$G19","v":0},{"$f":"D1a!G144*D3c!$G19","v":0},{"$f":"D1a!H144*D3c!$G19","v":0},{"$f":"D1a!I144*D3c!$G19","v":0},{"$f":"D1a!J144*D3c!$G19","v":0},{"$f":"D1a!E144*D3c!$H19","v":0},{"$f":"D1a!F144*D3c!$H19","v":0},{"$f":"D1a!G144*D3c!$H19","v":0},{"$f":"D1a!H144*D3c!$H19","v":0},{"$f":"D1a!I144*D3c!$H19","v":0},{"$f":"D1a!J144*D3c!$H19","v":0},{"$f":"D1a!E144*D3c!$I19","v":0},{"$f":"D1a!F144*D3c!$I19","v":0},{"$f":"D1a!G144*D3c!$I19","v":0},{"$f":"D1a!H144*D3c!$I19","v":0},{"$f":"D1a!I144*D3c!$I19","v":0},{"$f":"D1a!J144*D3c!$I19","v":0},{"$f":"D1a!E144*D3c!$J19","v":0},{"$f":"D1a!F144*D3c!$J19","v":0},{"$f":"D1a!G144*D3c!$J19","v":0},{"$f":"D1a!H144*D3c!$J19","v":0},{"$f":"D1a!I144*D3c!$J19","v":0},{"$f":"D1a!J144*D3c!$J19","v":0},{"$f":"D1a!E144*D3c!$K19","v":0},{"$f":"D1a!F144*D3c!$K19","v":0},{"$f":"D1a!G144*D3c!$K19","v":0},{"$f":"D1a!H144*D3c!$K19","v":0},{"$f":"D1a!I144*D3c!$K19","v":0},{"$f":"D1a!J144*D3c!$K19","v":0},{"$f":"D1a!E144*D3c!$L19","v":0},{"$f":"D1a!F144*D3c!$L19","v":0},{"$f":"D1a!G144*D3c!$L19","v":0},{"$f":"D1a!H144*D3c!$L19","v":0},{"$f":"D1a!I144*D3c!$L19","v":0},{"$f":"D1a!J144*D3c!$L19","v":0},{"$f":"D1a!E144*D3c!$M19","v":0},{"$f":"D1a!F144*D3c!$M19","v":0},{"$f":"D1a!G144*D3c!$M19","v":0},{"$f":"D1a!H144*D3c!$M19","v":0},{"$f":"D1a!I144*D3c!$M19","v":0},{"$f":"D1a!J144*D3c!$M19","v":0}]
[null,null,null,null,"Métallurgie des métaux ferreux",{"$f":"D1a!E145*D3c!F20","v":0},{"$f":"D1a!F145*D3c!$F20","v":0},{"$f":"D1a!G145*D3c!$F20","v":0},{"$f":"D1a!H145*D3c!$F20","v":0},{"$f":"D1a!I145*D3c!$F20","v":0},{"$f":"D1a!J145*D3c!$F20","v":0},{"$f":"D1a!E145*D3c!$G20","v":0},{"$f":"D1a!F145*D3c!$G20","v":0},{"$f":"D1a!G145*D3c!$G20","v":0},{"$f":"D1a!H145*D3c!$G20","v":0},{"$f":"D1a!I145*D3c!$G20","v":0},{"$f":"D1a!J145*D3c!$G20","v":0},{"$f":"D1a!E145*D3c!$H20","v":0},{"$f":"D1a!F145*D3c!$H20","v":0},{"$f":"D1a!G145*D3c!$H20","v":0},{"$f":"D1a!H145*D3c!$H20","v":0},{"$f":"D1a!I145*D3c!$H20","v":0},{"$f":"D1a!J145*D3c!$H20","v":0},{"$f":"D1a!E145*D3c!$I20","v":0},{"$f":"D1a!F145*D3c!$I20","v":0},{"$f":"D1a!G145*D3c!$I20","v":0},{"$f":"D1a!H145*D3c!$I20","v":0},{"$f":"D1a!I145*D3c!$I20","v":0},{"$f":"D1a!J145*D3c!$I20","v":0},{"$f":"D1a!E145*D3c!$J20","v":0},{"$f":"D1a!F145*D3c!$J20","v":0},{"$f":"D1a!G145*D3c!$J20","v":0},{"$f":"D1a!H145*D3c!$J20","v":0},{"$f":"D1a!I145*D3c!$J20","v":0},{"$f":"D1a!J145*D3c!$J20","v":0},{"$f":"D1a!E145*D3c!$K20","v":0},{"$f":"D1a!F145*D3c!$K20","v":0},{"$f":"D1a!G145*D3c!$K20","v":0},{"$f":"D1a!H145*D3c!$K20","v":0},{"$f":"D1a!I145*D3c!$K20","v":0},{"$f":"D1a!J145*D3c!$K20","v":0},{"$f":"D1a!E145*D3c!$L20","v":0},{"$f":"D1a!F145*D3c!$L20","v":0},{"$f":"D1a!G145*D3c!$L20","v":0},{"$f":"D1a!H145*D3c!$L20","v":0},{"$f":"D1a!I145*D3c!$L20","v":0},{"$f":"D1a!J145*D3c!$L20","v":0},{"$f":"D1a!E145*D3c!$M20","v":0},{"$f":"D1a!F145*D3c!$M20","v":0},{"$f":"D1a!G145*D3c!$M20","v":0},{"$f":"D1a!H145*D3c!$M20","v":0},{"$f":"D1a!I145*D3c!$M20","v":0},{"$f":"D1a!J145*D3c!$M20","v":0}]
[null,null,null,null,"Métallurgie des métaux non-ferreux",{"$f":"D1a!E146*D3c!F21","v":0},{"$f":"D1a!F146*D3c!$F21","v":0},{"$f":"D1a!G146*D3c!$F21","v":0},{"$f":"D1a!H146*D3c!$F21","v":0},{"$f":"D1a!I146*D3c!$F21","v":0},{"$f":"D1a!J146*D3c!$F21","v":0},{"$f":"D1a!E146*D3c!$G21","v":0},{"$f":"D1a!F146*D3c!$G21","v":0},{"$f":"D1a!G146*D3c!$G21","v":0},{"$f":"D1a!H146*D3c!$G21","v":0},{"$f":"D1a!I146*D3c!$G21","v":0},{"$f":"D1a!J146*D3c!$G21","v":0},{"$f":"D1a!E146*D3c!$H21","v":0},{"$f":"D1a!F146*D3c!$H21","v":0},{"$f":"D1a!G146*D3c!$H21","v":0},{"$f":"D1a!H146*D3c!$H21","v":0},{"$f":"D1a!I146*D3c!$H21","v":0},{"$f":"D1a!J146*D3c!$H21","v":0},{"$f":"D1a!E146*D3c!$I21","v":0},{"$f":"D1a!F146*D3c!$I21","v":0},{"$f":"D1a!G146*D3c!$I21","v":0},{"$f":"D1a!H146*D3c!$I21","v":0},{"$f":"D1a!I146*D3c!$I21","v":0},{"$f":"D1a!J146*D3c!$I21","v":0},{"$f":"D1a!E146*D3c!$J21","v":0},{"$f":"D1a!F146*D3c!$J21","v":0},{"$f":"D1a!G146*D3c!$J21","v":0},{"$f":"D1a!H146*D3c!$J21","v":0},{"$f":"D1a!I146*D3c!$J21","v":0},{"$f":"D1a!J146*D3c!$J21","v":0},{"$f":"D1a!E146*D3c!$K21","v":0},{"$f":"D1a!F146*D3c!$K21","v":0},{"$f":"D1a!G146*D3c!$K21","v":0},{"$f":"D1a!H146*D3c!$K21","v":0},{"$f":"D1a!I146*D3c!$K21","v":0},{"$f":"D1a!J146*D3c!$K21","v":0},{"$f":"D1a!E146*D3c!$L21","v":0},{"$f":"D1a!F146*D3c!$L21","v":0},{"$f":"D1a!G146*D3c!$L21","v":0},{"$f":"D1a!H146*D3c!$L21","v":0},{"$f":"D1a!I146*D3c!$L21","v":0},{"$f":"D1a!J146*D3c!$L21","v":0},{"$f":"D1a!E146*D3c!$M21","v":0},{"$f":"D1a!F146*D3c!$M21","v":0},{"$f":"D1a!G146*D3c!$M21","v":0},{"$f":"D1a!H146*D3c!$M21","v":0},{"$f":"D1a!I146*D3c!$M21","v":0},{"$f":"D1a!J146*D3c!$M21","v":0}]
[null,null,null,null,"Minéraux non-métalliques et matériaux de construction",{"$f":"D1a!E147*D3c!F22","v":0},{"$f":"D1a!F147*D3c!$F22","v":0},{"$f":"D1a!G147*D3c!$F22","v":0},{"$f":"D1a!H147*D3c!$F22","v":0},{"$f":"D1a!I147*D3c!$F22","v":0},{"$f":"D1a!J147*D3c!$F22","v":0},{"$f":"D1a!E147*D3c!$G22","v":0},{"$f":"D1a!F147*D3c!$G22","v":0},{"$f":"D1a!G147*D3c!$G22","v":0},{"$f":"D1a!H147*D3c!$G22","v":0},{"$f":"D1a!I147*D3c!$G22","v":0},{"$f":"D1a!J147*D3c!$G22","v":0},{"$f":"D1a!E147*D3c!$H22","v":0},{"$f":"D1a!F147*D3c!$H22","v":0},{"$f":"D1a!G147*D3c!$H22","v":0},{"$f":"D1a!H147*D3c!$H22","v":0},{"$f":"D1a!I147*D3c!$H22","v":0},{"$f":"D1a!J147*D3c!$H22","v":0},{"$f":"D1a!E147*D3c!$I22","v":0},{"$f":"D1a!F147*D3c!$I22","v":0},{"$f":"D1a!G147*D3c!$I22","v":0},{"$f":"D1a!H147*D3c!$I22","v":0},{"$f":"D1a!I147*D3c!$I22","v":0},{"$f":"D1a!J147*D3c!$I22","v":0},{"$f":"D1a!E147*D3c!$J22","v":0},{"$f":"D1a!F147*D3c!$J22","v":0},{"$f":"D1a!G147*D3c!$J22","v":0},{"$f":"D1a!H147*D3c!$J22","v":0},{"$f":"D1a!I147*D3c!$J22","v":0},{"$f":"D1a!J147*D3c!$J22","v":0},{"$f":"D1a!E147*D3c!$K22","v":0},{"$f":"D1a!F147*D3c!$K22","v":0},{"$f":"D1a!G147*D3c!$K22","v":0},{"$f":"D1a!H147*D3c!$K22","v":0},{"$f":"D1a!I147*D3c!$K22","v":0},{"$f":"D1a!J147*D3c!$K22","v":0},{"$f":"D1a!E147*D3c!$L22","v":0},{"$f":"D1a!F147*D3c!$L22","v":0},{"$f":"D1a!G147*D3c!$L22","v":0},{"$f":"D1a!H147*D3c!$L22","v":0},{"$f":"D1a!I147*D3c!$L22","v":0},{"$f":"D1a!J147*D3c!$L22","v":0},{"$f":"D1a!E147*D3c!$M22","v":0},{"$f":"D1a!F147*D3c!$M22","v":0},{"$f":"D1a!G147*D3c!$M22","v":0},{"$f":"D1a!H147*D3c!$M22","v":0},{"$f":"D1a!I147*D3c!$M22","v":0},{"$f":"D1a!J147*D3c!$M22","v":0}]
[null,null,null,null,"Papier, carton",{"$f":"D1a!E148*D3c!F23","v":0},{"$f":"D1a!F148*D3c!$F23","v":0},{"$f":"D1a!G148*D3c!$F23","v":0},{"$f":"D1a!H148*D3c!$F23","v":0},{"$f":"D1a!I148*D3c!$F23","v":0},{"$f":"D1a!J148*D3c!$F23","v":0},{"$f":"D1a!E148*D3c!$G23","v":0},{"$f":"D1a!F148*D3c!$G23","v":0},{"$f":"D1a!G148*D3c!$G23","v":0},{"$f":"D1a!H148*D3c!$G23","v":0},{"$f":"D1a!I148*D3c!$G23","v":0},{"$f":"D1a!J148*D3c!$G23","v":0},{"$f":"D1a!E148*D3c!$H23","v":0},{"$f":"D1a!F148*D3c!$H23","v":0},{"$f":"D1a!G148*D3c!$H23","v":0},{"$f":"D1a!H148*D3c!$H23","v":0},{"$f":"D1a!I148*D3c!$H23","v":0},{"$f":"D1a!J148*D3c!$H23","v":0},{"$f":"D1a!E148*D3c!$I23","v":0},{"$f":"D1a!F148*D3c!$I23","v":0},{"$f":"D1a!G148*D3c!$I23","v":0},{"$f":"D1a!H148*D3c!$I23","v":0},{"$f":"D1a!I148*D3c!$I23","v":0},{"$f":"D1a!J148*D3c!$I23","v":0},{"$f":"D1a!E148*D3c!$J23","v":0},{"$f":"D1a!F148*D3c!$J23","v":0},{"$f":"D1a!G148*D3c!$J23","v":0},{"$f":"D1a!H148*D3c!$J23","v":0},{"$f":"D1a!I148*D3c!$J23","v":0},{"$f":"D1a!J148*D3c!$J23","v":0},{"$f":"D1a!E148*D3c!$K23","v":0},{"$f":"D1a!F148*D3c!$K23","v":0},{"$f":"D1a!G148*D3c!$K23","v":0},{"$f":"D1a!H148*D3c!$K23","v":0},{"$f":"D1a!I148*D3c!$K23","v":0},{"$f":"D1a!J148*D3c!$K23","v":0},{"$f":"D1a!E148*D3c!$L23","v":0},{"$f":"D1a!F148*D3c!$L23","v":0},{"$f":"D1a!G148*D3c!$L23","v":0},{"$f":"D1a!H148*D3c!$L23","v":0},{"$f":"D1a!I148*D3c!$L23","v":0},{"$f":"D1a!J148*D3c!$L23","v":0},{"$f":"D1a!E148*D3c!$M23","v":0},{"$f":"D1a!F148*D3c!$M23","v":0},{"$f":"D1a!G148*D3c!$M23","v":0},{"$f":"D1a!H148*D3c!$M23","v":0},{"$f":"D1a!I148*D3c!$M23","v":0},{"$f":"D1a!J148*D3c!$M23","v":0}]
[null,null,null,null,"Tous secteurs IM",{"$f":"D1a!E149*D3c!F24","v":0},{"$f":"D1a!F149*D3c!$F24","v":0},{"$f":"D1a!G149*D3c!$F24","v":0},{"$f":"D1a!H149*D3c!$F24","v":0},{"$f":"D1a!I149*D3c!$F24","v":0},{"$f":"D1a!J149*D3c!$F24","v":0},{"$f":"D1a!E149*D3c!$G24","v":0},{"$f":"D1a!F149*D3c!$G24","v":0},{"$f":"D1a!G149*D3c!$G24","v":0},{"$f":"D1a!H149*D3c!$G24","v":0},{"$f":"D1a!I149*D3c!$G24","v":0},{"$f":"D1a!J149*D3c!$G24","v":0},{"$f":"D1a!E149*D3c!$H24","v":0},{"$f":"D1a!F149*D3c!$H24","v":0},{"$f":"D1a!G149*D3c!$H24","v":0},{"$f":"D1a!H149*D3c!$H24","v":0},{"$f":"D1a!I149*D3c!$H24","v":0},{"$f":"D1a!J149*D3c!$H24","v":0},{"$f":"D1a!E149*D3c!$I24","v":0},{"$f":"D1a!F149*D3c!$I24","v":0},{"$f":"D1a!G149*D3c!$I24","v":0},{"$f":"D1a!H149*D3c!$I24","v":0},{"$f":"D1a!I149*D3c!$I24","v":0},{"$f":"D1a!J149*D3c!$I24","v":0},{"$f":"D1a!E149*D3c!$J24","v":0},{"$f":"D1a!F149*D3c!$J24","v":0},{"$f":"D1a!G149*D3c!$J24","v":0},{"$f":"D1a!H149*D3c!$J24","v":0},{"$f":"D1a!I149*D3c!$J24","v":0},{"$f":"D1a!J149*D3c!$J24","v":0},{"$f":"D1a!E149*D3c!$K24","v":0},{"$f":"D1a!F149*D3c!$K24","v":0},{"$f":"D1a!G149*D3c!$K24","v":0},{"$f":"D1a!H149*D3c!$K24","v":0},{"$f":"D1a!I149*D3c!$K24","v":0},{"$f":"D1a!J149*D3c!$K24","v":0},{"$f":"D1a!E149*D3c!$L24","v":0},{"$f":"D1a!F149*D3c!$L24","v":0},{"$f":"D1a!G149*D3c!$L24","v":0},{"$f":"D1a!H149*D3c!$L24","v":0},{"$f":"D1a!I149*D3c!$L24","v":0},{"$f":"D1a!J149*D3c!$L24","v":0},{"$f":"D1a!E149*D3c!$M24","v":0},{"$f":"D1a!F149*D3c!$M24","v":0},{"$f":"D1a!G149*D3c!$M24","v":0},{"$f":"D1a!H149*D3c!$M24","v":0},{"$f":"D1a!I149*D3c!$M24","v":0},{"$f":"D1a!J149*D3c!$M24","v":0}]
[null,null,null,null,"Traitement des déchets",{"$f":"D1a!E150*D3c!$F$25+D1a!E151*D3c!$F$26","v":0},{"$f":"D1a!F150*D3c!$F$25+D1a!F151*D3c!$F$26","v":0},{"$f":"D1a!G150*D3c!$F$25+D1a!G151*D3c!$F$26","v":0},{"$f":"D1a!H150*D3c!$F$25+D1a!H151*D3c!$F$26","v":0},{"$f":"D1a!I150*D3c!$F$25+D1a!I151*D3c!$F$26","v":0},{"$f":"D1a!J150*D3c!$F$25+D1a!J151*D3c!$F$26","v":0},{"$f":"D1a!E150*D3c!$G25+D1a!E151*D3c!$G$26","v":0},{"$f":"D1a!F150*D3c!$G25+D1a!F151*D3c!$G$26","v":0},{"$f":"D1a!G150*D3c!$G25+D1a!G151*D3c!$G$26","v":0},{"$f":"D1a!H150*D3c!$G25+D1a!H151*D3c!$G$26","v":0},{"$f":"D1a!I150*D3c!$G25+D1a!I151*D3c!$G$26","v":0},{"$f":"D1a!J150*D3c!$G25+D1a!J151*D3c!$G$26","v":0},{"$f":"D1a!E150*D3c!$H25+D1a!E151*D3c!$H$26","v":0},{"$f":"D1a!F150*D3c!$H25+D1a!F151*D3c!$H$26","v":0},{"$f":"D1a!G150*D3c!$H25+D1a!G151*D3c!$H$26","v":0},{"$f":"D1a!H150*D3c!$H25+D1a!H151*D3c!$H$26","v":0},{"$f":"D1a!I150*D3c!$H25+D1a!I151*D3c!$H$26","v":0},{"$f":"D1a!J150*D3c!$H25+D1a!J151*D3c!$H$26","v":0},{"$f":"D1a!E150*D3c!$I25+D1a!E151*D3c!$I$26","v":0},{"$f":"D1a!F150*D3c!$I25+D1a!F151*D3c!$I$26","v":0},{"$f":"D1a!G150*D3c!$I25+D1a!G151*D3c!$I$26","v":0},{"$f":"D1a!H150*D3c!$I25+D1a!H151*D3c!$I$26","v":0},{"$f":"D1a!I150*D3c!$I25+D1a!I151*D3c!$I$26","v":0},{"$f":"D1a!J150*D3c!$I25+D1a!J151*D3c!$I$26","v":0},{"$f":"D1a!E150*D3c!$J25+D1a!E151*D3c!$J$26","v":0},{"$f":"D1a!F150*D3c!$J25+D1a!F151*D3c!$J$26","v":0},{"$f":"D1a!G150*D3c!$J25+D1a!G151*D3c!$J$26","v":0},{"$f":"D1a!H150*D3c!$J25+D1a!H151*D3c!$J$26","v":0},{"$f":"D1a!I150*D3c!$J25+D1a!I151*D3c!$J$26","v":0},{"$f":"D1a!J150*D3c!$J25+D1a!J151*D3c!$J$26","v":0},{"$f":"D1a!E150*D3c!$K25+D1a!E151*D3c!$K$26","v":0},{"$f":"D1a!F150*D3c!$K25+D1a!F151*D3c!$K$26","v":0},{"$f":"D1a!G150*D3c!$K25+D1a!G151*D3c!$K$26","v":0},{"$f":"D1a!H150*D3c!$K25+D1a!H151*D3c!$K$26","v":0},{"$f":"D1a!I150*D3c!$K25+D1a!I151*D3c!$K$26","v":0},{"$f":"D1a!J150*D3c!$K25+D1a!J151*D3c!$K$26","v":0},{"$f":"D1a!E150*D3c!$L25+D1a!E151*D3c!$L$26","v":0},{"$f":"D1a!F150*D3c!$L25+D1a!F151*D3c!$L$26","v":0},{"$f":"D1a!G150*D3c!$L25+D1a!G151*D3c!$L$26","v":0},{"$f":"D1a!H150*D3c!$L25+D1a!H151*D3c!$L$26","v":0},{"$f":"D1a!I150*D3c!$L25+D1a!I151*D3c!$L$26","v":0},{"$f":"D1a!J150*D3c!$L25+D1a!J151*D3c!$L$26","v":0},{"$f":"D1a!E150*D3c!$M25+D1a!E151*D3c!$M$26","v":0},{"$f":"D1a!F150*D3c!$M25+D1a!F151*D3c!$M$26","v":0},{"$f":"D1a!G150*D3c!$M25+D1a!G151*D3c!$M$26","v":0},{"$f":"D1a!H150*D3c!$M25+D1a!H151*D3c!$M$26","v":0},{"$f":"D1a!I150*D3c!$M25+D1a!I151*D3c!$M$26","v":0},{"$f":"D1a!J150*D3c!$M25+D1a!J151*D3c!$M$26","v":0}]
[null,null,null,null,"Traitement déchets industrie",{"$f":"D1a!E151*D3c!F26","v":0},{"$f":"D1a!F151*D3c!$F26","v":0},{"$f":"D1a!G151*D3c!$F26","v":0},{"$f":"D1a!H151*D3c!$F26","v":0},{"$f":"D1a!I151*D3c!$F26","v":0},{"$f":"D1a!J151*D3c!$F26","v":0},{"$f":"D1a!E151*D3c!$G26","v":0},{"$f":"D1a!F151*D3c!$G26","v":0},{"$f":"D1a!G151*D3c!$G26","v":0},{"$f":"D1a!H151*D3c!$G26","v":0},{"$f":"D1a!I151*D3c!$G26","v":0},{"$f":"D1a!J151*D3c!$G26","v":0},{"$f":"D1a!E151*D3c!$H26","v":0},{"$f":"D1a!F151*D3c!$H26","v":0},{"$f":"D1a!G151*D3c!$H26","v":0},{"$f":"D1a!H151*D3c!$H26","v":0},{"$f":"D1a!I151*D3c!$H26","v":0},{"$f":"D1a!J151*D3c!$H26","v":0},{"$f":"D1a!E151*D3c!$I26","v":0},{"$f":"D1a!F151*D3c!$I26","v":0},{"$f":"D1a!G151*D3c!$I26","v":0},{"$f":"D1a!H151*D3c!$I26","v":0},{"$f":"D1a!I151*D3c!$I26","v":0},{"$f":"D1a!J151*D3c!$I26","v":0},{"$f":"D1a!E151*D3c!$J26","v":0},{"$f":"D1a!F151*D3c!$J26","v":0},{"$f":"D1a!G151*D3c!$J26","v":0},{"$f":"D1a!H151*D3c!$J26","v":0},{"$f":"D1a!I151*D3c!$J26","v":0},{"$f":"D1a!J151*D3c!$J26","v":0},{"$f":"D1a!E151*D3c!$K26","v":0},{"$f":"D1a!F151*D3c!$K26","v":0},{"$f":"D1a!G151*D3c!$K26","v":0},{"$f":"D1a!H151*D3c!$K26","v":0},{"$f":"D1a!I151*D3c!$K26","v":0},{"$f":"D1a!J151*D3c!$K26","v":0},{"$f":"D1a!E151*D3c!$L26","v":0},{"$f":"D1a!F151*D3c!$L26","v":0},{"$f":"D1a!G151*D3c!$L26","v":0},{"$f":"D1a!H151*D3c!$L26","v":0},{"$f":"D1a!I151*D3c!$L26","v":0},{"$f":"D1a!J151*D3c!$L26","v":0},{"$f":"D1a!E151*D3c!$M26","v":0},{"$f":"D1a!F151*D3c!$M26","v":0},{"$f":"D1a!G151*D3c!$M26","v":0},{"$f":"D1a!H151*D3c!$M26","v":0},{"$f":"D1a!I151*D3c!$M26","v":0},{"$f":"D1a!J151*D3c!$M26","v":0}]
[null,null,"Résidentiel tertiaire",null,"Résidentiel",{"$f":"D1a!E152*D3c!F27","v":0},{"$f":"D1a!F152*D3c!$F27","v":0},{"$f":"D1a!G152*D3c!$F27","v":0},{"$f":"D1a!H152*D3c!$F27","v":0},{"$f":"D1a!I152*D3c!$F27","v":0},{"$f":"D1a!J152*D3c!$F27","v":0},{"$f":"D1a!E152*D3c!$G27","v":0},{"$f":"D1a!F152*D3c!$G27","v":0},{"$f":"D1a!G152*D3c!$G27","v":0},{"$f":"D1a!H152*D3c!$G27","v":0},{"$f":"D1a!I152*D3c!$G27","v":0},{"$f":"D1a!J152*D3c!$G27","v":0},{"$f":"D1a!E152*D3c!$H27","v":0},{"$f":"D1a!F152*D3c!$H27","v":0},{"$f":"D1a!G152*D3c!$H27","v":0},{"$f":"D1a!H152*D3c!$H27","v":0},{"$f":"D1a!I152*D3c!$H27","v":0},{"$f":"D1a!J152*D3c!$H27","v":0},{"$f":"D1a!E152*D3c!$I27","v":0},{"$f":"D1a!F152*D3c!$I27","v":0},{"$f":"D1a!G152*D3c!$I27","v":0},{"$f":"D1a!H152*D3c!$I27","v":0},{"$f":"D1a!I152*D3c!$I27","v":0},{"$f":"D1a!J152*D3c!$I27","v":0},{"$f":"D1a!E152*D3c!$J27","v":0},{"$f":"D1a!F152*D3c!$J27","v":0},{"$f":"D1a!G152*D3c!$J27","v":0},{"$f":"D1a!H152*D3c!$J27","v":0},{"$f":"D1a!I152*D3c!$J27","v":0},{"$f":"D1a!J152*D3c!$J27","v":0},{"$f":"D1a!E152*D3c!$K27","v":0},{"$f":"D1a!F152*D3c!$K27","v":0},{"$f":"D1a!G152*D3c!$K27","v":0},{"$f":"D1a!H152*D3c!$K27","v":0},{"$f":"D1a!I152*D3c!$K27","v":0},{"$f":"D1a!J152*D3c!$K27","v":0},{"$f":"D1a!E152*D3c!$L27","v":0},{"$f":"D1a!F152*D3c!$L27","v":0},{"$f":"D1a!G152*D3c!$L27","v":0},{"$f":"D1a!H152*D3c!$L27","v":0},{"$f":"D1a!I152*D3c!$L27","v":0},{"$f":"D1a!J152*D3c!$L27","v":0},{"$f":"D1a!E152*D3c!$M27","v":0},{"$f":"D1a!F152*D3c!$M27","v":0},{"$f":"D1a!G152*D3c!$M27","v":0},{"$f":"D1a!H152*D3c!$M27","v":0},{"$f":"D1a!I152*D3c!$M27","v":0},{"$f":"D1a!J152*D3c!$M27","v":0}]
[null,null,null,null,"Tertiaire, commercial et institutionnel",{"$f":"D1a!E153*D3c!F28","v":0},{"$f":"D1a!F153*D3c!$F28","v":0},{"$f":"D1a!G153*D3c!$F28","v":0},{"$f":"D1a!H153*D3c!$F28","v":0},{"$f":"D1a!I153*D3c!$F28","v":0},{"$f":"D1a!J153*D3c!$F28","v":0},{"$f":"D1a!E153*D3c!$G28","v":0},{"$f":"D1a!F153*D3c!$G28","v":0},{"$f":"D1a!G153*D3c!$G28","v":0},{"$f":"D1a!H153*D3c!$G28","v":0},{"$f":"D1a!I153*D3c!$G28","v":0},{"$f":"D1a!J153*D3c!$G28","v":0},{"$f":"D1a!E153*D3c!$H28","v":0},{"$f":"D1a!F153*D3c!$H28","v":0},{"$f":"D1a!G153*D3c!$H28","v":0},{"$f":"D1a!H153*D3c!$H28","v":0},{"$f":"D1a!I153*D3c!$H28","v":0},{"$f":"D1a!J153*D3c!$H28","v":0},{"$f":"D1a!E153*D3c!$I28","v":0},{"$f":"D1a!F153*D3c!$I28","v":0},{"$f":"D1a!G153*D3c!$I28","v":0},{"$f":"D1a!H153*D3c!$I28","v":0},{"$f":"D1a!I153*D3c!$I28","v":0},{"$f":"D1a!J153*D3c!$I28","v":0},{"$f":"D1a!E153*D3c!$J28","v":0},{"$f":"D1a!F153*D3c!$J28","v":0},{"$f":"D1a!G153*D3c!$J28","v":0},{"$f":"D1a!H153*D3c!$J28","v":0},{"$f":"D1a!I153*D3c!$J28","v":0},{"$f":"D1a!J153*D3c!$J28","v":0},{"$f":"D1a!E153*D3c!$K28","v":0},{"$f":"D1a!F153*D3c!$K28","v":0},{"$f":"D1a!G153*D3c!$K28","v":0},{"$f":"D1a!H153*D3c!$K28","v":0},{"$f":"D1a!I153*D3c!$K28","v":0},{"$f":"D1a!J153*D3c!$K28","v":0},{"$f":"D1a!E153*D3c!$L28","v":0},{"$f":"D1a!F153*D3c!$L28","v":0},{"$f":"D1a!G153*D3c!$L28","v":0},{"$f":"D1a!H153*D3c!$L28","v":0},{"$f":"D1a!I153*D3c!$L28","v":0},{"$f":"D1a!J153*D3c!$L28","v":0},{"$f":"D1a!E153*D3c!$M28","v":0},{"$f":"D1a!F153*D3c!$M28","v":0},{"$f":"D1a!G153*D3c!$M28","v":0},{"$f":"D1a!H153*D3c!$M28","v":0},{"$f":"D1a!I153*D3c!$M28","v":0},{"$f":"D1a!J153*D3c!$M28","v":0}]
[null,null,"Transformation de l'énergie",null,"Chauffage urbain",{"$f":"D1a!E154*D3c!$F29","v":0},{"$f":"D1a!F154*D3c!$F29","v":0},{"$f":"D1a!G154*D3c!$F29","v":0},{"$f":"D1a!H154*D3c!$F29","v":0},{"$f":"D1a!I154*D3c!$F29","v":0},{"$f":"D1a!J154*D3c!$F29","v":0},{"$f":"D1a!E154*D3c!$G29","v":0},{"$f":"D1a!F154*D3c!$G29","v":0},{"$f":"D1a!G154*D3c!$G29","v":0},{"$f":"D1a!H154*D3c!$G29","v":0},{"$f":"D1a!I154*D3c!$G29","v":0},{"$f":"D1a!J154*D3c!$G29","v":0},{"$f":"D1a!E154*D3c!$H29","v":0},{"$f":"D1a!F154*D3c!$H29","v":0},{"$f":"D1a!G154*D3c!$H29","v":0},{"$f":"D1a!H154*D3c!$H29","v":0},{"$f":"D1a!I154*D3c!$H29","v":0},{"$f":"D1a!J154*D3c!$H29","v":0},{"$f":"D1a!E154*D3c!$I29","v":0},{"$f":"D1a!F154*D3c!$I29","v":0},{"$f":"D1a!G154*D3c!$I29","v":0},{"$f":"D1a!H154*D3c!$I29","v":0},{"$f":"D1a!I154*D3c!$I29","v":0},{"$f":"D1a!J154*D3c!$I29","v":0},{"$f":"D1a!E154*D3c!$J29","v":0},{"$f":"D1a!F154*D3c!$J29","v":0},{"$f":"D1a!G154*D3c!$J29","v":0},{"$f":"D1a!H154*D3c!$J29","v":0},{"$f":"D1a!I154*D3c!$J29","v":0},{"$f":"D1a!J154*D3c!$J29","v":0},{"$f":"D1a!E154*D3c!$K29","v":0},{"$f":"D1a!F154*D3c!$K29","v":0},{"$f":"D1a!G154*D3c!$K29","v":0},{"$f":"D1a!H154*D3c!$K29","v":0},{"$f":"D1a!I154*D3c!$K29","v":0},{"$f":"D1a!J154*D3c!$K29","v":0},{"$f":"D1a!E154*D3c!$L29","v":0},{"$f":"D1a!F154*D3c!$L29","v":0},{"$f":"D1a!G154*D3c!$L29","v":0},{"$f":"D1a!H154*D3c!$L29","v":0},{"$f":"D1a!I154*D3c!$L29","v":0},{"$f":"D1a!J154*D3c!$L29","v":0},{"$f":"D1a!E154*D3c!$M29","v":0},{"$f":"D1a!F154*D3c!$M29","v":0},{"$f":"D1a!G154*D3c!$M29","v":0},{"$f":"D1a!H154*D3c!$M29","v":0},{"$f":"D1a!I154*D3c!$M29","v":0},{"$f":"D1a!J154*D3c!$M29","v":0}]
[null,null,null,null,"Extraction des combustibles gazeux et distribution d'énergie",{"$f":"D1a!E155*D3c!F30","v":0},{"$f":"D1a!F155*D3c!$F30","v":0},{"$f":"D1a!G155*D3c!$F30","v":0},{"$f":"D1a!H155*D3c!$F30","v":0},{"$f":"D1a!I155*D3c!$F30","v":0},{"$f":"D1a!J155*D3c!$F30","v":0},{"$f":"D1a!E155*D3c!$G30","v":0},{"$f":"D1a!F155*D3c!$G30","v":0},{"$f":"D1a!G155*D3c!$G30","v":0},{"$f":"D1a!H155*D3c!$G30","v":0},{"$f":"D1a!I155*D3c!$G30","v":0},{"$f":"D1a!J155*D3c!$G30","v":0},{"$f":"D1a!E155*D3c!$H30","v":0},{"$f":"D1a!F155*D3c!$H30","v":0},{"$f":"D1a!G155*D3c!$H30","v":0},{"$f":"D1a!H155*D3c!$H30","v":0},{"$f":"D1a!I155*D3c!$H30","v":0},{"$f":"D1a!J155*D3c!$H30","v":0},{"$f":"D1a!E155*D3c!$I30","v":0},{"$f":"D1a!F155*D3c!$I30","v":0},{"$f":"D1a!G155*D3c!$I30","v":0},{"$f":"D1a!H155*D3c!$I30","v":0},{"$f":"D1a!I155*D3c!$I30","v":0},{"$f":"D1a!J155*D3c!$I30","v":0},{"$f":"D1a!E155*D3c!$J30","v":0},{"$f":"D1a!F155*D3c!$J30","v":0},{"$f":"D1a!G155*D3c!$J30","v":0},{"$f":"D1a!H155*D3c!$J30","v":0},{"$f":"D1a!I155*D3c!$J30","v":0},{"$f":"D1a!J155*D3c!$J30","v":0},{"$f":"D1a!E155*D3c!$K30","v":0},{"$f":"D1a!F155*D3c!$K30","v":0},{"$f":"D1a!G155*D3c!$K30","v":0},{"$f":"D1a!H155*D3c!$K30","v":0},{"$f":"D1a!I155*D3c!$K30","v":0},{"$f":"D1a!J155*D3c!$K30","v":0},{"$f":"D1a!E155*D3c!$L30","v":0},{"$f":"D1a!F155*D3c!$L30","v":0},{"$f":"D1a!G155*D3c!$L30","v":0},{"$f":"D1a!H155*D3c!$L30","v":0},{"$f":"D1a!I155*D3c!$L30","v":0},{"$f":"D1a!J155*D3c!$L30","v":0},{"$f":"D1a!E155*D3c!$M30","v":0},{"$f":"D1a!F155*D3c!$M30","v":0},{"$f":"D1a!G155*D3c!$M30","v":0},{"$f":"D1a!H155*D3c!$M30","v":0},{"$f":"D1a!I155*D3c!$M30","v":0},{"$f":"D1a!J155*D3c!$M30","v":0}]
[null,null,null,null,"Extraction des combustibles liquides et distribution d'énergie",{"$f":"D1a!E156*D3c!F31","v":0},{"$f":"D1a!F156*D3c!$F31","v":0},{"$f":"D1a!G156*D3c!$F31","v":0},{"$f":"D1a!H156*D3c!$F31","v":0},{"$f":"D1a!I156*D3c!$F31","v":0},{"$f":"D1a!J156*D3c!$F31","v":0},{"$f":"D1a!E156*D3c!$G31","v":0},{"$f":"D1a!F156*D3c!$G31","v":0},{"$f":"D1a!G156*D3c!$G31","v":0},{"$f":"D1a!H156*D3c!$G31","v":0},{"$f":"D1a!I156*D3c!$G31","v":0},{"$f":"D1a!J156*D3c!$G31","v":0},{"$f":"D1a!E156*D3c!$H31","v":0},{"$f":"D1a!F156*D3c!$H31","v":0},{"$f":"D1a!G156*D3c!$H31","v":0},{"$f":"D1a!H156*D3c!$H31","v":0},{"$f":"D1a!I156*D3c!$H31","v":0},{"$f":"D1a!J156*D3c!$H31","v":0},{"$f":"D1a!E156*D3c!$I31","v":0},{"$f":"D1a!F156*D3c!$I31","v":0},{"$f":"D1a!G156*D3c!$I31","v":0},{"$f":"D1a!H156*D3c!$I31","v":0},{"$f":"D1a!I156*D3c!$I31","v":0},{"$f":"D1a!J156*D3c!$I31","v":0},{"$f":"D1a!E156*D3c!$J31","v":0},{"$f":"D1a!F156*D3c!$J31","v":0},{"$f":"D1a!G156*D3c!$J31","v":0},{"$f":"D1a!H156*D3c!$J31","v":0},{"$f":"D1a!I156*D3c!$J31","v":0},{"$f":"D1a!J156*D3c!$J31","v":0},{"$f":"D1a!E156*D3c!$K31","v":0},{"$f":"D1a!F156*D3c!$K31","v":0},{"$f":"D1a!G156*D3c!$K31","v":0},{"$f":"D1a!H156*D3c!$K31","v":0},{"$f":"D1a!I156*D3c!$K31","v":0},{"$f":"D1a!J156*D3c!$K31","v":0},{"$f":"D1a!E156*D3c!$L31","v":0},{"$f":"D1a!F156*D3c!$L31","v":0},{"$f":"D1a!G156*D3c!$L31","v":0},{"$f":"D1a!H156*D3c!$L31","v":0},{"$f":"D1a!I156*D3c!$L31","v":0},{"$f":"D1a!J156*D3c!$L31","v":0},{"$f":"D1a!E156*D3c!$M31","v":0},{"$f":"D1a!F156*D3c!$M31","v":0},{"$f":"D1a!G156*D3c!$M31","v":0},{"$f":"D1a!H156*D3c!$M31","v":0},{"$f":"D1a!I156*D3c!$M31","v":0},{"$f":"D1a!J156*D3c!$M31","v":0}]
[null,null,null,null,"Extraction des combustibles solides et distribution d'énergie",{"$f":"D1a!E157*D3c!F32","v":0},{"$f":"D1a!F157*D3c!$F32","v":0},{"$f":"D1a!G157*D3c!$F32","v":0},{"$f":"D1a!H157*D3c!$F32","v":0},{"$f":"D1a!I157*D3c!$F32","v":0},{"$f":"D1a!J157*D3c!$F32","v":0},{"$f":"D1a!E157*D3c!$G32","v":0},{"$f":"D1a!F157*D3c!$G32","v":0},{"$f":"D1a!G157*D3c!$G32","v":0},{"$f":"D1a!H157*D3c!$G32","v":0},{"$f":"D1a!I157*D3c!$G32","v":0},{"$f":"D1a!J157*D3c!$G32","v":0},{"$f":"D1a!E157*D3c!$H32","v":0},{"$f":"D1a!F157*D3c!$H32","v":0},{"$f":"D1a!G157*D3c!$H32","v":0},{"$f":"D1a!H157*D3c!$H32","v":0},{"$f":"D1a!I157*D3c!$H32","v":0},{"$f":"D1a!J157*D3c!$H32","v":0},{"$f":"D1a!E157*D3c!$I32","v":0},{"$f":"D1a!F157*D3c!$I32","v":0},{"$f":"D1a!G157*D3c!$I32","v":0},{"$f":"D1a!H157*D3c!$I32","v":0},{"$f":"D1a!I157*D3c!$I32","v":0},{"$f":"D1a!J157*D3c!$I32","v":0},{"$f":"D1a!E157*D3c!$J32","v":0},{"$f":"D1a!F157*D3c!$J32","v":0},{"$f":"D1a!G157*D3c!$J32","v":0},{"$f":"D1a!H157*D3c!$J32","v":0},{"$f":"D1a!I157*D3c!$J32","v":0},{"$f":"D1a!J157*D3c!$J32","v":0},{"$f":"D1a!E157*D3c!$K32","v":0},{"$f":"D1a!F157*D3c!$K32","v":0},{"$f":"D1a!G157*D3c!$K32","v":0},{"$f":"D1a!H157*D3c!$K32","v":0},{"$f":"D1a!I157*D3c!$K32","v":0},{"$f":"D1a!J157*D3c!$K32","v":0},{"$f":"D1a!E157*D3c!$L32","v":0},{"$f":"D1a!F157*D3c!$L32","v":0},{"$f":"D1a!G157*D3c!$L32","v":0},{"$f":"D1a!H157*D3c!$L32","v":0},{"$f":"D1a!I157*D3c!$L32","v":0},{"$f":"D1a!J157*D3c!$L32","v":0},{"$f":"D1a!E157*D3c!$M32","v":0},{"$f":"D1a!F157*D3c!$M32","v":0},{"$f":"D1a!G157*D3c!$M32","v":0},{"$f":"D1a!H157*D3c!$M32","v":0},{"$f":"D1a!I157*D3c!$M32","v":0},{"$f":"D1a!J157*D3c!$M32","v":0}]
[null,null,null,null,"Production d'électricité",{"$f":"D1a!E158*D3c!F33","v":0},{"$f":"D1a!F158*D3c!$F33","v":0},{"$f":"D1a!G158*D3c!$F33","v":0},{"$f":"D1a!H158*D3c!$F33","v":0},{"$f":"D1a!I158*D3c!$F33","v":0},{"$f":"D1a!J158*D3c!$F33","v":0},{"$f":"D1a!E158*D3c!$G33","v":0},{"$f":"D1a!F158*D3c!$G33","v":0},{"$f":"D1a!G158*D3c!$G33","v":0},{"$f":"D1a!H158*D3c!$G33","v":0},{"$f":"D1a!I158*D3c!$G33","v":0},{"$f":"D1a!J158*D3c!$G33","v":0},{"$f":"D1a!E158*D3c!$H33","v":0},{"$f":"D1a!F158*D3c!$H33","v":0},{"$f":"D1a!G158*D3c!$H33","v":0},{"$f":"D1a!H158*D3c!$H33","v":0},{"$f":"D1a!I158*D3c!$H33","v":0},{"$f":"D1a!J158*D3c!$H33","v":0},{"$f":"D1a!E158*D3c!$I33","v":0},{"$f":"D1a!F158*D3c!$I33","v":0},{"$f":"D1a!G158*D3c!$I33","v":0},{"$f":"D1a!H158*D3c!$I33","v":0},{"$f":"D1a!I158*D3c!$I33","v":0},{"$f":"D1a!J158*D3c!$I33","v":0},{"$f":"D1a!E158*D3c!$J33","v":0},{"$f":"D1a!F158*D3c!$J33","v":0},{"$f":"D1a!G158*D3c!$J33","v":0},{"$f":"D1a!H158*D3c!$J33","v":0},{"$f":"D1a!I158*D3c!$J33","v":0},{"$f":"D1a!J158*D3c!$J33","v":0},{"$f":"D1a!E158*D3c!$K33","v":0},{"$f":"D1a!F158*D3c!$K33","v":0},{"$f":"D1a!G158*D3c!$K33","v":0},{"$f":"D1a!H158*D3c!$K33","v":0},{"$f":"D1a!I158*D3c!$K33","v":0},{"$f":"D1a!J158*D3c!$K33","v":0},{"$f":"D1a!E158*D3c!$L33","v":0},{"$f":"D1a!F158*D3c!$L33","v":0},{"$f":"D1a!G158*D3c!$L33","v":0},{"$f":"D1a!H158*D3c!$L33","v":0},{"$f":"D1a!I158*D3c!$L33","v":0},{"$f":"D1a!J158*D3c!$L33","v":0},{"$f":"D1a!E158*D3c!$M33","v":0},{"$f":"D1a!F158*D3c!$M33","v":0},{"$f":"D1a!G158*D3c!$M33","v":0},{"$f":"D1a!H158*D3c!$M33","v":0},{"$f":"D1a!I158*D3c!$M33","v":0},{"$f":"D1a!J158*D3c!$M33","v":0}]
[null,null,null,null,"Raffinage de pétrole",{"$f":"D1a!E159*D3c!F34","v":0},{"$f":"D1a!F159*D3c!$F34","v":0},{"$f":"D1a!G159*D3c!$F34","v":0},{"$f":"D1a!H159*D3c!$F34","v":0},{"$f":"D1a!I159*D3c!$F34","v":0},{"$f":"D1a!J159*D3c!$F34","v":0},{"$f":"D1a!E159*D3c!$G34","v":0},{"$f":"D1a!F159*D3c!$G34","v":0},{"$f":"D1a!G159*D3c!$G34","v":0},{"$f":"D1a!H159*D3c!$G34","v":0},{"$f":"D1a!I159*D3c!$G34","v":0},{"$f":"D1a!J159*D3c!$G34","v":0},{"$f":"D1a!E159*D3c!$H34","v":0},{"$f":"D1a!F159*D3c!$H34","v":0},{"$f":"D1a!G159*D3c!$H34","v":0},{"$f":"D1a!H159*D3c!$H34","v":0},{"$f":"D1a!I159*D3c!$H34","v":0},{"$f":"D1a!J159*D3c!$H34","v":0},{"$f":"D1a!E159*D3c!$I34","v":0},{"$f":"D1a!F159*D3c!$I34","v":0},{"$f":"D1a!G159*D3c!$I34","v":0},{"$f":"D1a!H159*D3c!$I34","v":0},{"$f":"D1a!I159*D3c!$I34","v":0},{"$f":"D1a!J159*D3c!$I34","v":0},{"$f":"D1a!E159*D3c!$J34","v":0},{"$f":"D1a!F159*D3c!$J34","v":0},{"$f":"D1a!G159*D3c!$J34","v":0},{"$f":"D1a!H159*D3c!$J34","v":0},{"$f":"D1a!I159*D3c!$J34","v":0},{"$f":"D1a!J159*D3c!$J34","v":0},{"$f":"D1a!E159*D3c!$K34","v":0},{"$f":"D1a!F159*D3c!$K34","v":0},{"$f":"D1a!G159*D3c!$K34","v":0},{"$f":"D1a!H159*D3c!$K34","v":0},{"$f":"D1a!I159*D3c!$K34","v":0},{"$f":"D1a!J159*D3c!$K34","v":0},{"$f":"D1a!E159*D3c!$L34","v":0},{"$f":"D1a!F159*D3c!$L34","v":0},{"$f":"D1a!G159*D3c!$L34","v":0},{"$f":"D1a!H159*D3c!$L34","v":0},{"$f":"D1a!I159*D3c!$L34","v":0},{"$f":"D1a!J159*D3c!$L34","v":0},{"$f":"D1a!E159*D3c!$M34","v":0},{"$f":"D1a!F159*D3c!$M34","v":0},{"$f":"D1a!G159*D3c!$M34","v":0},{"$f":"D1a!H159*D3c!$M34","v":0},{"$f":"D1a!I159*D3c!$M34","v":0},{"$f":"D1a!J159*D3c!$M34","v":0}]
[null,null,null,null,"Transformation des combustibles minéraux solides – siderurgies",{"$f":"D1a!E160*D3c!F35","v":0},{"$f":"D1a!F160*D3c!$F35","v":0},{"$f":"D1a!G160*D3c!$F35","v":0},{"$f":"D1a!H160*D3c!$F35","v":0},{"$f":"D1a!I160*D3c!$F35","v":0},{"$f":"D1a!J160*D3c!$F35","v":0},{"$f":"D1a!E160*D3c!$G35","v":0},{"$f":"D1a!F160*D3c!$G35","v":0},{"$f":"D1a!G160*D3c!$G35","v":0},{"$f":"D1a!H160*D3c!$G35","v":0},{"$f":"D1a!I160*D3c!$G35","v":0},{"$f":"D1a!J160*D3c!$G35","v":0},{"$f":"D1a!E160*D3c!$H35","v":0},{"$f":"D1a!F160*D3c!$H35","v":0},{"$f":"D1a!G160*D3c!$H35","v":0},{"$f":"D1a!H160*D3c!$H35","v":0},{"$f":"D1a!I160*D3c!$H35","v":0},{"$f":"D1a!J160*D3c!$H35","v":0},{"$f":"D1a!E160*D3c!$I35","v":0},{"$f":"D1a!F160*D3c!$I35","v":0},{"$f":"D1a!G160*D3c!$I35","v":0},{"$f":"D1a!H160*D3c!$I35","v":0},{"$f":"D1a!I160*D3c!$I35","v":0},{"$f":"D1a!J160*D3c!$I35","v":0},{"$f":"D1a!E160*D3c!$J35","v":0},{"$f":"D1a!F160*D3c!$J35","v":0},{"$f":"D1a!G160*D3c!$J35","v":0},{"$f":"D1a!H160*D3c!$J35","v":0},{"$f":"D1a!I160*D3c!$J35","v":0},{"$f":"D1a!J160*D3c!$J35","v":0},{"$f":"D1a!E160*D3c!$K35","v":0},{"$f":"D1a!F160*D3c!$K35","v":0},{"$f":"D1a!G160*D3c!$K35","v":0},{"$f":"D1a!H160*D3c!$K35","v":0},{"$f":"D1a!I160*D3c!$K35","v":0},{"$f":"D1a!J160*D3c!$K35","v":0},{"$f":"D1a!E160*D3c!$L35","v":0},{"$f":"D1a!F160*D3c!$L35","v":0},{"$f":"D1a!G160*D3c!$L35","v":0},{"$f":"D1a!H160*D3c!$L35","v":0},{"$f":"D1a!I160*D3c!$L35","v":0},{"$f":"D1a!J160*D3c!$L35","v":0},{"$f":"D1a!E160*D3c!$M35","v":0},{"$f":"D1a!F160*D3c!$M35","v":0},{"$f":"D1a!G160*D3c!$M35","v":0},{"$f":"D1a!H160*D3c!$M35","v":0},{"$f":"D1a!I160*D3c!$M35","v":0},{"$f":"D1a!J160*D3c!$M35","v":0}]
[null,null,"Transport routier",null,"Deux roues",{"$f":"D1a!E161*D3c!F36","v":0},{"$f":"D1a!F161*D3c!$F36","v":0},{"$f":"D1a!G161*D3c!$F36","v":0},{"$f":"D1a!H161*D3c!$F36","v":0},{"$f":"D1a!I161*D3c!$F36","v":0},{"$f":"D1a!J161*D3c!$F36","v":0},{"$f":"D1a!E161*D3c!$G36","v":0},{"$f":"D1a!F161*D3c!$G36","v":0},{"$f":"D1a!G161*D3c!$G36","v":0},{"$f":"D1a!H161*D3c!$G36","v":0},{"$f":"D1a!I161*D3c!$G36","v":0},{"$f":"D1a!J161*D3c!$G36","v":0},{"$f":"D1a!E161*D3c!$H36","v":0},{"$f":"D1a!F161*D3c!$H36","v":0},{"$f":"D1a!G161*D3c!$H36","v":0},{"$f":"D1a!H161*D3c!$H36","v":0},{"$f":"D1a!I161*D3c!$H36","v":0},{"$f":"D1a!J161*D3c!$H36","v":0},{"$f":"D1a!E161*D3c!$I36","v":0},{"$f":"D1a!F161*D3c!$I36","v":0},{"$f":"D1a!G161*D3c!$I36","v":0},{"$f":"D1a!H161*D3c!$I36","v":0},{"$f":"D1a!I161*D3c!$I36","v":0},{"$f":"D1a!J161*D3c!$I36","v":0},{"$f":"D1a!E161*D3c!$J36","v":0},{"$f":"D1a!F161*D3c!$J36","v":0},{"$f":"D1a!G161*D3c!$J36","v":0},{"$f":"D1a!H161*D3c!$J36","v":0},{"$f":"D1a!I161*D3c!$J36","v":0},{"$f":"D1a!J161*D3c!$J36","v":0},{"$f":"D1a!E161*D3c!$K36","v":0},{"$f":"D1a!F161*D3c!$K36","v":0},{"$f":"D1a!G161*D3c!$K36","v":0},{"$f":"D1a!H161*D3c!$K36","v":0},{"$f":"D1a!I161*D3c!$K36","v":0},{"$f":"D1a!J161*D3c!$K36","v":0},{"$f":"D1a!E161*D3c!$L36","v":0},{"$f":"D1a!F161*D3c!$L36","v":0},{"$f":"D1a!G161*D3c!$L36","v":0},{"$f":"D1a!H161*D3c!$L36","v":0},{"$f":"D1a!I161*D3c!$L36","v":0},{"$f":"D1a!J161*D3c!$L36","v":0},{"$f":"D1a!E161*D3c!$M36","v":0},{"$f":"D1a!F161*D3c!$M36","v":0},{"$f":"D1a!G161*D3c!$M36","v":0},{"$f":"D1a!H161*D3c!$M36","v":0},{"$f":"D1a!I161*D3c!$M36","v":0},{"$f":"D1a!J161*D3c!$M36","v":0}]
[null,null,null,null,"evap essence",{"$f":"D1a!E162*D3c!F37","v":0},{"$f":"D1a!F162*D3c!$F37","v":0},{"$f":"D1a!G162*D3c!$F37","v":0},{"$f":"D1a!H162*D3c!$F37","v":0},{"$f":"D1a!I162*D3c!$F37","v":0},{"$f":"D1a!J162*D3c!$F37","v":0},{"$f":"D1a!E162*D3c!$G37","v":0},{"$f":"D1a!F162*D3c!$G37","v":0},{"$f":"D1a!G162*D3c!$G37","v":0},{"$f":"D1a!H162*D3c!$G37","v":0},{"$f":"D1a!I162*D3c!$G37","v":0},{"$f":"D1a!J162*D3c!$G37","v":0},{"$f":"D1a!E162*D3c!$H37","v":0},{"$f":"D1a!F162*D3c!$H37","v":0},{"$f":"D1a!G162*D3c!$H37","v":0},{"$f":"D1a!H162*D3c!$H37","v":0},{"$f":"D1a!I162*D3c!$H37","v":0},{"$f":"D1a!J162*D3c!$H37","v":0},{"$f":"D1a!E162*D3c!$I37","v":0},{"$f":"D1a!F162*D3c!$I37","v":0},{"$f":"D1a!G162*D3c!$I37","v":0},{"$f":"D1a!H162*D3c!$I37","v":0},{"$f":"D1a!I162*D3c!$I37","v":0},{"$f":"D1a!J162*D3c!$I37","v":0},{"$f":"D1a!E162*D3c!$J37","v":0},{"$f":"D1a!F162*D3c!$J37","v":0},{"$f":"D1a!G162*D3c!$J37","v":0},{"$f":"D1a!H162*D3c!$J37","v":0},{"$f":"D1a!I162*D3c!$J37","v":0},{"$f":"D1a!J162*D3c!$J37","v":0},{"$f":"D1a!E162*D3c!$K37","v":0},{"$f":"D1a!F162*D3c!$K37","v":0},{"$f":"D1a!G162*D3c!$K37","v":0},{"$f":"D1a!H162*D3c!$K37","v":0},{"$f":"D1a!I162*D3c!$K37","v":0},{"$f":"D1a!J162*D3c!$K37","v":0},{"$f":"D1a!E162*D3c!$L37","v":0},{"$f":"D1a!F162*D3c!$L37","v":0},{"$f":"D1a!G162*D3c!$L37","v":0},{"$f":"D1a!H162*D3c!$L37","v":0},{"$f":"D1a!I162*D3c!$L37","v":0},{"$f":"D1a!J162*D3c!$L37","v":0},{"$f":"D1a!E162*D3c!$M37","v":0},{"$f":"D1a!F162*D3c!$M37","v":0},{"$f":"D1a!G162*D3c!$M37","v":0},{"$f":"D1a!H162*D3c!$M37","v":0},{"$f":"D1a!I162*D3c!$M37","v":0},{"$f":"D1a!J162*D3c!$M37","v":0}]
[null,null,null,null,"Poids lourds",{"$f":"D1a!E163*D3c!F38","v":0},{"$f":"D1a!F163*D3c!$F38","v":0},{"$f":"D1a!G163*D3c!$F38","v":0},{"$f":"D1a!H163*D3c!$F38","v":0},{"$f":"D1a!I163*D3c!$F38","v":0},{"$f":"D1a!J163*D3c!$F38","v":0},{"$f":"D1a!E163*D3c!$G38","v":0},{"$f":"D1a!F163*D3c!$G38","v":0},{"$f":"D1a!G163*D3c!$G38","v":0},{"$f":"D1a!H163*D3c!$G38","v":0},{"$f":"D1a!I163*D3c!$G38","v":0},{"$f":"D1a!J163*D3c!$G38","v":0},{"$f":"D1a!E163*D3c!$H38","v":0},{"$f":"D1a!F163*D3c!$H38","v":0},{"$f":"D1a!G163*D3c!$H38","v":0},{"$f":"D1a!H163*D3c!$H38","v":0},{"$f":"D1a!I163*D3c!$H38","v":0},{"$f":"D1a!J163*D3c!$H38","v":0},{"$f":"D1a!E163*D3c!$I38","v":0},{"$f":"D1a!F163*D3c!$I38","v":0},{"$f":"D1a!G163*D3c!$I38","v":0},{"$f":"D1a!H163*D3c!$I38","v":0},{"$f":"D1a!I163*D3c!$I38","v":0},{"$f":"D1a!J163*D3c!$I38","v":0},{"$f":"D1a!E163*D3c!$J38","v":0},{"$f":"D1a!F163*D3c!$J38","v":0},{"$f":"D1a!G163*D3c!$J38","v":0},{"$f":"D1a!H163*D3c!$J38","v":0},{"$f":"D1a!I163*D3c!$J38","v":0},{"$f":"D1a!J163*D3c!$J38","v":0},{"$f":"D1a!E163*D3c!$K38","v":0},{"$f":"D1a!F163*D3c!$K38","v":0},{"$f":"D1a!G163*D3c!$K38","v":0},{"$f":"D1a!H163*D3c!$K38","v":0},{"$f":"D1a!I163*D3c!$K38","v":0},{"$f":"D1a!J163*D3c!$K38","v":0},{"$f":"D1a!E163*D3c!$L38","v":0},{"$f":"D1a!F163*D3c!$L38","v":0},{"$f":"D1a!G163*D3c!$L38","v":0},{"$f":"D1a!H163*D3c!$L38","v":0},{"$f":"D1a!I163*D3c!$L38","v":0},{"$f":"D1a!J163*D3c!$L38","v":0},{"$f":"D1a!E163*D3c!$M38","v":0},{"$f":"D1a!F163*D3c!$M38","v":0},{"$f":"D1a!G163*D3c!$M38","v":0},{"$f":"D1a!H163*D3c!$M38","v":0},{"$f":"D1a!I163*D3c!$M38","v":0},{"$f":"D1a!J163*D3c!$M38","v":0}]
[null,null,null,null,"trafic diffus",{"$f":"D1a!E164*D3c!F39","v":0},{"$f":"D1a!F164*D3c!$F39","v":0},{"$f":"D1a!G164*D3c!$F39","v":0},{"$f":"D1a!H164*D3c!$F39","v":0},{"$f":"D1a!I164*D3c!$F39","v":0},{"$f":"D1a!J164*D3c!$F39","v":0},{"$f":"D1a!E164*D3c!$G39","v":0},{"$f":"D1a!F164*D3c!$G39","v":0},{"$f":"D1a!G164*D3c!$G39","v":0},{"$f":"D1a!H164*D3c!$G39","v":0},{"$f":"D1a!I164*D3c!$G39","v":0},{"$f":"D1a!J164*D3c!$G39","v":0},{"$f":"D1a!E164*D3c!$H39","v":0},{"$f":"D1a!F164*D3c!$H39","v":0},{"$f":"D1a!G164*D3c!$H39","v":0},{"$f":"D1a!H164*D3c!$H39","v":0},{"$f":"D1a!I164*D3c!$H39","v":0},{"$f":"D1a!J164*D3c!$H39","v":0},{"$f":"D1a!E164*D3c!$I39","v":0},{"$f":"D1a!F164*D3c!$I39","v":0},{"$f":"D1a!G164*D3c!$I39","v":0},{"$f":"D1a!H164*D3c!$I39","v":0},{"$f":"D1a!I164*D3c!$I39","v":0},{"$f":"D1a!J164*D3c!$I39","v":0},{"$f":"D1a!E164*D3c!$J39","v":0},{"$f":"D1a!F164*D3c!$J39","v":0},{"$f":"D1a!G164*D3c!$J39","v":0},{"$f":"D1a!H164*D3c!$J39","v":0},{"$f":"D1a!I164*D3c!$J39","v":0},{"$f":"D1a!J164*D3c!$J39","v":0},{"$f":"D1a!E164*D3c!$K39","v":0},{"$f":"D1a!F164*D3c!$K39","v":0},{"$f":"D1a!G164*D3c!$K39","v":0},{"$f":"D1a!H164*D3c!$K39","v":0},{"$f":"D1a!I164*D3c!$K39","v":0},{"$f":"D1a!J164*D3c!$K39","v":0},{"$f":"D1a!E164*D3c!$L39","v":0},{"$f":"D1a!F164*D3c!$L39","v":0},{"$f":"D1a!G164*D3c!$L39","v":0},{"$f":"D1a!H164*D3c!$L39","v":0},{"$f":"D1a!I164*D3c!$L39","v":0},{"$f":"D1a!J164*D3c!$L39","v":0},{"$f":"D1a!E164*D3c!$M39","v":0},{"$f":"D1a!F164*D3c!$M39","v":0},{"$f":"D1a!G164*D3c!$M39","v":0},{"$f":"D1a!H164*D3c!$M39","v":0},{"$f":"D1a!I164*D3c!$M39","v":0},{"$f":"D1a!J164*D3c!$M39","v":0}]
[null,null,null,null,"usure routes",{"$f":"D1a!E165*D3c!F40","v":0},{"$f":"D1a!F165*D3c!$F40","v":0},{"$f":"D1a!G165*D3c!$F40","v":0},{"$f":"D1a!H165*D3c!$F40","v":0},{"$f":"D1a!I165*D3c!$F40","v":0},{"$f":"D1a!J165*D3c!$F40","v":0},{"$f":"D1a!E165*D3c!$G40","v":0},{"$f":"D1a!F165*D3c!$G40","v":0},{"$f":"D1a!G165*D3c!$G40","v":0},{"$f":"D1a!H165*D3c!$G40","v":0},{"$f":"D1a!I165*D3c!$G40","v":0},{"$f":"D1a!J165*D3c!$G40","v":0},{"$f":"D1a!E165*D3c!$H40","v":0},{"$f":"D1a!F165*D3c!$H40","v":0},{"$f":"D1a!G165*D3c!$H40","v":0},{"$f":"D1a!H165*D3c!$H40","v":0},{"$f":"D1a!I165*D3c!$H40","v":0},{"$f":"D1a!J165*D3c!$H40","v":0},{"$f":"D1a!E165*D3c!$I40","v":0},{"$f":"D1a!F165*D3c!$I40","v":0},{"$f":"D1a!G165*D3c!$I40","v":0},{"$f":"D1a!H165*D3c!$I40","v":0},{"$f":"D1a!I165*D3c!$I40","v":0},{"$f":"D1a!J165*D3c!$I40","v":0},{"$f":"D1a!E165*D3c!$J40","v":0},{"$f":"D1a!F165*D3c!$J40","v":0},{"$f":"D1a!G165*D3c!$J40","v":0},{"$f":"D1a!H165*D3c!$J40","v":0},{"$f":"D1a!I165*D3c!$J40","v":0},{"$f":"D1a!J165*D3c!$J40","v":0},{"$f":"D1a!E165*D3c!$K40","v":0},{"$f":"D1a!F165*D3c!$K40","v":0},{"$f":"D1a!G165*D3c!$K40","v":0},{"$f":"D1a!H165*D3c!$K40","v":0},{"$f":"D1a!I165*D3c!$K40","v":0},{"$f":"D1a!J165*D3c!$K40","v":0},{"$f":"D1a!E165*D3c!$L40","v":0},{"$f":"D1a!F165*D3c!$L40","v":0},{"$f":"D1a!G165*D3c!$L40","v":0},{"$f":"D1a!H165*D3c!$L40","v":0},{"$f":"D1a!I165*D3c!$L40","v":0},{"$f":"D1a!J165*D3c!$L40","v":0},{"$f":"D1a!E165*D3c!$M40","v":0},{"$f":"D1a!F165*D3c!$M40","v":0},{"$f":"D1a!G165*D3c!$M40","v":0},{"$f":"D1a!H165*D3c!$M40","v":0},{"$f":"D1a!I165*D3c!$M40","v":0},{"$f":"D1a!J165*D3c!$M40","v":0}]
[null,null,null,null,"Voitures particulières",{"$f":"D1a!E166*D3c!F41","v":0},{"$f":"D1a!F166*D3c!$F41","v":0},{"$f":"D1a!G166*D3c!$F41","v":0},{"$f":"D1a!H166*D3c!$F41","v":0},{"$f":"D1a!I166*D3c!$F41","v":0},{"$f":"D1a!J166*D3c!$F41","v":0},{"$f":"D1a!E166*D3c!$G41","v":0},{"$f":"D1a!F166*D3c!$G41","v":0},{"$f":"D1a!G166*D3c!$G41","v":0},{"$f":"D1a!H166*D3c!$G41","v":0},{"$f":"D1a!I166*D3c!$G41","v":0},{"$f":"D1a!J166*D3c!$G41","v":0},{"$f":"D1a!E166*D3c!$H41","v":0},{"$f":"D1a!F166*D3c!$H41","v":0},{"$f":"D1a!G166*D3c!$H41","v":0},{"$f":"D1a!H166*D3c!$H41","v":0},{"$f":"D1a!I166*D3c!$H41","v":0},{"$f":"D1a!J166*D3c!$H41","v":0},{"$f":"D1a!E166*D3c!$I41","v":0},{"$f":"D1a!F166*D3c!$I41","v":0},{"$f":"D1a!G166*D3c!$I41","v":0},{"$f":"D1a!H166*D3c!$I41","v":0},{"$f":"D1a!I166*D3c!$I41","v":0},{"$f":"D1a!J166*D3c!$I41","v":0},{"$f":"D1a!E166*D3c!$J41","v":0},{"$f":"D1a!F166*D3c!$J41","v":0},{"$f":"D1a!G166*D3c!$J41","v":0},{"$f":"D1a!H166*D3c!$J41","v":0},{"$f":"D1a!I166*D3c!$J41","v":0},{"$f":"D1a!J166*D3c!$J41","v":0},{"$f":"D1a!E166*D3c!$K41","v":0},{"$f":"D1a!F166*D3c!$K41","v":0},{"$f":"D1a!G166*D3c!$K41","v":0},{"$f":"D1a!H166*D3c!$K41","v":0},{"$f":"D1a!I166*D3c!$K41","v":0},{"$f":"D1a!J166*D3c!$K41","v":0},{"$f":"D1a!E166*D3c!$L41","v":0},{"$f":"D1a!F166*D3c!$L41","v":0},{"$f":"D1a!G166*D3c!$L41","v":0},{"$f":"D1a!H166*D3c!$L41","v":0},{"$f":"D1a!I166*D3c!$L41","v":0},{"$f":"D1a!J166*D3c!$L41","v":0},{"$f":"D1a!E166*D3c!$M41","v":0},{"$f":"D1a!F166*D3c!$M41","v":0},{"$f":"D1a!G166*D3c!$M41","v":0},{"$f":"D1a!H166*D3c!$M41","v":0},{"$f":"D1a!I166*D3c!$M41","v":0},{"$f":"D1a!J166*D3c!$M41","v":0}]
[null,null,null,null,"VUL",{"$f":"D1a!E167*D3c!F42","v":0},{"$f":"D1a!F167*D3c!$F42","v":0},{"$f":"D1a!G167*D3c!$F42","v":0},{"$f":"D1a!H167*D3c!$F42","v":0},{"$f":"D1a!I167*D3c!$F42","v":0},{"$f":"D1a!J167*D3c!$F42","v":0},{"$f":"D1a!E167*D3c!$G42","v":0},{"$f":"D1a!F167*D3c!$G42","v":0},{"$f":"D1a!G167*D3c!$G42","v":0},{"$f":"D1a!H167*D3c!$G42","v":0},{"$f":"D1a!I167*D3c!$G42","v":0},{"$f":"D1a!J167*D3c!$G42","v":0},{"$f":"D1a!E167*D3c!$H42","v":0},{"$f":"D1a!F167*D3c!$H42","v":0},{"$f":"D1a!G167*D3c!$H42","v":0},{"$f":"D1a!H167*D3c!$H42","v":0},{"$f":"D1a!I167*D3c!$H42","v":0},{"$f":"D1a!J167*D3c!$H42","v":0},{"$f":"D1a!E167*D3c!$I42","v":0},{"$f":"D1a!F167*D3c!$I42","v":0},{"$f":"D1a!G167*D3c!$I42","v":0},{"$f":"D1a!H167*D3c!$I42","v":0},{"$f":"D1a!I167*D3c!$I42","v":0},{"$f":"D1a!J167*D3c!$I42","v":0},{"$f":"D1a!E167*D3c!$J42","v":0},{"$f":"D1a!F167*D3c!$J42","v":0},{"$f":"D1a!G167*D3c!$J42","v":0},{"$f":"D1a!H167*D3c!$J42","v":0},{"$f":"D1a!I167*D3c!$J42","v":0},{"$f":"D1a!J167*D3c!$J42","v":0},{"$f":"D1a!E167*D3c!$K42","v":0},{"$f":"D1a!F167*D3c!$K42","v":0},{"$f":"D1a!G167*D3c!$K42","v":0},{"$f":"D1a!H167*D3c!$K42","v":0},{"$f":"D1a!I167*D3c!$K42","v":0},{"$f":"D1a!J167*D3c!$K42","v":0},{"$f":"D1a!E167*D3c!$L42","v":0},{"$f":"D1a!F167*D3c!$L42","v":0},{"$f":"D1a!G167*D3c!$L42","v":0},{"$f":"D1a!H167*D3c!$L42","v":0},{"$f":"D1a!I167*D3c!$L42","v":0},{"$f":"D1a!J167*D3c!$L42","v":0},{"$f":"D1a!E167*D3c!$M42","v":0},{"$f":"D1a!F167*D3c!$M42","v":0},{"$f":"D1a!G167*D3c!$M42","v":0},{"$f":"D1a!H167*D3c!$M42","v":0},{"$f":"D1a!I167*D3c!$M42","v":0},{"$f":"D1a!J167*D3c!$M42","v":0}]
[null,null,"Total",null,null,{"$f":"SUM(F10:F43)","v":0},0,0,0,0,0,{"$f":"SUM(L10:L43)","v":0},0,0,0,0,0,0,0,0,0,0,0,0,0,0,0,0,0,0,0,0,0,0,0,0,0,0,0,0,0,{"$f":"SUM(AP10:AP43)","v":0},0,0,0,0,0,0,0,0,0,0,0]
[]
[]
[]
["B.","Scope 1 : Emissions directes par poste MyEmiss'Air / GES (kg eq CO2)"]
[]
[]
[null,null,null,null,null,"Résidentiel",null,null,null,null,null,"Tertiaire",null,null,null,null,null,"Transport routier",null,null,null,null,null,"Autres transports",null,null,null,null,null,"Agriculture",null,null,null,null,null,"Déchets",null,null,null,null,null,"Industrie hors branche énergie",null,null,null,null,null,"Industrie branche énergie"]
[null,null,null,null,null,"CO2","CH4","N2O","Autres GES","Total",null,"CO2","CH4","N2O","Autres GES","Total",null,"CO2","CH4","N2O","Autres GES","Total",null,"CO2","CH4","N2O","Autres GES","Total",null,"CO2","CH4","N2O","Autres GES","Total",null,"CO2","CH4","N2O","Autres GES","Total",null,"CO2","CH4","N2O","Autres GES","Total",null,"CO2","CH4","N2O","Autres GES","Total"]
[null,null,null,null,null,"kg eq CO2","kg eq CO2","kg eq CO2","kg eq CO2","kg eq CO2",null,"kg eq CO2","kg eq CO2","kg eq CO2","kg eq CO2","kg eq CO2",null,"kg eq CO2","kg eq CO2","kg eq CO2","kg eq CO2","kg eq CO2",null,"kg eq CO2","kg eq CO2","kg eq CO2","kg eq CO2","kg eq CO2",null,"kg eq CO2","kg eq CO2","kg eq CO2","kg eq CO2","kg eq CO2",null,"kg eq CO2","kg eq CO2","kg eq CO2","kg eq CO2","kg eq CO2",null,"kg eq CO2","kg eq CO2","kg eq CO2","kg eq CO2","kg eq CO2",null,"kg eq CO2","kg eq CO2","kg eq CO2","kg eq CO2","kg eq CO2"]
[null,null,"Agriculture",null,"Autres sources de l'agriculture (tracteurs, …)",{"$f":"F10*'FE1'!$C$5","v":0},{"$f":"G10*'FE1'!$D$5","v":0},{"$f":"H10*'FE1'!$E$5","v":0},{"$f":"(I10*'FE1'!$F$5+J10*'FE1'!$G$5+K10*'FE1'!$H$5)","v":0},{"$f":"SUM(F54:I54)","v":0},null,{"$f":"L10*'FE1'!$C$5","v":0},{"$f":"M10*'FE1'!$D$5","v":0},{"$f":"N10*'FE1'!$E$5","v":0},{"$f":"(O10*'FE1'!$F$5+P10*'FE1'!$G$5+Q10*'FE1'!$H$5)","v":0},{"$f":"SUM(L54:O54)","v":0},null,{"$f":"R10*'FE1'!$C$5","v":0},{"$f":"S10*'FE1'!$D$5","v":0},{"$f":"T10*'FE1'!$E$5","v":0},{"$f":"(U10*'FE1'!$F$5+V10*'FE1'!$G$5+W10*'FE1'!$H$5)","v":0},{"$f":"SUM(R54:U54)","v":0},null,{"$f":"X10*'FE1'!$C$5","v":0},{"$f":"Y10*'FE1'!$D$5","v":0},{"$f":"Z10*'FE1'!$E$5","v":0},{"$f":"(AA10*'FE1'!$F$5+AB10*'FE1'!$G$5+AC10*'FE1'!$H$5)","v":0},{"$f":"SUM(X54:AA54)","v":0},null,{"$f":"AD10*'FE1'!$C$5","v":0},{"$f":"AE10*'FE1'!$D$5","v":0},{"$f":"AF10*'FE1'!$E$5","v":0},{"$f":"AH54-SUM(AD54:AF54)","v":0},{"$f":"D1a!K134*1000000","v":0},null,{"$f":"AJ10*'FE1'!$C$5","v":0},{"$f":"AK10*'FE1'!$D$5","v":0},{"$f":"AL10*'FE1'!$E$5","v":0},{"$f":"(AM10*'FE1'!$F$5+AN10*'FE1'!$G$5+AO10*'FE1'!$H$5)","v":0},{"$f":"SUM(AJ54:AM54)","v":0},null,{"$f":"AP10*'FE1'!$C$5","v":0},{"$f":"AQ10*'FE1'!$D$5","v":0},{"$f":"AR10*'FE1'!$E$5","v":0},{"$f":"(AS10*'FE1'!$F$5+AT10*'FE1'!$G$5+AU10*'FE1'!$H$5)","v":0},{"$f":"SUM(AP54:AS54)","v":0},null,{"$f":"AV10*'FE1'!$C$5","v":0},{"$f":"AW10*'FE1'!$D$5","v":0},{"$f":"AX10*'FE1'!$E$5","v":0},{"$f":"(AY10*'FE1'!$F$5+AZ10*'FE1'!$G$5+BA10*'FE1'!$H$5)","v":0},{"$f":"SUM(AV54:AY54)","v":0}]
[null,null,null,null,"Culture",{"$f":"F11*'FE1'!$C$5","v":0},{"$f":"G11*'FE1'!$D$5","v":0},{"$f":"H11*'FE1'!$E$5","v":0},{"$f":"(I11*'FE1'!$F$5+J11*'FE1'!$G$5+K11*'FE1'!$H$5)","v":0},0,null,{"$f":"L11*'FE1'!$C$5","v":0},{"$f":"M11*'FE1'!$D$5","v":0},{"$f":"N11*'FE1'!$E$5","v":0},{"$f":"(O11*'FE1'!$F$5+P11*'FE1'!$G$5+Q11*'FE1'!$H$5)","v":0},0,null,{"$f":"R11*'FE1'!$C$5","v":0},{"$f":"S11*'FE1'!$D$5","v":0},{"$f":"T11*'FE1'!$E$5","v":0},{"$f":"(U11*'FE1'!$F$5+V11*'FE1'!$G$5+W11*'FE1'!$H$5)","v":0},0,null,{"$f":"X11*'FE1'!$C$5","v":0},{"$f":"Y11*'FE1'!$D$5","v":0},{"$f":"Z11*'FE1'!$E$5","v":0},{"$f":"(AA11*'FE1'!$F$5+AB11*'FE1'!$G$5+AC11*'FE1'!$H$5)","v":0},0,null,{"$f":"AD11*'FE1'!$C$5","v":0},{"$f":"AE11*'FE1'!$D$5","v":0},{"$f":"AF11*'FE1'!$E$5","v":0},{"$f":"AH55-SUM(AD55:AF55)","v":0},{"$f":"D1a!K135*1000000","v":0},null,{"$f":"AJ11*'FE1'!$C$5","v":0},{"$f":"AK11*'FE1'!$D$5","v":0},{"$f":"AL11*'FE1'!$E$5","v":0},{"$f":"(AM11*'FE1'!$F$5+AN11*'FE1'!$G$5+AO11*'FE1'!$H$5)","v":0},0,null,{"$f":"AP11*'FE1'!$C$5","v":0},{"$f":"AQ11*'FE1'!$D$5","v":0},{"$f":"AR11*'FE1'!$E$5","v":0},{"$f":"(AS11*'FE1'!$F$5+AT11*'FE1'!$G$5+AU11*'FE1'!$H$5)","v":0},0,null,{"$f":"AV11*'FE1'!$C$5","v":0},{"$f":"AW11*'FE1'!$D$5","v":0},{"$f":"AX11*'FE1'!$E$5","v":0},{"$f":"(AY11*'FE1'!$F$5+AZ11*'FE1'!$G$5+BA11*'FE1'!$H$5)","v":0},{"$f":"SUM(AV55:AY55)","v":0}]
[null,null,null,null,"Elevage",{"$f":"F12*'FE1'!$C$5","v":0},{"$f":"G12*'FE1'!$D$5","v":0},{"$f":"H12*'FE1'!$E$5","v":0},{"$f":"(I12*'FE1'!$F$5+J12*'FE1'!$G$5+K12*'FE1'!$H$5)","v":0},0,null,{"$f":"L12*'FE1'!$C$5","v":0},{"$f":"M12*'FE1'!$D$5","v":0},{"$f":"N12*'FE1'!$E$5","v":0},{"$f":"(O12*'FE1'!$F$5+P12*'FE1'!$G$5+Q12*'FE1'!$H$5)","v":0},0,null,{"$f":"R12*'FE1'!$C$5","v":0},{"$f":"S12*'FE1'!$D$5","v":0},{"$f":"T12*'FE1'!$E$5","v":0},{"$f":"(U12*'FE1'!$F$5+V12*'FE1'!$G$5+W12*'FE1'!$H$5)","v":0},0,null,{"$f":"X12*'FE1'!$C$5","v":0},{"$f":"Y12*'FE1'!$D$5","v":0},{"$f":"Z12*'FE1'!$E$5","v":0},{"$f":"(AA12*'FE1'!$F$5+AB12*'FE1'!$G$5+AC12*'FE1'!$H$5)","v":0},0,null,{"$f":"AD12*'FE1'!$C$5","v":0},{"$f":"AE12*'FE1'!$D$5","v":0},{"$f":"AF12*'FE1'!$E$5","v":0},0,{"$f":"D1a!K136*1000000","v":0},null,{"$f":"AJ12*'FE1'!$C$5","v":0},{"$f":"AK12*'FE1'!$D$5","v":0},{"$f":"AL12*'FE1'!$E$5","v":0},{"$f":"(AM12*'FE1'!$F$5+AN12*'FE1'!$G$5+AO12*'FE1'!$H$5)","v":0},0,null,{"$f":"AP12*'FE1'!$C$5","v":0},{"$f":"AQ12*'FE1'!$D$5","v":0},{"$f":"AR12*'FE1'!$E$5","v":0},{"$f":"(AS12*'FE1'!$F$5+AT12*'FE1'!$G$5+AU12*'FE1'!$H$5)","v":0},0,null,{"$f":"AV12*'FE1'!$C$5","v":0},{"$f":"AW12*'FE1'!$D$5","v":0},{"$f":"AX12*'FE1'!$E$5","v":0},{"$f":"(AY12*'FE1'!$F$5+AZ12*'FE1'!$G$5+BA12*'FE1'!$H$5)","v":0},0]
[null,null,"Autres transports",null,"Transport aérien français",{"$f":"F13*'FE1'!$C$5","v":0},{"$f":"G13*'FE1'!$D$5","v":0},{"$f":"H13*'FE1'!$E$5","v":0},{"$f":"(I13*'FE1'!$F$5+J13*'FE1'!$G$5+K13*'FE1'!$H$5)","v":0},0,null,{"$f":"L13*'FE1'!$C$5","v":0},{"$f":"M13*'FE1'!$D$5","v":0},{"$f":"N13*'FE1'!$E$5","v":0},{"$f":"(O13*'FE1'!$F$5+P13*'FE1'!$G$5+Q13*'FE1'!$H$5)","v":0},0,null,{"$f":"R13*'FE1'!$C$5","v":0},{"$f":"S13*'FE1'!$D$5","v":0},{"$f":"T13*'FE1'!$E$5","v":0},{"$f":"(U13*'FE1'!$F$5+V13*'FE1'!$G$5+W13*'FE1'!$H$5)","v":0},0,null,{"$f":"X13*'FE1'!$C$5","v":0},{"$f":"Y13*'FE1'!$D$5","v":0},{"$f":"Z13*'FE1'!$E$5","v":0},{"$f":"AB57-SUM(X57:Z57)","v":0},{"$f":"D1a!K137*1000000","v":0},null,{"$f":"AD13*'FE1'!$C$5","v":0},{"$f":"AE13*'FE1'!$D$5","v":0},{"$f":"AF13*'FE1'!$E$5","v":0},{"$f":"(AG13*'FE1'!$F$5+AH13*'FE1'!$G$5+AI13*'FE1'!$H$5)","v":0},{"$f":"SUM(AD57:AG57)","v":0},null,{"$f":"AJ13*'FE1'!$C$5","v":0},{"$f":"AK13*'FE1'!$D$5","v":0},{"$f":"AL13*'FE1'!$E$5","v":0},{"$f":"(AM13*'FE1'!$F$5+AN13*'FE1'!$G$5+AO13*'FE1'!$H$5)","v":0},0,null,{"$f":"AP13*'FE1'!$C$5","v":0},{"$f":"AQ13*'FE1'!$D$5","v":0},{"$f":"AR13*'FE1'!$E$5","v":0},{"$f":"(AS13*'FE1'!$F$5+AT13*'FE1'!$G$5+AU13*'FE1'!$H$5)","v":0},0,null,{"$f":"AV13*'FE1'!$C$5","v":0},{"$f":"AW13*'FE1'!$D$5","v":0},{"$f":"AX13*'FE1'!$E$5","v":0},{"$f":"(AY13*'FE1'!$F$5+AZ13*'FE1'!$G$5+BA13*'FE1'!$H$5)","v":0},0]
[null,null,null,null,"Transport ferroviaire",{"$f":"F14*'FE1'!$C$5","v":0},{"$f":"G14*'FE1'!$D$5","v":0},{"$f":"H14*'FE1'!$E$5","v":0},{"$f":"(I14*'FE1'!$F$5+J14*'FE1'!$G$5+K14*'FE1'!$H$5)","v":0},0,null,{"$f":"L14*'FE1'!$C$5","v":0},{"$f":"M14*'FE1'!$D$5","v":0},{"$f":"N14*'FE1'!$E$5","v":0},{"$f":"(O14*'FE1'!$F$5+P14*'FE1'!$G$5+Q14*'FE1'!$H$5)","v":0},0,null,{"$f":"R14*'FE1'!$C$5","v":0},{"$f":"S14*'FE1'!$D$5","v":0},{"$f":"T14*'FE1'!$E$5","v":0},{"$f":"(U14*'FE1'!$F$5+V14*'FE1'!$G$5+W14*'FE1'!$H$5)","v":0},0,null,{"$f":"X14*'FE1'!$C$5","v":0},{"$f":"Y14*'FE1'!$D$5","v":0},{"$f":"Z14*'FE1'!$E$5","v":0},{"$f":"AB58-SUM(X58:Z58)","v":0},{"$f":"D1a!K138*1000000","v":0},null,{"$f":"AD14*'FE1'!$C$5","v":0},{"$f":"AE14*'FE1'!$D$5","v":0},{"$f":"AF14*'FE1'!$E$5","v":0},{"$f":"(AG14*'FE1'!$F$5+AH14*'FE1'!$G$5+AI14*'FE1'!$H$5)","v":0},0,null,{"$f":"AJ14*'FE1'!$C$5","v":0},{"$f":"AK14*'FE1'!$D$5","v":0},{"$f":"AL14*'FE1'!$E$5","v":0},{"$f":"(AM14*'FE1'!$F$5+AN14*'FE1'!$G$5+AO14*'FE1'!$H$5)","v":0},0,null,{"$f":"AP14*'FE1'!$C$5","v":0},{"$f":"AQ14*'FE1'!$D$5","v":0},{"$f":"AR14*'FE1'!$E$5","v":0},{"$f":"(AS14*'FE1'!$F$5+AT14*'FE1'!$G$5+AU14*'FE1'!$H$5)","v":0},0,null,{"$f":"AV14*'FE1'!$C$5","v":0},{"$f":"AW14*'FE1'!$D$5","v":0},{"$f":"AX14*'FE1'!$E$5","v":0},{"$f":"(AY14*'FE1'!$F$5+AZ14*'FE1'!$G$5+BA14*'FE1'!$H$5)","v":0},0]
[null,null,null,null,"Transport fluvial",{"$f":"F15*'FE1'!$C$5","v":0},{"$f":"G15*'FE1'!$D$5","v":0},{"$f":"H15*'FE1'!$E$5","v":0},{"$f":"(I15*'FE1'!$F$5+J15*'FE1'!$G$5+K15*'FE1'!$H$5)","v":0},0,null,{"$f":"L15*'FE1'!$C$5","v":0},{"$f":"M15*'FE1'!$D$5","v":0},{"$f":"N15*'FE1'!$E$5","v":0},{"$f":"(O15*'FE1'!$F$5+P15*'FE1'!$G$5+Q15*'FE1'!$H$5)","v":0},0,null,{"$f":"R15*'FE1'!$C$5","v":0},{"$f":"S15*'FE1'!$D$5","v":0},{"$f":"T15*'FE1'!$E$5","v":0},{"$f":"(U15*'FE1'!$F$5+V15*'FE1'!$G$5+W15*'FE1'!$H$5)","v":0},0,null,{"$f":"X15*'FE1'!$C$5","v":0},{"$f":"Y15*'FE1'!$D$5","v":0},{"$f":"Z15*'FE1'!$E$5","v":0},0,{"$f":"D1a!K139*1000000","v":0},null,{"$f":"AD15*'FE1'!$C$5","v":0},{"$f":"AE15*'FE1'!$D$5","v":0},{"$f":"AF15*'FE1'!$E$5","v":0},{"$f":"(AG15*'FE1'!$F$5+AH15*'FE1'!$G$5+AI15*'FE1'!$H$5)","v":0},0,null,{"$f":"AJ15*'FE1'!$C$5","v":0},{"$f":"AK15*'FE1'!$D$5","v":0},{"$f":"AL15*'FE1'!$E$5","v":0},{"$f":"(AM15*'FE1'!$F$5+AN15*'FE1'!$G$5+AO15*'FE1'!$H$5)","v":0},0,null,{"$f":"AP15*'FE1'!$C$5","v":0},{"$f":"AQ15*'FE1'!$D$5","v":0},{"$f":"AR15*'FE1'!$E$5","v":0},{"$f":"(AS15*'FE1'!$F$5+AT15*'FE1'!$G$5+AU15*'FE1'!$H$5)","v":0},0,null,{"$f":"AV15*'FE1'!$C$5","v":0},{"$f":"AW15*'FE1'!$D$5","v":0},{"$f":"AX15*'FE1'!$E$5","v":0},{"$f":"(AY15*'FE1'!$F$5+AZ15*'FE1'!$G$5+BA15*'FE1'!$H$5)","v":0},0]
[null,null,"IDEC",null,"Agro-alimentaire",{"$f":"F16*'FE1'!$C$5","v":0},{"$f":"G16*'FE1'!$D$5","v":0},{"$f":"H16*'FE1'!$E$5","v":0},{"$f":"(I16*'FE1'!$F$5+J16*'FE1'!$G$5+K16*'FE1'!$H$5)","v":0},0,null,{"$f":"L16*'FE1'!$C$5","v":0},{"$f":"M16*'FE1'!$D$5","v":0},{"$f":"N16*'FE1'!$E$5","v":0},{"$f":"(O16*'FE1'!$F$5+P16*'FE1'!$G$5+Q16*'FE1'!$H$5)","v":0},0,null,{"$f":"R16*'FE1'!$C$5","v":0},{"$f":"S16*'FE1'!$D$5","v":0},{"$f":"T16*'FE1'!$E$5","v":0},{"$f":"(U16*'FE1'!$F$5+V16*'FE1'!$G$5+W16*'FE1'!$H$5)","v":0},0,null,{"$f":"X16*'FE1'!$C$5","v":0},{"$f":"Y16*'FE1'!$D$5","v":0},{"$f":"Z16*'FE1'!$E$5","v":0},{"$f":"(AA16*'FE1'!$F$5+AB16*'FE1'!$G$5+AC16*'FE1'!$H$5)","v":0},0,null,{"$f":"AD16*'FE1'!$C$5","v":0},{"$f":"AE16*'FE1'!$D$5","v":0},{"$f":"AF16*'FE1'!$E$5","v":0},{"$f":"(AG16*'FE1'!$F$5+AH16*'FE1'!$G$5+AI16*'FE1'!$H$5)","v":0},0,null,{"$f":"AJ16*'FE1'!$C$5","v":0},{"$f":"AK16*'FE1'!$D$5","v":0},{"$f":"AL16*'FE1'!$E$5","v":0},{"$f":"(AM16*'FE1'!$F$5+AN16*'FE1'!$G$5+AO16*'FE1'!$H$5)","v":0},0,null,{"$f":"AP16*'FE1'!$C$5","v":0},{"$f":"AQ16*'FE1'!$D$5","v":0},{"$f":"AR16*'FE1'!$E$5","v":0},{"$f":"AT60-SUM(AP60:AR60)","v":0},{"$f":"D1a!K140*1000000","v":0},null,{"$f":"AV16*'FE1'!$C$5","v":0},{"$f":"AW16*'FE1'!$D$5","v":0},{"$f":"AX16*'FE1'!$E$5","v":0},{"$f":"(AY16*'FE1'!$F$5+AZ16*'FE1'!$G$5+BA16*'FE1'!$H$5)","v":0},0]
[null,null,null,null,"Autres secteurs de l'industrie et non spécifié",{"$f":"F17*'FE1'!$C$5","v":0},{"$f":"G17*'FE1'!$D$5","v":0},{"$f":"H17*'FE1'!$E$5","v":0},{"$f":"(I17*'FE1'!$F$5+J17*'FE1'!$G$5+K17*'FE1'!$H$5)","v":0},0,null,{"$f":"L17*'FE1'!$C$5","v":0},{"$f":"M17*'FE1'!$D$5","v":0},{"$f":"N17*'FE1'!$E$5","v":0},{"$f":"(O17*'FE1'!$F$5+P17*'FE1'!$G$5+Q17*'FE1'!$H$5)","v":0},0,null,{"$f":"R17*'FE1'!$C$5","v":0},{"$f":"S17*'FE1'!$D$5","v":0},{"$f":"T17*'FE1'!$E$5","v":0},{"$f":"(U17*'FE1'!$F$5+V17*'FE1'!$G$5+W17*'FE1'!$H$5)","v":0},0,null,{"$f":"X17*'FE1'!$C$5","v":0},{"$f":"Y17*'FE1'!$D$5","v":0},{"$f":"Z17*'FE1'!$E$5","v":0},{"$f":"(AA17*'FE1'!$F$5+AB17*'FE1'!$G$5+AC17*'FE1'!$H$5)","v":0},0,null,{"$f":"AD17*'FE1'!$C$5","v":0},{"$f":"AE17*'FE1'!$D$5","v":0},{"$f":"AF17*'FE1'!$E$5","v":0},{"$f":"(AG17*'FE1'!$F$5+AH17*'FE1'!$G$5+AI17*'FE1'!$H$5)","v":0},0,null,{"$f":"AJ17*'FE1'!$C$5","v":0},{"$f":"AK17*'FE1'!$D$5","v":0},{"$f":"AL17*'FE1'!$E$5","v":0},{"$f":"(AM17*'FE1'!$F$5+AN17*'FE1'!$G$5+AO17*'FE1'!$H$5)","v":0},0,null,{"$f":"AP17*'FE1'!$C$5","v":0},{"$f":"AQ17*'FE1'!$D$5","v":0},{"$f":"AR17*'FE1'!$E$5","v":0},{"$f":"AT61-SUM(AP61:AR61)","v":0},{"$f":"D1a!K141*1000000","v":0},null,{"$f":"AV17*'FE1'!$C$5","v":0},{"$f":"AW17*'FE1'!$D$5","v":0},{"$f":"AX17*'FE1'!$E$5","v":0},{"$f":"(AY17*'FE1'!$F$5+AZ17*'FE1'!$G$5+BA17*'FE1'!$H$5)","v":0},0]
[null,null,null,null,"Biens d'équipement, matériels de transport…",{"$f":"F18*'FE1'!$C$5","v":0},{"$f":"G18*'FE1'!$D$5","v":0},{"$f":"H18*'FE1'!$E$5","v":0},{"$f":"(I18*'FE1'!$F$5+J18*'FE1'!$G$5+K18*'FE1'!$H$5)","v":0},0,null,{"$f":"L18*'FE1'!$C$5","v":0},{"$f":"M18*'FE1'!$D$5","v":0},{"$f":"N18*'FE1'!$E$5","v":0},{"$f":"(O18*'FE1'!$F$5+P18*'FE1'!$G$5+Q18*'FE1'!$H$5)","v":0},0,null,{"$f":"R18*'FE1'!$C$5","v":0},{"$f":"S18*'FE1'!$D$5","v":0},{"$f":"T18*'FE1'!$E$5","v":0},{"$f":"(U18*'FE1'!$F$5+V18*'FE1'!$G$5+W18*'FE1'!$H$5)","v":0},0,null,{"$f":"X18*'FE1'!$C$5","v":0},{"$f":"Y18*'FE1'!$D$5","v":0},{"$f":"Z18*'FE1'!$E$5","v":0},{"$f":"(AA18*'FE1'!$F$5+AB18*'FE1'!$G$5+AC18*'FE1'!$H$5)","v":0},0,null,{"$f":"AD18*'FE1'!$C$5","v":0},{"$f":"AE18*'FE1'!$D$5","v":0},{"$f":"AF18*'FE1'!$E$5","v":0},{"$f":"(AG18*'FE1'!$F$5+AH18*'FE1'!$G$5+AI18*'FE1'!$H$5)","v":0},0,null,{"$f":"AJ18*'FE1'!$C$5","v":0},{"$f":"AK18*'FE1'!$D$5","v":0},{"$f":"AL18*'FE1'!$E$5","v":0},{"$f":"(AM18*'FE1'!$F$5+AN18*'FE1'!$G$5+AO18*'FE1'!$H$5)","v":0},0,null,{"$f":"AP18*'FE1'!$C$5","v":0},{"$f":"AQ18*'FE1'!$D$5","v":0},{"$f":"AR18*'FE1'!$E$5","v":0},0,{"$f":"D1a!K142*1000000","v":0},null,{"$f":"AV18*'FE1'!$C$5","v":0},{"$f":"AW18*'FE1'!$D$5","v":0},{"$f":"AX18*'FE1'!$E$5","v":0},{"$f":"(AY18*'FE1'!$F$5+AZ18*'FE1'!$G$5+BA18*'FE1'!$H$5)","v":0},0]
[null,null,null,null,"Chimie organique, non-organique et divers",{"$f":"F19*'FE1'!$C$5","v":0},{"$f":"G19*'FE1'!$D$5","v":0},{"$f":"H19*'FE1'!$E$5","v":0},{"$f":"(I19*'FE1'!$F$5+J19*'FE1'!$G$5+K19*'FE1'!$H$5)","v":0},0,null,{"$f":"L19*'FE1'!$C$5","v":0},{"$f":"M19*'FE1'!$D$5","v":0},{"$f":"N19*'FE1'!$E$5","v":0},{"$f":"(O19*'FE1'!$F$5+P19*'FE1'!$G$5+Q19*'FE1'!$H$5)","v":0},0,null,{"$f":"R19*'FE1'!$C$5","v":0},{"$f":"S19*'FE1'!$D$5","v":0},{"$f":"T19*'FE1'!$E$5","v":0},{"$f":"(U19*'FE1'!$F$5+V19*'FE1'!$G$5+W19*'FE1'!$H$5)","v":0},0,null,{"$f":"X19*'FE1'!$C$5","v":0},{"$f":"Y19*'FE1'!$D$5","v":0},{"$f":"Z19*'FE1'!$E$5","v":0},{"$f":"(AA19*'FE1'!$F$5+AB19*'FE1'!$G$5+AC19*'FE1'!$H$5)","v":0},0,null,{"$f":"AD19*'FE1'!$C$5","v":0},{"$f":"AE19*'FE1'!$D$5","v":0},{"$f":"AF19*'FE1'!$E$5","v":0},{"$f":"(AG19*'FE1'!$F$5+AH19*'FE1'!$G$5+AI19*'FE1'!$H$5)","v":0},0,null,{"$f":"AJ19*'FE1'!$C$5","v":0},{"$f":"AK19*'FE1'!$D$5","v":0},{"$f":"AL19*'FE1'!$E$5","v":0},{"$f":"(AM19*'FE1'!$F$5+AN19*'FE1'!$G$5+AO19*'FE1'!$H$5)","v":0},0,null,{"$f":"AP19*'FE1'!$C$5","v":0},{"$f":"AQ19*'FE1'!$D$5","v":0},{"$f":"AR19*'FE1'!$E$5","v":0},0,{"$f":"D1a!K143*1000000","v":0},null,{"$f":"AV19*'FE1'!$C$5","v":0},{"$f":"AW19*'FE1'!$D$5","v":0},{"$f":"AX19*'FE1'!$E$5","v":0},{"$f":"(AY19*'FE1'!$F$5+AZ19*'FE1'!$G$5+BA19*'FE1'!$H$5)","v":0},0]
[null,null,null,null,"Construction",{"$f":"F20*'FE1'!$C$5","v":0},{"$f":"G20*'FE1'!$D$5","v":0},{"$f":"H20*'FE1'!$E$5","v":0},{"$f":"(I20*'FE1'!$F$5+J20*'FE1'!$G$5+K20*'FE1'!$H$5)","v":0},0,null,{"$f":"L20*'FE1'!$C$5","v":0},{"$f":"M20*'FE1'!$D$5","v":0},{"$f":"N20*'FE1'!$E$5","v":0},{"$f":"(O20*'FE1'!$F$5+P20*'FE1'!$G$5+Q20*'FE1'!$H$5)","v":0},0,null,{"$f":"R20*'FE1'!$C$5","v":0},{"$f":"S20*'FE1'!$D$5","v":0},{"$f":"T20*'FE1'!$E$5","v":0},{"$f":"(U20*'FE1'!$F$5+V20*'FE1'!$G$5+W20*'FE1'!$H$5)","v":0},0,null,{"$f":"X20*'FE1'!$C$5","v":0},{"$f":"Y20*'FE1'!$D$5","v":0},{"$f":"Z20*'FE1'!$E$5","v":0},{"$f":"(AA20*'FE1'!$F$5+AB20*'FE1'!$G$5+AC20*'FE1'!$H$5)","v":0},0,null,{"$f":"AD20*'FE1'!$C$5","v":0},{"$f":"AE20*'FE1'!$D$5","v":0},{"$f":"AF20*'FE1'!$E$5","v":0},{"$f":"(AG20*'FE1'!$F$5+AH20*'FE1'!$G$5+AI20*'FE1'!$H$5)","v":0},0,null,{"$f":"AJ20*'FE1'!$C$5","v":0},{"$f":"AK20*'FE1'!$D$5","v":0},{"$f":"AL20*'FE1'!$E$5","v":0},{"$f":"(AM20*'FE1'!$F$5+AN20*'FE1'!$G$5+AO20*'FE1'!$H$5)","v":0},0,null,{"$f":"AP20*'FE1'!$C$5","v":0},{"$f":"AQ20*'FE1'!$D$5","v":0},{"$f":"AR20*'FE1'!$E$5","v":0},0,{"$f":"D1a!K144*1000000","v":0},null,{"$f":"AV20*'FE1'!$C$5","v":0},{"$f":"AW20*'FE1'!$D$5","v":0},{"$f":"AX20*'FE1'!$E$5","v":0},{"$f":"(AY20*'FE1'!$F$5+AZ20*'FE1'!$G$5+BA20*'FE1'!$H$5)","v":0},0]
[null,null,null,null,"Métallurgie des métaux ferreux",{"$f":"F21*'FE1'!$C$5","v":0},{"$f":"G21*'FE1'!$D$5","v":0},{"$f":"H21*'FE1'!$E$5","v":0},{"$f":"(I21*'FE1'!$F$5+J21*'FE1'!$G$5+K21*'FE1'!$H$5)","v":0},0,null,{"$f":"L21*'FE1'!$C$5","v":0},{"$f":"M21*'FE1'!$D$5","v":0},{"$f":"N21*'FE1'!$E$5","v":0},{"$f":"(O21*'FE1'!$F$5+P21*'FE1'!$G$5+Q21*'FE1'!$H$5)","v":0},0,null,{"$f":"R21*'FE1'!$C$5","v":0},{"$f":"S21*'FE1'!$D$5","v":0},{"$f":"T21*'FE1'!$E$5","v":0},{"$f":"(U21*'FE1'!$F$5+V21*'FE1'!$G$5+W21*'FE1'!$H$5)","v":0},0,null,{"$f":"X21*'FE1'!$C$5","v":0},{"$f":"Y21*'FE1'!$D$5","v":0},{"$f":"Z21*'FE1'!$E$5","v":0},{"$f":"(AA21*'FE1'!$F$5+AB21*'FE1'!$G$5+AC21*'FE1'!$H$5)","v":0},0,null,{"$f":"AD21*'FE1'!$C$5","v":0},{"$f":"AE21*'FE1'!$D$5","v":0},{"$f":"AF21*'FE1'!$E$5","v":0},{"$f":"(AG21*'FE1'!$F$5+AH21*'FE1'!$G$5+AI21*'FE1'!$H$5)","v":0},0,null,{"$f":"AJ21*'FE1'!$C$5","v":0},{"$f":"AK21*'FE1'!$D$5","v":0},{"$f":"AL21*'FE1'!$E$5","v":0},{"$f":"(AM21*'FE1'!$F$5+AN21*'FE1'!$G$5+AO21*'FE1'!$H$5)","v":0},0,null,{"$f":"AP21*'FE1'!$C$5","v":0},{"$f":"AQ21*'FE1'!$D$5","v":0},{"$f":"AR21*'FE1'!$E$5","v":0},0,{"$f":"D1a!K145*1000000","v":0},null,{"$f":"AV21*'FE1'!$C$5","v":0},{"$f":"AW21*'FE1'!$D$5","v":0},{"$f":"AX21*'FE1'!$E$5","v":0},{"$f":"(AY21*'FE1'!$F$5+AZ21*'FE1'!$G$5+BA21*'FE1'!$H$5)","v":0},0]
[null,null,null,null,"Métallurgie des métaux non-ferreux",{"$f":"F22*'FE1'!$C$5","v":0},{"$f":"G22*'FE1'!$D$5","v":0},{"$f":"H22*'FE1'!$E$5","v":0},{"$f":"(I22*'FE1'!$F$5+J22*'FE1'!$G$5+K22*'FE1'!$H$5)","v":0},0,null,{"$f":"L22*'FE1'!$C$5","v":0},{"$f":"M22*'FE1'!$D$5","v":0},{"$f":"N22*'FE1'!$E$5","v":0},{"$f":"(O22*'FE1'!$F$5+P22*'FE1'!$G$5+Q22*'FE1'!$H$5)","v":0},0,null,{"$f":"R22*'FE1'!$C$5","v":0},{"$f":"S22*'FE1'!$D$5","v":0},{"$f":"T22*'FE1'!$E$5","v":0},{"$f":"(U22*'FE1'!$F$5+V22*'FE1'!$G$5+W22*'FE1'!$H$5)","v":0},0,null,{"$f":"X22*'FE1'!$C$5","v":0},{"$f":"Y22*'FE1'!$D$5","v":0},{"$f":"Z22*'FE1'!$E$5","v":0},{"$f":"(AA22*'FE1'!$F$5+AB22*'FE1'!$G$5+AC22*'FE1'!$H$5)","v":0},0,null,{"$f":"AD22*'FE1'!$C$5","v":0},{"$f":"AE22*'FE1'!$D$5","v":0},{"$f":"AF22*'FE1'!$E$5","v":0},{"$f":"(AG22*'FE1'!$F$5+AH22*'FE1'!$G$5+AI22*'FE1'!$H$5)","v":0},0,null,{"$f":"AJ22*'FE1'!$C$5","v":0},{"$f":"AK22*'FE1'!$D$5","v":0},{"$f":"AL22*'FE1'!$E$5","v":0},{"$f":"(AM22*'FE1'!$F$5+AN22*'FE1'!$G$5+AO22*'FE1'!$H$5)","v":0},0,null,{"$f":"AP22*'FE1'!$C$5","v":0},{"$f":"AQ22*'FE1'!$D$5","v":0},{"$f":"AR22*'FE1'!$E$5","v":0},0,{"$f":"D1a!K146*1000000","v":0},null,{"$f":"AV22*'FE1'!$C$5","v":0},{"$f":"AW22*'FE1'!$D$5","v":0},{"$f":"AX22*'FE1'!$E$5","v":0},{"$f":"(AY22*'FE1'!$F$5+AZ22*'FE1'!$G$5+BA22*'FE1'!$H$5)","v":0},0]
[null,null,null,null,"Minéraux non-métalliques et matériaux de construction",{"$f":"F23*'FE1'!$C$5","v":0},{"$f":"G23*'FE1'!$D$5","v":0},{"$f":"H23*'FE1'!$E$5","v":0},{"$f":"(I23*'FE1'!$F$5+J23*'FE1'!$G$5+K23*'FE1'!$H$5)","v":0},0,null,{"$f":"L23*'FE1'!$C$5","v":0},{"$f":"M23*'FE1'!$D$5","v":0},{"$f":"N23*'FE1'!$E$5","v":0},{"$f":"(O23*'FE1'!$F$5+P23*'FE1'!$G$5+Q23*'FE1'!$H$5)","v":0},0,null,{"$f":"R23*'FE1'!$C$5","v":0},{"$f":"S23*'FE1'!$D$5","v":0},{"$f":"T23*'FE1'!$E$5","v":0},{"$f":"(U23*'FE1'!$F$5+V23*'FE1'!$G$5+W23*'FE1'!$H$5)","v":0},0,null,{"$f":"X23*'FE1'!$C$5","v":0},{"$f":"Y23*'FE1'!$D$5","v":0},{"$f":"Z23*'FE1'!$E$5","v":0},{"$f":"(AA23*'FE1'!$F$5+AB23*'FE1'!$G$5+AC23*'FE1'!$H$5)","v":0},0,null,{"$f":"AD23*'FE1'!$C$5","v":0},{"$f":"AE23*'FE1'!$D$5","v":0},{"$f":"AF23*'FE1'!$E$5","v":0},{"$f":"(AG23*'FE1'!$F$5+AH23*'FE1'!$G$5+AI23*'FE1'!$H$5)","v":0},0,null,{"$f":"AJ23*'FE1'!$C$5","v":0},{"$f":"AK23*'FE1'!$D$5","v":0},{"$f":"AL23*'FE1'!$E$5","v":0},{"$f":"(AM23*'FE1'!$F$5+AN23*'FE1'!$G$5+AO23*'FE1'!$H$5)","v":0},0,null,{"$f":"AP23*'FE1'!$C$5","v":0},{"$f":"AQ23*'FE1'!$D$5","v":0},{"$f":"AR23*'FE1'!$E$5","v":0},0,{"$f":"D1a!K147*1000000","v":0},null,{"$f":"AV23*'FE1'!$C$5","v":0},{"$f":"AW23*'FE1'!$D$5","v":0},{"$f":"AX23*'FE1'!$E$5","v":0},{"$f":"(AY23*'FE1'!$F$5+AZ23*'FE1'!$G$5+BA23*'FE1'!$H$5)","v":0},0]
[null,null,null,null,"Papier, carton",{"$f":"F24*'FE1'!$C$5","v":0},{"$f":"G24*'FE1'!$D$5","v":0},{"$f":"H24*'FE1'!$E$5","v":0},{"$f":"(I24*'FE1'!$F$5+J24*'FE1'!$G$5+K24*'FE1'!$H$5)","v":0},0,null,{"$f":"L24*'FE1'!$C$5","v":0},{"$f":"M24*'FE1'!$D$5","v":0},{"$f":"N24*'FE1'!$E$5","v":0},{"$f":"(O24*'FE1'!$F$5+P24*'FE1'!$G$5+Q24*'FE1'!$H$5)","v":0},0,null,{"$f":"R24*'FE1'!$C$5","v":0},{"$f":"S24*'FE1'!$D$5","v":0},{"$f":"T24*'FE1'!$E$5","v":0},{"$f":"(U24*'FE1'!$F$5+V24*'FE1'!$G$5+W24*'FE1'!$H$5)","v":0},0,null,{"$f":"X24*'FE1'!$C$5","v":0},{"$f":"Y24*'FE1'!$D$5","v":0},{"$f":"Z24*'FE1'!$E$5","v":0},{"$f":"(AA24*'FE1'!$F$5+AB24*'FE1'!$G$5+AC24*'FE1'!$H$5)","v":0},0,null,{"$f":"AD24*'FE1'!$C$5","v":0},{"$f":"AE24*'FE1'!$D$5","v":0},{"$f":"AF24*'FE1'!$E$5","v":0},{"$f":"(AG24*'FE1'!$F$5+AH24*'FE1'!$G$5+AI24*'FE1'!$H$5)","v":0},0,null,{"$f":"AJ24*'FE1'!$C$5","v":0},{"$f":"AK24*'FE1'!$D$5","v":0},{"$f":"AL24*'FE1'!$E$5","v":0},{"$f":"(AM24*'FE1'!$F$5+AN24*'FE1'!$G$5+AO24*'FE1'!$H$5)","v":0},0,null,{"$f":"AP24*'FE1'!$C$5","v":0},{"$f":"AQ24*'FE1'!$D$5","v":0},{"$f":"AR24*'FE1'!$E$5","v":0},0,{"$f":"D1a!K148*1000000","v":0},null,{"$f":"AV24*'FE1'!$C$5","v":0},{"$f":"AW24*'FE1'!$D$5","v":0},{"$f":"AX24*'FE1'!$E$5","v":0},{"$f":"(AY24*'FE1'!$F$5+AZ24*'FE1'!$G$5+BA24*'FE1'!$H$5)","v":0},0]
[null,null,null,null,"Tous secteurs IM",{"$f":"F25*'FE1'!$C$5","v":0},{"$f":"G25*'FE1'!$D$5","v":0},{"$f":"H25*'FE1'!$E$5","v":0},{"$f":"(I25*'FE1'!$F$5+J25*'FE1'!$G$5+K25*'FE1'!$H$5)","v":0},0,null,{"$f":"L25*'FE1'!$C$5","v":0},{"$f":"M25*'FE1'!$D$5","v":0},{"$f":"N25*'FE1'!$E$5","v":0},{"$f":"(O25*'FE1'!$F$5+P25*'FE1'!$G$5+Q25*'FE1'!$H$5)","v":0},0,null,{"$f":"R25*'FE1'!$C$5","v":0},{"$f":"S25*'FE1'!$D$5","v":0},{"$f":"T25*'FE1'!$E$5","v":0},{"$f":"(U25*'FE1'!$F$5+V25*'FE1'!$G$5+W25*'FE1'!$H$5)","v":0},0,null,{"$f":"X25*'FE1'!$C$5","v":0},{"$f":"Y25*'FE1'!$D$5","v":0},{"$f":"Z25*'FE1'!$E$5","v":0},{"$f":"(AA25*'FE1'!$F$5+AB25*'FE1'!$G$5+AC25*'FE1'!$H$5)","v":0},0,null,{"$f":"AD25*'FE1'!$C$5","v":0},{"$f":"AE25*'FE1'!$D$5","v":0},{"$f":"AF25*'FE1'!$E$5","v":0},{"$f":"(AG25*'FE1'!$F$5+AH25*'FE1'!$G$5+AI25*'FE1'!$H$5)","v":0},0,null,{"$f":"AJ25*'FE1'!$C$5","v":0},{"$f":"AK25*'FE1'!$D$5","v":0},{"$f":"AL25*'FE1'!$E$5","v":0},{"$f":"(AM25*'FE1'!$F$5+AN25*'FE1'!$G$5+AO25*'FE1'!$H$5)","v":0},0,null,{"$f":"AP25*'FE1'!$C$5","v":0},{"$f":"AQ25*'FE1'!$D$5","v":0},{"$f":"AR25*'FE1'!$E$5","v":0},0,{"$f":"D1a!K149*1000000","v":0},null,{"$f":"AV25*'FE1'!$C$5","v":0},{"$f":"AW25*'FE1'!$D$5","v":0},{"$f":"AX25*'FE1'!$E$5","v":0},{"$f":"(AY25*'FE1'!$F$5+AZ25*'FE1'!$G$5+BA25*'FE1'!$H$5)","v":0},0]
[null,null,null,null,"Traitement des déchets",{"$f":"F26*'FE1'!$C$5","v":0},{"$f":"G26*'FE1'!$D$5","v":0},{"$f":"H26*'FE1'!$E$5","v":0},{"$f":"(I26*'FE1'!$F$5+J26*'FE1'!$G$5+K26*'FE1'!$H$5)","v":0},0,null,{"$f":"L26*'FE1'!$C$5","v":0},{"$f":"M26*'FE1'!$D$5","v":0},{"$f":"N26*'FE1'!$E$5","v":0},{"$f":"(O26*'FE1'!$F$5+P26*'FE1'!$G$5+Q26*'FE1'!$H$5)","v":0},0,null,{"$f":"R26*'FE1'!$C$5","v":0},{"$f":"S26*'FE1'!$D$5","v":0},{"$f":"T26*'FE1'!$E$5","v":0},{"$f":"(U26*'FE1'!$F$5+V26*'FE1'!$G$5+W26*'FE1'!$H$5)","v":0},0,null,{"$f":"X26*'FE1'!$C$5","v":0},{"$f":"Y26*'FE1'!$D$5","v":0},{"$f":"Z26*'FE1'!$E$5","v":0},{"$f":"(AA26*'FE1'!$F$5+AB26*'FE1'!$G$5+AC26*'FE1'!$H$5)","v":0},0,null,{"$f":"AD26*'FE1'!$C$5","v":0},{"$f":"AE26*'FE1'!$D$5","v":0},{"$f":"AF26*'FE1'!$E$5","v":0},{"$f":"(AG26*'FE1'!$F$5+AH26*'FE1'!$G$5+AI26*'FE1'!$H$5)","v":0},0,null,{"$f":"AJ26*'FE1'!$C$5","v":0},{"$f":"AK26*'FE1'!$D$5","v":0},{"$f":"AL26*'FE1'!$E$5","v":0},{"$f":"AN70-SUM(AJ70:AL70)","v":0},{"$f":"D1a!K150*1000000","v":0},null,{"$f":"AP26*'FE1'!$C$5","v":0},{"$f":"AQ26*'FE1'!$D$5","v":0},{"$f":"AR26*'FE1'!$E$5","v":0},{"$f":"(AS26*'FE1'!$F$5+AT26*'FE1'!$G$5+AU26*'FE1'!$H$5)","v":0},0,null,{"$f":"AV26*'FE1'!$C$5","v":0},{"$f":"AW26*'FE1'!$D$5","v":0},{"$f":"AX26*'FE1'!$E$5","v":0},{"$f":"(AY26*'FE1'!$F$5+AZ26*'FE1'!$G$5+BA26*'FE1'!$H$5)","v":0},0]
[null,null,null,null,"Traitement déchets industrie",{"$f":"F27*'FE1'!$C$5","v":0},{"$f":"G27*'FE1'!$D$5","v":0},{"$f":"H27*'FE1'!$E$5","v":0},{"$f":"(I27*'FE1'!$F$5+J27*'FE1'!$G$5+K27*'FE1'!$H$5)","v":0},{"$f":"SUM(F71:I71)","v":0},null,{"$f":"L27*'FE1'!$C$5","v":0},{"$f":"M27*'FE1'!$D$5","v":0},{"$f":"N27*'FE1'!$E$5","v":0},{"$f":"(O27*'FE1'!$F$5+P27*'FE1'!$G$5+Q27*'FE1'!$H$5)","v":0},0,null,{"$f":"R27*'FE1'!$C$5","v":0},{"$f":"S27*'FE1'!$D$5","v":0},{"$f":"T27*'FE1'!$E$5","v":0},{"$f":"(U27*'FE1'!$F$5+V27*'FE1'!$G$5+W27*'FE1'!$H$5)","v":0},0,null,{"$f":"X27*'FE1'!$C$5","v":0},{"$f":"Y27*'FE1'!$D$5","v":0},{"$f":"Z27*'FE1'!$E$5","v":0},{"$f":"(AA27*'FE1'!$F$5+AB27*'FE1'!$G$5+AC27*'FE1'!$H$5)","v":0},0,null,{"$f":"AD27*'FE1'!$C$5","v":0},{"$f":"AE27*'FE1'!$D$5","v":0},{"$f":"AF27*'FE1'!$E$5","v":0},{"$f":"(AG27*'FE1'!$F$5+AH27*'FE1'!$G$5+AI27*'FE1'!$H$5)","v":0},0,null,{"$f":"AJ27*'FE1'!$C$5","v":0},{"$f":"AK27*'FE1'!$D$5","v":0},{"$f":"AL27*'FE1'!$E$5","v":0},{"$f":"(AM27*'FE1'!$F$5+AN27*'FE1'!$G$5+AO27*'FE1'!$H$5)","v":0},0,null,{"$f":"AP27*'FE1'!$C$5","v":0},{"$f":"AQ27*'FE1'!$D$5","v":0},{"$f":"AR27*'FE1'!$E$5","v":0},{"$f":"(AS27*'FE1'!$F$5+AT27*'FE1'!$G$5+AU27*'FE1'!$H$5)","v":0},0,null,{"$f":"AV27*'FE1'!$C$5","v":0},{"$f":"AW27*'FE1'!$D$5","v":0},{"$f":"AX27*'FE1'!$E$5","v":0},{"$f":"(AY27*'FE1'!$F$5+AZ27*'FE1'!$G$5+BA27*'FE1'!$H$5)","v":0},0]
[null,null,"Résidentiel tertiaire",null,"Résidentiel",{"$f":"F28*'FE1'!$C$5","v":0},{"$f":"G28*'FE1'!$D$5","v":0},{"$f":"H28*'FE1'!$E$5","v":0},{"$f":"(I28*'FE1'!$F$5+J28*'FE1'!$G$5+K28*'FE1'!$H$5)","v":0},{"$f":"SUM(F72:I72)","v":0},null,{"$f":"L28*'FE1'!$C$5","v":0},{"$f":"M28*'FE1'!$D$5","v":0},{"$f":"N28*'FE1'!$E$5","v":0},{"$f":"(O28*'FE1'!$F$5+P28*'FE1'!$G$5+Q28*'FE1'!$H$5)","v":0},0,null,{"$f":"R28*'FE1'!$C$5","v":0},{"$f":"S28*'FE1'!$D$5","v":0},{"$f":"T28*'FE1'!$E$5","v":0},{"$f":"(U28*'FE1'!$F$5+V28*'FE1'!$G$5+W28*'FE1'!$H$5)","v":0},0,null,{"$f":"X28*'FE1'!$C$5","v":0},{"$f":"Y28*'FE1'!$D$5","v":0},{"$f":"Z28*'FE1'!$E$5","v":0},{"$f":"(AA28*'FE1'!$F$5+AB28*'FE1'!$G$5+AC28*'FE1'!$H$5)","v":0},0,null,{"$f":"AD28*'FE1'!$C$5","v":0},{"$f":"AE28*'FE1'!$D$5","v":0},{"$f":"AF28*'FE1'!$E$5","v":0},{"$f":"(AG28*'FE1'!$F$5+AH28*'FE1'!$G$5+AI28*'FE1'!$H$5)","v":0},0,null,{"$f":"AJ28*'FE1'!$C$5","v":0},{"$f":"AK28*'FE1'!$D$5","v":0},{"$f":"AL28*'FE1'!$E$5","v":0},{"$f":"(AM28*'FE1'!$F$5+AN28*'FE1'!$G$5+AO28*'FE1'!$H$5)","v":0},0,null,{"$f":"AP28*'FE1'!$C$5","v":0},{"$f":"AQ28*'FE1'!$D$5","v":0},{"$f":"AR28*'FE1'!$E$5","v":0},{"$f":"(AS28*'FE1'!$F$5+AT28*'FE1'!$G$5+AU28*'FE1'!$H$5)","v":0},0,null,{"$f":"AV28*'FE1'!$C$5","v":0},{"$f":"AW28*'FE1'!$D$5","v":0},{"$f":"AX28*'FE1'!$E$5","v":0},{"$f":"(AY28*'FE1'!$F$5+AZ28*'FE1'!$G$5+BA28*'FE1'!$H$5)","v":0},0]
[null,null,null,null,"Tertiaire, commercial et institutionnel",{"$f":"F29*'FE1'!$C$5","v":0},{"$f":"G29*'FE1'!$D$5","v":0},{"$f":"H29*'FE1'!$E$5","v":0},{"$f":"(I29*'FE1'!$F$5+J29*'FE1'!$G$5+K29*'FE1'!$H$5)","v":0},0,null,{"$f":"L29*'FE1'!$C$5","v":0},{"$f":"M29*'FE1'!$D$5","v":0},{"$f":"N29*'FE1'!$E$5","v":0},{"$f":"P73-M73-L73-N73","v":0},{"$f":"D1a!K153*1000000*D3b!J28","v":0},null,{"$f":"R29*'FE1'!$C$5","v":0},{"$f":"S29*'FE1'!$D$5","v":0},{"$f":"T29*'FE1'!$E$5","v":0},{"$f":"(U29*'FE1'!$F$5+V29*'FE1'!$G$5+W29*'FE1'!$H$5)","v":0},0,null,{"$f":"X29*'FE1'!$C$5","v":0},{"$f":"Y29*'FE1'!$D$5","v":0},{"$f":"Z29*'FE1'!$E$5","v":0},{"$f":"(AA29*'FE1'!$F$5+AB29*'FE1'!$G$5+AC29*'FE1'!$H$5)","v":0},0,null,{"$f":"AD29*'FE1'!$C$5","v":0},{"$f":"AE29*'FE1'!$D$5","v":0},{"$f":"AF29*'FE1'!$E$5","v":0},{"$f":"(AG29*'FE1'!$F$5+AH29*'FE1'!$G$5+AI29*'FE1'!$H$5)","v":0},0,null,{"$f":"AJ29*'FE1'!$C$5","v":0},{"$f":"AK29*'FE1'!$D$5","v":0},{"$f":"AL29*'FE1'!$E$5","v":0},{"$f":"(AM29*'FE1'!$F$5+AN29*'FE1'!$G$5+AO29*'FE1'!$H$5)","v":0},0,null,{"$f":"AP29*'FE1'!$C$5","v":0},{"$f":"AQ29*'FE1'!$D$5","v":0},{"$f":"AR29*'FE1'!$E$5","v":0},{"$f":"(AS29*'FE1'!$F$5+AT29*'FE1'!$G$5+AU29*'FE1'!$H$5)","v":0},0,null,{"$f":"AV29*'FE1'!$C$5","v":0},{"$f":"AW29*'FE1'!$D$5","v":0},{"$f":"AX29*'FE1'!$E$5","v":0},{"$f":"(AY29*'FE1'!$F$5+AZ29*'FE1'!$G$5+BA29*'FE1'!$H$5)","v":0},0]
[null,null,"Transformation de l'énergie",null,"Chauffage urbain",null,null,null,null,null,null,null,null,null,null,null,null,null,null,null,null,null,null,null,null,null,null,null,null,null,null,null,null,null,null,null,null,null,null,null,null,null,null,null,null,null,null,null,null,null,{"$f":"AZ74-SUM(AV74:AX74)","v":0},{"$f":"D2b!D144*1000000","v":0}]
[null,null,null,null,"Extraction des combustibles gazeux et distribution d'énergie",{"$f":"F31*'FE1'!$C$5","v":0},{"$f":"G31*'FE1'!$D$5","v":0},{"$f":"H31*'FE1'!$E$5","v":0},{"$f":"(I31*'FE1'!$F$5+J31*'FE1'!$G$5+K31*'FE1'!$H$5)","v":0},0,null,{"$f":"L31*'FE1'!$C$5","v":0},{"$f":"M31*'FE1'!$D$5","v":0},{"$f":"N31*'FE1'!$E$5","v":0},{"$f":"(O31*'FE1'!$F$5+P31*'FE1'!$G$5+Q31*'FE1'!$H$5)","v":0},0,null,{"$f":"R31*'FE1'!$C$5","v":0},{"$f":"S31*'FE1'!$D$5","v":0},{"$f":"T31*'FE1'!$E$5","v":0},{"$f":"(U31*'FE1'!$F$5+V31*'FE1'!$G$5+W31*'FE1'!$H$5)","v":0},0,null,{"$f":"X31*'FE1'!$C$5","v":0},{"$f":"Y31*'FE1'!$D$5","v":0},{"$f":"Z31*'FE1'!$E$5","v":0},{"$f":"(AA31*'FE1'!$F$5+AB31*'FE1'!$G$5+AC31*'FE1'!$H$5)","v":0},0,null,{"$f":"AD31*'FE1'!$C$5","v":0},{"$f":"AE31*'FE1'!$D$5","v":0},{"$f":"AF31*'FE1'!$E$5","v":0},{"$f":"(AG31*'FE1'!$F$5+AH31*'FE1'!$G$5+AI31*'FE1'!$H$5)","v":0},0,null,{"$f":"AJ31*'FE1'!$C$5","v":0},{"$f":"AK31*'FE1'!$D$5","v":0},{"$f":"AL31*'FE1'!$E$5","v":0},{"$f":"(AM31*'FE1'!$F$5+AN31*'FE1'!$G$5+AO31*'FE1'!$H$5)","v":0},0,null,{"$f":"AP31*'FE1'!$C$5","v":0},{"$f":"AQ31*'FE1'!$D$5","v":0},{"$f":"AR31*'FE1'!$E$5","v":0},{"$f":"(AS31*'FE1'!$F$5+AT31*'FE1'!$G$5+AU31*'FE1'!$H$5)","v":0},0,null,{"$f":"AV31*'FE1'!$C$5","v":0},{"$f":"AW31*'FE1'!$D$5","v":0},{"$f":"AX31*'FE1'!$E$5","v":0},{"$f":"AZ75-SUM(AV75:AX75)","v":0},{"$f":"D1a!K155*1000000","v":0}]
[null,null,null,null,"Extraction des combustibles liquides et distribution d'énergie",{"$f":"F32*'FE1'!$C$5","v":0},{"$f":"G32*'FE1'!$D$5","v":0},{"$f":"H32*'FE1'!$E$5","v":0},{"$f":"(I32*'FE1'!$F$5+J32*'FE1'!$G$5+K32*'FE1'!$H$5)","v":0},0,null,{"$f":"L32*'FE1'!$C$5","v":0},{"$f":"M32*'FE1'!$D$5","v":0},{"$f":"N32*'FE1'!$E$5","v":0},{"$f":"(O32*'FE1'!$F$5+P32*'FE1'!$G$5+Q32*'FE1'!$H$5)","v":0},0,null,{"$f":"R32*'FE1'!$C$5","v":0},{"$f":"S32*'FE1'!$D$5","v":0},{"$f":"T32*'FE1'!$E$5","v":0},{"$f":"(U32*'FE1'!$F$5+V32*'FE1'!$G$5+W32*'FE1'!$H$5)","v":0},0,null,{"$f":"X32*'FE1'!$C$5","v":0},{"$f":"Y32*'FE1'!$D$5","v":0},{"$f":"Z32*'FE1'!$E$5","v":0},{"$f":"(AA32*'FE1'!$F$5+AB32*'FE1'!$G$5+AC32*'FE1'!$H$5)","v":0},0,null,{"$f":"AD32*'FE1'!$C$5","v":0},{"$f":"AE32*'FE1'!$D$5","v":0},{"$f":"AF32*'FE1'!$E$5","v":0},{"$f":"(AG32*'FE1'!$F$5+AH32*'FE1'!$G$5+AI32*'FE1'!$H$5)","v":0},0,null,{"$f":"AJ32*'FE1'!$C$5","v":0},{"$f":"AK32*'FE1'!$D$5","v":0},{"$f":"AL32*'FE1'!$E$5","v":0},{"$f":"(AM32*'FE1'!$F$5+AN32*'FE1'!$G$5+AO32*'FE1'!$H$5)","v":0},0,null,{"$f":"AP32*'FE1'!$C$5","v":0},{"$f":"AQ32*'FE1'!$D$5","v":0},{"$f":"AR32*'FE1'!$E$5","v":0},{"$f":"(AS32*'FE1'!$F$5+AT32*'FE1'!$G$5+AU32*'FE1'!$H$5)","v":0},0,null,{"$f":"AV32*'FE1'!$C$5","v":0},{"$f":"AW32*'FE1'!$D$5","v":0},{"$f":"AX32*'FE1'!$E$5","v":0},{"$f":"(AY32*'FE1'!$F$5+AZ32*'FE1'!$G$5+BA32*'FE1'!$H$5)","v":0},{"$f":"SUM(AV76:AY76)","v":0}]
[null,null,null,null,"Extraction des combustibles solides et distribution d'énergie",{"$f":"F33*'FE1'!$C$5","v":0},{"$f":"G33*'FE1'!$D$5","v":0},{"$f":"H33*'FE1'!$E$5","v":0},{"$f":"(I33*'FE1'!$F$5+J33*'FE1'!$G$5+K33*'FE1'!$H$5)","v":0},0,null,{"$f":"L33*'FE1'!$C$5","v":0},{"$f":"M33*'FE1'!$D$5","v":0},{"$f":"N33*'FE1'!$E$5","v":0},{"$f":"(O33*'FE1'!$F$5+P33*'FE1'!$G$5+Q33*'FE1'!$H$5)","v":0},0,null,{"$f":"R33*'FE1'!$C$5","v":0},{"$f":"S33*'FE1'!$D$5","v":0},{"$f":"T33*'FE1'!$E$5","v":0},{"$f":"(U33*'FE1'!$F$5+V33*'FE1'!$G$5+W33*'FE1'!$H$5)","v":0},0,null,{"$f":"X33*'FE1'!$C$5","v":0},{"$f":"Y33*'FE1'!$D$5","v":0},{"$f":"Z33*'FE1'!$E$5","v":0},{"$f":"(AA33*'FE1'!$F$5+AB33*'FE1'!$G$5+AC33*'FE1'!$H$5)","v":0},0,null,{"$f":"AD33*'FE1'!$C$5","v":0},{"$f":"AE33*'FE1'!$D$5","v":0},{"$f":"AF33*'FE1'!$E$5","v":0},{"$f":"(AG33*'FE1'!$F$5+AH33*'FE1'!$G$5+AI33*'FE1'!$H$5)","v":0},0,null,{"$f":"AJ33*'FE1'!$C$5","v":0},{"$f":"AK33*'FE1'!$D$5","v":0},{"$f":"AL33*'FE1'!$E$5","v":0},{"$f":"(AM33*'FE1'!$F$5+AN33*'FE1'!$G$5+AO33*'FE1'!$H$5)","v":0},0,null,{"$f":"AP33*'FE1'!$C$5","v":0},{"$f":"AQ33*'FE1'!$D$5","v":0},{"$f":"AR33*'FE1'!$E$5","v":0},{"$f":"(AS33*'FE1'!$F$5+AT33*'FE1'!$G$5+AU33*'FE1'!$H$5)","v":0},0,null,{"$f":"AV33*'FE1'!$C$5","v":0},{"$f":"AW33*'FE1'!$D$5","v":0},{"$f":"AX33*'FE1'!$E$5","v":0},{"$f":"(AY33*'FE1'!$F$5+AZ33*'FE1'!$G$5+BA33*'FE1'!$H$5)","v":0},0]
[null,null,null,null,"Production d'électricité",{"$f":"F34*'FE1'!$C$5","v":0},{"$f":"G34*'FE1'!$D$5","v":0},{"$f":"H34*'FE1'!$E$5","v":0},{"$f":"(I34*'FE1'!$F$5+J34*'FE1'!$G$5+K34*'FE1'!$H$5)","v":0},0,null,{"$f":"L34*'FE1'!$C$5","v":0},{"$f":"M34*'FE1'!$D$5","v":0},{"$f":"N34*'FE1'!$E$5","v":0},{"$f":"(O34*'FE1'!$F$5+P34*'FE1'!$G$5+Q34*'FE1'!$H$5)","v":0},0,null,{"$f":"R34*'FE1'!$C$5","v":0},{"$f":"S34*'FE1'!$D$5","v":0},{"$f":"T34*'FE1'!$E$5","v":0},{"$f":"(U34*'FE1'!$F$5+V34*'FE1'!$G$5+W34*'FE1'!$H$5)","v":0},0,null,{"$f":"X34*'FE1'!$C$5","v":0},{"$f":"Y34*'FE1'!$D$5","v":0},{"$f":"Z34*'FE1'!$E$5","v":0},{"$f":"(AA34*'FE1'!$F$5+AB34*'FE1'!$G$5+AC34*'FE1'!$H$5)","v":0},0,null,{"$f":"AD34*'FE1'!$C$5","v":0},{"$f":"AE34*'FE1'!$D$5","v":0},{"$f":"AF34*'FE1'!$E$5","v":0},{"$f":"(AG34*'FE1'!$F$5+AH34*'FE1'!$G$5+AI34*'FE1'!$H$5)","v":0},0,null,{"$f":"AJ34*'FE1'!$C$5","v":0},{"$f":"AK34*'FE1'!$D$5","v":0},{"$f":"AL34*'FE1'!$E$5","v":0},{"$f":"(AM34*'FE1'!$F$5+AN34*'FE1'!$G$5+AO34*'FE1'!$H$5)","v":0},0,null,{"$f":"AP34*'FE1'!$C$5","v":0},{"$f":"AQ34*'FE1'!$D$5","v":0},{"$f":"AR34*'FE1'!$E$5","v":0},{"$f":"(AS34*'FE1'!$F$5+AT34*'FE1'!$G$5+AU34*'FE1'!$H$5)","v":0},0,null,{"$f":"AV34*'FE1'!$C$5","v":0},{"$f":"AW34*'FE1'!$D$5","v":0},{"$f":"AX34*'FE1'!$E$5","v":0},{"$f":"AZ78-SUM(AV78:AX78)","v":0},{"$f":"D1a!K158*1000000","v":0}]
[null,null,null,null,"Raffinage de pétrole",{"$f":"F35*'FE1'!$C$5","v":0},{"$f":"G35*'FE1'!$D$5","v":0},{"$f":"H35*'FE1'!$E$5","v":0},{"$f":"(I35*'FE1'!$F$5+J35*'FE1'!$G$5+K35*'FE1'!$H$5)","v":0},0,null,{"$f":"L35*'FE1'!$C$5","v":0},{"$f":"M35*'FE1'!$D$5","v":0},{"$f":"N35*'FE1'!$E$5","v":0},{"$f":"(O35*'FE1'!$F$5+P35*'FE1'!$G$5+Q35*'FE1'!$H$5)","v":0},0,null,{"$f":"R35*'FE1'!$C$5","v":0},{"$f":"S35*'FE1'!$D$5","v":0},{"$f":"T35*'FE1'!$E$5","v":0},{"$f":"(U35*'FE1'!$F$5+V35*'FE1'!$G$5+W35*'FE1'!$H$5)","v":0},0,null,{"$f":"X35*'FE1'!$C$5","v":0},{"$f":"Y35*'FE1'!$D$5","v":0},{"$f":"Z35*'FE1'!$E$5","v":0},{"$f":"(AA35*'FE1'!$F$5+AB35*'FE1'!$G$5+AC35*'FE1'!$H$5)","v":0},0,null,{"$f":"AD35*'FE1'!$C$5","v":0},{"$f":"AE35*'FE1'!$D$5","v":0},{"$f":"AF35*'FE1'!$E$5","v":0},{"$f":"(AG35*'FE1'!$F$5+AH35*'FE1'!$G$5+AI35*'FE1'!$H$5)","v":0},0,null,{"$f":"AJ35*'FE1'!$C$5","v":0},{"$f":"AK35*'FE1'!$D$5","v":0},{"$f":"AL35*'FE1'!$E$5","v":0},{"$f":"(AM35*'FE1'!$F$5+AN35*'FE1'!$G$5+AO35*'FE1'!$H$5)","v":0},0,null,{"$f":"AP35*'FE1'!$C$5","v":0},{"$f":"AQ35*'FE1'!$D$5","v":0},{"$f":"AR35*'FE1'!$E$5","v":0},{"$f":"(AS35*'FE1'!$F$5+AT35*'FE1'!$G$5+AU35*'FE1'!$H$5)","v":0},0,null,{"$f":"AV35*'FE1'!$C$5","v":0},{"$f":"AW35*'FE1'!$D$5","v":0},{"$f":"AX35*'FE1'!$E$5","v":0},0,{"$f":"D1a!K159*1000000","v":0}]
[null,null,null,null,"Transformation des combustibles minéraux solides – siderurgies",{"$f":"F36*'FE1'!$C$5","v":0},{"$f":"G36*'FE1'!$D$5","v":0},{"$f":"H36*'FE1'!$E$5","v":0},{"$f":"(I36*'FE1'!$F$5+J36*'FE1'!$G$5+K36*'FE1'!$H$5)","v":0},0,null,{"$f":"L36*'FE1'!$C$5","v":0},{"$f":"M36*'FE1'!$D$5","v":0},{"$f":"N36*'FE1'!$E$5","v":0},{"$f":"(O36*'FE1'!$F$5+P36*'FE1'!$G$5+Q36*'FE1'!$H$5)","v":0},0,null,{"$f":"R36*'FE1'!$C$5","v":0},{"$f":"S36*'FE1'!$D$5","v":0},{"$f":"T36*'FE1'!$E$5","v":0},{"$f":"(U36*'FE1'!$F$5+V36*'FE1'!$G$5+W36*'FE1'!$H$5)","v":0},0,null,{"$f":"X36*'FE1'!$C$5","v":0},{"$f":"Y36*'FE1'!$D$5","v":0},{"$f":"Z36*'FE1'!$E$5","v":0},{"$f":"(AA36*'FE1'!$F$5+AB36*'FE1'!$G$5+AC36*'FE1'!$H$5)","v":0},0,null,{"$f":"AD36*'FE1'!$C$5","v":0},{"$f":"AE36*'FE1'!$D$5","v":0},{"$f":"AF36*'FE1'!$E$5","v":0},{"$f":"(AG36*'FE1'!$F$5+AH36*'FE1'!$G$5+AI36*'FE1'!$H$5)","v":0},0,null,{"$f":"AJ36*'FE1'!$C$5","v":0},{"$f":"AK36*'FE1'!$D$5","v":0},{"$f":"AL36*'FE1'!$E$5","v":0},{"$f":"(AM36*'FE1'!$F$5+AN36*'FE1'!$G$5+AO36*'FE1'!$H$5)","v":0},0,null,{"$f":"AP36*'FE1'!$C$5","v":0},{"$f":"AQ36*'FE1'!$D$5","v":0},{"$f":"AR36*'FE1'!$E$5","v":0},{"$f":"(AS36*'FE1'!$F$5+AT36*'FE1'!$G$5+AU36*'FE1'!$H$5)","v":0},0,null,{"$f":"AV36*'FE1'!$C$5","v":0},{"$f":"AW36*'FE1'!$D$5","v":0},{"$f":"AX36*'FE1'!$E$5","v":0},{"$f":"(AY36*'FE1'!$F$5+AZ36*'FE1'!$G$5+BA36*'FE1'!$H$5)","v":0},0]
[null,null,"Transport routier",null,"Deux roues",{"$f":"F37*'FE1'!$C$5","v":0},{"$f":"G37*'FE1'!$D$5","v":0},{"$f":"H37*'FE1'!$E$5","v":0},{"$f":"(I37*'FE1'!$F$5+J37*'FE1'!$G$5+K37*'FE1'!$H$5)","v":0},0,null,{"$f":"L37*'FE1'!$C$5","v":0},{"$f":"M37*'FE1'!$D$5","v":0},{"$f":"N37*'FE1'!$E$5","v":0},{"$f":"(O37*'FE1'!$F$5+P37*'FE1'!$G$5+Q37*'FE1'!$H$5)","v":0},0,null,{"$f":"R37*'FE1'!$C$5","v":0},{"$f":"S37*'FE1'!$D$5","v":0},{"$f":"T37*'FE1'!$E$5","v":0},{"$f":"V81-SUM(R81:T81)","v":0},{"$f":"D1a!K161*1000000","v":0},null,{"$f":"X37*'FE1'!$C$5","v":0},{"$f":"Y37*'FE1'!$D$5","v":0},{"$f":"Z37*'FE1'!$E$5","v":0},{"$f":"(AA37*'FE1'!$F$5+AB37*'FE1'!$G$5+AC37*'FE1'!$H$5)","v":0},0,null,{"$f":"AD37*'FE1'!$C$5","v":0},{"$f":"AE37*'FE1'!$D$5","v":0},{"$f":"AF37*'FE1'!$E$5","v":0},{"$f":"(AG37*'FE1'!$F$5+AH37*'FE1'!$G$5+AI37*'FE1'!$H$5)","v":0},0,null,{"$f":"AJ37*'FE1'!$C$5","v":0},{"$f":"AK37*'FE1'!$D$5","v":0},{"$f":"AL37*'FE1'!$E$5","v":0},{"$f":"(AM37*'FE1'!$F$5+AN37*'FE1'!$G$5+AO37*'FE1'!$H$5)","v":0},0,null,{"$f":"AP37*'FE1'!$C$5","v":0},{"$f":"AQ37*'FE1'!$D$5","v":0},{"$f":"AR37*'FE1'!$E$5","v":0},{"$f":"(AS37*'FE1'!$F$5+AT37*'FE1'!$G$5+AU37*'FE1'!$H$5)","v":0},0,null,{"$f":"AV37*'FE1'!$C$5","v":0},{"$f":"AW37*'FE1'!$D$5","v":0},{"$f":"AX37*'FE1'!$E$5","v":0},{"$f":"(AY37*'FE1'!$F$5+AZ37*'FE1'!$G$5+BA37*'FE1'!$H$5)","v":0},{"$f":"SUM(AV81:AY81)","v":0}]
[null,null,null,null,"evap essence",{"$f":"F38*'FE1'!$C$5","v":0},{"$f":"G38*'FE1'!$D$5","v":0},{"$f":"H38*'FE1'!$E$5","v":0},{"$f":"(I38*'FE1'!$F$5+J38*'FE1'!$G$5+K38*'FE1'!$H$5)","v":0},0,null,{"$f":"L38*'FE1'!$C$5","v":0},{"$f":"M38*'FE1'!$D$5","v":0},{"$f":"N38*'FE1'!$E$5","v":0},{"$f":"(O38*'FE1'!$F$5+P38*'FE1'!$G$5+Q38*'FE1'!$H$5)","v":0},0,null,{"$f":"R38*'FE1'!$C$5","v":0},{"$f":"S38*'FE1'!$D$5","v":0},{"$f":"T38*'FE1'!$E$5","v":0},{"$f":"V82-SUM(R82:T82)","v":0},{"$f":"D1a!K162*1000000","v":0},null,{"$f":"X38*'FE1'!$C$5","v":0},{"$f":"Y38*'FE1'!$D$5","v":0},{"$f":"Z38*'FE1'!$E$5","v":0},{"$f":"(AA38*'FE1'!$F$5+AB38*'FE1'!$G$5+AC38*'FE1'!$H$5)","v":0},0,null,{"$f":"AD38*'FE1'!$C$5","v":0},{"$f":"AE38*'FE1'!$D$5","v":0},{"$f":"AF38*'FE1'!$E$5","v":0},{"$f":"(AG38*'FE1'!$F$5+AH38*'FE1'!$G$5+AI38*'FE1'!$H$5)","v":0},0,null,{"$f":"AJ38*'FE1'!$C$5","v":0},{"$f":"AK38*'FE1'!$D$5","v":0},{"$f":"AL38*'FE1'!$E$5","v":0},{"$f":"(AM38*'FE1'!$F$5+AN38*'FE1'!$G$5+AO38*'FE1'!$H$5)","v":0},0,null,{"$f":"AP38*'FE1'!$C$5","v":0},{"$f":"AQ38*'FE1'!$D$5","v":0},{"$f":"AR38*'FE1'!$E$5","v":0},{"$f":"(AS38*'FE1'!$F$5+AT38*'FE1'!$G$5+AU38*'FE1'!$H$5)","v":0},0,null,{"$f":"AV38*'FE1'!$C$5","v":0},{"$f":"AW38*'FE1'!$D$5","v":0},{"$f":"AX38*'FE1'!$E$5","v":0},{"$f":"(AY38*'FE1'!$F$5+AZ38*'FE1'!$G$5+BA38*'FE1'!$H$5)","v":0},0]
[null,null,null,null,"Poids lourds",{"$f":"F39*'FE1'!$C$5","v":0},{"$f":"G39*'FE1'!$D$5","v":0},{"$f":"H39*'FE1'!$E$5","v":0},{"$f":"(I39*'FE1'!$F$5+J39*'FE1'!$G$5+K39*'FE1'!$H$5)","v":0},0,null,{"$f":"L39*'FE1'!$C$5","v":0},{"$f":"M39*'FE1'!$D$5","v":0},{"$f":"N39*'FE1'!$E$5","v":0},{"$f":"(O39*'FE1'!$F$5+P39*'FE1'!$G$5+Q39*'FE1'!$H$5)","v":0},0,null,{"$f":"R39*'FE1'!$C$5","v":0},{"$f":"S39*'FE1'!$D$5","v":0},{"$f":"T39*'FE1'!$E$5","v":0},0,{"$f":"D1a!K163*1000000","v":0},null,{"$f":"X39*'FE1'!$C$5","v":0},{"$f":"Y39*'FE1'!$D$5","v":0},{"$f":"Z39*'FE1'!$E$5","v":0},{"$f":"(AA39*'FE1'!$F$5+AB39*'FE1'!$G$5+AC39*'FE1'!$H$5)","v":0},0,null,{"$f":"AD39*'FE1'!$C$5","v":0},{"$f":"AE39*'FE1'!$D$5","v":0},{"$f":"AF39*'FE1'!$E$5","v":0},{"$f":"(AG39*'FE1'!$F$5+AH39*'FE1'!$G$5+AI39*'FE1'!$H$5)","v":0},0,null,{"$f":"AJ39*'FE1'!$C$5","v":0},{"$f":"AK39*'FE1'!$D$5","v":0},{"$f":"AL39*'FE1'!$E$5","v":0},{"$f":"(AM39*'FE1'!$F$5+AN39*'FE1'!$G$5+AO39*'FE1'!$H$5)","v":0},0,null,{"$f":"AP39*'FE1'!$C$5","v":0},{"$f":"AQ39*'FE1'!$D$5","v":0},{"$f":"AR39*'FE1'!$E$5","v":0},{"$f":"(AS39*'FE1'!$F$5+AT39*'FE1'!$G$5+AU39*'FE1'!$H$5)","v":0},0,null,{"$f":"AV39*'FE1'!$C$5","v":0},{"$f":"AW39*'FE1'!$D$5","v":0},{"$f":"AX39*'FE1'!$E$5","v":0},{"$f":"(AY39*'FE1'!$F$5+AZ39*'FE1'!$G$5+BA39*'FE1'!$H$5)","v":0},0]
[null,null,null,null,"trafic diffus",{"$f":"F40*'FE1'!$C$5","v":0},{"$f":"G40*'FE1'!$D$5","v":0},{"$f":"H40*'FE1'!$E$5","v":0},{"$f":"(I40*'FE1'!$F$5+J40*'FE1'!$G$5+K40*'FE1'!$H$5)","v":0},0,null,{"$f":"L40*'FE1'!$C$5","v":0},{"$f":"M40*'FE1'!$D$5","v":0},{"$f":"N40*'FE1'!$E$5","v":0},{"$f":"(O40*'FE1'!$F$5+P40*'FE1'!$G$5+Q40*'FE1'!$H$5)","v":0},0,null,{"$f":"R40*'FE1'!$C$5","v":0},{"$f":"S40*'FE1'!$D$5","v":0},{"$f":"T40*'FE1'!$E$5","v":0},0,{"$f":"D1a!K164*1000000","v":0},null,{"$f":"X40*'FE1'!$C$5","v":0},{"$f":"Y40*'FE1'!$D$5","v":0},{"$f":"Z40*'FE1'!$E$5","v":0},{"$f":"(AA40*'FE1'!$F$5+AB40*'FE1'!$G$5+AC40*'FE1'!$H$5)","v":0},0,null,{"$f":"AD40*'FE1'!$C$5","v":0},{"$f":"AE40*'FE1'!$D$5","v":0},{"$f":"AF40*'FE1'!$E$5","v":0},{"$f":"(AG40*'FE1'!$F$5+AH40*'FE1'!$G$5+AI40*'FE1'!$H$5)","v":0},0,null,{"$f":"AJ40*'FE1'!$C$5","v":0},{"$f":"AK40*'FE1'!$D$5","v":0},{"$f":"AL40*'FE1'!$E$5","v":0},{"$f":"(AM40*'FE1'!$F$5+AN40*'FE1'!$G$5+AO40*'FE1'!$H$5)","v":0},0,null,{"$f":"AP40*'FE1'!$C$5","v":0},{"$f":"AQ40*'FE1'!$D$5","v":0},{"$f":"AR40*'FE1'!$E$5","v":0},{"$f":"(AS40*'FE1'!$F$5+AT40*'FE1'!$G$5+AU40*'FE1'!$H$5)","v":0},0,null,{"$f":"AV40*'FE1'!$C$5","v":0},{"$f":"AW40*'FE1'!$D$5","v":0},{"$f":"AX40*'FE1'!$E$5","v":0},{"$f":"(AY40*'FE1'!$F$5+AZ40*'FE1'!$G$5+BA40*'FE1'!$H$5)","v":0},0]
[null,null,null,null,"usure routes",{"$f":"F41*'FE1'!$C$5","v":0},{"$f":"G41*'FE1'!$D$5","v":0},{"$f":"H41*'FE1'!$E$5","v":0},{"$f":"(I41*'FE1'!$F$5+J41*'FE1'!$G$5+K41*'FE1'!$H$5)","v":0},0,null,{"$f":"L41*'FE1'!$C$5","v":0},{"$f":"M41*'FE1'!$D$5","v":0},{"$f":"N41*'FE1'!$E$5","v":0},{"$f":"(O41*'FE1'!$F$5+P41*'FE1'!$G$5+Q41*'FE1'!$H$5)","v":0},0,null,{"$f":"R41*'FE1'!$C$5","v":0},{"$f":"S41*'FE1'!$D$5","v":0},{"$f":"T41*'FE1'!$E$5","v":0},0,{"$f":"D1a!K165*1000000","v":0},null,{"$f":"X41*'FE1'!$C$5","v":0},{"$f":"Y41*'FE1'!$D$5","v":0},{"$f":"Z41*'FE1'!$E$5","v":0},{"$f":"(AA41*'FE1'!$F$5+AB41*'FE1'!$G$5+AC41*'FE1'!$H$5)","v":0},0,null,{"$f":"AD41*'FE1'!$C$5","v":0},{"$f":"AE41*'FE1'!$D$5","v":0},{"$f":"AF41*'FE1'!$E$5","v":0},{"$f":"(AG41*'FE1'!$F$5+AH41*'FE1'!$G$5+AI41*'FE1'!$H$5)","v":0},0,null,{"$f":"AJ41*'FE1'!$C$5","v":0},{"$f":"AK41*'FE1'!$D$5","v":0},{"$f":"AL41*'FE1'!$E$5","v":0},{"$f":"(AM41*'FE1'!$F$5+AN41*'FE1'!$G$5+AO41*'FE1'!$H$5)","v":0},0,null,{"$f":"AP41*'FE1'!$C$5","v":0},{"$f":"AQ41*'FE1'!$D$5","v":0},{"$f":"AR41*'FE1'!$E$5","v":0},{"$f":"(AS41*'FE1'!$F$5+AT41*'FE1'!$G$5+AU41*'FE1'!$H$5)","v":0},0,null,{"$f":"AV41*'FE1'!$C$5","v":0},{"$f":"AW41*'FE1'!$D$5","v":0},{"$f":"AX41*'FE1'!$E$5","v":0},{"$f":"(AY41*'FE1'!$F$5+AZ41*'FE1'!$G$5+BA41*'FE1'!$H$5)","v":0},0]
[null,null,null,null,"Voitures particulières",{"$f":"F42*'FE1'!$C$5","v":0},{"$f":"G42*'FE1'!$D$5","v":0},{"$f":"H42*'FE1'!$E$5","v":0},{"$f":"(I42*'FE1'!$F$5+J42*'FE1'!$G$5+K42*'FE1'!$H$5)","v":0},0,null,{"$f":"L42*'FE1'!$C$5","v":0},{"$f":"M42*'FE1'!$D$5","v":0},{"$f":"N42*'FE1'!$E$5","v":0},{"$f":"(O42*'FE1'!$F$5+P42*'FE1'!$G$5+Q42*'FE1'!$H$5)","v":0},0,null,{"$f":"R42*'FE1'!$C$5","v":0},{"$f":"S42*'FE1'!$D$5","v":0},{"$f":"T42*'FE1'!$E$5","v":0},0,{"$f":"D1a!K166*1000000","v":0},null,{"$f":"X42*'FE1'!$C$5","v":0},{"$f":"Y42*'FE1'!$D$5","v":0},{"$f":"Z42*'FE1'!$E$5","v":0},{"$f":"(AA42*'FE1'!$F$5+AB42*'FE1'!$G$5+AC42*'FE1'!$H$5)","v":0},0,null,{"$f":"AD42*'FE1'!$C$5","v":0},{"$f":"AE42*'FE1'!$D$5","v":0},{"$f":"AF42*'FE1'!$E$5","v":0},{"$f":"(AG42*'FE1'!$F$5+AH42*'FE1'!$G$5+AI42*'FE1'!$H$5)","v":0},0,null,{"$f":"AJ42*'FE1'!$C$5","v":0},{"$f":"AK42*'FE1'!$D$5","v":0},{"$f":"AL42*'FE1'!$E$5","v":0},{"$f":"(AM42*'FE1'!$F$5+AN42*'FE1'!$G$5+AO42*'FE1'!$H$5)","v":0},0,null,{"$f":"AP42*'FE1'!$C$5","v":0},{"$f":"AQ42*'FE1'!$D$5","v":0},{"$f":"AR42*'FE1'!$E$5","v":0},{"$f":"(AS42*'FE1'!$F$5+AT42*'FE1'!$G$5+AU42*'FE1'!$H$5)","v":0},0,null,{"$f":"AV42*'FE1'!$C$5","v":0},{"$f":"AW42*'FE1'!$D$5","v":0},{"$f":"AX42*'FE1'!$E$5","v":0},{"$f":"(AY42*'FE1'!$F$5+AZ42*'FE1'!$G$5+BA42*'FE1'!$H$5)","v":0},0]
[null,null,null,null,"VUL",{"$f":"F43*'FE1'!$C$5","v":0},{"$f":"G43*'FE1'!$D$5","v":0},{"$f":"H43*'FE1'!$E$5","v":0},{"$f":"(I43*'FE1'!$F$5+J43*'FE1'!$G$5+K43*'FE1'!$H$5)","v":0},0,null,{"$f":"L43*'FE1'!$C$5","v":0},{"$f":"M43*'FE1'!$D$5","v":0},{"$f":"N43*'FE1'!$E$5","v":0},{"$f":"(O43*'FE1'!$F$5+P43*'FE1'!$G$5+Q43*'FE1'!$H$5)","v":0},0,null,{"$f":"R43*'FE1'!$C$5","v":0},{"$f":"S43*'FE1'!$D$5","v":0},{"$f":"T43*'FE1'!$E$5","v":0},0,{"$f":"D1a!K167*1000000","v":0},null,{"$f":"X43*'FE1'!$C$5","v":0},{"$f":"Y43*'FE1'!$D$5","v":0},{"$f":"Z43*'FE1'!$E$5","v":0},{"$f":"(AA43*'FE1'!$F$5+AB43*'FE1'!$G$5+AC43*'FE1'!$H$5)","v":0},0,null,{"$f":"AD43*'FE1'!$C$5","v":0},{"$f":"AE43*'FE1'!$D$5","v":0},{"$f":"AF43*'FE1'!$E$5","v":0},{"$f":"(AG43*'FE1'!$F$5+AH43*'FE1'!$G$5+AI43*'FE1'!$H$5)","v":0},0,null,{"$f":"AJ43*'FE1'!$C$5","v":0},{"$f":"AK43*'FE1'!$D$5","v":0},{"$f":"AL43*'FE1'!$E$5","v":0},{"$f":"(AM43*'FE1'!$F$5+AN43*'FE1'!$G$5+AO43*'FE1'!$H$5)","v":0},0,null,{"$f":"AP43*'FE1'!$C$5","v":0},{"$f":"AQ43*'FE1'!$D$5","v":0},{"$f":"AR43*'FE1'!$E$5","v":0},{"$f":"(AS43*'FE1'!$F$5+AT43*'FE1'!$G$5+AU43*'FE1'!$H$5)","v":0},0,null,{"$f":"AV43*'FE1'!$C$5","v":0},{"$f":"AW43*'FE1'!$D$5","v":0},{"$f":"AX43*'FE1'!$E$5","v":0},{"$f":"(AY43*'FE1'!$F$5+AZ43*'FE1'!$G$5+BA43*'FE1'!$H$5)","v":0},0]
[null,null,"Total",null,null,{"$f":"SUM(F54:F87)","v":0},0,0,0,{"$f":"SUM(J54:K87)","v":0},null,0,0,0,0,{"$f":"SUM(P54:Q87)","v":0},null,0,0,0,0,{"$f":"SUM(V54:W87)","v":0},null,0,0,0,0,{"$f":"SUM(AB54:AC87)","v":0},null,0,0,0,0,{"$f":"SUM(AH54:AI87)","v":0},null,0,0,0,0,{"$f":"SUM(AN54:AO87)","v":0},null,{"$f":"SUM(AP54:AP87)","v":0},{"$f":"SUM(AQ54:AQ87)","v":0},{"$f":"SUM(AR54:AR87)","v":0},{"$f":"SUM(AS54:AS87)","v":0},{"$f":"SUM(AT54:AU87)","v":0},null,{"$f":"SUM(AV54:AV87)","v":0},{"$f":"SUM(AW54:AW87)","v":0},{"$f":"SUM(AX54:AX87)","v":0},{"$f":"SUM(AY54:AY87)","v":0},{"$f":"SUM(AZ54:BA87)","v":0}]
[]
[]
[]
["C.","Scope 1 : Emissions directes par poste MyEmiss'Air / Polluants (kg)"]
[]
[]
[null,null,null,null,null,"Résidentiel",null,null,null,null,null,"Tertiaire",null,null,null,null,null,"Transport routier",null,null,null,null,null,"Autres transports",null,null,null,null,null,"Agriculture",null,null,null,null,null,"Déchets",null,null,null,null,null,"Industrie hors branche énergie",null,null,null,null,null,"Industrie branche énergie"]
[null,null,null,null,null,"PM10","NOx","COVNM","PM2.5","SO2","NH3","PM10","NOx","COVNM","PM2.5","SO2","NH3","PM10","NOx","COVNM","PM2.5","SO2","NH3","PM10","NOx","COVNM","PM2.5","SO2","NH3","PM10","NOx","COVNM","PM2.5","SO2","NH3","PM10","NOx","COVNM","PM2.5","SO2","NH3","PM10","NOx","COVNM","PM2.5","SO2","NH3","PM10","NOx","COVNM","PM2.5","SO2","NH3"]
[null,null,null,null,null,"kg","kg","kg","kg","kg","kg","kg","kg","kg","kg","kg","kg","kg","kg","kg","kg","kg","kg","kg","kg","kg","kg","kg","kg","kg","kg","kg","kg","kg","kg","kg","kg","kg","kg","kg","kg","kg","kg","kg","kg","kg","kg","kg","kg","kg","kg","kg","kg"]
[null,null,"Agriculture",null,"Autres sources de l'agriculture (tracteurs, …)",{"$f":"D1a!L134*D3c!$F9","v":0},{"$f":"D1a!M134*D3c!$F9","v":0},{"$f":"D1a!N134*D3c!$F9","v":0},{"$f":"D1a!O134*D3c!$F9","v":0},{"$f":"D1a!P134*D3c!$F9","v":0},{"$f":"D1a!Q134*D3c!$F9","v":0},{"$f":"D1a!L134*D3c!$G9","v":0},{"$f":"D1a!M134*D3c!$G9","v":0},{"$f":"D1a!N134*D3c!$G9","v":0},{"$f":"D1a!O134*D3c!$G9","v":0},{"$f":"D1a!P134*D3c!$G9","v":0},{"$f":"D1a!Q134*D3c!$G9","v":0},{"$f":"D1a!L134*D3c!$H9","v":0},{"$f":"D1a!M134*D3c!$H9","v":0},{"$f":"D1a!N134*D3c!$H9","v":0},{"$f":"D1a!O134*D3c!$H9","v":0},{"$f":"D1a!P134*D3c!$H9","v":0},{"$f":"D1a!Q134*D3c!$H9","v":0},{"$f":"D1a!L134*D3c!$I9","v":0},{"$f":"D1a!M134*D3c!$I9","v":0},{"$f":"D1a!N134*D3c!$I9","v":0},{"$f":"D1a!O134*D3c!$I9","v":0},{"$f":"D1a!P134*D3c!$I9","v":0},{"$f":"D1a!Q134*D3c!$I9","v":0},{"$f":"D1a!L134*D3c!$J9","v":0},{"$f":"D1a!M134*D3c!$J9","v":0},{"$f":"D1a!N134*D3c!$J9","v":0},{"$f":"D1a!O134*D3c!$J9","v":0},{"$f":"D1a!P134*D3c!$J9","v":0},{"$f":"D1a!Q134*D3c!$J9","v":0},{"$f":"D1a!L134*D3c!$K9","v":0},{"$f":"D1a!M134*D3c!$K9","v":0},{"$f":"D1a!N134*D3c!$K9","v":0},{"$f":"D1a!O134*D3c!$K9","v":0},{"$f":"D1a!P134*D3c!$K9","v":0},{"$f":"D1a!Q134*D3c!$K9","v":0},{"$f":"D1a!L134*D3c!$L9","v":0},{"$f":"D1a!M134*D3c!$L9","v":0},{"$f":"D1a!N134*D3c!$L9","v":0},{"$f":"D1a!O134*D3c!$L9","v":0},{"$f":"D1a!P134*D3c!$L9","v":0},{"$f":"D1a!Q134*D3c!$L9","v":0},{"$f":"D1a!L134*D3c!$M9","v":0},{"$f":"D1a!M134*D3c!$M9","v":0},{"$f":"D1a!N134*D3c!$M9","v":0},{"$f":"D1a!O134*D3c!$M9","v":0},{"$f":"D1a!P134*D3c!$M9","v":0},{"$f":"D1a!Q134*D3c!$M9","v":0}]
[null,null,null,null,"Culture",{"$f":"D1a!L135*D3c!$F10","v":0},{"$f":"D1a!M135*D3c!$F10","v":0},{"$f":"D1a!N135*D3c!$F10","v":0},{"$f":"D1a!O135*D3c!$F10","v":0},{"$f":"D1a!P135*D3c!$F10","v":0},{"$f":"D1a!Q135*D3c!$F10","v":0},{"$f":"D1a!L135*D3c!$G10","v":0},{"$f":"D1a!M135*D3c!$G10","v":0},{"$f":"D1a!N135*D3c!$G10","v":0},{"$f":"D1a!O135*D3c!$G10","v":0},{"$f":"D1a!P135*D3c!$G10","v":0},{"$f":"D1a!Q135*D3c!$G10","v":0},{"$f":"D1a!L135*D3c!$H10","v":0},{"$f":"D1a!M135*D3c!$H10","v":0},{"$f":"D1a!N135*D3c!$H10","v":0},{"$f":"D1a!O135*D3c!$H10","v":0},{"$f":"D1a!P135*D3c!$H10","v":0},{"$f":"D1a!Q135*D3c!$H10","v":0},{"$f":"D1a!L135*D3c!$I10","v":0},{"$f":"D1a!M135*D3c!$I10","v":0},{"$f":"D1a!N135*D3c!$I10","v":0},{"$f":"D1a!O135*D3c!$I10","v":0},{"$f":"D1a!P135*D3c!$I10","v":0},{"$f":"D1a!Q135*D3c!$I10","v":0},{"$f":"D1a!L135*D3c!$J10","v":0},{"$f":"D1a!M135*D3c!$J10","v":0},{"$f":"D1a!N135*D3c!$J10","v":0},{"$f":"D1a!O135*D3c!$J10","v":0},{"$f":"D1a!P135*D3c!$J10","v":0},{"$f":"D1a!Q135*D3c!$J10","v":0},{"$f":"D1a!L135*D3c!$K10","v":0},{"$f":"D1a!M135*D3c!$K10","v":0},{"$f":"D1a!N135*D3c!$K10","v":0},{"$f":"D1a!O135*D3c!$K10","v":0},{"$f":"D1a!P135*D3c!$K10","v":0},{"$f":"D1a!Q135*D3c!$K10","v":0},{"$f":"D1a!L135*D3c!$L10","v":0},{"$f":"D1a!M135*D3c!$L10","v":0},{"$f":"D1a!N135*D3c!$L10","v":0},{"$f":"D1a!O135*D3c!$L10","v":0},{"$f":"D1a!P135*D3c!$L10","v":0},{"$f":"D1a!Q135*D3c!$L10","v":0},{"$f":"D1a!L135*D3c!$M10","v":0},{"$f":"D1a!M135*D3c!$M10","v":0},{"$f":"D1a!N135*D3c!$M10","v":0},{"$f":"D1a!O135*D3c!$M10","v":0},{"$f":"D1a!P135*D3c!$M10","v":0},{"$f":"D1a!Q135*D3c!$M10","v":0}]
[null,null,null,null,"Elevage",{"$f":"D1a!L136*D3c!$F11","v":0},{"$f":"D1a!M136*D3c!$F11","v":0},{"$f":"D1a!N136*D3c!$F11","v":0},{"$f":"D1a!O136*D3c!$F11","v":0},{"$f":"D1a!P136*D3c!$F11","v":0},{"$f":"D1a!Q136*D3c!$F11","v":0},{"$f":"D1a!L136*D3c!$G11","v":0},{"$f":"D1a!M136*D3c!$G11","v":0},{"$f":"D1a!N136*D3c!$G11","v":0},{"$f":"D1a!O136*D3c!$G11","v":0},{"$f":"D1a!P136*D3c!$G11","v":0},{"$f":"D1a!Q136*D3c!$G11","v":0},{"$f":"D1a!L136*D3c!$H11","v":0},{"$f":"D1a!M136*D3c!$H11","v":0},{"$f":"D1a!N136*D3c!$H11","v":0},{"$f":"D1a!O136*D3c!$H11","v":0},{"$f":"D1a!P136*D3c!$H11","v":0},{"$f":"D1a!Q136*D3c!$H11","v":0},{"$f":"D1a!L136*D3c!$I11","v":0},{"$f":"D1a!M136*D3c!$I11","v":0},{"$f":"D1a!N136*D3c!$I11","v":0},{"$f":"D1a!O136*D3c!$I11","v":0},{"$f":"D1a!P136*D3c!$I11","v":0},{"$f":"D1a!Q136*D3c!$I11","v":0},{"$f":"D1a!L136*D3c!$J11","v":0},{"$f":"D1a!M136*D3c!$J11","v":0},{"$f":"D1a!N136*D3c!$J11","v":0},{"$f":"D1a!O136*D3c!$J11","v":0},{"$f":"D1a!P136*D3c!$J11","v":0},{"$f":"D1a!Q136*D3c!$J11","v":0},{"$f":"D1a!L136*D3c!$K11","v":0},{"$f":"D1a!M136*D3c!$K11","v":0},{"$f":"D1a!N136*D3c!$K11","v":0},{"$f":"D1a!O136*D3c!$K11","v":0},{"$f":"D1a!P136*D3c!$K11","v":0},{"$f":"D1a!Q136*D3c!$K11","v":0},{"$f":"D1a!L136*D3c!$L11","v":0},{"$f":"D1a!M136*D3c!$L11","v":0},{"$f":"D1a!N136*D3c!$L11","v":0},{"$f":"D1a!O136*D3c!$L11","v":0},{"$f":"D1a!P136*D3c!$L11","v":0},{"$f":"D1a!Q136*D3c!$L11","v":0},{"$f":"D1a!L136*D3c!$M11","v":0},{"$f":"D1a!M136*D3c!$M11","v":0},{"$f":"D1a!N136*D3c!$M11","v":0},{"$f":"D1a!O136*D3c!$M11","v":0},{"$f":"D1a!P136*D3c!$M11","v":0},{"$f":"D1a!Q136*D3c!$M11","v":0}]
[null,null,"Autres transports",null,"Transport aérien français",{"$f":"D1a!L137*D3c!$F12","v":0},{"$f":"D1a!M137*D3c!$F12","v":0},{"$f":"D1a!N137*D3c!$F12","v":0},{"$f":"D1a!O137*D3c!$F12","v":0},{"$f":"D1a!P137*D3c!$F12","v":0},{"$f":"D1a!Q137*D3c!$F12","v":0},{"$f":"D1a!L137*D3c!$G12","v":0},{"$f":"D1a!M137*D3c!$G12","v":0},{"$f":"D1a!N137*D3c!$G12","v":0},{"$f":"D1a!O137*D3c!$G12","v":0},{"$f":"D1a!P137*D3c!$G12","v":0},{"$f":"D1a!Q137*D3c!$G12","v":0},{"$f":"D1a!L137*D3c!$H12","v":0},{"$f":"D1a!M137*D3c!$H12","v":0},{"$f":"D1a!N137*D3c!$H12","v":0},{"$f":"D1a!O137*D3c!$H12","v":0},{"$f":"D1a!P137*D3c!$H12","v":0},{"$f":"D1a!Q137*D3c!$H12","v":0},{"$f":"D1a!L137*D3c!$I12","v":0},{"$f":"D1a!M137*D3c!$I12","v":0},{"$f":"D1a!N137*D3c!$I12","v":0},{"$f":"D1a!O137*D3c!$I12","v":0},{"$f":"D1a!P137*D3c!$I12","v":0},{"$f":"D1a!Q137*D3c!$I12","v":0},{"$f":"D1a!L137*D3c!$J12","v":0},{"$f":"D1a!M137*D3c!$J12","v":0},{"$f":"D1a!N137*D3c!$J12","v":0},{"$f":"D1a!O137*D3c!$J12","v":0},{"$f":"D1a!P137*D3c!$J12","v":0},{"$f":"D1a!Q137*D3c!$J12","v":0},{"$f":"D1a!L137*D3c!$K12","v":0},{"$f":"D1a!M137*D3c!$K12","v":0},{"$f":"D1a!N137*D3c!$K12","v":0},{"$f":"D1a!O137*D3c!$K12","v":0},{"$f":"D1a!P137*D3c!$K12","v":0},{"$f":"D1a!Q137*D3c!$K12","v":0},{"$f":"D1a!L137*D3c!$L12","v":0},{"$f":"D1a!M137*D3c!$L12","v":0},{"$f":"D1a!N137*D3c!$L12","v":0},{"$f":"D1a!O137*D3c!$L12","v":0},{"$f":"D1a!P137*D3c!$L12","v":0},{"$f":"D1a!Q137*D3c!$L12","v":0},{"$f":"D1a!L137*D3c!$M12","v":0},{"$f":"D1a!M137*D3c!$M12","v":0},{"$f":"D1a!N137*D3c!$M12","v":0},{"$f":"D1a!O137*D3c!$M12","v":0},{"$f":"D1a!P137*D3c!$M12","v":0},{"$f":"D1a!Q137*D3c!$M12","v":0}]
[null,null,null,null,"Transport ferroviaire",{"$f":"D1a!L138*D3c!$F13","v":0},{"$f":"D1a!M138*D3c!$F13","v":0},{"$f":"D1a!N138*D3c!$F13","v":0},{"$f":"D1a!O138*D3c!$F13","v":0},{"$f":"D1a!P138*D3c!$F13","v":0},{"$f":"D1a!Q138*D3c!$F13","v":0},{"$f":"D1a!L138*D3c!$G13","v":0},{"$f":"D1a!M138*D3c!$G13","v":0},{"$f":"D1a!N138*D3c!$G13","v":0},{"$f":"D1a!O138*D3c!$G13","v":0},{"$f":"D1a!P138*D3c!$G13","v":0},{"$f":"D1a!Q138*D3c!$G13","v":0},{"$f":"D1a!L138*D3c!$H13","v":0},{"$f":"D1a!M138*D3c!$H13","v":0},{"$f":"D1a!N138*D3c!$H13","v":0},{"$f":"D1a!O138*D3c!$H13","v":0},{"$f":"D1a!P138*D3c!$H13","v":0},{"$f":"D1a!Q138*D3c!$H13","v":0},{"$f":"D1a!L138*D3c!$I13","v":0},{"$f":"D1a!M138*D3c!$I13","v":0},{"$f":"D1a!N138*D3c!$I13","v":0},{"$f":"D1a!O138*D3c!$I13","v":0},{"$f":"D1a!P138*D3c!$I13","v":0},{"$f":"D1a!Q138*D3c!$I13","v":0},{"$f":"D1a!L138*D3c!$J13","v":0},{"$f":"D1a!M138*D3c!$J13","v":0},{"$f":"D1a!N138*D3c!$J13","v":0},{"$f":"D1a!O138*D3c!$J13","v":0},{"$f":"D1a!P138*D3c!$J13","v":0},{"$f":"D1a!Q138*D3c!$J13","v":0},{"$f":"D1a!L138*D3c!$K13","v":0},{"$f":"D1a!M138*D3c!$K13","v":0},{"$f":"D1a!N138*D3c!$K13","v":0},{"$f":"D1a!O138*D3c!$K13","v":0},{"$f":"D1a!P138*D3c!$K13","v":0},{"$f":"D1a!Q138*D3c!$K13","v":0},{"$f":"D1a!L138*D3c!$L13","v":0},{"$f":"D1a!M138*D3c!$L13","v":0},{"$f":"D1a!N138*D3c!$L13","v":0},{"$f":"D1a!O138*D3c!$L13","v":0},{"$f":"D1a!P138*D3c!$L13","v":0},{"$f":"D1a!Q138*D3c!$L13","v":0},{"$f":"D1a!L138*D3c!$M13","v":0},{"$f":"D1a!M138*D3c!$M13","v":0},{"$f":"D1a!N138*D3c!$M13","v":0},{"$f":"D1a!O138*D3c!$M13","v":0},{"$f":"D1a!P138*D3c!$M13","v":0},{"$f":"D1a!Q138*D3c!$M13","v":0}]
[null,null,null,null,"Transport fluvial",{"$f":"D1a!L139*D3c!$F14","v":0},{"$f":"D1a!M139*D3c!$F14","v":0},{"$f":"D1a!N139*D3c!$F14","v":0},{"$f":"D1a!O139*D3c!$F14","v":0},{"$f":"D1a!P139*D3c!$F14","v":0},{"$f":"D1a!Q139*D3c!$F14","v":0},{"$f":"D1a!L139*D3c!$G14","v":0},{"$f":"D1a!M139*D3c!$G14","v":0},{"$f":"D1a!N139*D3c!$G14","v":0},{"$f":"D1a!O139*D3c!$G14","v":0},{"$f":"D1a!P139*D3c!$G14","v":0},{"$f":"D1a!Q139*D3c!$G14","v":0},{"$f":"D1a!L139*D3c!$H14","v":0},{"$f":"D1a!M139*D3c!$H14","v":0},{"$f":"D1a!N139*D3c!$H14","v":0},{"$f":"D1a!O139*D3c!$H14","v":0},{"$f":"D1a!P139*D3c!$H14","v":0},{"$f":"D1a!Q139*D3c!$H14","v":0},{"$f":"D1a!L139*D3c!$I14","v":0},{"$f":"D1a!M139*D3c!$I14","v":0},{"$f":"D1a!N139*D3c!$I14","v":0},{"$f":"D1a!O139*D3c!$I14","v":0},{"$f":"D1a!P139*D3c!$I14","v":0},{"$f":"D1a!Q139*D3c!$I14","v":0},{"$f":"D1a!L139*D3c!$J14","v":0},{"$f":"D1a!M139*D3c!$J14","v":0},{"$f":"D1a!N139*D3c!$J14","v":0},{"$f":"D1a!O139*D3c!$J14","v":0},{"$f":"D1a!P139*D3c!$J14","v":0},{"$f":"D1a!Q139*D3c!$J14","v":0},{"$f":"D1a!L139*D3c!$K14","v":0},{"$f":"D1a!M139*D3c!$K14","v":0},{"$f":"D1a!N139*D3c!$K14","v":0},{"$f":"D1a!O139*D3c!$K14","v":0},{"$f":"D1a!P139*D3c!$K14","v":0},{"$f":"D1a!Q139*D3c!$K14","v":0},{"$f":"D1a!L139*D3c!$L14","v":0},{"$f":"D1a!M139*D3c!$L14","v":0},{"$f":"D1a!N139*D3c!$L14","v":0},{"$f":"D1a!O139*D3c!$L14","v":0},{"$f":"D1a!P139*D3c!$L14","v":0},{"$f":"D1a!Q139*D3c!$L14","v":0},{"$f":"D1a!L139*D3c!$M14","v":0},{"$f":"D1a!M139*D3c!$M14","v":0},{"$f":"D1a!N139*D3c!$M14","v":0},{"$f":"D1a!O139*D3c!$M14","v":0},{"$f":"D1a!P139*D3c!$M14","v":0},{"$f":"D1a!Q139*D3c!$M14","v":0}]
[null,null,"IDEC",null,"Agro-alimentaire",{"$f":"D1a!L140*D3c!$F15","v":0},{"$f":"D1a!M140*D3c!$F15","v":0},{"$f":"D1a!N140*D3c!$F15","v":0},{"$f":"D1a!O140*D3c!$F15","v":0},{"$f":"D1a!P140*D3c!$F15","v":0},{"$f":"D1a!Q140*D3c!$F15","v":0},{"$f":"D1a!L140*D3c!$G15","v":0},{"$f":"D1a!M140*D3c!$G15","v":0},{"$f":"D1a!N140*D3c!$G15","v":0},{"$f":"D1a!O140*D3c!$G15","v":0},{"$f":"D1a!P140*D3c!$G15","v":0},{"$f":"D1a!Q140*D3c!$G15","v":0},{"$f":"D1a!L140*D3c!$H15","v":0},{"$f":"D1a!M140*D3c!$H15","v":0},{"$f":"D1a!N140*D3c!$H15","v":0},{"$f":"D1a!O140*D3c!$H15","v":0},{"$f":"D1a!P140*D3c!$H15","v":0},{"$f":"D1a!Q140*D3c!$H15","v":0},{"$f":"D1a!L140*D3c!$I15","v":0},{"$f":"D1a!M140*D3c!$I15","v":0},{"$f":"D1a!N140*D3c!$I15","v":0},{"$f":"D1a!O140*D3c!$I15","v":0},{"$f":"D1a!P140*D3c!$I15","v":0},{"$f":"D1a!Q140*D3c!$I15","v":0},{"$f":"D1a!L140*D3c!$J15","v":0},{"$f":"D1a!M140*D3c!$J15","v":0},{"$f":"D1a!N140*D3c!$J15","v":0},{"$f":"D1a!O140*D3c!$J15","v":0},{"$f":"D1a!P140*D3c!$J15","v":0},{"$f":"D1a!Q140*D3c!$J15","v":0},{"$f":"D1a!L140*D3c!$K15","v":0},{"$f":"D1a!M140*D3c!$K15","v":0},{"$f":"D1a!N140*D3c!$K15","v":0},{"$f":"D1a!O140*D3c!$K15","v":0},{"$f":"D1a!P140*D3c!$K15","v":0},{"$f":"D1a!Q140*D3c!$K15","v":0},{"$f":"D1a!L140*D3c!$L15","v":0},{"$f":"D1a!M140*D3c!$L15","v":0},{"$f":"D1a!N140*D3c!$L15","v":0},{"$f":"D1a!O140*D3c!$L15","v":0},{"$f":"D1a!P140*D3c!$L15","v":0},{"$f":"D1a!Q140*D3c!$L15","v":0},{"$f":"D1a!L140*D3c!$M15","v":0},{"$f":"D1a!M140*D3c!$M15","v":0},{"$f":"D1a!N140*D3c!$M15","v":0},{"$f":"D1a!O140*D3c!$M15","v":0},{"$f":"D1a!P140*D3c!$M15","v":0},{"$f":"D1a!Q140*D3c!$M15","v":0}]
[null,null,null,null,"Autres secteurs de l'industrie et non spécifié",{"$f":"D1a!L141*D3c!$F16","v":0},{"$f":"D1a!M141*D3c!$F16","v":0},{"$f":"D1a!N141*D3c!$F16","v":0},{"$f":"D1a!O141*D3c!$F16","v":0},{"$f":"D1a!P141*D3c!$F16","v":0},{"$f":"D1a!Q141*D3c!$F16","v":0},{"$f":"D1a!L141*D3c!$G16","v":0},{"$f":"D1a!M141*D3c!$G16","v":0},{"$f":"D1a!N141*D3c!$G16","v":0},{"$f":"D1a!O141*D3c!$G16","v":0},{"$f":"D1a!P141*D3c!$G16","v":0},{"$f":"D1a!Q141*D3c!$G16","v":0},{"$f":"D1a!L141*D3c!$H16","v":0},{"$f":"D1a!M141*D3c!$H16","v":0},{"$f":"D1a!N141*D3c!$H16","v":0},{"$f":"D1a!O141*D3c!$H16","v":0},{"$f":"D1a!P141*D3c!$H16","v":0},{"$f":"D1a!Q141*D3c!$H16","v":0},{"$f":"D1a!L141*D3c!$I16","v":0},{"$f":"D1a!M141*D3c!$I16","v":0},{"$f":"D1a!N141*D3c!$I16","v":0},{"$f":"D1a!O141*D3c!$I16","v":0},{"$f":"D1a!P141*D3c!$I16","v":0},{"$f":"D1a!Q141*D3c!$I16","v":0},{"$f":"D1a!L141*D3c!$J16","v":0},{"$f":"D1a!M141*D3c!$J16","v":0},{"$f":"D1a!N141*D3c!$J16","v":0},{"$f":"D1a!O141*D3c!$J16","v":0},{"$f":"D1a!P141*D3c!$J16","v":0},{"$f":"D1a!Q141*D3c!$J16","v":0},{"$f":"D1a!L141*D3c!$K16","v":0},{"$f":"D1a!M141*D3c!$K16","v":0},{"$f":"D1a!N141*D3c!$K16","v":0},{"$f":"D1a!O141*D3c!$K16","v":0},{"$f":"D1a!P141*D3c!$K16","v":0},{"$f":"D1a!Q141*D3c!$K16","v":0},{"$f":"D1a!L141*D3c!$L16","v":0},{"$f":"D1a!M141*D3c!$L16","v":0},{"$f":"D1a!N141*D3c!$L16","v":0},{"$f":"D1a!O141*D3c!$L16","v":0},{"$f":"D1a!P141*D3c!$L16","v":0},{"$f":"D1a!Q141*D3c!$L16","v":0},{"$f":"D1a!L141*D3c!$M16","v":0},{"$f":"D1a!M141*D3c!$M16","v":0},{"$f":"D1a!N141*D3c!$M16","v":0},{"$f":"D1a!O141*D3c!$M16","v":0},{"$f":"D1a!P141*D3c!$M16","v":0},{"$f":"D1a!Q141*D3c!$M16","v":0}]
[null,null,null,null,"Biens d'équipement, matériels de transport…",{"$f":"D1a!L142*D3c!$F17","v":0},{"$f":"D1a!M142*D3c!$F17","v":0},{"$f":"D1a!N142*D3c!$F17","v":0},{"$f":"D1a!O142*D3c!$F17","v":0},{"$f":"D1a!P142*D3c!$F17","v":0},{"$f":"D1a!Q142*D3c!$F17","v":0},{"$f":"D1a!L142*D3c!$G17","v":0},{"$f":"D1a!M142*D3c!$G17","v":0},{"$f":"D1a!N142*D3c!$G17","v":0},{"$f":"D1a!O142*D3c!$G17","v":0},{"$f":"D1a!P142*D3c!$G17","v":0},{"$f":"D1a!Q142*D3c!$G17","v":0},{"$f":"D1a!L142*D3c!$H17","v":0},{"$f":"D1a!M142*D3c!$H17","v":0},{"$f":"D1a!N142*D3c!$H17","v":0},{"$f":"D1a!O142*D3c!$H17","v":0},{"$f":"D1a!P142*D3c!$H17","v":0},{"$f":"D1a!Q142*D3c!$H17","v":0},{"$f":"D1a!L142*D3c!$I17","v":0},{"$f":"D1a!M142*D3c!$I17","v":0},{"$f":"D1a!N142*D3c!$I17","v":0},{"$f":"D1a!O142*D3c!$I17","v":0},{"$f":"D1a!P142*D3c!$I17","v":0},{"$f":"D1a!Q142*D3c!$I17","v":0},{"$f":"D1a!L142*D3c!$J17","v":0},{"$f":"D1a!M142*D3c!$J17","v":0},{"$f":"D1a!N142*D3c!$J17","v":0},{"$f":"D1a!O142*D3c!$J17","v":0},{"$f":"D1a!P142*D3c!$J17","v":0},{"$f":"D1a!Q142*D3c!$J17","v":0},{"$f":"D1a!L142*D3c!$K17","v":0},{"$f":"D1a!M142*D3c!$K17","v":0},{"$f":"D1a!N142*D3c!$K17","v":0},{"$f":"D1a!O142*D3c!$K17","v":0},{"$f":"D1a!P142*D3c!$K17","v":0},{"$f":"D1a!Q142*D3c!$K17","v":0},{"$f":"D1a!L142*D3c!$L17","v":0},{"$f":"D1a!M142*D3c!$L17","v":0},{"$f":"D1a!N142*D3c!$L17","v":0},{"$f":"D1a!O142*D3c!$L17","v":0},{"$f":"D1a!P142*D3c!$L17","v":0},{"$f":"D1a!Q142*D3c!$L17","v":0},{"$f":"D1a!L142*D3c!$M17","v":0},{"$f":"D1a!M142*D3c!$M17","v":0},{"$f":"D1a!N142*D3c!$M17","v":0},{"$f":"D1a!O142*D3c!$M17","v":0},{"$f":"D1a!P142*D3c!$M17","v":0},{"$f":"D1a!Q142*D3c!$M17","v":0}]
[null,null,null,null,"Chimie organique, non-organique et divers",{"$f":"D1a!L143*D3c!$F18","v":0},{"$f":"D1a!M143*D3c!$F18","v":0},{"$f":"D1a!N143*D3c!$F18","v":0},{"$f":"D1a!O143*D3c!$F18","v":0},{"$f":"D1a!P143*D3c!$F18","v":0},{"$f":"D1a!Q143*D3c!$F18","v":0},{"$f":"D1a!L143*D3c!$G18","v":0},{"$f":"D1a!M143*D3c!$G18","v":0},{"$f":"D1a!N143*D3c!$G18","v":0},{"$f":"D1a!O143*D3c!$G18","v":0},{"$f":"D1a!P143*D3c!$G18","v":0},{"$f":"D1a!Q143*D3c!$G18","v":0},{"$f":"D1a!L143*D3c!$H18","v":0},{"$f":"D1a!M143*D3c!$H18","v":0},{"$f":"D1a!N143*D3c!$H18","v":0},{"$f":"D1a!O143*D3c!$H18","v":0},{"$f":"D1a!P143*D3c!$H18","v":0},{"$f":"D1a!Q143*D3c!$H18","v":0},{"$f":"D1a!L143*D3c!$I18","v":0},{"$f":"D1a!M143*D3c!$I18","v":0},{"$f":"D1a!N143*D3c!$I18","v":0},{"$f":"D1a!O143*D3c!$I18","v":0},{"$f":"D1a!P143*D3c!$I18","v":0},{"$f":"D1a!Q143*D3c!$I18","v":0},{"$f":"D1a!L143*D3c!$J18","v":0},{"$f":"D1a!M143*D3c!$J18","v":0},{"$f":"D1a!N143*D3c!$J18","v":0},{"$f":"D1a!O143*D3c!$J18","v":0},{"$f":"D1a!P143*D3c!$J18","v":0},{"$f":"D1a!Q143*D3c!$J18","v":0},{"$f":"D1a!L143*D3c!$K18","v":0},{"$f":"D1a!M143*D3c!$K18","v":0},{"$f":"D1a!N143*D3c!$K18","v":0},{"$f":"D1a!O143*D3c!$K18","v":0},{"$f":"D1a!P143*D3c!$K18","v":0},{"$f":"D1a!Q143*D3c!$K18","v":0},{"$f":"D1a!L143*D3c!$L18","v":0},{"$f":"D1a!M143*D3c!$L18","v":0},{"$f":"D1a!N143*D3c!$L18","v":0},{"$f":"D1a!O143*D3c!$L18","v":0},{"$f":"D1a!P143*D3c!$L18","v":0},{"$f":"D1a!Q143*D3c!$L18","v":0},{"$f":"D1a!L143*D3c!$M18","v":0},{"$f":"D1a!M143*D3c!$M18","v":0},{"$f":"D1a!N143*D3c!$M18","v":0},{"$f":"D1a!O143*D3c!$M18","v":0},{"$f":"D1a!P143*D3c!$M18","v":0},{"$f":"D1a!Q143*D3c!$M18","v":0}]
[null,null,null,null,"Construction",{"$f":"D1a!L144*D3c!$F19","v":0},{"$f":"D1a!M144*D3c!$F19","v":0},{"$f":"D1a!N144*D3c!$F19","v":0},{"$f":"D1a!O144*D3c!$F19","v":0},{"$f":"D1a!P144*D3c!$F19","v":0},{"$f":"D1a!Q144*D3c!$F19","v":0},{"$f":"D1a!L144*D3c!$G19","v":0},{"$f":"D1a!M144*D3c!$G19","v":0},{"$f":"D1a!N144*D3c!$G19","v":0},{"$f":"D1a!O144*D3c!$G19","v":0},{"$f":"D1a!P144*D3c!$G19","v":0},{"$f":"D1a!Q144*D3c!$G19","v":0},{"$f":"D1a!L144*D3c!$H19","v":0},{"$f":"D1a!M144*D3c!$H19","v":0},{"$f":"D1a!N144*D3c!$H19","v":0},{"$f":"D1a!O144*D3c!$H19","v":0},{"$f":"D1a!P144*D3c!$H19","v":0},{"$f":"D1a!Q144*D3c!$H19","v":0},{"$f":"D1a!L144*D3c!$I19","v":0},{"$f":"D1a!M144*D3c!$I19","v":0},{"$f":"D1a!N144*D3c!$I19","v":0},{"$f":"D1a!O144*D3c!$I19","v":0},{"$f":"D1a!P144*D3c!$I19","v":0},{"$f":"D1a!Q144*D3c!$I19","v":0},{"$f":"D1a!L144*D3c!$J19","v":0},{"$f":"D1a!M144*D3c!$J19","v":0},{"$f":"D1a!N144*D3c!$J19","v":0},{"$f":"D1a!O144*D3c!$J19","v":0},{"$f":"D1a!P144*D3c!$J19","v":0},{"$f":"D1a!Q144*D3c!$J19","v":0},{"$f":"D1a!L144*D3c!$K19","v":0},{"$f":"D1a!M144*D3c!$K19","v":0},{"$f":"D1a!N144*D3c!$K19","v":0},{"$f":"D1a!O144*D3c!$K19","v":0},{"$f":"D1a!P144*D3c!$K19","v":0},{"$f":"D1a!Q144*D3c!$K19","v":0},{"$f":"D1a!L144*D3c!$L19","v":0},{"$f":"D1a!M144*D3c!$L19","v":0},{"$f":"D1a!N144*D3c!$L19","v":0},{"$f":"D1a!O144*D3c!$L19","v":0},{"$f":"D1a!P144*D3c!$L19","v":0},{"$f":"D1a!Q144*D3c!$L19","v":0},{"$f":"D1a!L144*D3c!$M19","v":0},{"$f":"D1a!M144*D3c!$M19","v":0},{"$f":"D1a!N144*D3c!$M19","v":0},{"$f":"D1a!O144*D3c!$M19","v":0},{"$f":"D1a!P144*D3c!$M19","v":0},{"$f":"D1a!Q144*D3c!$M19","v":0}]
[null,null,null,null,"Métallurgie des métaux ferreux",{"$f":"D1a!L145*D3c!$F20","v":0},{"$f":"D1a!M145*D3c!$F20","v":0},{"$f":"D1a!N145*D3c!$F20","v":0},{"$f":"D1a!O145*D3c!$F20","v":0},{"$f":"D1a!P145*D3c!$F20","v":0},{"$f":"D1a!Q145*D3c!$F20","v":0},{"$f":"D1a!L145*D3c!$G20","v":0},{"$f":"D1a!M145*D3c!$G20","v":0},{"$f":"D1a!N145*D3c!$G20","v":0},{"$f":"D1a!O145*D3c!$G20","v":0},{"$f":"D1a!P145*D3c!$G20","v":0},{"$f":"D1a!Q145*D3c!$G20","v":0},{"$f":"D1a!L145*D3c!$H20","v":0},{"$f":"D1a!M145*D3c!$H20","v":0},{"$f":"D1a!N145*D3c!$H20","v":0},{"$f":"D1a!O145*D3c!$H20","v":0},{"$f":"D1a!P145*D3c!$H20","v":0},{"$f":"D1a!Q145*D3c!$H20","v":0},{"$f":"D1a!L145*D3c!$I20","v":0},{"$f":"D1a!M145*D3c!$I20","v":0},{"$f":"D1a!N145*D3c!$I20","v":0},{"$f":"D1a!O145*D3c!$I20","v":0},{"$f":"D1a!P145*D3c!$I20","v":0},{"$f":"D1a!Q145*D3c!$I20","v":0},{"$f":"D1a!L145*D3c!$J20","v":0},{"$f":"D1a!M145*D3c!$J20","v":0},{"$f":"D1a!N145*D3c!$J20","v":0},{"$f":"D1a!O145*D3c!$J20","v":0},{"$f":"D1a!P145*D3c!$J20","v":0},{"$f":"D1a!Q145*D3c!$J20","v":0},{"$f":"D1a!L145*D3c!$K20","v":0},{"$f":"D1a!M145*D3c!$K20","v":0},{"$f":"D1a!N145*D3c!$K20","v":0},{"$f":"D1a!O145*D3c!$K20","v":0},{"$f":"D1a!P145*D3c!$K20","v":0},{"$f":"D1a!Q145*D3c!$K20","v":0},{"$f":"D1a!L145*D3c!$L20","v":0},{"$f":"D1a!M145*D3c!$L20","v":0},{"$f":"D1a!N145*D3c!$L20","v":0},{"$f":"D1a!O145*D3c!$L20","v":0},{"$f":"D1a!P145*D3c!$L20","v":0},{"$f":"D1a!Q145*D3c!$L20","v":0},{"$f":"D1a!L145*D3c!$M20","v":0},{"$f":"D1a!M145*D3c!$M20","v":0},{"$f":"D1a!N145*D3c!$M20","v":0},{"$f":"D1a!O145*D3c!$M20","v":0},{"$f":"D1a!P145*D3c!$M20","v":0},{"$f":"D1a!Q145*D3c!$M20","v":0}]
[null,null,null,null,"Métallurgie des métaux non-ferreux",{"$f":"D1a!L146*D3c!$F21","v":0},{"$f":"D1a!M146*D3c!$F21","v":0},{"$f":"D1a!N146*D3c!$F21","v":0},{"$f":"D1a!O146*D3c!$F21","v":0},{"$f":"D1a!P146*D3c!$F21","v":0},{"$f":"D1a!Q146*D3c!$F21","v":0},{"$f":"D1a!L146*D3c!$G21","v":0},{"$f":"D1a!M146*D3c!$G21","v":0},{"$f":"D1a!N146*D3c!$G21","v":0},{"$f":"D1a!O146*D3c!$G21","v":0},{"$f":"D1a!P146*D3c!$G21","v":0},{"$f":"D1a!Q146*D3c!$G21","v":0},{"$f":"D1a!L146*D3c!$H21","v":0},{"$f":"D1a!M146*D3c!$H21","v":0},{"$f":"D1a!N146*D3c!$H21","v":0},{"$f":"D1a!O146*D3c!$H21","v":0},{"$f":"D1a!P146*D3c!$H21","v":0},{"$f":"D1a!Q146*D3c!$H21","v":0},{"$f":"D1a!L146*D3c!$I21","v":0},{"$f":"D1a!M146*D3c!$I21","v":0},{"$f":"D1a!N146*D3c!$I21","v":0},{"$f":"D1a!O146*D3c!$I21","v":0},{"$f":"D1a!P146*D3c!$I21","v":0},{"$f":"D1a!Q146*D3c!$I21","v":0},{"$f":"D1a!L146*D3c!$J21","v":0},{"$f":"D1a!M146*D3c!$J21","v":0},{"$f":"D1a!N146*D3c!$J21","v":0},{"$f":"D1a!O146*D3c!$J21","v":0},{"$f":"D1a!P146*D3c!$J21","v":0},{"$f":"D1a!Q146*D3c!$J21","v":0},{"$f":"D1a!L146*D3c!$K21","v":0},{"$f":"D1a!M146*D3c!$K21","v":0},{"$f":"D1a!N146*D3c!$K21","v":0},{"$f":"D1a!O146*D3c!$K21","v":0},{"$f":"D1a!P146*D3c!$K21","v":0},{"$f":"D1a!Q146*D3c!$K21","v":0},{"$f":"D1a!L146*D3c!$L21","v":0},{"$f":"D1a!M146*D3c!$L21","v":0},{"$f":"D1a!N146*D3c!$L21","v":0},{"$f":"D1a!O146*D3c!$L21","v":0},{"$f":"D1a!P146*D3c!$L21","v":0},{"$f":"D1a!Q146*D3c!$L21","v":0},{"$f":"D1a!L146*D3c!$M21","v":0},{"$f":"D1a!M146*D3c!$M21","v":0},{"$f":"D1a!N146*D3c!$M21","v":0},{"$f":"D1a!O146*D3c!$M21","v":0},{"$f":"D1a!P146*D3c!$M21","v":0},{"$f":"D1a!Q146*D3c!$M21","v":0}]
[null,null,null,null,"Minéraux non-métalliques et matériaux de construction",{"$f":"D1a!L147*D3c!$F22","v":0},{"$f":"D1a!M147*D3c!$F22","v":0},{"$f":"D1a!N147*D3c!$F22","v":0},{"$f":"D1a!O147*D3c!$F22","v":0},{"$f":"D1a!P147*D3c!$F22","v":0},{"$f":"D1a!Q147*D3c!$F22","v":0},{"$f":"D1a!L147*D3c!$G22","v":0},{"$f":"D1a!M147*D3c!$G22","v":0},{"$f":"D1a!N147*D3c!$G22","v":0},{"$f":"D1a!O147*D3c!$G22","v":0},{"$f":"D1a!P147*D3c!$G22","v":0},{"$f":"D1a!Q147*D3c!$G22","v":0},{"$f":"D1a!L147*D3c!$H22","v":0},{"$f":"D1a!M147*D3c!$H22","v":0},{"$f":"D1a!N147*D3c!$H22","v":0},{"$f":"D1a!O147*D3c!$H22","v":0},{"$f":"D1a!P147*D3c!$H22","v":0},{"$f":"D1a!Q147*D3c!$H22","v":0},{"$f":"D1a!L147*D3c!$I22","v":0},{"$f":"D1a!M147*D3c!$I22","v":0},{"$f":"D1a!N147*D3c!$I22","v":0},{"$f":"D1a!O147*D3c!$I22","v":0},{"$f":"D1a!P147*D3c!$I22","v":0},{"$f":"D1a!Q147*D3c!$I22","v":0},{"$f":"D1a!L147*D3c!$J22","v":0},{"$f":"D1a!M147*D3c!$J22","v":0},{"$f":"D1a!N147*D3c!$J22","v":0},{"$f":"D1a!O147*D3c!$J22","v":0},{"$f":"D1a!P147*D3c!$J22","v":0},{"$f":"D1a!Q147*D3c!$J22","v":0},{"$f":"D1a!L147*D3c!$K22","v":0},{"$f":"D1a!M147*D3c!$K22","v":0},{"$f":"D1a!N147*D3c!$K22","v":0},{"$f":"D1a!O147*D3c!$K22","v":0},{"$f":"D1a!P147*D3c!$K22","v":0},{"$f":"D1a!Q147*D3c!$K22","v":0},{"$f":"D1a!L147*D3c!$L22","v":0},{"$f":"D1a!M147*D3c!$L22","v":0},{"$f":"D1a!N147*D3c!$L22","v":0},{"$f":"D1a!O147*D3c!$L22","v":0},{"$f":"D1a!P147*D3c!$L22","v":0},{"$f":"D1a!Q147*D3c!$L22","v":0},{"$f":"D1a!L147*D3c!$M22","v":0},{"$f":"D1a!M147*D3c!$M22","v":0},{"$f":"D1a!N147*D3c!$M22","v":0},{"$f":"D1a!O147*D3c!$M22","v":0},{"$f":"D1a!P147*D3c!$M22","v":0},{"$f":"D1a!Q147*D3c!$M22","v":0}]
[null,null,null,null,"Papier, carton",{"$f":"D1a!L148*D3c!$F23","v":0},{"$f":"D1a!M148*D3c!$F23","v":0},{"$f":"D1a!N148*D3c!$F23","v":0},{"$f":"D1a!O148*D3c!$F23","v":0},{"$f":"D1a!P148*D3c!$F23","v":0},{"$f":"D1a!Q148*D3c!$F23","v":0},{"$f":"D1a!L148*D3c!$G23","v":0},{"$f":"D1a!M148*D3c!$G23","v":0},{"$f":"D1a!N148*D3c!$G23","v":0},{"$f":"D1a!O148*D3c!$G23","v":0},{"$f":"D1a!P148*D3c!$G23","v":0},{"$f":"D1a!Q148*D3c!$G23","v":0},{"$f":"D1a!L148*D3c!$H23","v":0},{"$f":"D1a!M148*D3c!$H23","v":0},{"$f":"D1a!N148*D3c!$H23","v":0},{"$f":"D1a!O148*D3c!$H23","v":0},{"$f":"D1a!P148*D3c!$H23","v":0},{"$f":"D1a!Q148*D3c!$H23","v":0},{"$f":"D1a!L148*D3c!$I23","v":0},{"$f":"D1a!M148*D3c!$I23","v":0},{"$f":"D1a!N148*D3c!$I23","v":0},{"$f":"D1a!O148*D3c!$I23","v":0},{"$f":"D1a!P148*D3c!$I23","v":0},{"$f":"D1a!Q148*D3c!$I23","v":0},{"$f":"D1a!L148*D3c!$J23","v":0},{"$f":"D1a!M148*D3c!$J23","v":0},{"$f":"D1a!N148*D3c!$J23","v":0},{"$f":"D1a!O148*D3c!$J23","v":0},{"$f":"D1a!P148*D3c!$J23","v":0},{"$f":"D1a!Q148*D3c!$J23","v":0},{"$f":"D1a!L148*D3c!$K23","v":0},{"$f":"D1a!M148*D3c!$K23","v":0},{"$f":"D1a!N148*D3c!$K23","v":0},{"$f":"D1a!O148*D3c!$K23","v":0},{"$f":"D1a!P148*D3c!$K23","v":0},{"$f":"D1a!Q148*D3c!$K23","v":0},{"$f":"D1a!L148*D3c!$L23","v":0},{"$f":"D1a!M148*D3c!$L23","v":0},{"$f":"D1a!N148*D3c!$L23","v":0},{"$f":"D1a!O148*D3c!$L23","v":0},{"$f":"D1a!P148*D3c!$L23","v":0},{"$f":"D1a!Q148*D3c!$L23","v":0},{"$f":"D1a!L148*D3c!$M23","v":0},{"$f":"D1a!M148*D3c!$M23","v":0},{"$f":"D1a!N148*D3c!$M23","v":0},{"$f":"D1a!O148*D3c!$M23","v":0},{"$f":"D1a!P148*D3c!$M23","v":0},{"$f":"D1a!Q148*D3c!$M23","v":0}]
[null,null,null,null,"Tous secteurs IM",{"$f":"D1a!L149*D3c!$F24","v":0},{"$f":"D1a!M149*D3c!$F24","v":0},{"$f":"D1a!N149*D3c!$F24","v":0},{"$f":"D1a!O149*D3c!$F24","v":0},{"$f":"D1a!P149*D3c!$F24","v":0},{"$f":"D1a!Q149*D3c!$F24","v":0},{"$f":"D1a!L149*D3c!$G24","v":0},{"$f":"D1a!M149*D3c!$G24","v":0},{"$f":"D1a!N149*D3c!$G24","v":0},{"$f":"D1a!O149*D3c!$G24","v":0},{"$f":"D1a!P149*D3c!$G24","v":0},{"$f":"D1a!Q149*D3c!$G24","v":0},{"$f":"D1a!L149*D3c!$H24","v":0},{"$f":"D1a!M149*D3c!$H24","v":0},{"$f":"D1a!N149*D3c!$H24","v":0},{"$f":"D1a!O149*D3c!$H24","v":0},{"$f":"D1a!P149*D3c!$H24","v":0},{"$f":"D1a!Q149*D3c!$H24","v":0},{"$f":"D1a!L149*D3c!$I24","v":0},{"$f":"D1a!M149*D3c!$I24","v":0},{"$f":"D1a!N149*D3c!$I24","v":0},{"$f":"D1a!O149*D3c!$I24","v":0},{"$f":"D1a!P149*D3c!$I24","v":0},{"$f":"D1a!Q149*D3c!$I24","v":0},{"$f":"D1a!L149*D3c!$J24","v":0},{"$f":"D1a!M149*D3c!$J24","v":0},{"$f":"D1a!N149*D3c!$J24","v":0},{"$f":"D1a!O149*D3c!$J24","v":0},{"$f":"D1a!P149*D3c!$J24","v":0},{"$f":"D1a!Q149*D3c!$J24","v":0},{"$f":"D1a!L149*D3c!$K24","v":0},{"$f":"D1a!M149*D3c!$K24","v":0},{"$f":"D1a!N149*D3c!$K24","v":0},{"$f":"D1a!O149*D3c!$K24","v":0},{"$f":"D1a!P149*D3c!$K24","v":0},{"$f":"D1a!Q149*D3c!$K24","v":0},{"$f":"D1a!L149*D3c!$L24","v":0},{"$f":"D1a!M149*D3c!$L24","v":0},{"$f":"D1a!N149*D3c!$L24","v":0},{"$f":"D1a!O149*D3c!$L24","v":0},{"$f":"D1a!P149*D3c!$L24","v":0},{"$f":"D1a!Q149*D3c!$L24","v":0},{"$f":"D1a!L149*D3c!$M24","v":0},{"$f":"D1a!M149*D3c!$M24","v":0},{"$f":"D1a!N149*D3c!$M24","v":0},{"$f":"D1a!O149*D3c!$M24","v":0},{"$f":"D1a!P149*D3c!$M24","v":0},{"$f":"D1a!Q149*D3c!$M24","v":0}]
[null,null,null,null,"Traitement des déchets",{"$f":"D1a!L150*D3c!$F25","v":0},{"$f":"D1a!M150*D3c!$F25","v":0},{"$f":"D1a!N150*D3c!$F25","v":0},{"$f":"D1a!O150*D3c!$F25","v":0},{"$f":"D1a!P150*D3c!$F25","v":0},{"$f":"D1a!Q150*D3c!$F25","v":0},{"$f":"D1a!L150*D3c!$G25","v":0},{"$f":"D1a!M150*D3c!$G25","v":0},{"$f":"D1a!N150*D3c!$G25","v":0},{"$f":"D1a!O150*D3c!$G25","v":0},{"$f":"D1a!P150*D3c!$G25","v":0},{"$f":"D1a!Q150*D3c!$G25","v":0},{"$f":"D1a!L150*D3c!$H25","v":0},{"$f":"D1a!M150*D3c!$H25","v":0},{"$f":"D1a!N150*D3c!$H25","v":0},{"$f":"D1a!O150*D3c!$H25","v":0},{"$f":"D1a!P150*D3c!$H25","v":0},{"$f":"D1a!Q150*D3c!$H25","v":0},{"$f":"D1a!L150*D3c!$I25","v":0},{"$f":"D1a!M150*D3c!$I25","v":0},{"$f":"D1a!N150*D3c!$I25","v":0},{"$f":"D1a!O150*D3c!$I25","v":0},{"$f":"D1a!P150*D3c!$I25","v":0},{"$f":"D1a!Q150*D3c!$I25","v":0},{"$f":"D1a!L150*D3c!$J25","v":0},{"$f":"D1a!M150*D3c!$J25","v":0},{"$f":"D1a!N150*D3c!$J25","v":0},{"$f":"D1a!O150*D3c!$J25","v":0},{"$f":"D1a!P150*D3c!$J25","v":0},{"$f":"D1a!Q150*D3c!$J25","v":0},{"$f":"D1a!L150*D3c!$K25","v":0},{"$f":"D1a!M150*D3c!$K25","v":0},{"$f":"D1a!N150*D3c!$K25","v":0},{"$f":"D1a!O150*D3c!$K25","v":0},{"$f":"D1a!P150*D3c!$K25","v":0},{"$f":"D1a!Q150*D3c!$K25","v":0},{"$f":"D1a!L150*D3c!$L25","v":0},{"$f":"D1a!M150*D3c!$L25","v":0},{"$f":"D1a!N150*D3c!$L25","v":0},{"$f":"D1a!O150*D3c!$L25","v":0},{"$f":"D1a!P150*D3c!$L25","v":0},{"$f":"D1a!Q150*D3c!$L25","v":0},{"$f":"D1a!L150*D3c!$M25","v":0},{"$f":"D1a!M150*D3c!$M25","v":0},{"$f":"D1a!N150*D3c!$M25","v":0},{"$f":"D1a!O150*D3c!$M25","v":0},{"$f":"D1a!P150*D3c!$M25","v":0},{"$f":"D1a!Q150*D3c!$M25","v":0}]
[null,null,null,null,"Traitement déchets industrie",{"$f":"D1a!L151*D3c!$F26","v":0},{"$f":"D1a!M151*D3c!$F26","v":0},{"$f":"D1a!N151*D3c!$F26","v":0},{"$f":"D1a!O151*D3c!$F26","v":0},{"$f":"D1a!P151*D3c!$F26","v":0},{"$f":"D1a!Q151*D3c!$F26","v":0},{"$f":"D1a!L151*D3c!$G26","v":0},{"$f":"D1a!M151*D3c!$G26","v":0},{"$f":"D1a!N151*D3c!$G26","v":0},{"$f":"D1a!O151*D3c!$G26","v":0},{"$f":"D1a!P151*D3c!$G26","v":0},{"$f":"D1a!Q151*D3c!$G26","v":0},{"$f":"D1a!L151*D3c!$H26","v":0},{"$f":"D1a!M151*D3c!$H26","v":0},{"$f":"D1a!N151*D3c!$H26","v":0},{"$f":"D1a!O151*D3c!$H26","v":0},{"$f":"D1a!P151*D3c!$H26","v":0},{"$f":"D1a!Q151*D3c!$H26","v":0},{"$f":"D1a!L151*D3c!$I26","v":0},{"$f":"D1a!M151*D3c!$I26","v":0},{"$f":"D1a!N151*D3c!$I26","v":0},{"$f":"D1a!O151*D3c!$I26","v":0},{"$f":"D1a!P151*D3c!$I26","v":0},{"$f":"D1a!Q151*D3c!$I26","v":0},{"$f":"D1a!L151*D3c!$J26","v":0},{"$f":"D1a!M151*D3c!$J26","v":0},{"$f":"D1a!N151*D3c!$J26","v":0},{"$f":"D1a!O151*D3c!$J26","v":0},{"$f":"D1a!P151*D3c!$J26","v":0},{"$f":"D1a!Q151*D3c!$J26","v":0},{"$f":"D1a!L151*D3c!$K26","v":0},{"$f":"D1a!M151*D3c!$K26","v":0},{"$f":"D1a!N151*D3c!$K26","v":0},{"$f":"D1a!O151*D3c!$K26","v":0},{"$f":"D1a!P151*D3c!$K26","v":0},{"$f":"D1a!Q151*D3c!$K26","v":0},{"$f":"D1a!L151*D3c!$L26","v":0},{"$f":"D1a!M151*D3c!$L26","v":0},{"$f":"D1a!N151*D3c!$L26","v":0},{"$f":"D1a!O151*D3c!$L26","v":0},{"$f":"D1a!P151*D3c!$L26","v":0},{"$f":"D1a!Q151*D3c!$L26","v":0},{"$f":"D1a!L151*D3c!$M26","v":0},{"$f":"D1a!M151*D3c!$M26","v":0},{"$f":"D1a!N151*D3c!$M26","v":0},{"$f":"D1a!O151*D3c!$M26","v":0},{"$f":"D1a!P151*D3c!$M26","v":0},{"$f":"D1a!Q151*D3c!$M26","v":0}]
[null,null,"Résidentiel tertiaire",null,"Résidentiel",{"$f":"D1a!L152*D3c!$F27","v":0},{"$f":"D1a!M152*D3c!$F27","v":0},{"$f":"D1a!N152*D3c!$F27","v":0},{"$f":"D1a!O152*D3c!$F27","v":0},{"$f":"D1a!P152*D3c!$F27","v":0},{"$f":"D1a!Q152*D3c!$F27","v":0},{"$f":"D1a!L152*D3c!$G27","v":0},{"$f":"D1a!M152*D3c!$G27","v":0},{"$f":"D1a!N152*D3c!$G27","v":0},{"$f":"D1a!O152*D3c!$G27","v":0},{"$f":"D1a!P152*D3c!$G27","v":0},{"$f":"D1a!Q152*D3c!$G27","v":0},{"$f":"D1a!L152*D3c!$H27","v":0},{"$f":"D1a!M152*D3c!$H27","v":0},{"$f":"D1a!N152*D3c!$H27","v":0},{"$f":"D1a!O152*D3c!$H27","v":0},{"$f":"D1a!P152*D3c!$H27","v":0},{"$f":"D1a!Q152*D3c!$H27","v":0},{"$f":"D1a!L152*D3c!$I27","v":0},{"$f":"D1a!M152*D3c!$I27","v":0},{"$f":"D1a!N152*D3c!$I27","v":0},{"$f":"D1a!O152*D3c!$I27","v":0},{"$f":"D1a!P152*D3c!$I27","v":0},{"$f":"D1a!Q152*D3c!$I27","v":0},{"$f":"D1a!L152*D3c!$J27","v":0},{"$f":"D1a!M152*D3c!$J27","v":0},{"$f":"D1a!N152*D3c!$J27","v":0},{"$f":"D1a!O152*D3c!$J27","v":0},{"$f":"D1a!P152*D3c!$J27","v":0},{"$f":"D1a!Q152*D3c!$J27","v":0},{"$f":"D1a!L152*D3c!$K27","v":0},{"$f":"D1a!M152*D3c!$K27","v":0},{"$f":"D1a!N152*D3c!$K27","v":0},{"$f":"D1a!O152*D3c!$K27","v":0},{"$f":"D1a!P152*D3c!$K27","v":0},{"$f":"D1a!Q152*D3c!$K27","v":0},{"$f":"D1a!L152*D3c!$L27","v":0},{"$f":"D1a!M152*D3c!$L27","v":0},{"$f":"D1a!N152*D3c!$L27","v":0},{"$f":"D1a!O152*D3c!$L27","v":0},{"$f":"D1a!P152*D3c!$L27","v":0},{"$f":"D1a!Q152*D3c!$L27","v":0},{"$f":"D1a!L152*D3c!$M27","v":0},{"$f":"D1a!M152*D3c!$M27","v":0},{"$f":"D1a!N152*D3c!$M27","v":0},{"$f":"D1a!O152*D3c!$M27","v":0},{"$f":"D1a!P152*D3c!$M27","v":0},{"$f":"D1a!Q152*D3c!$M27","v":0}]
[null,null,null,null,"Tertiaire, commercial et institutionnel",{"$f":"D1a!L153*D3c!$F28","v":0},{"$f":"D1a!M153*D3c!$F28","v":0},{"$f":"D1a!N153*D3c!$F28","v":0},{"$f":"D1a!O153*D3c!$F28","v":0},{"$f":"D1a!P153*D3c!$F28","v":0},{"$f":"D1a!Q153*D3c!$F28","v":0},{"$f":"D1a!L153*D3c!$G28","v":0},{"$f":"D1a!M153*D3c!$G28","v":0},{"$f":"D1a!N153*D3c!$G28","v":0},{"$f":"D1a!O153*D3c!$G28","v":0},{"$f":"D1a!P153*D3c!$G28","v":0},{"$f":"D1a!Q153*D3c!$G28","v":0},{"$f":"D1a!L153*D3c!$H28","v":0},{"$f":"D1a!M153*D3c!$H28","v":0},{"$f":"D1a!N153*D3c!$H28","v":0},{"$f":"D1a!O153*D3c!$H28","v":0},{"$f":"D1a!P153*D3c!$H28","v":0},{"$f":"D1a!Q153*D3c!$H28","v":0},{"$f":"D1a!L153*D3c!$I28","v":0},{"$f":"D1a!M153*D3c!$I28","v":0},{"$f":"D1a!N153*D3c!$I28","v":0},{"$f":"D1a!O153*D3c!$I28","v":0},{"$f":"D1a!P153*D3c!$I28","v":0},{"$f":"D1a!Q153*D3c!$I28","v":0},{"$f":"D1a!L153*D3c!$J28","v":0},{"$f":"D1a!M153*D3c!$J28","v":0},{"$f":"D1a!N153*D3c!$J28","v":0},{"$f":"D1a!O153*D3c!$J28","v":0},{"$f":"D1a!P153*D3c!$J28","v":0},{"$f":"D1a!Q153*D3c!$J28","v":0},{"$f":"D1a!L153*D3c!$K28","v":0},{"$f":"D1a!M153*D3c!$K28","v":0},{"$f":"D1a!N153*D3c!$K28","v":0},{"$f":"D1a!O153*D3c!$K28","v":0},{"$f":"D1a!P153*D3c!$K28","v":0},{"$f":"D1a!Q153*D3c!$K28","v":0},{"$f":"D1a!L153*D3c!$L28","v":0},{"$f":"D1a!M153*D3c!$L28","v":0},{"$f":"D1a!N153*D3c!$L28","v":0},{"$f":"D1a!O153*D3c!$L28","v":0},{"$f":"D1a!P153*D3c!$L28","v":0},{"$f":"D1a!Q153*D3c!$L28","v":0},{"$f":"D1a!L153*D3c!$M28","v":0},{"$f":"D1a!M153*D3c!$M28","v":0},{"$f":"D1a!N153*D3c!$M28","v":0},{"$f":"D1a!O153*D3c!$M28","v":0},{"$f":"D1a!P153*D3c!$M28","v":0},{"$f":"D1a!Q153*D3c!$M28","v":0}]
[null,null,"Transformation de l'énergie",null,"Chauffage urbain",{"$f":"D1a!L154*D3c!$F29","v":0},{"$f":"D1a!M154*D3c!$F29","v":0},{"$f":"D1a!N154*D3c!$F29","v":0},{"$f":"D1a!O154*D3c!$F29","v":0},{"$f":"D1a!P154*D3c!$F29","v":0},{"$f":"D1a!Q154*D3c!$F29","v":0},{"$f":"D1a!L154*D3c!$G29","v":0},{"$f":"D1a!M154*D3c!$G29","v":0},{"$f":"D1a!N154*D3c!$G29","v":0},{"$f":"D1a!O154*D3c!$G29","v":0},{"$f":"D1a!P154*D3c!$G29","v":0},{"$f":"D1a!Q154*D3c!$G29","v":0},{"$f":"D1a!L154*D3c!$H29","v":0},{"$f":"D1a!M154*D3c!$H29","v":0},{"$f":"D1a!N154*D3c!$H29","v":0},{"$f":"D1a!O154*D3c!$H29","v":0},{"$f":"D1a!P154*D3c!$H29","v":0},{"$f":"D1a!Q154*D3c!$H29","v":0},{"$f":"D1a!L154*D3c!$I29","v":0},{"$f":"D1a!M154*D3c!$I29","v":0},{"$f":"D1a!N154*D3c!$I29","v":0},{"$f":"D1a!O154*D3c!$I29","v":0},{"$f":"D1a!P154*D3c!$I29","v":0},{"$f":"D1a!Q154*D3c!$I29","v":0},{"$f":"D1a!L154*D3c!$J29","v":0},{"$f":"D1a!M154*D3c!$J29","v":0},{"$f":"D1a!N154*D3c!$J29","v":0},{"$f":"D1a!O154*D3c!$J29","v":0},{"$f":"D1a!P154*D3c!$J29","v":0},{"$f":"D1a!Q154*D3c!$J29","v":0},{"$f":"D1a!L154*D3c!$K29","v":0},{"$f":"D1a!M154*D3c!$K29","v":0},{"$f":"D1a!N154*D3c!$K29","v":0},{"$f":"D1a!O154*D3c!$K29","v":0},{"$f":"D1a!P154*D3c!$K29","v":0},{"$f":"D1a!Q154*D3c!$K29","v":0},{"$f":"D1a!L154*D3c!$L29","v":0},{"$f":"D1a!M154*D3c!$L29","v":0},{"$f":"D1a!N154*D3c!$L29","v":0},{"$f":"D1a!O154*D3c!$L29","v":0},{"$f":"D1a!P154*D3c!$L29","v":0},{"$f":"D1a!Q154*D3c!$L29","v":0},{"$f":"D1a!L154*D3c!$M29","v":0},{"$f":"D1a!M154*D3c!$M29","v":0},{"$f":"D1a!N154*D3c!$M29","v":0},{"$f":"D1a!O154*D3c!$M29","v":0},{"$f":"D1a!P154*D3c!$M29","v":0},{"$f":"D1a!Q154*D3c!$M29","v":0}]
[null,null,null,null,"Extraction des combustibles gazeux et distribution d'énergie",{"$f":"D1a!L155*D3c!$F30","v":0},{"$f":"D1a!M155*D3c!$F30","v":0},{"$f":"D1a!N155*D3c!$F30","v":0},{"$f":"D1a!O155*D3c!$F30","v":0},{"$f":"D1a!P155*D3c!$F30","v":0},{"$f":"D1a!Q155*D3c!$F30","v":0},{"$f":"D1a!L155*D3c!$G30","v":0},{"$f":"D1a!M155*D3c!$G30","v":0},{"$f":"D1a!N155*D3c!$G30","v":0},{"$f":"D1a!O155*D3c!$G30","v":0},{"$f":"D1a!P155*D3c!$G30","v":0},{"$f":"D1a!Q155*D3c!$G30","v":0},{"$f":"D1a!L155*D3c!$H30","v":0},{"$f":"D1a!M155*D3c!$H30","v":0},{"$f":"D1a!N155*D3c!$H30","v":0},{"$f":"D1a!O155*D3c!$H30","v":0},{"$f":"D1a!P155*D3c!$H30","v":0},{"$f":"D1a!Q155*D3c!$H30","v":0},{"$f":"D1a!L155*D3c!$I30","v":0},{"$f":"D1a!M155*D3c!$I30","v":0},{"$f":"D1a!N155*D3c!$I30","v":0},{"$f":"D1a!O155*D3c!$I30","v":0},{"$f":"D1a!P155*D3c!$I30","v":0},{"$f":"D1a!Q155*D3c!$I30","v":0},{"$f":"D1a!L155*D3c!$J30","v":0},{"$f":"D1a!M155*D3c!$J30","v":0},{"$f":"D1a!N155*D3c!$J30","v":0},{"$f":"D1a!O155*D3c!$J30","v":0},{"$f":"D1a!P155*D3c!$J30","v":0},{"$f":"D1a!Q155*D3c!$J30","v":0},{"$f":"D1a!L155*D3c!$K30","v":0},{"$f":"D1a!M155*D3c!$K30","v":0},{"$f":"D1a!N155*D3c!$K30","v":0},{"$f":"D1a!O155*D3c!$K30","v":0},{"$f":"D1a!P155*D3c!$K30","v":0},{"$f":"D1a!Q155*D3c!$K30","v":0},{"$f":"D1a!L155*D3c!$L30","v":0},{"$f":"D1a!M155*D3c!$L30","v":0},{"$f":"D1a!N155*D3c!$L30","v":0},{"$f":"D1a!O155*D3c!$L30","v":0},{"$f":"D1a!P155*D3c!$L30","v":0},{"$f":"D1a!Q155*D3c!$L30","v":0},{"$f":"D1a!L155*D3c!$M30","v":0},{"$f":"D1a!M155*D3c!$M30","v":0},{"$f":"D1a!N155*D3c!$M30","v":0},{"$f":"D1a!O155*D3c!$M30","v":0},{"$f":"D1a!P155*D3c!$M30","v":0},{"$f":"D1a!Q155*D3c!$M30","v":0}]
[null,null,null,null,"Extraction des combustibles liquides et distribution d'énergie",{"$f":"D1a!L156*D3c!$F31","v":0},{"$f":"D1a!M156*D3c!$F31","v":0},{"$f":"D1a!N156*D3c!$F31","v":0},{"$f":"D1a!O156*D3c!$F31","v":0},{"$f":"D1a!P156*D3c!$F31","v":0},{"$f":"D1a!Q156*D3c!$F31","v":0},{"$f":"D1a!L156*D3c!$G31","v":0},{"$f":"D1a!M156*D3c!$G31","v":0},{"$f":"D1a!N156*D3c!$G31","v":0},{"$f":"D1a!O156*D3c!$G31","v":0},{"$f":"D1a!P156*D3c!$G31","v":0},{"$f":"D1a!Q156*D3c!$G31","v":0},{"$f":"D1a!L156*D3c!$H31","v":0},{"$f":"D1a!M156*D3c!$H31","v":0},{"$f":"D1a!N156*D3c!$H31","v":0},{"$f":"D1a!O156*D3c!$H31","v":0},{"$f":"D1a!P156*D3c!$H31","v":0},{"$f":"D1a!Q156*D3c!$H31","v":0},{"$f":"D1a!L156*D3c!$I31","v":0},{"$f":"D1a!M156*D3c!$I31","v":0},{"$f":"D1a!N156*D3c!$I31","v":0},{"$f":"D1a!O156*D3c!$I31","v":0},{"$f":"D1a!P156*D3c!$I31","v":0},{"$f":"D1a!Q156*D3c!$I31","v":0},{"$f":"D1a!L156*D3c!$J31","v":0},{"$f":"D1a!M156*D3c!$J31","v":0},{"$f":"D1a!N156*D3c!$J31","v":0},{"$f":"D1a!O156*D3c!$J31","v":0},{"$f":"D1a!P156*D3c!$J31","v":0},{"$f":"D1a!Q156*D3c!$J31","v":0},{"$f":"D1a!L156*D3c!$K31","v":0},{"$f":"D1a!M156*D3c!$K31","v":0},{"$f":"D1a!N156*D3c!$K31","v":0},{"$f":"D1a!O156*D3c!$K31","v":0},{"$f":"D1a!P156*D3c!$K31","v":0},{"$f":"D1a!Q156*D3c!$K31","v":0},{"$f":"D1a!L156*D3c!$L31","v":0},{"$f":"D1a!M156*D3c!$L31","v":0},{"$f":"D1a!N156*D3c!$L31","v":0},{"$f":"D1a!O156*D3c!$L31","v":0},{"$f":"D1a!P156*D3c!$L31","v":0},{"$f":"D1a!Q156*D3c!$L31","v":0},{"$f":"D1a!L156*D3c!$M31","v":0},{"$f":"D1a!M156*D3c!$M31","v":0},{"$f":"D1a!N156*D3c!$M31","v":0},{"$f":"D1a!O156*D3c!$M31","v":0},{"$f":"D1a!P156*D3c!$M31","v":0},{"$f":"D1a!Q156*D3c!$M31","v":0}]
[null,null,null,null,"Extraction des combustibles solides et distribution d'énergie",{"$f":"D1a!L157*D3c!$F32","v":0},{"$f":"D1a!M157*D3c!$F32","v":0},{"$f":"D1a!N157*D3c!$F32","v":0},{"$f":"D1a!O157*D3c!$F32","v":0},{"$f":"D1a!P157*D3c!$F32","v":0},{"$f":"D1a!Q157*D3c!$F32","v":0},{"$f":"D1a!L157*D3c!$G32","v":0},{"$f":"D1a!M157*D3c!$G32","v":0},{"$f":"D1a!N157*D3c!$G32","v":0},{"$f":"D1a!O157*D3c!$G32","v":0},{"$f":"D1a!P157*D3c!$G32","v":0},{"$f":"D1a!Q157*D3c!$G32","v":0},{"$f":"D1a!L157*D3c!$H32","v":0},{"$f":"D1a!M157*D3c!$H32","v":0},{"$f":"D1a!N157*D3c!$H32","v":0},{"$f":"D1a!O157*D3c!$H32","v":0},{"$f":"D1a!P157*D3c!$H32","v":0},{"$f":"D1a!Q157*D3c!$H32","v":0},{"$f":"D1a!L157*D3c!$I32","v":0},{"$f":"D1a!M157*D3c!$I32","v":0},{"$f":"D1a!N157*D3c!$I32","v":0},{"$f":"D1a!O157*D3c!$I32","v":0},{"$f":"D1a!P157*D3c!$I32","v":0},{"$f":"D1a!Q157*D3c!$I32","v":0},{"$f":"D1a!L157*D3c!$J32","v":0},{"$f":"D1a!M157*D3c!$J32","v":0},{"$f":"D1a!N157*D3c!$J32","v":0},{"$f":"D1a!O157*D3c!$J32","v":0},{"$f":"D1a!P157*D3c!$J32","v":0},{"$f":"D1a!Q157*D3c!$J32","v":0},{"$f":"D1a!L157*D3c!$K32","v":0},{"$f":"D1a!M157*D3c!$K32","v":0},{"$f":"D1a!N157*D3c!$K32","v":0},{"$f":"D1a!O157*D3c!$K32","v":0},{"$f":"D1a!P157*D3c!$K32","v":0},{"$f":"D1a!Q157*D3c!$K32","v":0},{"$f":"D1a!L157*D3c!$L32","v":0},{"$f":"D1a!M157*D3c!$L32","v":0},{"$f":"D1a!N157*D3c!$L32","v":0},{"$f":"D1a!O157*D3c!$L32","v":0},{"$f":"D1a!P157*D3c!$L32","v":0},{"$f":"D1a!Q157*D3c!$L32","v":0},{"$f":"D1a!L157*D3c!$M32","v":0},{"$f":"D1a!M157*D3c!$M32","v":0},{"$f":"D1a!N157*D3c!$M32","v":0},{"$f":"D1a!O157*D3c!$M32","v":0},{"$f":"D1a!P157*D3c!$M32","v":0},{"$f":"D1a!Q157*D3c!$M32","v":0}]
[null,null,null,null,"Production d'électricité",{"$f":"D1a!L158*D3c!$F33","v":0},{"$f":"D1a!M158*D3c!$F33","v":0},{"$f":"D1a!N158*D3c!$F33","v":0},{"$f":"D1a!O158*D3c!$F33","v":0},{"$f":"D1a!P158*D3c!$F33","v":0},{"$f":"D1a!Q158*D3c!$F33","v":0},{"$f":"D1a!L158*D3c!$G33","v":0},{"$f":"D1a!M158*D3c!$G33","v":0},{"$f":"D1a!N158*D3c!$G33","v":0},{"$f":"D1a!O158*D3c!$G33","v":0},{"$f":"D1a!P158*D3c!$G33","v":0},{"$f":"D1a!Q158*D3c!$G33","v":0},{"$f":"D1a!L158*D3c!$H33","v":0},{"$f":"D1a!M158*D3c!$H33","v":0},{"$f":"D1a!N158*D3c!$H33","v":0},{"$f":"D1a!O158*D3c!$H33","v":0},{"$f":"D1a!P158*D3c!$H33","v":0},{"$f":"D1a!Q158*D3c!$H33","v":0},{"$f":"D1a!L158*D3c!$I33","v":0},{"$f":"D1a!M158*D3c!$I33","v":0},{"$f":"D1a!N158*D3c!$I33","v":0},{"$f":"D1a!O158*D3c!$I33","v":0},{"$f":"D1a!P158*D3c!$I33","v":0},{"$f":"D1a!Q158*D3c!$I33","v":0},{"$f":"D1a!L158*D3c!$J33","v":0},{"$f":"D1a!M158*D3c!$J33","v":0},{"$f":"D1a!N158*D3c!$J33","v":0},{"$f":"D1a!O158*D3c!$J33","v":0},{"$f":"D1a!P158*D3c!$J33","v":0},{"$f":"D1a!Q158*D3c!$J33","v":0},{"$f":"D1a!L158*D3c!$K33","v":0},{"$f":"D1a!M158*D3c!$K33","v":0},{"$f":"D1a!N158*D3c!$K33","v":0},{"$f":"D1a!O158*D3c!$K33","v":0},{"$f":"D1a!P158*D3c!$K33","v":0},{"$f":"D1a!Q158*D3c!$K33","v":0},{"$f":"D1a!L158*D3c!$L33","v":0},{"$f":"D1a!M158*D3c!$L33","v":0},{"$f":"D1a!N158*D3c!$L33","v":0},{"$f":"D1a!O158*D3c!$L33","v":0},{"$f":"D1a!P158*D3c!$L33","v":0},{"$f":"D1a!Q158*D3c!$L33","v":0},{"$f":"D1a!L158*D3c!$M33","v":0},{"$f":"D1a!M158*D3c!$M33","v":0},{"$f":"D1a!N158*D3c!$M33","v":0},{"$f":"D1a!O158*D3c!$M33","v":0},{"$f":"D1a!P158*D3c!$M33","v":0},{"$f":"D1a!Q158*D3c!$M33","v":0}]
[null,null,null,null,"Raffinage de pétrole",{"$f":"D1a!L159*D3c!$F34","v":0},{"$f":"D1a!M159*D3c!$F34","v":0},{"$f":"D1a!N159*D3c!$F34","v":0},{"$f":"D1a!O159*D3c!$F34","v":0},{"$f":"D1a!P159*D3c!$F34","v":0},{"$f":"D1a!Q159*D3c!$F34","v":0},{"$f":"D1a!L159*D3c!$G34","v":0},{"$f":"D1a!M159*D3c!$G34","v":0},{"$f":"D1a!N159*D3c!$G34","v":0},{"$f":"D1a!O159*D3c!$G34","v":0},{"$f":"D1a!P159*D3c!$G34","v":0},{"$f":"D1a!Q159*D3c!$G34","v":0},{"$f":"D1a!L159*D3c!$H34","v":0},{"$f":"D1a!M159*D3c!$H34","v":0},{"$f":"D1a!N159*D3c!$H34","v":0},{"$f":"D1a!O159*D3c!$H34","v":0},{"$f":"D1a!P159*D3c!$H34","v":0},{"$f":"D1a!Q159*D3c!$H34","v":0},{"$f":"D1a!L159*D3c!$I34","v":0},{"$f":"D1a!M159*D3c!$I34","v":0},{"$f":"D1a!N159*D3c!$I34","v":0},{"$f":"D1a!O159*D3c!$I34","v":0},{"$f":"D1a!P159*D3c!$I34","v":0},{"$f":"D1a!Q159*D3c!$I34","v":0},{"$f":"D1a!L159*D3c!$J34","v":0},{"$f":"D1a!M159*D3c!$J34","v":0},{"$f":"D1a!N159*D3c!$J34","v":0},{"$f":"D1a!O159*D3c!$J34","v":0},{"$f":"D1a!P159*D3c!$J34","v":0},{"$f":"D1a!Q159*D3c!$J34","v":0},{"$f":"D1a!L159*D3c!$K34","v":0},{"$f":"D1a!M159*D3c!$K34","v":0},{"$f":"D1a!N159*D3c!$K34","v":0},{"$f":"D1a!O159*D3c!$K34","v":0},{"$f":"D1a!P159*D3c!$K34","v":0},{"$f":"D1a!Q159*D3c!$K34","v":0},{"$f":"D1a!L159*D3c!$L34","v":0},{"$f":"D1a!M159*D3c!$L34","v":0},{"$f":"D1a!N159*D3c!$L34","v":0},{"$f":"D1a!O159*D3c!$L34","v":0},{"$f":"D1a!P159*D3c!$L34","v":0},{"$f":"D1a!Q159*D3c!$L34","v":0},{"$f":"D1a!L159*D3c!$M34","v":0},{"$f":"D1a!M159*D3c!$M34","v":0},{"$f":"D1a!N159*D3c!$M34","v":0},{"$f":"D1a!O159*D3c!$M34","v":0},{"$f":"D1a!P159*D3c!$M34","v":0},{"$f":"D1a!Q159*D3c!$M34","v":0}]
[null,null,null,null,"Transformation des combustibles minéraux solides – siderurgies",{"$f":"D1a!L160*D3c!$F35","v":0},{"$f":"D1a!M160*D3c!$F35","v":0},{"$f":"D1a!N160*D3c!$F35","v":0},{"$f":"D1a!O160*D3c!$F35","v":0},{"$f":"D1a!P160*D3c!$F35","v":0},{"$f":"D1a!Q160*D3c!$F35","v":0},{"$f":"D1a!L160*D3c!$G35","v":0},{"$f":"D1a!M160*D3c!$G35","v":0},{"$f":"D1a!N160*D3c!$G35","v":0},{"$f":"D1a!O160*D3c!$G35","v":0},{"$f":"D1a!P160*D3c!$G35","v":0},{"$f":"D1a!Q160*D3c!$G35","v":0},{"$f":"D1a!L160*D3c!$H35","v":0},{"$f":"D1a!M160*D3c!$H35","v":0},{"$f":"D1a!N160*D3c!$H35","v":0},{"$f":"D1a!O160*D3c!$H35","v":0},{"$f":"D1a!P160*D3c!$H35","v":0},{"$f":"D1a!Q160*D3c!$H35","v":0},{"$f":"D1a!L160*D3c!$I35","v":0},{"$f":"D1a!M160*D3c!$I35","v":0},{"$f":"D1a!N160*D3c!$I35","v":0},{"$f":"D1a!O160*D3c!$I35","v":0},{"$f":"D1a!P160*D3c!$I35","v":0},{"$f":"D1a!Q160*D3c!$I35","v":0},{"$f":"D1a!L160*D3c!$J35","v":0},{"$f":"D1a!M160*D3c!$J35","v":0},{"$f":"D1a!N160*D3c!$J35","v":0},{"$f":"D1a!O160*D3c!$J35","v":0},{"$f":"D1a!P160*D3c!$J35","v":0},{"$f":"D1a!Q160*D3c!$J35","v":0},{"$f":"D1a!L160*D3c!$K35","v":0},{"$f":"D1a!M160*D3c!$K35","v":0},{"$f":"D1a!N160*D3c!$K35","v":0},{"$f":"D1a!O160*D3c!$K35","v":0},{"$f":"D1a!P160*D3c!$K35","v":0},{"$f":"D1a!Q160*D3c!$K35","v":0},{"$f":"D1a!L160*D3c!$L35","v":0},{"$f":"D1a!M160*D3c!$L35","v":0},{"$f":"D1a!N160*D3c!$L35","v":0},{"$f":"D1a!O160*D3c!$L35","v":0},{"$f":"D1a!P160*D3c!$L35","v":0},{"$f":"D1a!Q160*D3c!$L35","v":0},{"$f":"D1a!L160*D3c!$M35","v":0},{"$f":"D1a!M160*D3c!$M35","v":0},{"$f":"D1a!N160*D3c!$M35","v":0},{"$f":"D1a!O160*D3c!$M35","v":0},{"$f":"D1a!P160*D3c!$M35","v":0},{"$f":"D1a!Q160*D3c!$M35","v":0}]
[null,null,"Transport routier",null,"Deux roues",{"$f":"D1a!L161*D3c!$F36","v":0},{"$f":"D1a!M161*D3c!$F36","v":0},{"$f":"D1a!N161*D3c!$F36","v":0},{"$f":"D1a!O161*D3c!$F36","v":0},{"$f":"D1a!P161*D3c!$F36","v":0},{"$f":"D1a!Q161*D3c!$F36","v":0},{"$f":"D1a!L161*D3c!$G36","v":0},{"$f":"D1a!M161*D3c!$G36","v":0},{"$f":"D1a!N161*D3c!$G36","v":0},{"$f":"D1a!O161*D3c!$G36","v":0},{"$f":"D1a!P161*D3c!$G36","v":0},{"$f":"D1a!Q161*D3c!$G36","v":0},{"$f":"D1a!L161*D3c!$H36","v":0},{"$f":"D1a!M161*D3c!$H36","v":0},{"$f":"D1a!N161*D3c!$H36","v":0},{"$f":"D1a!O161*D3c!$H36","v":0},{"$f":"D1a!P161*D3c!$H36","v":0},{"$f":"D1a!Q161*D3c!$H36","v":0},{"$f":"D1a!L161*D3c!$I36","v":0},{"$f":"D1a!M161*D3c!$I36","v":0},{"$f":"D1a!N161*D3c!$I36","v":0},{"$f":"D1a!O161*D3c!$I36","v":0},{"$f":"D1a!P161*D3c!$I36","v":0},{"$f":"D1a!Q161*D3c!$I36","v":0},{"$f":"D1a!L161*D3c!$J36","v":0},{"$f":"D1a!M161*D3c!$J36","v":0},{"$f":"D1a!N161*D3c!$J36","v":0},{"$f":"D1a!O161*D3c!$J36","v":0},{"$f":"D1a!P161*D3c!$J36","v":0},{"$f":"D1a!Q161*D3c!$J36","v":0},{"$f":"D1a!L161*D3c!$K36","v":0},{"$f":"D1a!M161*D3c!$K36","v":0},{"$f":"D1a!N161*D3c!$K36","v":0},{"$f":"D1a!O161*D3c!$K36","v":0},{"$f":"D1a!P161*D3c!$K36","v":0},{"$f":"D1a!Q161*D3c!$K36","v":0},{"$f":"D1a!L161*D3c!$L36","v":0},{"$f":"D1a!M161*D3c!$L36","v":0},{"$f":"D1a!N161*D3c!$L36","v":0},{"$f":"D1a!O161*D3c!$L36","v":0},{"$f":"D1a!P161*D3c!$L36","v":0},{"$f":"D1a!Q161*D3c!$L36","v":0},{"$f":"D1a!L161*D3c!$M36","v":0},{"$f":"D1a!M161*D3c!$M36","v":0},{"$f":"D1a!N161*D3c!$M36","v":0},{"$f":"D1a!O161*D3c!$M36","v":0},{"$f":"D1a!P161*D3c!$M36","v":0},{"$f":"D1a!Q161*D3c!$M36","v":0}]
[null,null,null,null,"evap essence",{"$f":"D1a!L162*D3c!$F37","v":0},{"$f":"D1a!M162*D3c!$F37","v":0},{"$f":"D1a!N162*D3c!$F37","v":0},{"$f":"D1a!O162*D3c!$F37","v":0},{"$f":"D1a!P162*D3c!$F37","v":0},{"$f":"D1a!Q162*D3c!$F37","v":0},{"$f":"D1a!L162*D3c!$G37","v":0},{"$f":"D1a!M162*D3c!$G37","v":0},{"$f":"D1a!N162*D3c!$G37","v":0},{"$f":"D1a!O162*D3c!$G37","v":0},{"$f":"D1a!P162*D3c!$G37","v":0},{"$f":"D1a!Q162*D3c!$G37","v":0},{"$f":"D1a!L162*D3c!$H37","v":0},{"$f":"D1a!M162*D3c!$H37","v":0},{"$f":"D1a!N162*D3c!$H37","v":0},{"$f":"D1a!O162*D3c!$H37","v":0},{"$f":"D1a!P162*D3c!$H37","v":0},{"$f":"D1a!Q162*D3c!$H37","v":0},{"$f":"D1a!L162*D3c!$I37","v":0},{"$f":"D1a!M162*D3c!$I37","v":0},{"$f":"D1a!N162*D3c!$I37","v":0},{"$f":"D1a!O162*D3c!$I37","v":0},{"$f":"D1a!P162*D3c!$I37","v":0},{"$f":"D1a!Q162*D3c!$I37","v":0},{"$f":"D1a!L162*D3c!$J37","v":0},{"$f":"D1a!M162*D3c!$J37","v":0},{"$f":"D1a!N162*D3c!$J37","v":0},{"$f":"D1a!O162*D3c!$J37","v":0},{"$f":"D1a!P162*D3c!$J37","v":0},{"$f":"D1a!Q162*D3c!$J37","v":0},{"$f":"D1a!L162*D3c!$K37","v":0},{"$f":"D1a!M162*D3c!$K37","v":0},{"$f":"D1a!N162*D3c!$K37","v":0},{"$f":"D1a!O162*D3c!$K37","v":0},{"$f":"D1a!P162*D3c!$K37","v":0},{"$f":"D1a!Q162*D3c!$K37","v":0},{"$f":"D1a!L162*D3c!$L37","v":0},{"$f":"D1a!M162*D3c!$L37","v":0},{"$f":"D1a!N162*D3c!$L37","v":0},{"$f":"D1a!O162*D3c!$L37","v":0},{"$f":"D1a!P162*D3c!$L37","v":0},{"$f":"D1a!Q162*D3c!$L37","v":0},{"$f":"D1a!L162*D3c!$M37","v":0},{"$f":"D1a!M162*D3c!$M37","v":0},{"$f":"D1a!N162*D3c!$M37","v":0},{"$f":"D1a!O162*D3c!$M37","v":0},{"$f":"D1a!P162*D3c!$M37","v":0},{"$f":"D1a!Q162*D3c!$M37","v":0}]
[null,null,null,null,"Poids lourds",{"$f":"D1a!L163*D3c!$F38","v":0},{"$f":"D1a!M163*D3c!$F38","v":0},{"$f":"D1a!N163*D3c!$F38","v":0},{"$f":"D1a!O163*D3c!$F38","v":0},{"$f":"D1a!P163*D3c!$F38","v":0},{"$f":"D1a!Q163*D3c!$F38","v":0},{"$f":"D1a!L163*D3c!$G38","v":0},{"$f":"D1a!M163*D3c!$G38","v":0},{"$f":"D1a!N163*D3c!$G38","v":0},{"$f":"D1a!O163*D3c!$G38","v":0},{"$f":"D1a!P163*D3c!$G38","v":0},{"$f":"D1a!Q163*D3c!$G38","v":0},{"$f":"D1a!L163*D3c!$H38","v":0},{"$f":"D1a!M163*D3c!$H38","v":0},{"$f":"D1a!N163*D3c!$H38","v":0},{"$f":"D1a!O163*D3c!$H38","v":0},{"$f":"D1a!P163*D3c!$H38","v":0},{"$f":"D1a!Q163*D3c!$H38","v":0},{"$f":"D1a!L163*D3c!$I38","v":0},{"$f":"D1a!M163*D3c!$I38","v":0},{"$f":"D1a!N163*D3c!$I38","v":0},{"$f":"D1a!O163*D3c!$I38","v":0},{"$f":"D1a!P163*D3c!$I38","v":0},{"$f":"D1a!Q163*D3c!$I38","v":0},{"$f":"D1a!L163*D3c!$J38","v":0},{"$f":"D1a!M163*D3c!$J38","v":0},{"$f":"D1a!N163*D3c!$J38","v":0},{"$f":"D1a!O163*D3c!$J38","v":0},{"$f":"D1a!P163*D3c!$J38","v":0},{"$f":"D1a!Q163*D3c!$J38","v":0},{"$f":"D1a!L163*D3c!$K38","v":0},{"$f":"D1a!M163*D3c!$K38","v":0},{"$f":"D1a!N163*D3c!$K38","v":0},{"$f":"D1a!O163*D3c!$K38","v":0},{"$f":"D1a!P163*D3c!$K38","v":0},{"$f":"D1a!Q163*D3c!$K38","v":0},{"$f":"D1a!L163*D3c!$L38","v":0},{"$f":"D1a!M163*D3c!$L38","v":0},{"$f":"D1a!N163*D3c!$L38","v":0},{"$f":"D1a!O163*D3c!$L38","v":0},{"$f":"D1a!P163*D3c!$L38","v":0},{"$f":"D1a!Q163*D3c!$L38","v":0},{"$f":"D1a!L163*D3c!$M38","v":0},{"$f":"D1a!M163*D3c!$M38","v":0},{"$f":"D1a!N163*D3c!$M38","v":0},{"$f":"D1a!O163*D3c!$M38","v":0},{"$f":"D1a!P163*D3c!$M38","v":0},{"$f":"D1a!Q163*D3c!$M38","v":0}]
[null,null,null,null,"trafic diffus",{"$f":"D1a!L164*D3c!$F39","v":0},{"$f":"D1a!M164*D3c!$F39","v":0},{"$f":"D1a!N164*D3c!$F39","v":0},{"$f":"D1a!O164*D3c!$F39","v":0},{"$f":"D1a!P164*D3c!$F39","v":0},{"$f":"D1a!Q164*D3c!$F39","v":0},{"$f":"D1a!L164*D3c!$G39","v":0},{"$f":"D1a!M164*D3c!$G39","v":0},{"$f":"D1a!N164*D3c!$G39","v":0},{"$f":"D1a!O164*D3c!$G39","v":0},{"$f":"D1a!P164*D3c!$G39","v":0},{"$f":"D1a!Q164*D3c!$G39","v":0},{"$f":"D1a!L164*D3c!$H39","v":0},{"$f":"D1a!M164*D3c!$H39","v":0},{"$f":"D1a!N164*D3c!$H39","v":0},{"$f":"D1a!O164*D3c!$H39","v":0},{"$f":"D1a!P164*D3c!$H39","v":0},{"$f":"D1a!Q164*D3c!$H39","v":0},{"$f":"D1a!L164*D3c!$I39","v":0},{"$f":"D1a!M164*D3c!$I39","v":0},{"$f":"D1a!N164*D3c!$I39","v":0},{"$f":"D1a!O164*D3c!$I39","v":0},{"$f":"D1a!P164*D3c!$I39","v":0},{"$f":"D1a!Q164*D3c!$I39","v":0},{"$f":"D1a!L164*D3c!$J39","v":0},{"$f":"D1a!M164*D3c!$J39","v":0},{"$f":"D1a!N164*D3c!$J39","v":0},{"$f":"D1a!O164*D3c!$J39","v":0},{"$f":"D1a!P164*D3c!$J39","v":0},{"$f":"D1a!Q164*D3c!$J39","v":0},{"$f":"D1a!L164*D3c!$K39","v":0},{"$f":"D1a!M164*D3c!$K39","v":0},{"$f":"D1a!N164*D3c!$K39","v":0},{"$f":"D1a!O164*D3c!$K39","v":0},{"$f":"D1a!P164*D3c!$K39","v":0},{"$f":"D1a!Q164*D3c!$K39","v":0},{"$f":"D1a!L164*D3c!$L39","v":0},{"$f":"D1a!M164*D3c!$L39","v":0},{"$f":"D1a!N164*D3c!$L39","v":0},{"$f":"D1a!O164*D3c!$L39","v":0},{"$f":"D1a!P164*D3c!$L39","v":0},{"$f":"D1a!Q164*D3c!$L39","v":0},{"$f":"D1a!L164*D3c!$M39","v":0},{"$f":"D1a!M164*D3c!$M39","v":0},{"$f":"D1a!N164*D3c!$M39","v":0},{"$f":"D1a!O164*D3c!$M39","v":0},{"$f":"D1a!P164*D3c!$M39","v":0},{"$f":"D1a!Q164*D3c!$M39","v":0}]
[null,null,null,null,"usure routes",{"$f":"D1a!L165*D3c!$F40","v":0},{"$f":"D1a!M165*D3c!$F40","v":0},{"$f":"D1a!N165*D3c!$F40","v":0},{"$f":"D1a!O165*D3c!$F40","v":0},{"$f":"D1a!P165*D3c!$F40","v":0},{"$f":"D1a!Q165*D3c!$F40","v":0},{"$f":"D1a!L165*D3c!$G40","v":0},{"$f":"D1a!M165*D3c!$G40","v":0},{"$f":"D1a!N165*D3c!$G40","v":0},{"$f":"D1a!O165*D3c!$G40","v":0},{"$f":"D1a!P165*D3c!$G40","v":0},{"$f":"D1a!Q165*D3c!$G40","v":0},{"$f":"D1a!L165*D3c!$H40","v":0},{"$f":"D1a!M165*D3c!$H40","v":0},{"$f":"D1a!N165*D3c!$H40","v":0},{"$f":"D1a!O165*D3c!$H40","v":0},{"$f":"D1a!P165*D3c!$H40","v":0},{"$f":"D1a!Q165*D3c!$H40","v":0},{"$f":"D1a!L165*D3c!$I40","v":0},{"$f":"D1a!M165*D3c!$I40","v":0},{"$f":"D1a!N165*D3c!$I40","v":0},{"$f":"D1a!O165*D3c!$I40","v":0},{"$f":"D1a!P165*D3c!$I40","v":0},{"$f":"D1a!Q165*D3c!$I40","v":0},{"$f":"D1a!L165*D3c!$J40","v":0},{"$f":"D1a!M165*D3c!$J40","v":0},{"$f":"D1a!N165*D3c!$J40","v":0},{"$f":"D1a!O165*D3c!$J40","v":0},{"$f":"D1a!P165*D3c!$J40","v":0},{"$f":"D1a!Q165*D3c!$J40","v":0},{"$f":"D1a!L165*D3c!$K40","v":0},{"$f":"D1a!M165*D3c!$K40","v":0},{"$f":"D1a!N165*D3c!$K40","v":0},{"$f":"D1a!O165*D3c!$K40","v":0},{"$f":"D1a!P165*D3c!$K40","v":0},{"$f":"D1a!Q165*D3c!$K40","v":0},{"$f":"D1a!L165*D3c!$L40","v":0},{"$f":"D1a!M165*D3c!$L40","v":0},{"$f":"D1a!N165*D3c!$L40","v":0},{"$f":"D1a!O165*D3c!$L40","v":0},{"$f":"D1a!P165*D3c!$L40","v":0},{"$f":"D1a!Q165*D3c!$L40","v":0},{"$f":"D1a!L165*D3c!$M40","v":0},{"$f":"D1a!M165*D3c!$M40","v":0},{"$f":"D1a!N165*D3c!$M40","v":0},{"$f":"D1a!O165*D3c!$M40","v":0},{"$f":"D1a!P165*D3c!$M40","v":0},{"$f":"D1a!Q165*D3c!$M40","v":0}]
[null,null,null,null,"Voitures particulières",{"$f":"D1a!L166*D3c!$F41","v":0},{"$f":"D1a!M166*D3c!$F41","v":0},{"$f":"D1a!N166*D3c!$F41","v":0},{"$f":"D1a!O166*D3c!$F41","v":0},{"$f":"D1a!P166*D3c!$F41","v":0},{"$f":"D1a!Q166*D3c!$F41","v":0},{"$f":"D1a!L166*D3c!$G41","v":0},{"$f":"D1a!M166*D3c!$G41","v":0},{"$f":"D1a!N166*D3c!$G41","v":0},{"$f":"D1a!O166*D3c!$G41","v":0},{"$f":"D1a!P166*D3c!$G41","v":0},{"$f":"D1a!Q166*D3c!$G41","v":0},{"$f":"D1a!L166*D3c!$H41","v":0},{"$f":"D1a!M166*D3c!$H41","v":0},{"$f":"D1a!N166*D3c!$H41","v":0},{"$f":"D1a!O166*D3c!$H41","v":0},{"$f":"D1a!P166*D3c!$H41","v":0},{"$f":"D1a!Q166*D3c!$H41","v":0},{"$f":"D1a!L166*D3c!$I41","v":0},{"$f":"D1a!M166*D3c!$I41","v":0},{"$f":"D1a!N166*D3c!$I41","v":0},{"$f":"D1a!O166*D3c!$I41","v":0},{"$f":"D1a!P166*D3c!$I41","v":0},{"$f":"D1a!Q166*D3c!$I41","v":0},{"$f":"D1a!L166*D3c!$J41","v":0},{"$f":"D1a!M166*D3c!$J41","v":0},{"$f":"D1a!N166*D3c!$J41","v":0},{"$f":"D1a!O166*D3c!$J41","v":0},{"$f":"D1a!P166*D3c!$J41","v":0},{"$f":"D1a!Q166*D3c!$J41","v":0},{"$f":"D1a!L166*D3c!$K41","v":0},{"$f":"D1a!M166*D3c!$K41","v":0},{"$f":"D1a!N166*D3c!$K41","v":0},{"$f":"D1a!O166*D3c!$K41","v":0},{"$f":"D1a!P166*D3c!$K41","v":0},{"$f":"D1a!Q166*D3c!$K41","v":0},{"$f":"D1a!L166*D3c!$L41","v":0},{"$f":"D1a!M166*D3c!$L41","v":0},{"$f":"D1a!N166*D3c!$L41","v":0},{"$f":"D1a!O166*D3c!$L41","v":0},{"$f":"D1a!P166*D3c!$L41","v":0},{"$f":"D1a!Q166*D3c!$L41","v":0},{"$f":"D1a!L166*D3c!$M41","v":0},{"$f":"D1a!M166*D3c!$M41","v":0},{"$f":"D1a!N166*D3c!$M41","v":0},{"$f":"D1a!O166*D3c!$M41","v":0},{"$f":"D1a!P166*D3c!$M41","v":0},{"$f":"D1a!Q166*D3c!$M41","v":0}]
[null,null,null,null,"VUL",{"$f":"D1a!L167*D3c!$F42","v":0},{"$f":"D1a!M167*D3c!$F42","v":0},{"$f":"D1a!N167*D3c!$F42","v":0},{"$f":"D1a!O167*D3c!$F42","v":0},{"$f":"D1a!P167*D3c!$F42","v":0},{"$f":"D1a!Q167*D3c!$F42","v":0},{"$f":"D1a!L167*D3c!$G42","v":0},{"$f":"D1a!M167*D3c!$G42","v":0},{"$f":"D1a!N167*D3c!$G42","v":0},{"$f":"D1a!O167*D3c!$G42","v":0},{"$f":"D1a!P167*D3c!$G42","v":0},{"$f":"D1a!Q167*D3c!$G42","v":0},{"$f":"D1a!L167*D3c!$H42","v":0},{"$f":"D1a!M167*D3c!$H42","v":0},{"$f":"D1a!N167*D3c!$H42","v":0},{"$f":"D1a!O167*D3c!$H42","v":0},{"$f":"D1a!P167*D3c!$H42","v":0},{"$f":"D1a!Q167*D3c!$H42","v":0},{"$f":"D1a!L167*D3c!$I42","v":0},{"$f":"D1a!M167*D3c!$I42","v":0},{"$f":"D1a!N167*D3c!$I42","v":0},{"$f":"D1a!O167*D3c!$I42","v":0},{"$f":"D1a!P167*D3c!$I42","v":0},{"$f":"D1a!Q167*D3c!$I42","v":0},{"$f":"D1a!L167*D3c!$J42","v":0},{"$f":"D1a!M167*D3c!$J42","v":0},{"$f":"D1a!N167*D3c!$J42","v":0},{"$f":"D1a!O167*D3c!$J42","v":0},{"$f":"D1a!P167*D3c!$J42","v":0},{"$f":"D1a!Q167*D3c!$J42","v":0},{"$f":"D1a!L167*D3c!$K42","v":0},{"$f":"D1a!M167*D3c!$K42","v":0},{"$f":"D1a!N167*D3c!$K42","v":0},{"$f":"D1a!O167*D3c!$K42","v":0},{"$f":"D1a!P167*D3c!$K42","v":0},{"$f":"D1a!Q167*D3c!$K42","v":0},{"$f":"D1a!L167*D3c!$L42","v":0},{"$f":"D1a!M167*D3c!$L42","v":0},{"$f":"D1a!N167*D3c!$L42","v":0},{"$f":"D1a!O167*D3c!$L42","v":0},{"$f":"D1a!P167*D3c!$L42","v":0},{"$f":"D1a!Q167*D3c!$L42","v":0},{"$f":"D1a!L167*D3c!$M42","v":0},{"$f":"D1a!M167*D3c!$M42","v":0},{"$f":"D1a!N167*D3c!$M42","v":0},{"$f":"D1a!O167*D3c!$M42","v":0},{"$f":"D1a!P167*D3c!$M42","v":0},{"$f":"D1a!Q167*D3c!$M42","v":0}]
[null,null,"Total",null,null,{"$f":"SUM(F98:F131)","v":0},0,0,0,0,0,{"$f":"SUM(L98:L131)","v":0},{"$f":"SUM(M98:M131)","v":0},0,0,0,0,0,0,0,0,0,0,0,0,0,0,0,0,0,0,0,0,0,0,0,0,0,0,0,0,0,0,0,0,0,0,0,0,0,0,0,0]
[]
[]
[]
[]
[]
["C.","Scope 1 : Emissions directes par secteur PCAET / GES (t eq CO2)"]
[]
[null,"Emissions aggrégées"]
[null,null,null,null,null,"CO2","CH4","N2O","Autres GES","Total"]
[null,null,null,null,null,"kt eq CO2","kt eq CO2","kt eq CO2","kt eq CO2","kt eq CO2"]
[null,null,"Résidentiel",null,null,{"$f":"F88/1000000","v":0},{"$f":"G88/1000000","v":0},{"$f":"H88/1000000","v":0},{"$f":"I88/1000000","v":0},{"$f":"J88/1000000","v":0}]
[null,null,"Tertiaire",null,null,{"$f":"L88/1000000","v":0},{"$f":"M88/1000000","v":0},{"$f":"N88/1000000","v":0},{"$f":"O88/1000000","v":0},{"$f":"P88/1000000","v":0}]
[null,null,"Transport routier",null,null,{"$f":"R88/1000000","v":0},{"$f":"S88/1000000","v":0},{"$f":"T88/1000000","v":0},{"$f":"U88/1000000","v":0},{"$f":"V88/1000000","v":0}]
[null,null,"Autres transports",null,null,{"$f":"X88/1000000","v":0},{"$f":"Y88/1000000","v":0},{"$f":"Z88/1000000","v":0},{"$f":"AA88/1000000","v":0},{"$f":"AB88/1000000","v":0}]
[null,null,"Agriculture",null,null,{"$f":"AD88/1000000","v":0},{"$f":"AE88/1000000","v":0},{"$f":"AF88/1000000","v":0},{"$f":"AG88/1000000","v":0},{"$f":"AH88/1000000","v":0}]
[null,null,"Déchets",null,null,{"$f":"AJ88/1000000","v":0},{"$f":"AK88/1000000","v":0},{"$f":"AL88/1000000","v":0},{"$f":"AM88/1000000","v":0},{"$f":"AN88/1000000","v":0}]
[null,null,"Industrie hors branche énergie",null,null,{"$f":"AP88/1000000","v":0},{"$f":"AQ88/1000000","v":0},{"$f":"AR88/1000000","v":0},{"$f":"AS88/1000000","v":0},{"$f":"AT88/1000000","v":0}]
[null,null,"Industrie branche énergie",null,null,{"$f":"AV88/1000000","v":0},{"$f":"AW88/1000000","v":0},{"$f":"AX88/1000000","v":0},{"$f":"AY88/1000000","v":0},{"$f":"AZ88/1000000","v":0},null,null,null,"Les données chauffage urbain estimées font partie du total mais le détail par gaz n'est pas disponible"]
[null,null,"Total",null,null,{"$f":"SUM(F143:F150)","v":0},{"$f":"SUM(G143:G150)","v":0},{"$f":"SUM(H143:H150)","v":0},{"$f":"SUM(I143:I150)","v":0},{"$f":"SUM(J143:J150)","v":0}]
[]
[null,null,null,null,null,"CO2","CH4","N2O","Autres GES","Total"]
[null,null,null,null,null,"t eq CO2 / hab","t eq CO2 / hab","t eq CO2 / hab","t eq CO2 / hab","t eq CO2 / hab"]
[null,null,"Résidentiel",null,null,{"$f":"F143*1000/Accueil!$D$22","v":{"$error":"#DIV/0!"}},{"$f":"G143*1000/Accueil!$D$22","v":{"$error":"#DIV/0!"}},{"$f":"H143*1000/Accueil!$D$22","v":{"$error":"#DIV/0!"}},{"$f":"I143*1000/Accueil!$D$22","v":{"$error":"#DIV/0!"}},{"$f":"J143*1000/Accueil!$D$22","v":{"$error":"#DIV/0!"}}]
[null,null,"Tertiaire",null,null,{"$f":"F144*1000/Accueil!$D$22","v":{"$error":"#DIV/0!"}},{"$f":"G144*1000/Accueil!$D$22","v":{"$error":"#DIV/0!"}},{"$f":"H144*1000/Accueil!$D$22","v":{"$error":"#DIV/0!"}},{"$f":"I144*1000/Accueil!$D$22","v":{"$error":"#DIV/0!"}},{"$f":"J144*1000/Accueil!$D$22","v":{"$error":"#DIV/0!"}}]
[null,null,"Transport routier",null,null,{"$f":"F145*1000/Accueil!$D$22","v":{"$error":"#DIV/0!"}},{"$f":"G145*1000/Accueil!$D$22","v":{"$error":"#DIV/0!"}},{"$f":"H145*1000/Accueil!$D$22","v":{"$error":"#DIV/0!"}},{"$f":"I145*1000/Accueil!$D$22","v":{"$error":"#DIV/0!"}},{"$f":"J145*1000/Accueil!$D$22","v":{"$error":"#DIV/0!"}}]
[null,null,"Autres transports",null,null,{"$f":"F146*1000/Accueil!$D$22","v":{"$error":"#DIV/0!"}},{"$f":"G146*1000/Accueil!$D$22","v":{"$error":"#DIV/0!"}},{"$f":"H146*1000/Accueil!$D$22","v":{"$error":"#DIV/0!"}},{"$f":"I146*1000/Accueil!$D$22","v":{"$error":"#DIV/0!"}},{"$f":"J146*1000/Accueil!$D$22","v":{"$error":"#DIV/0!"}}]
[null,null,"Agriculture",null,null,{"$f":"F147*1000/Accueil!$D$22","v":{"$error":"#DIV/0!"}},{"$f":"G147*1000/Accueil!$D$22","v":{"$error":"#DIV/0!"}},{"$f":"H147*1000/Accueil!$D$22","v":{"$error":"#DIV/0!"}},{"$f":"I147*1000/Accueil!$D$22","v":{"$error":"#DIV/0!"}},{"$f":"J147*1000/Accueil!$D$22","v":{"$error":"#DIV/0!"}}]
[null,null,"Déchets",null,null,{"$f":"F148*1000/Accueil!$D$22","v":{"$error":"#DIV/0!"}},{"$f":"G148*1000/Accueil!$D$22","v":{"$error":"#DIV/0!"}},{"$f":"H148*1000/Accueil!$D$22","v":{"$error":"#DIV/0!"}},{"$f":"I148*1000/Accueil!$D$22","v":{"$error":"#DIV/0!"}},{"$f":"J148*1000/Accueil!$D$22","v":{"$error":"#DIV/0!"}}]
[null,null,"Industrie hors branche énergie",null,null,{"$f":"F149*1000/Accueil!$D$22","v":{"$error":"#DIV/0!"}},{"$f":"G149*1000/Accueil!$D$22","v":{"$error":"#DIV/0!"}},{"$f":"H149*1000/Accueil!$D$22","v":{"$error":"#DIV/0!"}},{"$f":"I149*1000/Accueil!$D$22","v":{"$error":"#DIV/0!"}},{"$f":"J149*1000/Accueil!$D$22","v":{"$error":"#DIV/0!"}}]
[null,null,"Industrie branche énergie",null,null,{"$f":"F150*1000/Accueil!$D$22","v":{"$error":"#DIV/0!"}},{"$f":"G150*1000/Accueil!$D$22","v":{"$error":"#DIV/0!"}},{"$f":"H150*1000/Accueil!$D$22","v":{"$error":"#DIV/0!"}},{"$f":"I150*1000/Accueil!$D$22","v":{"$error":"#DIV/0!"}},{"$f":"J150*1000/Accueil!$D$22","v":{"$error":"#DIV/0!"}}]
[null,null,"Total",null,null,{"$f":"SUM(F155:F162)","v":{"$error":"#DIV/0!"}},{"$f":"SUM(G155:G162)","v":{"$error":"#DIV/0!"}},{"$f":"SUM(H155:H162)","v":{"$error":"#DIV/0!"}},{"$f":"SUM(I155:I162)","v":{"$error":"#DIV/0!"}},{"$f":"SUM(J155:K162)","v":{"$error":"#DIV/0!"}}]
[]
[]
["C.","Scope 1 : Emissions directes par secteur PCAET / GES (t eq CO2)"]
[]
[null,"Emissions aggrégées"]
[null,null,null,null,null,"PM10","NOx","COVNM","PM2.5","SO2","NH3"]
[null,null,null,null,null,"kg","kg","kg","kg","kg","kg"]
[null,null,"Résidentiel",null,null,{"$f":"F132","v":0},0,0,0,0,0]
[null,null,"Tertiaire",null,null,{"$f":"L132","v":0},0,0,0,0,0]
[null,null,"Transport routier",null,null,{"$f":"R132","v":0},0,0,0,0,0]
[null,null,"Autres transports",null,null,{"$f":"X132","v":0},0,0,0,0,0]
[null,null,"Agriculture",null,null,{"$f":"AD132","v":0},0,0,0,0,0]
[null,null,"Déchets",null,null,{"$f":"AJ132","v":0},0,0,0,0,0]
[null,null,"Industrie hors branche énergie",null,null,{"$f":"AP132","v":0},0,0,0,0,0]
[null,null,"Industrie branche énergie",null,null,{"$f":"AV132","v":0},0,0,0,0,0]
[null,null,"Total",null,null,{"$f":"SUM(F171:F178)","v":0},0,0,0,0,0]

{"sheet":"R5","index":35,"n_rows":148,"n_cols":15,"rows_kept":148,"cut":false,"hidden":false,"merged":[[137,1,137,13],[138,3,139,3],[138,5,139,5],[138,7,139,7],[138,9,139,9],[138,11,139,11],[138,13,139,13],[138,1,139,1],[48,2,48,3],[49,2,49,3],[130,2,130,3],[132,2,132,3],[133,2,133,3],[84,2,84,3],[79,2,79,3],[80,2,80,3],[82,2,82,3],[51,2,51,3],[63,2,63,3],[60,2,60,3],[58,2,58,3],[59,2,59,3],[61,2,61,3],[62,2,62,3],[134,2,134,3],[92,2,92,3],[93,2,93,3],[94,2,94,3],[95,2,95,3],[99,2,99,3],[97,2,97,3],[116,2,116,3],[114,2,114,3],[118,2,118,3],[123,4,123,6],[126,2,126,3],[127,2,127,3],[128,2,128,3],[129,2,129,3],[107,4,107,6],[117,2,117,3],[91,2,91,3],[110,2,110,3],[111,2,111,3],[112,2,112,3],[113,2,113,3],[9,2,9,3],[10,2,10,3],[11,2,11,3],[12,2,12,3],[13,2,13,3],[15,2,15,3],[30,2,30,3],[31,2,31,3],[32,2,32,3],[17,2,17,3],[24,2,24,3],[25,2,25,3],[26,2,26,3],[27,2,27,3],[28,2,28,3],[16,2,16,3],[50,2,50,3],[65,2,65,3],[83,2,83,3],[98,2,98,3],[40,13,40,14],[40,4,40,12],[64,2,64,3],[76,2,76,3],[77,2,77,3],[66,2,66,3],[78,2,78,3],[43,2,43,3],[44,2,44,3],[45,2,45,3],[46,2,46,3],[47,2,47,3]]}
[]
[null,"Récapitulatif (format PCAET)"]
[]
[null,"Scope 1 : Emissions directes par poste PCAET / GES et polluants"]
[]
[null,"Synthèse - émissions directes de GES / polluants"]
[]
[null,null,null,null,"GES","PM10","NOx","COVNM","PM2.5","SO2","NH3"]
[null,null,null,null,"kt eq CO2","tonnes","tonnes","tonnes","tonnes","tonnes","tonnes"]
[null,null,"Résidentiel",null,{"$f":"'R4'!J143","v":0},{"$f":"'R4'!F171/1000","v":0},{"$f":"'R4'!G171/1000","v":0},{"$f":"'R4'!H171/1000","v":0},{"$f":"'R4'!I171/1000","v":0},{"$f":"'R4'!J171/1000","v":0},{"$f":"'R4'!K171/1000","v":0},null,null,"Les différences avec les émissions selon le format ESPASS s'expliquent pas une différence de modélisation du chauffage urbain. "]
[null,null,"Tertiaire",null,{"$f":"'R4'!J144","v":0},{"$f":"'R4'!F172/1000","v":0},{"$f":"'R4'!G172/1000","v":0},{"$f":"'R4'!H172/1000","v":0},{"$f":"'R4'!I172/1000","v":0},{"$f":"'R4'!J172/1000","v":0},{"$f":"'R4'!K172/1000","v":0}]
[null,null,"Transport routier",null,{"$f":"'R4'!J145","v":0},{"$f":"'R4'!F173/1000","v":0},{"$f":"'R4'!G173/1000","v":0},{"$f":"'R4'!H173/1000","v":0},{"$f":"'R4'!I173/1000","v":0},{"$f":"'R4'!J173/1000","v":0},{"$f":"'R4'!K173/1000","v":0}]
[null,null,"Autres transports",null,{"$f":"'R4'!J146","v":0},{"$f":"'R4'!F174/1000","v":0},{"$f":"'R4'!G174/1000","v":0},{"$f":"'R4'!H174/1000","v":0},{"$f":"'R4'!I174/1000","v":0},{"$f":"'R4'!J174/1000","v":0},{"$f":"'R4'!K174/1000","v":0}]
[null,null,"Agriculture",null,{"$f":"'R4'!J147","v":0},{"$f":"'R4'!F175/1000","v":0},{"$f":"'R4'!G175/1000","v":0},{"$f":"'R4'!H175/1000","v":0},{"$f":"'R4'!I175/1000","v":0},{"$f":"'R4'!J175/1000","v":0},{"$f":"'R4'!K175/1000","v":0}]
[null,null,"Déchets",null,{"$f":"'R4'!J148","v":0},{"$f":"'R4'!F176/1000","v":0},{"$f":"'R4'!G176/1000","v":0},{"$f":"'R4'!H176/1000","v":0},{"$f":"'R4'!I176/1000","v":0},{"$f":"'R4'!J176/1000","v":0},{"$f":"'R4'!K176/1000","v":0}]
[null,null,"Industrie hors branche énergie",null,{"$f":"'R4'!J149","v":0},{"$f":"'R4'!F177/1000","v":0},{"$f":"'R4'!G177/1000","v":0},{"$f":"'R4'!H177/1000","v":0},{"$f":"'R4'!I177/1000","v":0},{"$f":"'R4'!J177/1000","v":0},{"$f":"'R4'!K177/1000","v":0}]
[null,null,"Industrie branche énergie",null,{"$f":"'R4'!J150","v":0},{"$f":"'R4'!F178/1000","v":0},{"$f":"'R4'!G178/1000","v":0},{"$f":"'R4'!H178/1000","v":0},{"$f":"'R4'!I178/1000","v":0},{"$f":"'R4'!J178/1000","v":0},{"$f":"'R4'!K178/1000","v":0}]
[null,null,"Total",null,{"$f":"SUM(E10:E17)","v":0},{"$f":"SUM(F10:F17)","v":0},0,0,0,0,0]
[]
[]
[null,"Synthèse - émissions directes de GES / polluants - par habitant"]
[]
[null,null,null,null,"GES","PM10","NOx","COVNM","PM2.5","SO2","NH3"]
[null,null,null,null,"t eq CO2 / hab","kg/hab","kg/hab","kg/hab","kg/hab","kg/hab","kg/hab"]
[null,null,"Résidentiel",null,{"$f":"1000*E10/Accueil!$D$22","v":{"$error":"#DIV/0!"}},{"$f":"1000*F10/Accueil!$D$22","v":{"$error":"#DIV/0!"}},{"$f":"1000*G10/Accueil!$D$22","v":{"$error":"#DIV/0!"}},{"$f":"1000*H10/Accueil!$D$22","v":{"$error":"#DIV/0!"}},{"$f":"1000*I10/Accueil!$D$22","v":{"$error":"#DIV/0!"}},{"$f":"1000*J10/Accueil!$D$22","v":{"$error":"#DIV/0!"}},{"$f":"1000*K10/Accueil!$D$22","v":{"$error":"#DIV/0!"}}]
[null,null,"Tertiaire",null,{"$f":"1000*E11/Accueil!$D$22","v":{"$error":"#DIV/0!"}},{"$f":"1000*F11/Accueil!$D$22","v":{"$error":"#DIV/0!"}},{"$f":"1000*G11/Accueil!$D$22","v":{"$error":"#DIV/0!"}},{"$f":"1000*H11/Accueil!$D$22","v":{"$error":"#DIV/0!"}},{"$f":"1000*I11/Accueil!$D$22","v":{"$error":"#DIV/0!"}},{"$f":"1000*J11/Accueil!$D$22","v":{"$error":"#DIV/0!"}},{"$f":"1000*K11/Accueil!$D$22","v":{"$error":"#DIV/0!"}}]
[null,null,"Transport routier",null,{"$f":"1000*E12/Accueil!$D$22","v":{"$error":"#DIV/0!"}},{"$f":"1000*F12/Accueil!$D$22","v":{"$error":"#DIV/0!"}},{"$f":"1000*G12/Accueil!$D$22","v":{"$error":"#DIV/0!"}},{"$f":"1000*H12/Accueil!$D$22","v":{"$error":"#DIV/0!"}},{"$f":"1000*I12/Accueil!$D$22","v":{"$error":"#DIV/0!"}},{"$f":"1000*J12/Accueil!$D$22","v":{"$error":"#DIV/0!"}},{"$f":"1000*K12/Accueil!$D$22","v":{"$error":"#DIV/0!"}}]
[null,null,"Autres transports",null,{"$f":"1000*E13/Accueil!$D$22","v":{"$error":"#DIV/0!"}},{"$f":"1000*F13/Accueil!$D$22","v":{"$error":"#DIV/0!"}},{"$f":"1000*G13/Accueil!$D$22","v":{"$error":"#DIV/0!"}},{"$f":"1000*H13/Accueil!$D$22","v":{"$error":"#DIV/0!"}},{"$f":"1000*I13/Accueil!$D$22","v":{"$error":"#DIV/0!"}},{"$f":"1000*J13/Accueil!$D$22","v":{"$error":"#DIV/0!"}},{"$f":"1000*K13/Accueil!$D$22","v":{"$error":"#DIV/0!"}}]
[null,null,"Agriculture",null,{"$f":"1000*E14/Accueil!$D$22","v":{"$error":"#DIV/0!"}},{"$f":"1000*F14/Accueil!$D$22","v":{"$error":"#DIV/0!"}},{"$f":"1000*G14/Accueil!$D$22","v":{"$error":"#DIV/0!"}},{"$f":"1000*H14/Accueil!$D$22","v":{"$error":"#DIV/0!"}},{"$f":"1000*I14/Accueil!$D$22","v":{"$error":"#DIV/0!"}},{"$f":"1000*J14/Accueil!$D$22","v":{"$error":"#DIV/0!"}},{"$f":"1000*K14/Accueil!$D$22","v":{"$error":"#DIV/0!"}}]
[null,null,"Déchets",null,{"$f":"1000*E15/Accueil!$D$22","v":{"$error":"#DIV/0!"}},{"$f":"1000*F15/Accueil!$D$22","v":{"$error":"#DIV/0!"}},{"$f":"1000*G15/Accueil!$D$22","v":{"$error":"#DIV/0!"}},{"$f":"1000*H15/Accueil!$D$22","v":{"$error":"#DIV/0!"}},{"$f":"1000*I15/Accueil!$D$22","v":{"$error":"#DIV/0!"}},{"$f":"1000*J15/Accueil!$D$22","v":{"$error":"#DIV/0!"}},{"$f":"1000*K15/Accueil!$D$22","v":{"$error":"#DIV/0!"}}]
[null,null,"Industrie hors branche énergie",null,{"$f":"1000*E16/Accueil!$D$22","v":{"$error":"#DIV/0!"}},{"$f":"1000*F16/Accueil!$D$22","v":{"$error":"#DIV/0!"}},{"$f":"1000*G16/Accueil!$D$22","v":{"$error":"#DIV/0!"}},{"$f":"1000*H16/Accueil!$D$22","v":{"$error":"#DIV/0!"}},{"$f":"1000*I16/Accueil!$D$22","v":{"$error":"#DIV/0!"}},{"$f":"1000*J16/Accueil!$D$22","v":{"$error":"#DIV/0!"}},{"$f":"1000*K16/Accueil!$D$22","v":{"$error":"#DIV/0!"}}]
[null,null,"Industrie branche énergie",null,{"$f":"1000*E17/Accueil!$D$22","v":{"$error":"#DIV/0!"}},{"$f":"1000*F17/Accueil!$D$22","v":{"$error":"#DIV/0!"}},{"$f":"1000*G17/Accueil!$D$22","v":{"$error":"#DIV/0!"}},{"$f":"1000*H17/Accueil!$D$22","v":{"$error":"#DIV/0!"}},{"$f":"1000*I17/Accueil!$D$22","v":{"$error":"#DIV/0!"}},{"$f":"1000*J17/Accueil!$D$22","v":{"$error":"#DIV/0!"}},{"$f":"1000*K17/Accueil!$D$22","v":{"$error":"#DIV/0!"}}]
[null,null,"Total",null,{"$f":"SUM(E25:E32)","v":{"$error":"#DIV/0!"}},{"$f":"SUM(F25:F32)","v":{"$error":"#DIV/0!"}},{"$error":"#DIV/0!"},{"$error":"#DIV/0!"},{"$error":"#DIV/0!"},{"$error":"#DIV/0!"},{"$error":"#DIV/0!"}]
[]
[]
[]
[null,"Consommation énergetique par poste PCAET"]
[]
[null,"Synthèse - consommation énergetique par poste PCAET et type d'usage"]
[]
[null,null,null,null,"Electricité",null,null,null,null,null,null,null,null,"Réseau chaleur/froid"]
[null,null,null,null,"Transport","Industrie base","Eclairage résidentiel","Eclairage public et industrie","Eau chaude sanitaire et cuisson","Cuisson residentiel","Climatisation tertiaire","Chauffage","Autres (BTP, recherche, armées, etc.)","Chaleur","Froid"]
[null,null,null,null,"MWh","MWh","MWh","MWh","MWh","MWh","MWh","MWh","MWh","MWh","MWh"]
[null,null,"Résidentiel",null,{"$f":"I1a!$D209*'FE5'!E9","v":0},{"$f":"I1a!$D209*'FE5'!F9","v":0},{"$f":"I1a!$D209*'FE5'!G9","v":0},{"$f":"I1a!$D209*'FE5'!H9","v":0},{"$f":"I1a!$D209*'FE5'!I9","v":0},{"$f":"I1a!$D209*'FE5'!J9","v":0},{"$f":"I1a!$D209*'FE5'!K9","v":0},{"$f":"I1a!$D209*'FE5'!L9","v":0},{"$f":"I1a!$D209*'FE5'!M9","v":0},{"$f":"'I2'!E108","v":0},{"$f":"'I2'!E123","v":0}]
[null,null,"Tertiaire",null,{"$f":"I1a!$D210*'FE5'!E10","v":0},{"$f":"I1a!$D210*'FE5'!F10","v":0},{"$f":"I1a!$D210*'FE5'!G10","v":0},{"$f":"I1a!$D210*'FE5'!H10","v":0},{"$f":"I1a!$D210*'FE5'!I10","v":0},{"$f":"I1a!$D210*'FE5'!J10","v":0},{"$f":"I1a!$D210*'FE5'!K10","v":0},{"$f":"I1a!$D210*'FE5'!L10","v":0},{"$f":"I1a!$D210*'FE5'!M10","v":0},{"$f":"'I2'!E109","v":0},{"$f":"'I2'!E124","v":0}]
[null,null,"Transport routier",null,{"$f":"I1a!$D211*'FE5'!E11","v":0},{"$f":"I1a!$D211*'FE5'!F11","v":0},{"$f":"I1a!$D211*'FE5'!G11","v":0},{"$f":"I1a!$D211*'FE5'!H11","v":0},{"$f":"I1a!$D211*'FE5'!I11","v":0},{"$f":"I1a!$D211*'FE5'!J11","v":0},{"$f":"I1a!$D211*'FE5'!K11","v":0},{"$f":"I1a!$D211*'FE5'!L11","v":0},{"$f":"I1a!$D211*'FE5'!M11","v":0},{"$f":"'I2'!E110","v":0},{"$f":"'I2'!E125","v":0}]
[null,null,"Autres transports",null,{"$f":"I1a!$D212*'FE5'!E12","v":0},{"$f":"I1a!$D212*'FE5'!F12","v":0},{"$f":"I1a!$D212*'FE5'!G12","v":0},{"$f":"I1a!$D212*'FE5'!H12","v":0},{"$f":"I1a!$D212*'FE5'!I12","v":0},{"$f":"I1a!$D212*'FE5'!J12","v":0},{"$f":"I1a!$D212*'FE5'!K12","v":0},{"$f":"I1a!$D212*'FE5'!L12","v":0},{"$f":"I1a!$D212*'FE5'!M12","v":0},{"$f":"'I2'!E111","v":0},{"$f":"'I2'!E126","v":0}]
[null,null,"Agriculture",null,{"$f":"I1a!$D213*'FE5'!E13","v":0},{"$f":"I1a!$D213*'FE5'!F13","v":0},{"$f":"I1a!$D213*'FE5'!G13","v":0},{"$f":"I1a!$D213*'FE5'!H13","v":0},{"$f":"I1a!$D213*'FE5'!I13","v":0},{"$f":"I1a!$D213*'FE5'!J13","v":0},{"$f":"I1a!$D213*'FE5'!K13","v":0},{"$f":"I1a!$D213*'FE5'!L13","v":0},{"$f":"I1a!$D213*'FE5'!M13","v":0},{"$f":"'I2'!E112","v":0},{"$f":"'I2'!E127","v":0}]
[null,null,"Déchets",null,{"$f":"I1a!$D214*'FE5'!E14","v":0},{"$f":"I1a!$D214*'FE5'!F14","v":0},{"$f":"I1a!$D214*'FE5'!G14","v":0},{"$f":"I1a!$D214*'FE5'!H14","v":0},{"$f":"I1a!$D214*'FE5'!I14","v":0},{"$f":"I1a!$D214*'FE5'!J14","v":0},{"$f":"I1a!$D214*'FE5'!K14","v":0},{"$f":"I1a!$D214*'FE5'!L14","v":0},{"$f":"I1a!$D214*'FE5'!M14","v":0},{"$f":"'I2'!E113","v":0},{"$f":"'I2'!E128","v":0}]
[null,null,"Industrie hors branche énergie",null,{"$f":"I1a!$D215*'FE5'!E15","v":0},{"$f":"I1a!$D215*'FE5'!F15","v":0},{"$f":"I1a!$D215*'FE5'!G15","v":0},{"$f":"I1a!$D215*'FE5'!H15","v":0},{"$f":"I1a!$D215*'FE5'!I15","v":0},{"$f":"I1a!$D215*'FE5'!J15","v":0},{"$f":"I1a!$D215*'FE5'!K15","v":0},{"$f":"I1a!$D215*'FE5'!L15","v":0},{"$f":"I1a!$D215*'FE5'!M15","v":0},{"$f":"'I2'!E114","v":0},{"$f":"'I2'!E129","v":0}]
[null,null,"Industrie branche énergie",null,{"$f":"I1a!$D216*'FE5'!E15","v":0},{"$f":"I1a!$D216*'FE5'!F15","v":0},{"$f":"I1a!$D216*'FE5'!G15","v":0},{"$f":"I1a!$D216*'FE5'!H15","v":0},{"$f":"I1a!$D216*'FE5'!I15","v":0},{"$f":"I1a!$D216*'FE5'!J15","v":0},{"$f":"I1a!$D216*'FE5'!K15","v":0},{"$f":"I1a!$D216*'FE5'!L15","v":0},{"$f":"I1a!$D216*'FE5'!M15","v":0},{"$f":"'I2'!E115","v":0},{"$f":"'I2'!E130","v":0}]
[null,null,"Total",null,{"$f":"SUM(E44:E50)","v":0},{"$f":"SUM(F44:F50)","v":0},0,0,0,0,0,0,0,{"$f":"SUM(N44:N50)","v":0},{"$f":"SUM(O44:O50)","v":0}]
[]
[]
[null,"Synthèse - consommation énergetique par poste PCAET"]
[]
[null,null,null,null,"Electricité","Chaleur","Froid","Total"]
[null,null,null,null,"MWh","MWh","MWh","MWh"]
[null,null,"Résidentiel",null,{"$f":"SUM(E44:M44)","v":0},{"$f":"N44+(SUM(Resid!G75:G79)/1000)","v":0},{"$f":"O44","v":0},{"$f":"E59+F59+G59","v":0},null,null,null,"Approche incomplète - L'énergie finale liée aux combustibles hors électricité n'est pas évaluée"]
[null,null,"Tertiaire",null,0,{"$f":"N45","v":0},{"$f":"O45","v":0},{"$f":"E60+F60+G60","v":0}]
[null,null,"Transport routier",null,0,0,0,0]
[null,null,"Autres transports",null,0,0,0,0]
[null,null,"Agriculture",null,0,0,0,0]
[null,null,"Déchets",null,0,0,0,0]
[null,null,"Industrie hors branche énergie",null,0,0,0,0]
[null,null,"Industrie branche énergie",null,0,0,0,0]
[null,null,"Total",null,{"$f":"SUM(E59:E66)","v":0},{"$f":"SUM(F59:F66)","v":0},{"$f":"SUM(G59:G66)","v":0},{"$f":"SUM(H59:H66)","v":0}]
[]
[]
[]
[null,"Scope 2 et 3 : Emissions liées à la consommation énergétique"]
[]
[null,"Synthèse - émissions liées à la consommation énergétique"]
[]
[null,null,null,null,"Electricité (scope 2)","Electricité-Amont (scope 3)","Chaleur et froid","Total scope 3","Total scope 2"]
[null,null,null,null,"t eq CO2","t eq CO2","t eq CO2","t eq CO2","t eq CO2"]
[null,null,"Résidentiel",null,{"$f":"I1d!G20*1000","v":0},{"$f":"'I3'!G15*1000","v":0},{"$f":"'I2'!D153","v":0},{"$f":"F77+G77+E77","v":0},{"$f":"G77+E77","v":0}]
[null,null,"Tertiaire",null,{"$f":"I1d!H9*1000","v":0},{"$f":"'I3'!H15*1000","v":0},{"$f":"'I2'!D154","v":0},{"$f":"F78+G78+E78","v":0},{"$f":"G78+E78","v":0}]
[null,null,"Transport routier",null,{"$f":"I1d!I9*1000","v":0},{"$f":"'I3'!I15*1000","v":0},{"$f":"'I2'!D155","v":0},0,0]
[null,null,"Autres transports",null,{"$f":"I1d!J9*1000","v":0},{"$f":"'I3'!J15*1000","v":0},{"$f":"'I2'!D156","v":0},0,0]
[null,null,"Agriculture",null,{"$f":"I1d!K9*1000","v":0},{"$f":"'I3'!K15*1000","v":0},{"$f":"'I2'!D157","v":0},0,0]
[null,null,"Déchets",null,{"$f":"I1d!L9*1000","v":0},{"$f":"'I3'!L15*1000","v":0},{"$f":"'I2'!D158","v":0},0,0]
[null,null,"Industrie hors branche énergie",null,{"$f":"I1d!M9*1000","v":0},{"$f":"'I3'!M15*1000","v":0},{"$f":"'I2'!D159","v":0},0,0]
[null,null,"Industrie branche énergie",null,{"$f":"I1d!N9*1000","v":0},{"$f":"'I3'!N15*1000","v":0},{"$f":"'I2'!D160","v":0},0,0]
[null,null,"Total",null,{"$f":"SUM(E77:E83)","v":0},{"$f":"SUM(F77:F84)","v":0},{"$f":"SUM(G77:G83)","v":0},{"$f":"SUM(H77:H83)","v":0},{"$f":"SUM(I77:I83)","v":0}]
[]
[]
[null,"Synthèse - émissions liées à la consommation énergétique - par habitant"]
[]
[null,null,null,null,"Electricité (scope 2)","Electricité (scope 3)","Chaleur","Total scope 3","Total scope 2"]
[null,null,null,null,"t eq CO2 / hab","t eq CO2 / hab","t eq CO2 / hab","t eq CO2 / hab","t eq CO2 / hab"]
[null,null,"Résidentiel",null,{"$f":"E77/Accueil!$D$22","v":{"$error":"#DIV/0!"}},{"$f":"F77/Accueil!$D$22","v":{"$error":"#DIV/0!"}},{"$f":"G77/Accueil!$D$22","v":{"$error":"#DIV/0!"}},{"$f":"H77/Accueil!$D$22","v":{"$error":"#DIV/0!"}},{"$f":"I77/Accueil!$D$22","v":{"$error":"#DIV/0!"}}]
[null,null,"Tertiaire",null,{"$f":"E78/Accueil!$D$22","v":{"$error":"#DIV/0!"}},{"$f":"F78/Accueil!$D$22","v":{"$error":"#DIV/0!"}},{"$f":"G78/Accueil!$D$22","v":{"$error":"#DIV/0!"}},{"$f":"H78/Accueil!$D$22","v":{"$error":"#DIV/0!"}},{"$f":"I78/Accueil!$D$22","v":{"$error":"#DIV/0!"}}]
[null,null,"Transport routier",null,{"$f":"E79/Accueil!$D$22","v":{"$error":"#DIV/0!"}},{"$f":"F79/Accueil!$D$22","v":{"$error":"#DIV/0!"}},{"$f":"G79/Accueil!$D$22","v":{"$error":"#DIV/0!"}},{"$f":"H79/Accueil!$D$22","v":{"$error":"#DIV/0!"}},{"$f":"I79/Accueil!$D$22","v":{"$error":"#DIV/0!"}}]
[null,null,"Autres transports",null,{"$f":"E80/Accueil!$D$22","v":{"$error":"#DIV/0!"}},{"$f":"F80/Accueil!$D$22","v":{"$error":"#DIV/0!"}},{"$f":"G80/Accueil!$D$22","v":{"$error":"#DIV/0!"}},{"$f":"H80/Accueil!$D$22","v":{"$error":"#DIV/0!"}},{"$f":"I80/Accueil!$D$22","v":{"$error":"#DIV/0!"}}]
[null,null,"Agriculture",null,{"$f":"E81/Accueil!$D$22","v":{"$error":"#DIV/0!"}},{"$f":"F81/Accueil!$D$22","v":{"$error":"#DIV/0!"}},{"$f":"G81/Accueil!$D$22","v":{"$error":"#DIV/0!"}},{"$f":"H81/Accueil!$D$22","v":{"$error":"#DIV/0!"}},{"$f":"I81/Accueil!$D$22","v":{"$error":"#DIV/0!"}}]
[null,null,"Déchets",null,{"$f":"E82/Accueil!$D$22","v":{"$error":"#DIV/0!"}},{"$f":"F82/Accueil!$D$22","v":{"$error":"#DIV/0!"}},{"$f":"G82/Accueil!$D$22","v":{"$error":"#DIV/0!"}},{"$f":"H82/Accueil!$D$22","v":{"$error":"#DIV/0!"}},{"$f":"I82/Accueil!$D$22","v":{"$error":"#DIV/0!"}}]
[null,null,"Industrie hors branche énergie",null,{"$f":"E83/Accueil!$D$22","v":{"$error":"#DIV/0!"}},{"$f":"F83/Accueil!$D$22","v":{"$error":"#DIV/0!"}},{"$f":"G83/Accueil!$D$22","v":{"$error":"#DIV/0!"}},{"$f":"H83/Accueil!$D$22","v":{"$error":"#DIV/0!"}},{"$f":"I83/Accueil!$D$22","v":{"$error":"#DIV/0!"}}]
[null,null,"Industrie branche énergie",null,{"$f":"E84/Accueil!$D$22","v":{"$error":"#DIV/0!"}},{"$f":"F84/Accueil!$D$22","v":{"$error":"#DIV/0!"}},{"$f":"G84/Accueil!$D$22","v":{"$error":"#DIV/0!"}},{"$f":"H84/Accueil!$D$22","v":{"$error":"#DIV/0!"}},{"$f":"I84/Accueil!$D$22","v":{"$error":"#DIV/0!"}}]
[null,null,"Total",null,{"$f":"SUM(E92:E99)","v":{"$error":"#DIV/0!"}},{"$f":"SUM(F92:F99)","v":{"$error":"#DIV/0!"}},{"$f":"SUM(G92:G99)","v":{"$error":"#DIV/0!"}},{"$f":"SUM(H92:H99)","v":{"$error":"#DIV/0!"}},{"$f":"SUM(I92:I99)","v":{"$error":"#DIV/0!"}}]
[]
[]
[]
[null,"Scope 1 + Scope 2 par poste PCAET - sortie réglementaire"]
[]
[null,"Synthèse - émissions de GES par poste PCAET"]
[]
[null,null,null,null,"GES"]
[null,null,null,null,"Scope 1","Scope 2","Scope 1+Scope 2"]
[null,null,null,null,"t eq CO2","t eq CO2","t eq CO2"]
[null,null,"Résidentiel",null,{"$f":"E10*1000","v":0},{"$f":"I77","v":0},{"$f":"F111+E111","v":0}]
[null,null,"Tertiaire",null,0,{"$f":"I78","v":0},{"$f":"F112+E112","v":0}]
[null,null,"Transport routier",null,0,0,0]
[null,null,"Autres transports",null,0,0,0]
[null,null,"Agriculture",null,0,0,0]
[null,null,"Déchets",null,0,0,0]
[null,null,"Industrie hors branche énergie",null,0,0,0]
[null,null,"Industrie branche énergie",null,0,0,0]
[null,null,"Total (hors branche énergie)",null,{"$f":"SUM(E111:E117)","v":0},{"$f":"SUM(F111:F117)","v":0},{"$f":"SUM(G111:G117)","v":0}]
[]
[]
[null,"Synthèse - émissions de GES par poste PCAET - par habitant"]
[]
[null,null,null,null,"GES"]
[null,null,null,null,"Scope 1","Scope 2","Scope 1+ Scope 2"]
[null,null,null,null,"t eq CO2 / hab","t eq CO2 / hab","t eq CO2 / hab"]
[null,null,"Résidentiel",null,{"$f":"E111/Accueil!$D$22","v":{"$error":"#DIV/0!"}},{"$f":"F111/Accueil!$D$22","v":{"$error":"#DIV/0!"}},{"$f":"F127+E127","v":{"$error":"#DIV/0!"}}]
[null,null,"Tertiaire",null,{"$f":"E112/Accueil!$D$22","v":{"$error":"#DIV/0!"}},{"$f":"F112/Accueil!$D$22","v":{"$error":"#DIV/0!"}},{"$f":"F128+E128","v":{"$error":"#DIV/0!"}}]
[null,null,"Transport routier",null,{"$f":"E113/Accueil!$D$22","v":{"$error":"#DIV/0!"}},{"$f":"F113/Accueil!$D$22","v":{"$error":"#DIV/0!"}},{"$error":"#DIV/0!"}]
[null,null,"Autres transports",null,{"$f":"E114/Accueil!$D$22","v":{"$error":"#DIV/0!"}},{"$f":"F114/Accueil!$D$22","v":{"$error":"#DIV/0!"}},{"$error":"#DIV/0!"}]
[null,null,"Agriculture",null,{"$f":"E115/Accueil!$D$22","v":{"$error":"#DIV/0!"}},{"$f":"F115/Accueil!$D$22","v":{"$error":"#DIV/0!"}},{"$error":"#DIV/0!"}]
[null,null,"Déchets",null,{"$f":"E116/Accueil!$D$22","v":{"$error":"#DIV/0!"}},{"$f":"F116/Accueil!$D$22","v":{"$error":"#DIV/0!"}},{"$error":"#DIV/0!"}]
[null,null,"Industrie hors branche énergie",null,{"$f":"E117/Accueil!$D$22","v":{"$error":"#DIV/0!"}},{"$f":"F117/Accueil!$D$22","v":{"$error":"#DIV/0!"}},{"$error":"#DIV/0!"}]
[null,null,"Industrie branche énergie",null,{"$f":"E118/Accueil!$D$22","v":{"$error":"#DIV/0!"}},{"$f":"F118/Accueil!$D$22","v":{"$error":"#DIV/0!"}},{"$error":"#DIV/0!"}]
[null,null,"Total",null,{"$f":"SUM(E127:E133)","v":{"$error":"#DIV/0!"}},{"$f":"SUM(F127:F133)","v":{"$error":"#DIV/0!"}},{"$f":"SUM(G127:G133)","v":{"$error":"#DIV/0!"}}]
[]
[]
[null,"Postes principaux"]
[null,"Rang","PM10","Poste","NOx","Poste","COVNM","Poste","PM2.5","Poste","SO2","Poste","NH3","Poste"]
[null,null,"tonnes",null,"tonnes",null,"tonnes",null,"tonnes",null,"tonnes",null,"tonnes"]
[null,1,{"$f":"LARGE($F$10:$F$17,B141)","v":0},{"$f":"IF(C141=0,\"-\",INDEX($C$10:$C$17,MATCH(C141,$F$10:$F$17,0)))","v":"-"},{"$f":"LARGE($G$10:$G$17,B141)","v":0},{"$f":"IF(E141=0,\"-\",INDEX($C$10:$C$17,MATCH($E141,$G$10:$G$17,0)))","v":"-"},{"$f":"LARGE($H$10:$H$17,$B141)","v":0},{"$f":"IF(G141=0,\"-\",INDEX($C$10:$C$17,MATCH($G141,$H$10:$H$17,0)))","v":"-"},{"$f":"LARGE($I$10:$I$17,B141)","v":0},{"$f":"IF(I141=0,\"-\",INDEX($C$10:$C$17,MATCH($I141,$I$10:$I$17,0)))","v":"-"},{"$f":"LARGE($J$10:$J$17,B141)","v":0},{"$f":"IF(K141=0,\"-\",INDEX($C$10:$C$17,MATCH($K141,$J$10:$J$17,0)))","v":"-"},{"$f":"LARGE($K$10:$K$17,B141)","v":0},{"$f":"IF(M141=0,\"-\",INDEX($C$10:$C$17,MATCH($M141,$K$10:$K$17,0)))","v":"-"}]
[null,2,{"$f":"LARGE($F$10:$F$17,B142)","v":0},{"$f":"IF(C142=0,\"-\",INDEX($C$10:$C$17,MATCH(C142,$F$10:$F$17,0)))","v":"-"},{"$f":"LARGE($G$10:$G$17,B142)","v":0},{"$f":"IF(E142=0,\"-\",INDEX($C$10:$C$17,MATCH($E142,$G$10:$G$17,0)))","v":"-"},0,{"$f":"IF(G142=0,\"-\",INDEX($C$10:$C$17,MATCH($G142,$H$10:$H$17,0)))","v":"-"},{"$f":"LARGE($I$10:$I$17,B142)","v":0},{"$f":"IF(I142=0,\"-\",INDEX($C$10:$C$17,MATCH($I142,$I$10:$I$17,0)))","v":"-"},{"$f":"LARGE($J$10:$J$17,B142)","v":0},{"$f":"IF(K142=0,\"-\",INDEX($C$10:$C$17,MATCH($K142,$J$10:$J$17,0)))","v":"-"},{"$f":"LARGE($K$10:$K$17,B142)","v":0},{"$f":"IF(M142=0,\"-\",INDEX($C$10:$C$17,MATCH($M142,$K$10:$K$17,0)))","v":"-"}]
[null,3,0,"-",0,"-",0,"-",0,"-",0,"-",0,"-"]
[null,4,0,"-",0,"-",0,"-",0,"-",0,"-",0,"-"]
[null,5,0,"-",0,"-",0,"-",0,"-",0,"-",0,"-"]
[null,6,0,"-",0,"-",0,"-",0,"-",0,"-",0,"-"]
[null,7,0,"-",0,"-",0,"-",0,"-",0,"-",0,"-"]
[null,8,0,"-",0,"-",0,"-",0,"-",0,"-",0,"-"]

{"sheet":"R6_GES_directs","index":36,"n_rows":19,"n_cols":2,"rows_kept":19,"cut":false,"hidden":false,"merged":[]}
[]
[null,"Emissions directes de GES totales"]
[]
[]
[]
[]
[]
[]
[]
[]
[]
[]
[]
[]
[]
[]
[]
[]
[null,"Emissions directes de GES - détail par poste"]

{"sheet":"R7_GES_indirects","index":37,"n_rows":57,"n_cols":2,"rows_kept":57,"cut":false,"hidden":false,"merged":[]}
[]
[null,"Emissions GES totales"]
[]
[]
[]
[]
[]
[]
[]
[]
[]
[]
[]
[]
[]
[]
[]
[]
[]
[null,"Emissions liées à la consommation - détail par poste"]
[]
[]
[]
[]
[]
[]
[]
[]
[]
[]
[]
[]
[]
[]
[]
[]
[]
[]
[]
[]
[]
[]
[]
[]
[]
[]
[]
[]
[]
[]
[]
[]
[]
[]
[]
[]
[null,"Emissions GES du poste Biens de Consommation - bilan imports exports avec les autres régions"]

{"sheet":"R8_polluants","index":38,"n_rows":104,"n_cols":31,"rows_kept":104,"cut":false,"hidden":false,"merged":[[85,1,94,1],[95,1,96,1],[3,3,3,8],[44,3,44,8],[3,25,3,30],[6,23,6,24],[7,23,7,24],[8,23,8,24],[9,23,9,24],[10,23,10,24],[12,23,12,24],[13,23,13,24],[14,23,14,24]]}
[]
[null,"EMISSIONS DIRECTES"]
[]
[null,null,null,"Emissions directes",null,null,null,null,null,null,null,null,null,null,null,null,null,null,null,null,null,null,null,null,null,"Emissions directes"]
[null,null,null,"PM10","NOx","COVNM","PM2.5","SO2","NH3",null,null,null,null,null,null,null,null,null,null,null,null,null,null,null,null,"PM10","NOx","COVNM","PM2.5","SO2","NH3"]
[null,null,null,"tonnes","tonnes","tonnes","tonnes","tonnes","tonnes",null,null,null,null,null,null,null,null,null,null,null,null,null,null,null,null,"tonnes","tonnes","tonnes","tonnes","tonnes","tonnes"]
[null,null,"Résidentiel",{"$f":"'R2'!F10","v":0},{"$f":"'R2'!G10","v":0},{"$f":"'R2'!H10","v":0},{"$f":"'R2'!I10","v":0},{"$f":"'R2'!J10","v":0},{"$f":"'R2'!K10","v":0},null,null,null,null,null,null,null,null,null,null,null,null,null,null,"Résidentiel",null,{"$f":"'R5'!F10","v":0},{"$f":"'R5'!G10","v":0},{"$f":"'R5'!H10","v":0},{"$f":"'R5'!I10","v":0},{"$f":"'R5'!J10","v":0},{"$f":"'R5'!K10","v":0}]
[null,null,"Déplacements",{"$f":"'R2'!F11","v":0},{"$f":"'R2'!G11","v":0},{"$f":"'R2'!H11","v":0},{"$f":"'R2'!I11","v":0},{"$f":"'R2'!J11","v":0},{"$f":"'R2'!K11","v":0},null,null,null,null,null,null,null,null,null,null,null,null,null,null,"Tertiaire",null,{"$f":"'R5'!F11","v":0},{"$f":"'R5'!G11","v":0},{"$f":"'R5'!H11","v":0},{"$f":"'R5'!I11","v":0},{"$f":"'R5'!J11","v":0},{"$f":"'R5'!K11","v":0}]
[null,null,"Biens de consommation",{"$f":"'R2'!F12","v":0},{"$f":"'R2'!G12","v":0},{"$f":"'R2'!H12","v":0},{"$f":"'R2'!I12","v":0},{"$f":"'R2'!J12","v":0},{"$f":"'R2'!K12","v":0},null,null,null,null,null,null,null,null,null,null,null,null,null,null,"Transport routier",null,{"$f":"'R5'!F12","v":0},{"$f":"'R5'!G12","v":0},{"$f":"'R5'!H12","v":0},{"$f":"'R5'!I12","v":0},{"$f":"'R5'!J12","v":0},{"$f":"'R5'!K12","v":0}]
[null,null,"Alimentation",{"$f":"'R2'!F13","v":0},{"$f":"'R2'!G13","v":0},{"$f":"'R2'!H13","v":0},{"$f":"'R2'!I13","v":0},{"$f":"'R2'!J13","v":0},{"$f":"'R2'!K13","v":0},null,null,null,null,null,null,null,null,null,null,null,null,null,null,"Autres transports",null,{"$f":"'R5'!F13","v":0},{"$f":"'R5'!G13","v":0},{"$f":"'R5'!H13","v":0},{"$f":"'R5'!I13","v":0},{"$f":"'R5'!J13","v":0},{"$f":"'R5'!K13","v":0}]
[null,null,"Services",{"$f":"'R2'!F14","v":0},{"$f":"'R2'!G14","v":0},{"$f":"'R2'!H14","v":0},{"$f":"'R2'!I14","v":0},{"$f":"'R2'!J14","v":0},{"$f":"'R2'!K14","v":0},null,null,null,null,null,null,null,null,null,null,null,null,null,null,"Agriculture",null,{"$f":"'R5'!F14","v":0},{"$f":"'R5'!G14","v":0},{"$f":"'R5'!H14","v":0},{"$f":"'R5'!I14","v":0},{"$f":"'R5'!J14","v":0},{"$f":"'R5'!K14","v":0}]
[null,null,"Travaux",{"$f":"'R2'!F15","v":0},{"$f":"'R2'!G15","v":0},{"$f":"'R2'!H15","v":0},{"$f":"'R2'!I15","v":0},{"$f":"'R2'!J15","v":0},{"$f":"'R2'!K15","v":0},null,null,null,null,null,null,null,null,null,null,null,null,null,null,"Déchets",null,{"$f":"'R5'!F15","v":0},{"$f":"'R5'!G15","v":0},{"$f":"'R5'!H15","v":0},{"$f":"'R5'!I15","v":0},{"$f":"'R5'!J15","v":0},{"$f":"'R5'!K15","v":0}]
[null,null,"TOTAL",{"$f":"SUM(D7:D12)","v":0},0,0,0,0,0,null,null,null,null,null,null,null,null,null,null,null,null,null,null,"Industrie hors branche énergie",null,{"$f":"'R5'!F16","v":0},{"$f":"'R5'!G16","v":0},{"$f":"'R5'!H16","v":0},{"$f":"'R5'!I16","v":0},{"$f":"'R5'!J16","v":0},{"$f":"'R5'!K16","v":0}]
[null,null,null,null,null,null,null,null,null,null,null,null,null,null,null,null,null,null,null,null,null,null,null,"Industrie branche énergie",null,{"$f":"'R5'!F17","v":0},{"$f":"'R5'!G17","v":0},{"$f":"'R5'!H17","v":0},{"$f":"'R5'!I17","v":0},{"$f":"'R5'!J17","v":0},{"$f":"'R5'!K17","v":0}]
[null,null,null,null,null,null,null,null,null,null,null,null,null,null,null,null,null,null,null,null,null,null,null,"Total",null,{"$f":"SUM(Z7:Z14)","v":0},0,0,0,0,0]
[]
[]
[]
[]
[]
[]
[]
[]
[]
[]
[]
[]
[]
[]
[]
[]
[]
[]
[]
[]
[]
[]
[]
[]
[null,"EMISSIONS INDIRECTES"]
[]
["A.","Emissions indirectes des ménages"]
[]
[]
[null,null,null,"Emissions indirectes"]
[null,null,null,"PM10","NOx","COVNM","PM2.5","SO2","NH3"]
[null,null,null,"tonnes","tonnes","tonnes","tonnes","tonnes","tonnes"]
[null,null,"Résidentiel",{"$f":"'R2'!F39","v":0},{"$f":"'R2'!G39","v":0},{"$f":"'R2'!H39","v":0},{"$f":"'R2'!I39","v":0},{"$f":"'R2'!J39","v":0},{"$f":"'R2'!K39","v":0}]
[null,null,"Déplacements",{"$f":"'R2'!F40","v":{"$error":"#DIV/0!"}},{"$f":"'R2'!G40","v":{"$error":"#DIV/0!"}},{"$f":"'R2'!H40","v":{"$error":"#DIV/0!"}},{"$f":"'R2'!I40","v":{"$error":"#DIV/0!"}},{"$f":"'R2'!J40","v":{"$error":"#DIV/0!"}},{"$f":"'R2'!K40","v":{"$error":"#DIV/0!"}},null,null,"Approche incomplète"]
[null,null,"TOTAL",{"$f":"D48+D49","v":{"$error":"#DIV/0!"}},{"$error":"#DIV/0!"},{"$error":"#DIV/0!"},{"$error":"#DIV/0!"},{"$error":"#DIV/0!"},{"$error":"#DIV/0!"}]
[]
[]
[]
[]
[]
[]
[]
[]
[]
[]
[]
[]
[]
[]
[]
[]
[]
[]
[]
[]
[]
[]
[]
[]
[]
[]
[]
[]
[]
[]
["B.","Emissions indirectes liées aux biens et services"]
[]
[null,"Notes:"]
[]
[null,null,null,"PM10","NOx","COVNM"]
[null,"Biens de consommation","Produits chimiques / pharma",2,2,1]
[null,null,"Automobile",2,2,1]
[null,null,"EEE",2,2,2]
[null,null,"Habillement",3,3,2]
[null,null,"Machines et équipements",3,2,2]
[null,null,"Instruments médicaux",3,3,3]
[null,null,"Autres produits manufacturés",3,3,2]
[null,null,"Bois / papier / carton",1,3,2]
[null,null,"Produits métallurgiques / métalliques",1,2,3]
[null,null,"Produits minéraux / plastiques / caoutchouc",1,3,3]
[null,"Alimentation","Produits agricoles",1,2,1]
[null,null,"Produits de l’IAA",3,1,1]
[]
[]
[null,"Légende:"]
[null,null,"%des émissions liées aux activités commerciales dans l’UE-27"]
[null,1,"> 5%"]
[null,2,"2 à 5%"]
[null,3,"< 2%"]

{"sheet":"R9_UTCF","index":39,"n_rows":72,"n_cols":4,"rows_kept":72,"cut":false,"hidden":false,"merged":[]}
[]
[null,"FLUX DE CARBONE"]
[]
[]
[null,"Synthèse - flux de carbone dans les sols et la biomasse"]
[]
[null,null,null,"GES"]
[null,null,null,"kt eq CO2"]
[null,null,"Sols en transition",{"$f":"D4b!D71","v":0}]
[null,null,"Sols stables cultivés",{"$f":"D4b!D72","v":0}]
[null,null,"Biomasse forêt",{"$f":"D4b!D73","v":0}]
[null,null,"Total",{"$f":"SUM(D9:D11)","v":0}]
[]
[]
[]
[]
[]
[]
[null,"Comparaison autres postes"]
[]
[null,null,null,"GES"]
[null,null,null,"kt eq CO2"]
[null,null,"Emissions directes hors UTCF",{"$f":"'R1'!K104","v":5.7000000000000003E-5}]
[null,null,"UTCF",{"$f":"D12","v":0}]
[null,null,"Total",{"$f":"SUM(D23:D24)","v":5.7000000000000003E-5}]
[]
[]
[]
[]
[]
[]
[]
[]
[]
[]
[null,"STOCK DE CARBONE"]
[]
["A.","Stock dans les sols"]
[]
[]
[null,null,null,"Stock carbone\n(ktCO2)"]
[null,null,"Cultures",{"$f":"D4a!E21","v":0}]
[null,null,"Forêts",{"$f":"D4a!E22","v":0}]
[null,null,"Prairies",{"$f":"D4a!E23","v":0}]
[null,null,"Espaces artificialisés",{"$f":"D4a!E24","v":0}]
[null,null,"Espaces verts",{"$f":"D4a!E25","v":0}]
[null,null,"Milieux humides",{"$f":"D4a!E26","v":0}]
[null,null,"Total sol",{"$f":"SUM(D42:D47)","v":0}]
[]
[]
[]
["B.","Stock dans la biomasse aérienne"]
[]
[]
[null,null,null,"Stock carbone\n(ktCO2)"]
[null,null,"Biomasse aérienne - forêt",{"$f":"D4a!D73","v":0}]
[null,null,"Biomasse aérienne - haie",{"$f":"D4a!F39","v":0}]
[null,null,"Total",{"$f":"SUM(D56:D56)","v":0}]
[]
[]
[]
[]
[]
[]
[]
["C.","Stock de carbone global"]
[]
[]
[null,null,null,"Stock carbone\n(ktCO2)"]
[null,null,"Sol",{"$f":"D48","v":0}]
[null,null,"Biomasse aérienne",{"$f":"D58","v":0}]
[null,null,"Total",{"$f":"SUM(D70:D71)","v":0}]

{"sheet":"R10_Cadre_dépôt_PCAET","index":40,"n_rows":44,"n_cols":6,"rows_kept":44,"cut":false,"hidden":false,"merged":[[3,3,3,5],[4,3,4,5]]}
[]
[null,"1. GES"]
[]
[null,null,null,"Diagnostic"]
[null,null,null,"Emissons GES"]
[null,null,null,"T eq CO2","% TOTAL (hors branche énergie)","kT eq CO2"]
[null,null,"Résidentiel",{"$f":"'R5'!G111","v":0},{"$f":"D7/$D$15","v":{"$error":"#DIV/0!"}},{"$f":"D7/1000","v":0}]
[null,null,"Tertiaire",{"$f":"'R5'!G112","v":0},{"$f":"D8/$D$15","v":{"$error":"#DIV/0!"}},{"$f":"D8/1000","v":0}]
[null,null,"Transport routier",{"$f":"'R5'!G113","v":0},{"$error":"#DIV/0!"},0]
[null,null,"Autres transports",{"$f":"'R5'!G114","v":0},{"$error":"#DIV/0!"},0]
[null,null,"Agriculture",{"$f":"'R5'!G115","v":0},{"$error":"#DIV/0!"},0]
[null,null,"Déchets",{"$f":"'R5'!G116","v":0},{"$error":"#DIV/0!"},0]
[null,null,"Industrie hors branche énergie",{"$f":"'R5'!G117","v":0},{"$error":"#DIV/0!"},0]
[null,null,"Industrie branche énergie"]
[null,null,"TOTAL (hors branche énergie)",{"$f":"SUM(D7:D13)","v":0}]
[]
[null,"1. Consommations énergétiques finales"]
[]
[null,null,null,"Diagnostic"]
[null,null,null,"Consommations énergetiques finales"]
[null,null,null,"GWh"]
[null,null,"Résidentiel",{"$f":"'R5'!H59/1000","v":0}]
[null,null,"Tertiaire",{"$f":"'R5'!H60/1000","v":0}]
[null,null,"Transport routier",{"$f":"'R5'!H61/1000","v":0}]
[null,null,"Autres transports",{"$f":"'R5'!H62/1000","v":0}]
[null,null,"Agriculture",{"$f":"'R5'!H63/1000","v":0}]
[null,null,"Déchets",{"$f":"'R5'!H64/1000","v":0}]
[null,null,"Industrie hors branche énergie",{"$f":"'R5'!H65/1000","v":0}]
[null,null,"Industrie branche énergie"]
[null,null,"TOTAL (hors branche énergie)",{"$f":"SUM(D22:D28)","v":0}]
[]
[]
[]
[null,"2. Séquestration"]
[]
[null,null,null,"Diagnostic"]
[null,null,null,"Séquestration nette de dioxyde de carbone"]
[null,null,null,"Teq CO2"]
[null,null,"Forêt",{"$f":"'R9_UTCF'!D11*1000","v":0}]
[null,null,"Terres cultivées et prairies",{"$f":"'R9_UTCF'!D10*1000","v":0}]
[null,null,"Autres sols",{"$f":"'R9_UTCF'!D9*1000","v":0}]
[]
[]
[null,null,"Produits bois",{"$f":"D4b!D90*1000","v":0}]